{"text_format":"1","workbook":"xlsx","n_sheets":4,"sheets":["Mode d'emploi","Saisie","Résultats","Feuil1"],"not_rendered":{"charts":2,"images":0,"macros":1,"external_links":0,"defined_names":15,"comments":0,"pivot_tables":0},"unopened":[],"bounds":{"document_bytes":16777216,"sheet_cells":100000,"rows_first":2000,"rows_last":500,"rows_between":2000,"halvings":0,"cell_chars":16384,"cell_head_chars":4096},"cells_cut":0,"cells_raw":0,"read":"whole","date_system":"1900"}

{"sheet":"Mode d'emploi","index":0,"n_rows":0,"n_cols":0,"rows_kept":0,"cut":false,"hidden":false,"merged":[]}

{"sheet":"Saisie","index":1,"n_rows":135,"n_cols":104,"rows_kept":135,"cut":false,"hidden":false,"merged":[[0,2,0,3],[125,2,125,3],[2,0,2,1],[90,0,90,1],[96,0,96,1],[108,0,108,1],[117,0,117,1],[15,0,15,1],[123,2,123,3],[18,0,18,1],[31,0,31,1],[64,0,64,1],[80,0,80,1]]}
[null,"Nom de l'unité (obligatoire)","Total établissement"]
[null,"Nombre d'unités (rien à saisir)",{"$f":"COUNTA(E1:CZ1)","v":0},"%"]
["   1.     Bassins réutilisables",null,{"$f":"SUM(C5:C15)","v":0},{"$f":"IF(C4>0,C3/(C4*11),\"-\")","v":"-"}]
["E","L'unité dispose de bassins réutilisables -\nsi non, passez au paragraphe 2 et sautez le paragraphe 6",{"$f":"SUM(E4:CZ4)","v":0}]
["E","Le nombre de bassins nécessaires a été évalué en tenant compte du type d’activité pour éviter une rupture de stock de bassins propres",{"$f":"SUM(E5:CZ5)","v":0},{"$f":"IF($C$4>0,C5/$C$4,\"-\")","v":"-"}]
["E","Nombre de couvercles adapté au nombre de bassins",{"$f":"SUM(E6:CZ6)","v":0},{"$f":"IF($C$4>0,C6/$C$4,\"-\")","v":"-"}]
["P ","En cas d’épidémie de gastro-entérite aiguë ou de portage de BHRe, un bassin est attribué à chaque patient/résident pour tout son séjour",0,"-"]
["E","Les bassins qui présentent des  fissures, usures, fentes, imprégnation colorée du plastique sont immédiatement remplacés ",0,"-"]
["O","Entreposage du bassin (dans la chambre, les sanitaires ou le couloir) avant traitement, quel que soit le mode de traitement",0,"-"]
["E","Zone propre dédiée pour le stockage des bassins propres (dans un local ou dans la chambre du patient/résident)",0,"-"]
["P","Des sacs protecteurs pour bassin sont utilisés en cas d’épidémie, en cas de panne ou en l’absence de LDB",0,"-"]
["P","Transport du bassin vers le local vidoir et/ou LDB :\n            -  plein",0,"-"]
["P ","-    avec un couvercle",0,"-"]
["P ","-    avec un tablier ou une surblouse à usage unique",0,"-"]
["P "," -    avec au moins un gant à usage unique",0,"-"]
["    2.      Douchette dans les sanitaires",null,{"$f":"SUM(C17:C18)","v":0},{"$f":"IF(C2>0,C16/(C2*2),\"-\")","v":"-"}]
["E","Présence de douchettes dans les sanitaires",{"$f":"SUM(E17:CZ17)","v":0},{"$f":"IF($C$2>0,C17/$C$2,\"-\")","v":"-"}]
["P","Utilisation de la douchette ou de la douche pour rincer les bassins",{"$f":"SUM(E18:CZ18)","v":0},{"$f":"IF($C$2>0,C18/$C$2,\"-\")","v":"-"}]
["    3.      Local vidoir ",null,{"$f":"SUM(C20:C31)","v":0},{"$f":"IF(OR(C20>0,C2>0),C19/((C20*11)+C2),\"-\")","v":"-"}]
["E","Présence d’un local vidoir - si non, passez au paragraphe 4",{"$f":"SUM(E20:CZ20)","v":0},{"$f":"IF(C2>0,C20/C2,\"-\")","v":"-"}]
["E","Local facilement accessible de toutes les chambres de l’unité",{"$f":"SUM(E21:CZ21)","v":0},{"$f":"IF($C$20>0,C21/$C$20,\"-\")","v":"-"}]
["E","Aménagement respectant la séparation des zones propre et sale",0,{"$f":"IF($C$20>0,C22/$C$20,\"-\")","v":"-"}]
["E","Equipement :\n            -    un vidoir",0,"-"]
["E","-    un évier dont le bac permet le traitement manuel par immersion en cas de panne ou en l’absence de LDB",0,"-"]
["E","            - un poste dédié à l’hygiène des mains, situé dans la zone propre",0,"-"]
["E","-    du savon doux",0,"-"]
["E","-    des essuie-mains à usage unique",0,"-"]
["E","-    un flacon de PHA",0,"-"]
["E","-    une douchette",0,"-"]
["E","-    d’autres dispositifs inappropriés dans ce lieu (ex : machine à glace)",0,"-"]
["P","Accumulation de bassins sales dans le local vidoir en attendant que le LDB ait terminé son cycle",0,"-"]
["   4.      Laveur(s) désinfecteur(s) de bassin(s) (LDB)",null,{"$f":"SUM(C34:C64)","v":0},{"$f":"IF(AND(C33>0,C56=0),C32/(C33*28),IF(AND(C33>0,C56>0),C32/(C33*31),\"-\"))","v":"-"}]
["E","Un (des) LDB sont disponible(s) pour l’unité - si non, passez au paragraphe 5",{"$f":"SUM(E33:CZ33)","v":0}]
["E","Présence d’au moins un LDB pour 12 lits dans l’unité ",{"$f":"SUM(E34:CZ34)","v":0},{"$f":"IF($C$33>0,C34/$C$33,\"-\")","v":"-"}]
["E","LDB en état de fonctionnement le jour de l’enquête",0,{"$f":"IF($C$33>0,C35/$C$33,\"-\")","v":"-"}]
["E","LDB facilement accessible(s) de toutes les chambres de l’unité",0,"-"]
["E","Local dédié pour le(s) LDB, y compris local vidoir",0,"-"]
["E","Type d’ouverture de la porte du (des) LDB",0,"-"]
["E","LDB régulièrement bouché(s) (par le papier, des couvercles …)",0,"-"]
["E","Cycle du (des) LDB comportant les étapes suivantes :\nvidange – pré rinçage – nettoyage – désinfection – rinçage",0,"-"]
["E","Possibilité de modifier les réglages par les utilisateurs",0,"-"]
["E","Système d’alarme :\n          - opérationnel",0,"-"]
["E","-    indiquant clairement la perturbation",0,"-"]
["E","Ouverture du (des) LDB possible pendant le cycle",0,"-"]
["E","LDB auto-égouttant(s) (le bassin sort propre et sec)",0,"-"]
["O","Contrôle (propreté de la cuve, buse sans calcaire, intégrité des tuyaux d’alimentation...) : \n            -  quotidien ",0,"-"]
["O","-    tracé",0,"-"]
["O","Les noms des produits à utiliser (détergent...) sont affichés :  \n            -    sur le(s) LDB (notice)",0,"-"]
["O","-    sur chaque plongeur",0,"-"]
["O","-    sur chaque bidon",0,"-"]
["P","Utilisation régulière d’un détartrant",0,"-"]
["E","Produits adaptés au(x) LDB à disposition",0,"-"]
["E","Rupture de stock des produits (détergent, détartrant, agent mouillant)",0,"-"]
["E","Quantité de produit nécessaire à un cycle suffisante dans les bidons en place",0,"-"]
["O","Information du personnel (y compris remplaçant / intérimaire / personnel volant) pour  l’élimination des excreta dans les LDB",0,"-"]
["O","Protocole d’utilisation du (des) LDB :\n            -    existant",0,"-"]
["O","-    correspondant au modèle de LDB",0,"-"]
["O","-    à disposition à proximité du LDB",0,"-"]
["O","-    avec mode d’emploi, mode de chargement et déroulement du cycle",0,"-"]
["P","Réalisation d’un cycle de nettoyage à vide du (des) LDB :\n            -    périodique",0,"-"]
["P","-    tracée",0,"-"]
["P","Entretien quotidien de l’extérieur du (des) LDB avec détergent-désinfectant de surface ",0,"-"]
["P","Introduction du bassin plein dans le(s) LDB",0,"-"]
["E","Matériel visuellement propre à la sortie du (des) LDB",0,"-"]
["    5.      Bassins à usage unique (UU)",null,{"$f":"C67+C68+C69+C70+C71+C72+C73+C74+C75+C76+C77+C78+C79+C80","v":0},{"$f":"IF(OR(C66>0,C68>0),C65/((C66*2)+(C68*12)),\"-\")","v":"-"}]
["E","Utilisation de bassins à usage unique - si non, passez au paragraphe 6",{"$f":"SUM(E66:CZ66)","v":0},null,null,null,null,null,null,null,null,null,0]
["P","Désinfection systématique du support  réutilisable de bassin à UU",{"$f":"SUM(E67:CZ67)","v":0},{"$f":"IF($C$66>0,C67/$C$66,\"-\")","v":"-"}]
["E","Présence d’un broyeur de bassins à UU - si non, passez au paragraphe 6",0,{"$f":"IF($C$66>0,C68/$C$66,\"-\")","v":"-"}]
["E","Elimination des bassins à usage unique dans un broyeur",0,{"$f":"IF($C$68>0,C69/$C$68,\"-\")","v":"-"}]
["E","Broyeur toujours fonctionnel",0,{"$f":"IF($C$68>0,C70/$C$68,\"-\")","v":"-"}]
["E","Local dédié pour le broyeur ",0,"-"]
["P","Transport du bassin vers le broyeur :\n            -  plein",0,"-"]
["P","-    avec un couvercle",0,"-"]
["P","-    avec un tablier ou une surblouse à usage unique",0,"-"]
["P"," -    avec au moins un gant à usage unique",0,"-"]
["O","Information de tout le personnel (y compris remplaçant / intérimaire / personnel volant) sur l’utilisation du broyeur",0,"-"]
["O","Existence d’une notice d’utilisation du broyeur",0,"-"]
["O","Existence d’un contrat de maintenance  du broyeur",0,"-"]
["O","Si oui, contrats de maintenance du broyeur préventif et en cas de panne",0,"-"]
["O","Existence d’un protocole en cas de panne du broyeur",0,"-"]
["    6.         Procédure manuelle de désinfection des bassins\n              (en l’absence de LDB ou en cas de dysfonctionnement du LDB)",null,{"$f":"SUM(C82:C90)","v":0},{"$f":"IF(AND(C4>0,C83=0),C81/(C4*7),IF(AND(C4>0,C83>0),C81/(C4*9),\"-\"))","v":"-"}]
["O","Information de tout le personnel (y compris remplaçant / intérimaire / personnel volant) sur la procédure manuelle de désinfection des bassins",{"$f":"SUM(E82:CZ82)","v":0},{"$f":"IF($C$4>0,C82/$C$4,\"-\")","v":"-"}]
["O","Protocole de gestion des excreta si absence ou dysfonctionnement du LDB : \n            -  existant",{"$f":"SUM(E83:CZ83)","v":0},{"$f":"IF($C$4>0,C83/$C$4,\"-\")","v":"-"}]
["O","            -    précise le type de produit à utiliser : adapté aux dispositifs médicaux (et non aux sols et surfaces)",0,"-"]
["O","            -    précise le temps de contact minimum avec les produits détergents-désinfectants",0,"-"]
["P","Des sacs protecteurs pour bassins (avec une poudre ou un tampon absorbant gélifiant) sont utilisés",0,"-"]
["P","En l’absence de sachets protecteurs, le bassin est vidé, rincé, nettoyé et désinfecté dans un local vidoir prévu à cet effet ",0,"-"]
["E","Utilisation de produits bactéricides et virucides pour la désinfection",0,"-"]
["P","En cas de portage de BHRe, utilisation de bassins à usage unique",0,"-"]
["P","En cas d’infection à Clostridium difficile, utilisation d’eau de Javel® pour la désinfection des bassins (saisissez 1 si utilisation de sacs protecteurs pour bassin à la place de l'eau de Javel)",0,"-"]
["   7.      Patients incontinents (protections, alèses à usage unique)",null,{"$f":"SUM(C92:C96)","v":0},{"$f":"IF(C2>0,C91/(C2*5),\"-\")","v":"-"}]
["P","Filière d’élimination des déchets souillés par les excreta (sac fermé)\n       -    pour tout patient/résident",{"$f":"SUM(E92:CZ92)","v":0},{"$f":"IF($C$2>0,C92/$C$2,\"-\")","v":"-"}]
["P"," - en cas de colonisation digestive par une BMR ",{"$f":"SUM(E93:CZ93)","v":0},{"$f":"IF($C$2>0,C93/$C$2,\"-\")","v":"-"}]
["P"," - en cas de diarrhée infectieuse (Salmonella, Shigella, Escherichia coli entéropathogène, adénovirus, norovirus, Clostridium difficile…)  ",{"$f":"SUM(E94:CZ94)","v":0},{"$f":"IF($C$2>0,C94/$C$2,\"-\")","v":"-"}]
["P","Elimination des déchets souillés par les urines ou les selles :\n       -  directement dans un sac à proximité immédiate du patient/résident",{"$f":"SUM(E95:CZ95)","v":0},{"$f":"IF($C$2>0,C95/$C$2,\"-\")","v":"-"}]
["P"," - dépose intermédiaire sur une surface sans désinfection",{"$f":"SUM(E96:CZ96)","v":0},{"$f":"IF($C$2>0,C96/$C$2,\"-\")","v":"-"}]
["    8.    Précautions standard",null,{"$f":"SUM(C98:C108)","v":0},{"$f":"IF(C2>0,C97/(C2*11),\"-\")","v":"-"}]
["P ","Gants à usage unique (UU) : \n         - portés lors de tout contact avec les excreta (toilette génito-urinaire...)",{"$f":"SUM(E98:CZ98)","v":0},{"$f":"IF($C$2>0,C98/$C$2,\"-\")","v":"-"}]
["P","-    retirés et éliminés systématiquement dès la fin du soin contaminant",{"$f":"SUM(E99:CZ99)","v":0},{"$f":"IF($C$2>0,C99/$C$2,\"-\")","v":"-"}]
["P","Tablier à usage unique : \n         -    porté lors de tout contact avec les excreta (Cf. ci-dessus)",0,"-"]
["P","-    retiré et éliminé systématiquement dès la fin du soin contaminant ",0,"-"]
["P","Changement immédiat de tenue en cas de souillures",0,"-"]
["P ","Lavage des mains au savon doux en cas de souillures",0,"-"]
["E ","PHA à disposition au plus près du soin",0,"-"]
["P","Hygiène des mains par friction (PHA) :\n          -    avant et après tout contact direct avec un patient/résident",0,"-"]
["P","-    après tout contact avec l’environnement proche du patient/résident",0,"-"]
["P","-    immédiatement après le retrait des gants ou du tablier à UU ",0,"-"]
["P","En cas de portage digestif de germe à risque de transmission croisée, sensibilisation du patient/résident  à l’hygiène des mains ... après passage aux toilettes et avant les repas",0,"-"]
["   9.       Entretien des surfaces et du matériel",null,{"$f":"SUM(C110:C117)","v":0},{"$f":"IF(C2>0,C109/(C2*8),\"-\")","v":"-"}]
["P","Nettoyage quotidien (7j/7) de la chambre et du lit",{"$f":"SUM(E110:CZ110)","v":0},{"$f":"IF($C$2>0,C110/$C$2,\"-\")","v":"-"}]
["P","Bionettoyage quotidien (7j/7) du cabinet de toilette",{"$f":"SUM(E111:CZ111)","v":0},{"$f":"IF($C$2>0,C111/$C$2,\"-\")","v":"-"}]
["P","Nettoyage-désinfection du bassin après chaque utilisation",0,"-"]
["P","Housse de matelas nettoyée et désinfectée lors du changement de draps",0,"-"]
["O","Renouvellement des housses de matelas en cas de détérioration",0,"-"]
["P","Nettoyage désinfection immédiats des salissures (vomissements, urine, selles) ",0,"-"]
["P","Bionettoyage de l’ensemble des surfaces et du mobilier de la chambre et du cabinet de toilette à la sortie du patient/résident",0,"-"]
["E","Stockage du petit matériel à usage unique dans la chambre limité",0,"-"]
["  10.      Manipulation du linge sale",null,{"$f":"SUM(C119:C122)","v":0},{"$f":"IF(C2>0,C118/(C2*4),\"-\")","v":"-"}]
["P","Dépose intermédiaire du linge sur une surface sans désinfection immédiate",{"$f":"SUM(E119:CZ119)","v":0},{"$f":"IF($C$2>0,C119/$C$2,\"-\")","v":"-"}]
["P","Transport de linge « plaqué » contre soi",{"$f":"SUM(E120:CZ120)","v":0},{"$f":"IF($C$2>0,C120/$C$2,\"-\")","v":"-"}]
["P","Evacuation immédiate du linge sale",{"$f":"SUM(E121:CZ121)","v":0},{"$f":"IF($C$2>0,C121/$C$2,\"-\")","v":"-"}]
["P","Si le linge est traité par la famille, il est placé immédiatement dans un sac plastique pour éviter toute manipulation avant traitement",{"$f":"SUM(E122:CZ122)","v":0},{"$f":"IF($C$2>0,C122/$C$2,\"-\")","v":"-"}]
[]
[null,null,"Fiche complète",null,"Non","Non","Non","Non","Non","Non","Non","Non","Non","Non","Non","Non","Non","Non","Non","Non","Non","Non","Non","Non","Non","Non","Non","Non","Non","Non","Non","Non","Non","Non","Non","Non","Non","Non","Non","Non","Non","Non","Non","Non","Non","Non","Non","Non","Non","Non","Non","Non","Non","Non","Non","Non","Non","Non","Non","Non","Non","Non","Non","Non","Non","Non","Non","Non","Non","Non","Non","Non","Non","Non","Non","Non","Non","Non","Non","Non","Non","Non","Non","Non","Non","Non","Non","Non","Non","Non","Non","Non","Non","Non","Non","Non","Non","Non","Non","Non","Non","Non","Non","Non"]
[]
[null,"          Nom de l'unité","Total établissement",null,{"$f":"E1","v":0},0,0,0,0,0,0,0,0,0,0,0,0,0,0,0,0,0,0,0,0,0,0,0,0,0,0,0,0,0,0,0,{"$f":"AK1","v":0},0,0,0,0,0,0,0,0,0,0,0,0,0,0,0,0,0,0,0,0,0,0,0,0,0,0,0,0,0,0,0,{"$f":"BQ1","v":0},0,0,0,0,0,0,0,0,0,0,0,0,0,0,0,0,0,0,0,0,0,0,0,0,0,0,0,0,0,0,0,0,0,0,0]
[null,"          Nombre d'unités",{"$f":"C2","v":0},"%","N","N","N","N","N","N","N","N","N","N","N","N","N","N","N","N","N","N","N","N","N","N","N","N","N","N","N","N","N","N","N","N","N","N","N","N","N","N","N","N","N","N","N","N","N","N","N","N","N","N","N","N","N","N","N","N","N","N","N","N","N","N","N","N","N","N","N","N","N","N","N","N","N","N","N","N","N","N","N","N","N","N","N","N","N","N","N","N","N","N","N","N","N","N","N","N","N","N","N","N"]
[null,"          Au moins un équipement de gestion des excreta des patients continents :\n          LDB ou broyeur ou sacs protecteurs pour bassins avec gélifiant",{"$f":"SUM(E128:CZ128)","v":0},{"$f":"IF(C2>0,C128/C2,\"-\")","v":"-"},{"$f":"IF(OR(E33=1,E86=1,E68=1),1,0)","v":0},0,0,0,0,0,0,0,0,0,0,0,0,0,0,0,0,0,0,0,0,0,0,0,0,0,0,0,0,0,0,0,{"$f":"IF(OR(AK33=1,AK86=1,AK68=1),1,0)","v":0},0,0,0,0,0,0,0,0,0,0,0,0,0,0,0,0,0,0,0,0,0,0,0,0,0,0,0,0,0,0,0,{"$f":"IF(OR(BQ33=1,BQ86=1,BQ68=1),1,0)","v":0},0,0,0,0,0,0,0,0,0,0,0,0,0,0,0,0,0,0,0,0,0,0,0,0,0,0,0,0,0,0,0,0,0,0,0]
[null,"          Equipements   ",{"$f":"SUM(E129:CZ129)","v":0},{"$f":"IF(OR(C2>0,C4>0,C20>0,C33>0,C66>0,C68>0),C129/((C2*4)+(C4*5)+(C20*10)+(C33*16)+C66+(C68*3)),\"-\")","v":"-"},{"$f":"E5+E6+E8+E10+E17+E20+E21+E22+E23+E24+E25+E26+E27+E28+E29+E30+E34+E35+E36+E37+E38+E39+E40+E41+E42+E43+E44+E45+E52+E53+E54+E64+E68+E69+E70+E71+E88+E104+E117","v":0},{"$f":"F5+F6+F8+F10+F17+F20+F21+F22+F23+F24+F25+F26+F27+F28+F29+F30+F34+F35+F36+F37+F38+F39+F40+F41+F42+F43+F44+F45+F52+F53+F54+F64+F68+F69+F70+F71+F88+F104+F117","v":0},0,0,0,0,0,0,0,0,0,0,0,0,0,0,0,0,0,0,0,0,0,0,0,0,0,0,0,0,0,0,0,0,0,0,0,0,0,0,0,0,0,0,0,0,0,0,0,0,0,0,0,0,0,0,0,0,0,0,0,0,0,0,0,{"$f":"BR5+BR6+BR8+BR10+BR17+BR20+BR21+BR22+BR23+BR24+BR25+BR26+BR27+BR28+BR29+BR30+BR34+BR35+BR36+BR37+BR38+BR39+BR40+BR41+BR42+BR43+BR44+BR45+BR52+BR53+BR54+BR64+BR68+BR69+BR70+BR71+BR88+BR104+BR117","v":0},0,0,0,0,0,0,0,0,0,0,0,0,0,0,0,0,0,0,0,0,0,0,0,0,0,0,0,0,0,0,0,0,0,0]
[null,"          Organisation   ",{"$f":"SUM(E130:CZ130)","v":0},{"$f":"IF(AND(OR(C2>0,C4>0,C33>0,C68>0),C83>0,C56>0),C130/(C2+(C4*5)+(C33*10)+(C68*5)),IF(AND(OR(C2>0,C4>0,C33>0,C68>0),C83=0,C56>0),C130/(C2+(C4*3)+(C33*10)+(C68*5)),IF(AND(OR(C2>0,C4>0,C33>0,C68>0),C83>0,C56=0),C130/(C2+(C4*5)+(C33*7)+(C68*5)),IF(AND(OR(C2>0,C4>0,C33>0,C68>0),C83=0,C56=0),C130/(C2+(C4*3)+(C33*7)+(C68*5)),\"-\"))))","v":"-"},{"$f":"E9+E46+E47+E48+E49+E50+E55+E56+E57+E58+E59+E76+E77+E78+E79+E80+E82+E83+E84+E85+E114","v":0},0,0,0,0,0,0,0,0,0,0,0,0,0,0,0,0,0,0,0,0,0,0,0,0,0,0,0,0,0,0,0,{"$f":"AK9+AK46+AK47+AK48+AK49+AK50+AK55+AK56+AK57+AK58+AK59+AK76+AK77+AK78+AK79+AK80+AK82+AK83+AK84+AK85+AK114","v":0},0,0,0,0,0,0,0,0,0,0,0,0,0,0,0,0,0,0,0,0,0,0,0,0,0,0,0,0,0,0,0,{"$f":"BQ9+BQ46+BQ47+BQ48+BQ49+BQ50+BQ55+BQ56+BQ57+BQ58+BQ59+BQ76+BQ77+BQ78+BQ79+BQ80+BQ82+BQ83+BQ84+BQ85+BQ114","v":0},0,0,0,0,0,0,0,0,0,0,0,0,0,0,0,0,0,0,0,0,0,0,0,0,0,0,0,0,0,0,0,0,0,0,0]
[null,"          Pratiques   ",{"$f":"SUM(E131:CZ131)","v":0},{"$f":"IF(OR(C2>0,C4>0,C20>0,C33>0,C66>0,C68>0),C131/((C2*26)+(C4*10)+C20+(C33*5)+C66+(C68*4)),\"-\")","v":"-"},{"$f":"E7+E11+E12+E13+E14+E15+E18+E31+E51+E60+E61+E62+E63+E67+E72+E73+E74+E75+E86+E87+E89+E90+E92+E93+E94+E95+E96+E98+E99+E100+E101+E102+E103+E105+E106+E107+E108+E110+E111+E112+E113+E115+E116+E119+E120+E121+E122","v":0},0,0,0,0,0,0,0,0,0,0,0,0,0,0,0,0,0,0,0,0,0,0,0,0,0,0,0,0,0,0,0,{"$f":"AK7+AK11+AK12+AK13+AK14+AK15+AK18+AK31+AK51+AK60+AK61+AK62+AK63+AK67+AK72+AK73+AK74+AK75+AK86+AK87+AK89+AK90+AK92+AK93+AK94+AK95+AK96+AK98+AK99+AK100+AK101+AK102+AK103+AK105+AK106+AK107+AK108+AK110+AK111+AK112+AK113+AK115+AK116+AK119+AK120+AK121+AK122","v":0},0,0,0,0,0,0,0,0,0,0,0,0,0,0,0,0,0,0,0,0,0,0,0,0,0,0,0,0,0,0,0,{"$f":"BQ7+BQ11+BQ12+BQ13+BQ14+BQ15+BQ18+BQ31+BQ51+BQ60+BQ61+BQ62+BQ63+BQ67+BQ72+BQ73+BQ74+BQ75+BQ86+BQ87+BQ89+BQ90+BQ92+BQ93+BQ94+BQ95+BQ96+BQ98+BQ99+BQ100+BQ101+BQ102+BQ103+BQ105+BQ106+BQ107+BQ108+BQ110+BQ111+BQ112+BQ113+BQ115+BQ116+BQ119+BQ120+BQ121+BQ122","v":0},0,0,0,0,0,0,0,0,0,0,0,0,0,0,0,0,0,0,0,0,0,0,0,0,0,0,0,0,0,0,0,0,0,0,0]
[null,"          Total   ",{"$f":"SUM(E132:CZ132)","v":0},{"$f":"IF(AND(OR(C2>0,C4>0,C20>0,C33>0,C66>0,C68>0),C83>0,C56>0),C132/((C2*32)+(C4*20)+(C20*11)+(C33*31)+(C66*2)+(C68*12)),IF(AND(OR(C2>0,C4>0,C20>0,C33>0,C66>0,C68>0),C83=0,C56>0),C132/((C2*32)+(C4*18)+(C20*11)+(C33*31)+(C66*2)+(C68*12)),IF(AND(OR(C2>0,C4>0,C20>0,C33>0,C66>0,C68>0),C83=0,C56=0),C132/((C2*32)+(C4*18)+(C20*11)+(C33*28)+(C66*2)+(C68*12)),IF(AND(OR(C2>0,C4>0,C20>0,C33>0,C66>0,C68>0),C83>0,C56=0),C132/((C2*32)+(C4*20)+(C20*11)+(C33*28)+(C66*2)+(C68*12)),\"-\"))))","v":"-"},{"$f":"SUM(E128:E131)","v":0},{"$f":"SUM(F128:F131)","v":0},0,0,0,0,0,0,0,0,0,0,0,0,0,0,0,0,0,0,0,0,0,0,0,0,0,0,0,0,0,0,0,0,0,0,0,0,0,0,0,0,0,0,0,0,0,0,0,0,0,0,0,0,0,0,0,0,0,0,0,0,0,0,0,{"$f":"SUM(BR128:BR131)","v":0},0,0,0,0,0,0,0,0,0,0,0,0,0,0,0,0,0,0,0,0,0,0,0,0,0,0,0,0,0,0,0,0,0,0]
[]
[]
[null,null,null,null,null,null," "]

{"sheet":"Résultats","index":2,"n_rows":24,"n_cols":203,"rows_kept":24,"cut":false,"hidden":false,"merged":[[0,117,0,118],[0,119,0,120],[0,133,0,134],[0,135,0,136],[0,121,0,122],[0,123,0,124],[0,125,0,126],[0,127,0,128],[0,129,0,130],[0,131,0,132],[0,105,0,106],[0,107,0,108],[0,109,0,110],[0,111,0,112],[0,113,0,114],[0,115,0,116],[0,93,0,94],[0,95,0,96],[0,97,0,98],[0,99,0,100],[0,101,0,102],[0,103,0,104],[0,81,0,82],[0,83,0,84],[0,85,0,86],[0,87,0,88],[0,89,0,90],[0,91,0,92],[0,69,0,70],[0,71,0,72],[0,73,0,74],[0,75,0,76],[0,77,0,78],[0,79,0,80],[0,57,0,58],[0,59,0,60],[0,61,0,62],[0,63,0,64],[0,65,0,66],[0,67,0,68],[0,1,0,2],[0,3,0,4],[0,5,0,6],[0,7,0,8],[0,9,0,10],[0,11,0,12],[0,13,0,14],[0,15,0,16],[0,29,0,30],[0,31,0,32],[0,33,0,34],[0,35,0,36],[0,17,0,18],[0,19,0,20],[0,21,0,22],[0,23,0,24],[0,25,0,26],[0,27,0,28],[0,37,0,38],[0,39,0,40],[0,41,0,42],[0,43,0,44],[0,45,0,46],[0,47,0,48],[0,137,0,138],[0,139,0,140],[0,141,0,142],[0,143,0,144],[0,49,0,50],[0,51,0,52],[0,53,0,54],[0,55,0,56],[0,145,0,146],[0,147,0,148],[0,149,0,150],[0,151,0,152],[0,153,0,154],[0,155,0,156],[0,157,0,158],[0,159,0,160],[0,161,0,162],[0,163,0,164],[0,165,0,166],[0,167,0,168],[0,191,0,192],[0,169,0,170],[0,171,0,172],[0,173,0,174],[0,175,0,176],[0,177,0,178],[0,179,0,180],[0,193,0,194],[0,195,0,196],[0,197,0,198],[0,199,0,200],[0,201,0,202],[0,181,0,182],[0,183,0,184],[0,185,0,186],[0,187,0,188],[0,189,0,190]]}
["          Nom de l'unité","Total établissement",null,{"$f":"Saisie!E1","v":0},null,{"$f":"Saisie!F1","v":0},null,{"$f":"Saisie!G1","v":0},null,{"$f":"Saisie!H1","v":0},null,{"$f":"Saisie!I1","v":0},null,{"$f":"Saisie!J1","v":0},null,{"$f":"Saisie!K1","v":0},null,{"$f":"Saisie!L1","v":0},null,{"$f":"Saisie!M1","v":0},null,{"$f":"Saisie!N1","v":0},null,{"$f":"Saisie!O1","v":0},null,{"$f":"Saisie!P1","v":0},null,{"$f":"Saisie!Q1","v":0},null,{"$f":"Saisie!R1","v":0},null,{"$f":"Saisie!S1","v":0},null,{"$f":"Saisie!T1","v":0},null,{"$f":"Saisie!U1","v":0},null,{"$f":"Saisie!V1","v":0},null,{"$f":"Saisie!W1","v":0},null,{"$f":"Saisie!X1","v":0},null,{"$f":"Saisie!Y1","v":0},null,{"$f":"Saisie!Z1","v":0},null,{"$f":"Saisie!AA1","v":0},null,{"$f":"Saisie!AB1","v":0},null,{"$f":"Saisie!AC1","v":0},null,{"$f":"Saisie!AD1","v":0},null,{"$f":"Saisie!AE1","v":0},null,{"$f":"Saisie!AF1","v":0},null,{"$f":"Saisie!AG1","v":0},null,{"$f":"Saisie!AH1","v":0},null,{"$f":"Saisie!AI1","v":0},null,{"$f":"Saisie!AJ1","v":0},null,{"$f":"Saisie!AK1","v":0},null,{"$f":"Saisie!AL1","v":0},null,{"$f":"Saisie!AM1","v":0},null,{"$f":"Saisie!AN1","v":0},null,{"$f":"Saisie!AO1","v":0},null,{"$f":"Saisie!AP1","v":0},null,{"$f":"Saisie!AQ1","v":0},null,{"$f":"Saisie!AR1","v":0},null,{"$f":"Saisie!AS1","v":0},null,{"$f":"Saisie!AT1","v":0},null,{"$f":"Saisie!AU1","v":0},null,{"$f":"Saisie!AV1","v":0},null,{"$f":"Saisie!AW1","v":0},null,{"$f":"Saisie!AX1","v":0},null,{"$f":"Saisie!AY1","v":0},null,{"$f":"Saisie!AZ1","v":0},null,{"$f":"Saisie!BA1","v":0},null,{"$f":"Saisie!BB1","v":0},null,{"$f":"Saisie!BC1","v":0},null,{"$f":"Saisie!BD1","v":0},null,{"$f":"Saisie!BE1","v":0},null,{"$f":"Saisie!BF1","v":0},null,{"$f":"Saisie!BG1","v":0},null,{"$f":"Saisie!BH1","v":0},null,{"$f":"Saisie!BI1","v":0},null,{"$f":"Saisie!BJ1","v":0},null,{"$f":"Saisie!BK1","v":0},null,{"$f":"Saisie!BL1","v":0},null,{"$f":"Saisie!BM1","v":0},null,{"$f":"Saisie!BN1","v":0},null,{"$f":"Saisie!BO1","v":0},null,{"$f":"Saisie!BP1","v":0},null,{"$f":"Saisie!BQ1","v":0},null,{"$f":"Saisie!BR1","v":0},null,{"$f":"Saisie!BS1","v":0},null,{"$f":"Saisie!BT1","v":0},null,{"$f":"Saisie!BU1","v":0},null,{"$f":"Saisie!BV1","v":0},null,{"$f":"Saisie!BW1","v":0},null,{"$f":"Saisie!BX1","v":0},null,{"$f":"Saisie!BY1","v":0},null,{"$f":"Saisie!BZ1","v":0},null,{"$f":"Saisie!CA1","v":0},null,{"$f":"Saisie!CB1","v":0},null,{"$f":"Saisie!CC1","v":0},null,{"$f":"Saisie!CD1","v":0},null,{"$f":"Saisie!CE1","v":0},null,{"$f":"Saisie!CF1","v":0},null,{"$f":"Saisie!CG1","v":0},null,{"$f":"Saisie!CH1","v":0},null,{"$f":"Saisie!CI1","v":0},null,{"$f":"Saisie!CJ1","v":0},null,{"$f":"Saisie!CK1","v":0},null,{"$f":"Saisie!CL1","v":0},null,{"$f":"Saisie!CM1","v":0},null,{"$f":"Saisie!CN1","v":0},null,{"$f":"Saisie!CO1","v":0},null,{"$f":"Saisie!CP1","v":0},null,{"$f":"Saisie!CQ1","v":0},null,{"$f":"Saisie!CR1","v":0},null,{"$f":"Saisie!CS1","v":0},null,{"$f":"Saisie!CT1","v":0},null,{"$f":"Saisie!CU1","v":0},null,{"$f":"Saisie!CV1","v":0},null,{"$f":"Saisie!CW1","v":0},null,{"$f":"Saisie!CX1","v":0},null,{"$f":"Saisie!CY1","v":0},null,{"$f":"Saisie!CZ1","v":0}]
["          Nombre d'unités",{"$f":"Saisie!C2","v":0},"%","N","%","N","%","N","%","N","%","N","%","N","%","N","%","N","%","N","%","N","%","N","%","N","%","N","%","N","%","N","%","N","%","N","%","N","%","N","%","N","%","N","%","N","%","N","%","N","%","N","%","N","%","N","%","N","%","N","%","N","%","N","%","N","%","N","%","N","%","N","%","N","%","N","%","N","%","N","%","N","%","N","%","N","%","N","%","N","%","N","%","N","%","N","%","N","%","N","%","N","%","N","%","N","%","N","%","N","%","N","%","N","%","N","%","N","%","N","%","N","%","N","%","N","%","N","%","N","%","N","%","N","%","N","%","N","%","N","%","N","%","N","%","N","%","N","%","N","%","N","%","N","%","N","%","N","%","N","%","N","%","N","%","N","%","N","%","N","%","N","%","N","%","N","%","N","%","N","%","N","%","N","%","N","%","N","%","N","%","N","%","N","%","N","%","N","%","N","%","N","%"]
["          Au moins un équipement de gestion des excreta des patients continents :\n          LDB ou broyeur ou sacs protecteurs pour bassins avec gélifiant",{"$f":"SUM(Saisie!E128:CZ128)","v":0},{"$f":"IF(Saisie!C2>0,Saisie!C128/Saisie!C2,\"-\")","v":"-"},{"$f":"Saisie!E128","v":0},{"$f":"Saisie!E128/1","v":0},{"$f":"Saisie!F128","v":0},{"$f":"Saisie!F128/1","v":0},{"$f":"Saisie!G128","v":0},{"$f":"Saisie!G128/1","v":0},{"$f":"Saisie!H128","v":0},{"$f":"Saisie!H128/1","v":0},{"$f":"Saisie!I128","v":0},{"$f":"Saisie!I128/1","v":0},{"$f":"Saisie!J128","v":0},{"$f":"Saisie!J128/1","v":0},{"$f":"Saisie!K128","v":0},{"$f":"Saisie!K128/1","v":0},{"$f":"Saisie!L128","v":0},{"$f":"Saisie!L128/1","v":0},{"$f":"Saisie!M128","v":0},{"$f":"Saisie!M128/1","v":0},{"$f":"Saisie!N128","v":0},{"$f":"Saisie!N128/1","v":0},{"$f":"Saisie!O128","v":0},{"$f":"Saisie!O128/1","v":0},{"$f":"Saisie!P128","v":0},{"$f":"Saisie!P128/1","v":0},{"$f":"Saisie!Q128","v":0},{"$f":"Saisie!Q128/1","v":0},{"$f":"Saisie!R128","v":0},{"$f":"Saisie!R128/1","v":0},{"$f":"Saisie!S128","v":0},{"$f":"Saisie!S128/1","v":0},{"$f":"Saisie!T128","v":0},{"$f":"Saisie!T128/1","v":0},{"$f":"Saisie!U128","v":0},{"$f":"Saisie!U128/1","v":0},{"$f":"Saisie!V128","v":0},{"$f":"Saisie!V128/1","v":0},{"$f":"Saisie!W128","v":0},{"$f":"Saisie!W128/1","v":0},{"$f":"Saisie!X128","v":0},{"$f":"Saisie!X128/1","v":0},{"$f":"Saisie!Y128","v":0},{"$f":"Saisie!Y128/1","v":0},{"$f":"Saisie!Z128","v":0},{"$f":"Saisie!Z128/1","v":0},{"$f":"Saisie!AA128","v":0},{"$f":"Saisie!AA128/1","v":0},{"$f":"Saisie!AB128","v":0},{"$f":"Saisie!AB128/1","v":0},{"$f":"Saisie!AC128","v":0},{"$f":"Saisie!AC128/1","v":0},{"$f":"Saisie!AD128","v":0},{"$f":"Saisie!AD128/1","v":0},{"$f":"Saisie!AE128","v":0},{"$f":"Saisie!AE128/1","v":0},{"$f":"Saisie!AF128","v":0},{"$f":"Saisie!AF128/1","v":0},{"$f":"Saisie!AG128","v":0},{"$f":"Saisie!AG128/1","v":0},{"$f":"Saisie!AH128","v":0},{"$f":"Saisie!AH128/1","v":0},{"$f":"Saisie!AI128","v":0},{"$f":"Saisie!AI128/1","v":0},{"$f":"Saisie!AJ128","v":0},{"$f":"Saisie!AJ128/1","v":0},{"$f":"Saisie!AK128","v":0},{"$f":"Saisie!AK128/1","v":0},{"$f":"Saisie!AL128","v":0},{"$f":"Saisie!AL128/1","v":0},{"$f":"Saisie!AM128","v":0},{"$f":"Saisie!AM128/1","v":0},{"$f":"Saisie!AN128","v":0},{"$f":"Saisie!AN128/1","v":0},{"$f":"Saisie!AO128","v":0},{"$f":"Saisie!AO128/1","v":0},{"$f":"Saisie!AP128","v":0},{"$f":"Saisie!AP128/1","v":0},{"$f":"Saisie!AQ128","v":0},{"$f":"Saisie!AQ128/1","v":0},{"$f":"Saisie!AR128","v":0},{"$f":"Saisie!AR128/1","v":0},{"$f":"Saisie!AS128","v":0},{"$f":"Saisie!AS128/1","v":0},{"$f":"Saisie!AT128","v":0},{"$f":"Saisie!AT128/1","v":0},{"$f":"Saisie!AU128","v":0},{"$f":"Saisie!AU128/1","v":0},{"$f":"Saisie!AV128","v":0},{"$f":"Saisie!AV128/1","v":0},{"$f":"Saisie!AW128","v":0},{"$f":"Saisie!AW128/1","v":0},{"$f":"Saisie!AX128","v":0},{"$f":"Saisie!AX128/1","v":0},{"$f":"Saisie!AY128","v":0},{"$f":"Saisie!AY128/1","v":0},{"$f":"Saisie!AZ128","v":0},{"$f":"Saisie!AZ128/1","v":0},{"$f":"Saisie!BA128","v":0},{"$f":"Saisie!BA128/1","v":0},{"$f":"Saisie!BB128","v":0},{"$f":"Saisie!BB128/1","v":0},{"$f":"Saisie!BC128","v":0},{"$f":"Saisie!BC128/1","v":0},{"$f":"Saisie!BD128","v":0},{"$f":"Saisie!BD128/1","v":0},{"$f":"Saisie!BE128","v":0},{"$f":"Saisie!BE128/1","v":0},{"$f":"Saisie!BF128","v":0},{"$f":"Saisie!BF128/1","v":0},{"$f":"Saisie!BG128","v":0},{"$f":"Saisie!BG128/1","v":0},{"$f":"Saisie!BH128","v":0},{"$f":"Saisie!BH128/1","v":0},{"$f":"Saisie!BI128","v":0},{"$f":"Saisie!BI128/1","v":0},{"$f":"Saisie!BJ128","v":0},{"$f":"Saisie!BJ128/1","v":0},{"$f":"Saisie!BK128","v":0},{"$f":"Saisie!BK128/1","v":0},{"$f":"Saisie!BL128","v":0},{"$f":"Saisie!BL128/1","v":0},{"$f":"Saisie!BM128","v":0},{"$f":"Saisie!BM128/1","v":0},{"$f":"Saisie!BN128","v":0},{"$f":"Saisie!BN128/1","v":0},{"$f":"Saisie!BO128","v":0},{"$f":"Saisie!BO128/1","v":0},{"$f":"Saisie!BP128","v":0},{"$f":"Saisie!BP128/1","v":0},{"$f":"Saisie!BQ128","v":0},{"$f":"Saisie!BQ128/1","v":0},{"$f":"Saisie!BR128","v":0},{"$f":"Saisie!BR128/1","v":0},{"$f":"Saisie!BS128","v":0},{"$f":"Saisie!BS128/1","v":0},{"$f":"Saisie!BT128","v":0},{"$f":"Saisie!BT128/1","v":0},{"$f":"Saisie!BU128","v":0},{"$f":"Saisie!BU128/1","v":0},{"$f":"Saisie!BV128","v":0},{"$f":"Saisie!BV128/1","v":0},{"$f":"Saisie!BW128","v":0},{"$f":"Saisie!BW128/1","v":0},{"$f":"Saisie!BX128","v":0},{"$f":"Saisie!BX128/1","v":0},{"$f":"Saisie!BY128","v":0},{"$f":"Saisie!BY128/1","v":0},{"$f":"Saisie!BZ128","v":0},{"$f":"Saisie!BZ128/1","v":0},{"$f":"Saisie!CA128","v":0},{"$f":"Saisie!CA128/1","v":0},{"$f":"Saisie!CB128","v":0},{"$f":"Saisie!CB128/1","v":0},{"$f":"Saisie!CC128","v":0},{"$f":"Saisie!CC128/1","v":0},{"$f":"Saisie!CD128","v":0},{"$f":"Saisie!CD128/1","v":0},{"$f":"Saisie!CE128","v":0},{"$f":"Saisie!CE128/1","v":0},{"$f":"Saisie!CF128","v":0},{"$f":"Saisie!CF128/1","v":0},{"$f":"Saisie!CG128","v":0},{"$f":"Saisie!CG128/1","v":0},{"$f":"Saisie!CH128","v":0},{"$f":"Saisie!CH128/1","v":0},{"$f":"Saisie!CI128","v":0},{"$f":"Saisie!CI128/1","v":0},{"$f":"Saisie!CJ128","v":0},{"$f":"Saisie!CJ128/1","v":0},{"$f":"Saisie!CK128","v":0},{"$f":"Saisie!CK128/1","v":0},{"$f":"Saisie!CL128","v":0},{"$f":"Saisie!CL128/1","v":0},{"$f":"Saisie!CM128","v":0},{"$f":"Saisie!CM128/1","v":0},{"$f":"Saisie!CN128","v":0},{"$f":"Saisie!CN128/1","v":0},{"$f":"Saisie!CO128","v":0},{"$f":"Saisie!CO128/1","v":0},{"$f":"Saisie!CP128","v":0},{"$f":"Saisie!CP128/1","v":0},{"$f":"Saisie!CQ128","v":0},{"$f":"Saisie!CQ128/1","v":0},{"$f":"Saisie!CR128","v":0},{"$f":"Saisie!CR128/1","v":0},{"$f":"Saisie!CS128","v":0},{"$f":"Saisie!CS128/1","v":0},{"$f":"Saisie!CT128","v":0},{"$f":"Saisie!CT128/1","v":0},{"$f":"Saisie!CU128","v":0},{"$f":"Saisie!CU128/1","v":0},{"$f":"Saisie!CV128","v":0},{"$f":"Saisie!CV128/1","v":0},{"$f":"Saisie!CW128","v":0},{"$f":"Saisie!CW128/1","v":0},{"$f":"Saisie!CX128","v":0},{"$f":"Saisie!CX128/1","v":0},{"$f":"Saisie!CY128","v":0},{"$f":"Saisie!CY128/1","v":0},{"$f":"Saisie!CZ128","v":0},{"$f":"Saisie!CZ128/1","v":0}]
["          Equipements   ",{"$f":"SUM(Saisie!E129:CZ129)","v":0},{"$f":"IF(OR(Saisie!C2>0,Saisie!C4>0,Saisie!C20>0,Saisie!C33>0,Saisie!C66>0,Saisie!C68>0),Saisie!C129/((Saisie!C2*4)+(Saisie!C4*5)+(Saisie!C20*10)+(Saisie!C33*16)+Saisie!C66+(Saisie!C68*3)),\"-\")","v":"-"},{"$f":"Saisie!E129","v":0},{"$f":"Saisie!E129/(4+(Saisie!E4*5)+(Saisie!E20*10)+(Saisie!E33*16)+Saisie!E66+(Saisie!E68*3))","v":0},{"$f":"Saisie!F129","v":0},{"$f":"Saisie!F129/(4+(Saisie!F4*5)+(Saisie!F20*10)+(Saisie!F33*16)+Saisie!F66+(Saisie!F68*3))","v":0},{"$f":"Saisie!G129","v":0},{"$f":"Saisie!G129/(4+(Saisie!G4*5)+(Saisie!G20*10)+(Saisie!G33*16)+Saisie!G66+(Saisie!G68*3))","v":0},{"$f":"Saisie!H129","v":0},{"$f":"Saisie!H129/(4+(Saisie!H4*5)+(Saisie!H20*10)+(Saisie!H33*16)+Saisie!H66+(Saisie!H68*3))","v":0},{"$f":"Saisie!I129","v":0},{"$f":"Saisie!I129/(4+(Saisie!I4*5)+(Saisie!I20*10)+(Saisie!I33*16)+Saisie!I66+(Saisie!I68*3))","v":0},{"$f":"Saisie!J129","v":0},{"$f":"Saisie!J129/(4+(Saisie!J4*5)+(Saisie!J20*10)+(Saisie!J33*16)+Saisie!J66+(Saisie!J68*3))","v":0},{"$f":"Saisie!K129","v":0},{"$f":"Saisie!K129/(4+(Saisie!K4*5)+(Saisie!K20*10)+(Saisie!K33*16)+Saisie!K66+(Saisie!K68*3))","v":0},{"$f":"Saisie!L129","v":0},{"$f":"Saisie!L129/(4+(Saisie!L4*5)+(Saisie!L20*10)+(Saisie!L33*16)+Saisie!L66+(Saisie!L68*3))","v":0},{"$f":"Saisie!M129","v":0},{"$f":"Saisie!M129/(4+(Saisie!M4*5)+(Saisie!M20*10)+(Saisie!M33*16)+Saisie!M66+(Saisie!M68*3))","v":0},{"$f":"Saisie!N129","v":0},{"$f":"Saisie!N129/(4+(Saisie!N4*5)+(Saisie!N20*10)+(Saisie!N33*16)+Saisie!N66+(Saisie!N68*3))","v":0},{"$f":"Saisie!O129","v":0},{"$f":"Saisie!O129/(4+(Saisie!O4*5)+(Saisie!O20*10)+(Saisie!O33*16)+Saisie!O66+(Saisie!O68*3))","v":0},{"$f":"Saisie!P129","v":0},{"$f":"Saisie!P129/(4+(Saisie!P4*5)+(Saisie!P20*10)+(Saisie!P33*16)+Saisie!P66+(Saisie!P68*3))","v":0},{"$f":"Saisie!Q129","v":0},{"$f":"Saisie!Q129/(4+(Saisie!Q4*5)+(Saisie!Q20*10)+(Saisie!Q33*16)+Saisie!Q66+(Saisie!Q68*3))","v":0},{"$f":"Saisie!R129","v":0},{"$f":"Saisie!R129/(4+(Saisie!R4*5)+(Saisie!R20*10)+(Saisie!R33*16)+Saisie!R66+(Saisie!R68*3))","v":0},{"$f":"Saisie!S129","v":0},{"$f":"Saisie!S129/(4+(Saisie!S4*5)+(Saisie!S20*10)+(Saisie!S33*16)+Saisie!S66+(Saisie!S68*3))","v":0},{"$f":"Saisie!T129","v":0},{"$f":"Saisie!T129/(4+(Saisie!T4*5)+(Saisie!T20*10)+(Saisie!T33*16)+Saisie!T66+(Saisie!T68*3))","v":0},{"$f":"Saisie!U129","v":0},{"$f":"Saisie!U129/(4+(Saisie!U4*5)+(Saisie!U20*10)+(Saisie!U33*16)+Saisie!U66+(Saisie!U68*3))","v":0},{"$f":"Saisie!V129","v":0},{"$f":"Saisie!V129/(4+(Saisie!V4*5)+(Saisie!V20*10)+(Saisie!V33*16)+Saisie!V66+(Saisie!V68*3))","v":0},{"$f":"Saisie!W129","v":0},{"$f":"Saisie!W129/(4+(Saisie!W4*5)+(Saisie!W20*10)+(Saisie!W33*16)+Saisie!W66+(Saisie!W68*3))","v":0},{"$f":"Saisie!X129","v":0},{"$f":"Saisie!X129/(4+(Saisie!X4*5)+(Saisie!X20*10)+(Saisie!X33*16)+Saisie!X66+(Saisie!X68*3))","v":0},{"$f":"Saisie!Y129","v":0},{"$f":"Saisie!Y129/(4+(Saisie!Y4*5)+(Saisie!Y20*10)+(Saisie!Y33*16)+Saisie!Y66+(Saisie!Y68*3))","v":0},{"$f":"Saisie!Z129","v":0},{"$f":"Saisie!Z129/(4+(Saisie!Z4*5)+(Saisie!Z20*10)+(Saisie!Z33*16)+Saisie!Z66+(Saisie!Z68*3))","v":0},{"$f":"Saisie!AA129","v":0},{"$f":"Saisie!AA129/(4+(Saisie!AA4*5)+(Saisie!AA20*10)+(Saisie!AA33*16)+Saisie!AA66+(Saisie!AA68*3))","v":0},{"$f":"Saisie!AB129","v":0},{"$f":"Saisie!AB129/(4+(Saisie!AB4*5)+(Saisie!AB20*10)+(Saisie!AB33*16)+Saisie!AB66+(Saisie!AB68*3))","v":0},{"$f":"Saisie!AC129","v":0},{"$f":"Saisie!AC129/(4+(Saisie!AC4*5)+(Saisie!AC20*10)+(Saisie!AC33*16)+Saisie!AC66+(Saisie!AC68*3))","v":0},{"$f":"Saisie!AD129","v":0},{"$f":"Saisie!AD129/(4+(Saisie!AD4*5)+(Saisie!AD20*10)+(Saisie!AD33*16)+Saisie!AD66+(Saisie!AD68*3))","v":0},{"$f":"Saisie!AE129","v":0},{"$f":"Saisie!AE129/(4+(Saisie!AE4*5)+(Saisie!AE20*10)+(Saisie!AE33*16)+Saisie!AE66+(Saisie!AE68*3))","v":0},{"$f":"Saisie!AF129","v":0},{"$f":"Saisie!AF129/(4+(Saisie!AF4*5)+(Saisie!AF20*10)+(Saisie!AF33*16)+Saisie!AF66+(Saisie!AF68*3))","v":0},{"$f":"Saisie!AG129","v":0},{"$f":"Saisie!AG129/(4+(Saisie!AG4*5)+(Saisie!AG20*10)+(Saisie!AG33*16)+Saisie!AG66+(Saisie!AG68*3))","v":0},{"$f":"Saisie!AH129","v":0},{"$f":"Saisie!AH129/(4+(Saisie!AH4*5)+(Saisie!AH20*10)+(Saisie!AH33*16)+Saisie!AH66+(Saisie!AH68*3))","v":0},{"$f":"Saisie!AI129","v":0},{"$f":"Saisie!AI129/(4+(Saisie!AI4*5)+(Saisie!AI20*10)+(Saisie!AI33*16)+Saisie!AI66+(Saisie!AI68*3))","v":0},{"$f":"Saisie!AJ129","v":0},{"$f":"Saisie!AJ129/(4+(Saisie!AJ4*5)+(Saisie!AJ20*10)+(Saisie!AJ33*16)+Saisie!AJ66+(Saisie!AJ68*3))","v":0},{"$f":"Saisie!AK129","v":0},{"$f":"Saisie!AK129/(4+(Saisie!AK4*5)+(Saisie!AK20*10)+(Saisie!AK33*16)+Saisie!AK66+(Saisie!AK68*3))","v":0},{"$f":"Saisie!AL129","v":0},{"$f":"Saisie!AL129/(4+(Saisie!AL4*5)+(Saisie!AL20*10)+(Saisie!AL33*16)+Saisie!AL66+(Saisie!AL68*3))","v":0},{"$f":"Saisie!AM129","v":0},{"$f":"Saisie!AM129/(4+(Saisie!AM4*5)+(Saisie!AM20*10)+(Saisie!AM33*16)+Saisie!AM66+(Saisie!AM68*3))","v":0},{"$f":"Saisie!AN129","v":0},{"$f":"Saisie!AN129/(4+(Saisie!AN4*5)+(Saisie!AN20*10)+(Saisie!AN33*16)+Saisie!AN66+(Saisie!AN68*3))","v":0},{"$f":"Saisie!AO129","v":0},{"$f":"Saisie!AO129/(4+(Saisie!AO4*5)+(Saisie!AO20*10)+(Saisie!AO33*16)+Saisie!AO66+(Saisie!AO68*3))","v":0},{"$f":"Saisie!AP129","v":0},{"$f":"Saisie!AP129/(4+(Saisie!AP4*5)+(Saisie!AP20*10)+(Saisie!AP33*16)+Saisie!AP66+(Saisie!AP68*3))","v":0},{"$f":"Saisie!AQ129","v":0},{"$f":"Saisie!AQ129/(4+(Saisie!AQ4*5)+(Saisie!AQ20*10)+(Saisie!AQ33*16)+Saisie!AQ66+(Saisie!AQ68*3))","v":0},{"$f":"Saisie!AR129","v":0},{"$f":"Saisie!AR129/(4+(Saisie!AR4*5)+(Saisie!AR20*10)+(Saisie!AR33*16)+Saisie!AR66+(Saisie!AR68*3))","v":0},{"$f":"Saisie!AS129","v":0},{"$f":"Saisie!AS129/(4+(Saisie!AS4*5)+(Saisie!AS20*10)+(Saisie!AS33*16)+Saisie!AS66+(Saisie!AS68*3))","v":0},{"$f":"Saisie!AT129","v":0},{"$f":"Saisie!AT129/(4+(Saisie!AT4*5)+(Saisie!AT20*10)+(Saisie!AT33*16)+Saisie!AT66+(Saisie!AT68*3))","v":0},{"$f":"Saisie!AU129","v":0},{"$f":"Saisie!AU129/(4+(Saisie!AU4*5)+(Saisie!AU20*10)+(Saisie!AU33*16)+Saisie!AU66+(Saisie!AU68*3))","v":0},{"$f":"Saisie!AV129","v":0},{"$f":"Saisie!AV129/(4+(Saisie!AV4*5)+(Saisie!AV20*10)+(Saisie!AV33*16)+Saisie!AV66+(Saisie!AV68*3))","v":0},{"$f":"Saisie!AW129","v":0},{"$f":"Saisie!AW129/(4+(Saisie!AW4*5)+(Saisie!AW20*10)+(Saisie!AW33*16)+Saisie!AW66+(Saisie!AW68*3))","v":0},{"$f":"Saisie!AX129","v":0},{"$f":"Saisie!AX129/(4+(Saisie!AX4*5)+(Saisie!AX20*10)+(Saisie!AX33*16)+Saisie!AX66+(Saisie!AX68*3))","v":0},{"$f":"Saisie!AY129","v":0},{"$f":"Saisie!AY129/(4+(Saisie!AY4*5)+(Saisie!AY20*10)+(Saisie!AY33*16)+Saisie!AY66+(Saisie!AY68*3))","v":0},{"$f":"Saisie!AZ129","v":0},{"$f":"Saisie!AZ129/(4+(Saisie!AZ4*5)+(Saisie!AZ20*10)+(Saisie!AZ33*16)+Saisie!AZ66+(Saisie!AZ68*3))","v":0},{"$f":"Saisie!BA129","v":0},{"$f":"Saisie!BA129/(4+(Saisie!BA4*5)+(Saisie!BA20*10)+(Saisie!BA33*16)+Saisie!BA66+(Saisie!BA68*3))","v":0},{"$f":"Saisie!BB129","v":0},{"$f":"Saisie!BB129/(4+(Saisie!BB4*5)+(Saisie!BB20*10)+(Saisie!BB33*16)+Saisie!BB66+(Saisie!BB68*3))","v":0},{"$f":"Saisie!BC129","v":0},{"$f":"Saisie!BC129/(4+(Saisie!BC4*5)+(Saisie!BC20*10)+(Saisie!BC33*16)+Saisie!BC66+(Saisie!BC68*3))","v":0},{"$f":"Saisie!BD129","v":0},{"$f":"Saisie!BD129/(4+(Saisie!BD4*5)+(Saisie!BD20*10)+(Saisie!BD33*16)+Saisie!BD66+(Saisie!BD68*3))","v":0},{"$f":"Saisie!BE129","v":0},{"$f":"Saisie!BE129/(4+(Saisie!BE4*5)+(Saisie!BE20*10)+(Saisie!BE33*16)+Saisie!BE66+(Saisie!BE68*3))","v":0},{"$f":"Saisie!BF129","v":0},{"$f":"Saisie!BF129/(4+(Saisie!BF4*5)+(Saisie!BF20*10)+(Saisie!BF33*16)+Saisie!BF66+(Saisie!BF68*3))","v":0},{"$f":"Saisie!BG129","v":0},{"$f":"Saisie!BG129/(4+(Saisie!BG4*5)+(Saisie!BG20*10)+(Saisie!BG33*16)+Saisie!BG66+(Saisie!BG68*3))","v":0},{"$f":"Saisie!BH129","v":0},{"$f":"Saisie!BH129/(4+(Saisie!BH4*5)+(Saisie!BH20*10)+(Saisie!BH33*16)+Saisie!BH66+(Saisie!BH68*3))","v":0},{"$f":"Saisie!BI129","v":0},{"$f":"Saisie!BI129/(4+(Saisie!BI4*5)+(Saisie!BI20*10)+(Saisie!BI33*16)+Saisie!BI66+(Saisie!BI68*3))","v":0},{"$f":"Saisie!BJ129","v":0},{"$f":"Saisie!BJ129/(4+(Saisie!BJ4*5)+(Saisie!BJ20*10)+(Saisie!BJ33*16)+Saisie!BJ66+(Saisie!BJ68*3))","v":0},{"$f":"Saisie!BK129","v":0},{"$f":"Saisie!BK129/(4+(Saisie!BK4*5)+(Saisie!BK20*10)+(Saisie!BK33*16)+Saisie!BK66+(Saisie!BK68*3))","v":0},{"$f":"Saisie!BL129","v":0},{"$f":"Saisie!BL129/(4+(Saisie!BL4*5)+(Saisie!BL20*10)+(Saisie!BL33*16)+Saisie!BL66+(Saisie!BL68*3))","v":0},{"$f":"Saisie!BM129","v":0},{"$f":"Saisie!BM129/(4+(Saisie!BM4*5)+(Saisie!BM20*10)+(Saisie!BM33*16)+Saisie!BM66+(Saisie!BM68*3))","v":0},{"$f":"Saisie!BN129","v":0},{"$f":"Saisie!BN129/(4+(Saisie!BN4*5)+(Saisie!BN20*10)+(Saisie!BN33*16)+Saisie!BN66+(Saisie!BN68*3))","v":0},{"$f":"Saisie!BO129","v":0},{"$f":"Saisie!BO129/(4+(Saisie!BO4*5)+(Saisie!BO20*10)+(Saisie!BO33*16)+Saisie!BO66+(Saisie!BO68*3))","v":0},{"$f":"Saisie!BP129","v":0},{"$f":"Saisie!BP129/(4+(Saisie!BP4*5)+(Saisie!BP20*10)+(Saisie!BP33*16)+Saisie!BP66+(Saisie!BP68*3))","v":0},{"$f":"Saisie!BQ129","v":0},{"$f":"Saisie!BQ129/(4+(Saisie!BQ4*5)+(Saisie!BQ20*10)+(Saisie!BQ33*16)+Saisie!BQ66+(Saisie!BQ68*3))","v":0},{"$f":"Saisie!BR129","v":0},{"$f":"Saisie!BR129/(4+(Saisie!BR4*5)+(Saisie!BR20*10)+(Saisie!BR33*16)+Saisie!BR66+(Saisie!BR68*3))","v":0},{"$f":"Saisie!BS129","v":0},{"$f":"Saisie!BS129/(4+(Saisie!BS4*5)+(Saisie!BS20*10)+(Saisie!BS33*16)+Saisie!BS66+(Saisie!BS68*3))","v":0},{"$f":"Saisie!BT129","v":0},{"$f":"Saisie!BT129/(4+(Saisie!BT4*5)+(Saisie!BT20*10)+(Saisie!BT33*16)+Saisie!BT66+(Saisie!BT68*3))","v":0},{"$f":"Saisie!BU129","v":0},{"$f":"Saisie!BU129/(4+(Saisie!BU4*5)+(Saisie!BU20*10)+(Saisie!BU33*16)+Saisie!BU66+(Saisie!BU68*3))","v":0},{"$f":"Saisie!BV129","v":0},{"$f":"Saisie!BV129/(4+(Saisie!BV4*5)+(Saisie!BV20*10)+(Saisie!BV33*16)+Saisie!BV66+(Saisie!BV68*3))","v":0},{"$f":"Saisie!BW129","v":0},{"$f":"Saisie!BW129/(4+(Saisie!BW4*5)+(Saisie!BW20*10)+(Saisie!BW33*16)+Saisie!BW66+(Saisie!BW68*3))","v":0},{"$f":"Saisie!BX129","v":0},{"$f":"Saisie!BX129/(4+(Saisie!BX4*5)+(Saisie!BX20*10)+(Saisie!BX33*16)+Saisie!BX66+(Saisie!BX68*3))","v":0},{"$f":"Saisie!BY129","v":0},{"$f":"Saisie!BY129/(4+(Saisie!BY4*5)+(Saisie!BY20*10)+(Saisie!BY33*16)+Saisie!BY66+(Saisie!BY68*3))","v":0},{"$f":"Saisie!BZ129","v":0},{"$f":"Saisie!BZ129/(4+(Saisie!BZ4*5)+(Saisie!BZ20*10)+(Saisie!BZ33*16)+Saisie!BZ66+(Saisie!BZ68*3))","v":0},{"$f":"Saisie!CA129","v":0},{"$f":"Saisie!CA129/(4+(Saisie!CA4*5)+(Saisie!CA20*10)+(Saisie!CA33*16)+Saisie!CA66+(Saisie!CA68*3))","v":0},{"$f":"Saisie!CB129","v":0},{"$f":"Saisie!CB129/(4+(Saisie!CB4*5)+(Saisie!CB20*10)+(Saisie!CB33*16)+Saisie!CB66+(Saisie!CB68*3))","v":0},{"$f":"Saisie!CC129","v":0},{"$f":"Saisie!CC129/(4+(Saisie!CC4*5)+(Saisie!CC20*10)+(Saisie!CC33*16)+Saisie!CC66+(Saisie!CC68*3))","v":0},{"$f":"Saisie!CD129","v":0},{"$f":"Saisie!CD129/(4+(Saisie!CD4*5)+(Saisie!CD20*10)+(Saisie!CD33*16)+Saisie!CD66+(Saisie!CD68*3))","v":0},{"$f":"Saisie!CE129","v":0},{"$f":"Saisie!CE129/(4+(Saisie!CE4*5)+(Saisie!CE20*10)+(Saisie!CE33*16)+Saisie!CE66+(Saisie!CE68*3))","v":0},{"$f":"Saisie!CF129","v":0},{"$f":"Saisie!CF129/(4+(Saisie!CF4*5)+(Saisie!CF20*10)+(Saisie!CF33*16)+Saisie!CF66+(Saisie!CF68*3))","v":0},{"$f":"Saisie!CG129","v":0},{"$f":"Saisie!CG129/(4+(Saisie!CG4*5)+(Saisie!CG20*10)+(Saisie!CG33*16)+Saisie!CG66+(Saisie!CG68*3))","v":0},{"$f":"Saisie!CH129","v":0},{"$f":"Saisie!CH129/(4+(Saisie!CH4*5)+(Saisie!CH20*10)+(Saisie!CH33*16)+Saisie!CH66+(Saisie!CH68*3))","v":0},{"$f":"Saisie!CI129","v":0},{"$f":"Saisie!CI129/(4+(Saisie!CI4*5)+(Saisie!CI20*10)+(Saisie!CI33*16)+Saisie!CI66+(Saisie!CI68*3))","v":0},{"$f":"Saisie!CJ129","v":0},{"$f":"Saisie!CJ129/(4+(Saisie!CJ4*5)+(Saisie!CJ20*10)+(Saisie!CJ33*16)+Saisie!CJ66+(Saisie!CJ68*3))","v":0},{"$f":"Saisie!CK129","v":0},{"$f":"Saisie!CK129/(4+(Saisie!CK4*5)+(Saisie!CK20*10)+(Saisie!CK33*16)+Saisie!CK66+(Saisie!CK68*3))","v":0},{"$f":"Saisie!CL129","v":0},{"$f":"Saisie!CL129/(4+(Saisie!CL4*5)+(Saisie!CL20*10)+(Saisie!CL33*16)+Saisie!CL66+(Saisie!CL68*3))","v":0},{"$f":"Saisie!CM129","v":0},{"$f":"Saisie!CM129/(4+(Saisie!CM4*5)+(Saisie!CM20*10)+(Saisie!CM33*16)+Saisie!CM66+(Saisie!CM68*3))","v":0},{"$f":"Saisie!CN129","v":0},{"$f":"Saisie!CN129/(4+(Saisie!CN4*5)+(Saisie!CN20*10)+(Saisie!CN33*16)+Saisie!CN66+(Saisie!CN68*3))","v":0},{"$f":"Saisie!CO129","v":0},{"$f":"Saisie!CO129/(4+(Saisie!CO4*5)+(Saisie!CO20*10)+(Saisie!CO33*16)+Saisie!CO66+(Saisie!CO68*3))","v":0},{"$f":"Saisie!CP129","v":0},{"$f":"Saisie!CP129/(4+(Saisie!CP4*5)+(Saisie!CP20*10)+(Saisie!CP33*16)+Saisie!CP66+(Saisie!CP68*3))","v":0},{"$f":"Saisie!CQ129","v":0},{"$f":"Saisie!CQ129/(4+(Saisie!CQ4*5)+(Saisie!CQ20*10)+(Saisie!CQ33*16)+Saisie!CQ66+(Saisie!CQ68*3))","v":0},{"$f":"Saisie!CR129","v":0},{"$f":"Saisie!CR129/(4+(Saisie!CR4*5)+(Saisie!CR20*10)+(Saisie!CR33*16)+Saisie!CR66+(Saisie!CR68*3))","v":0},{"$f":"Saisie!CS129","v":0},{"$f":"Saisie!CS129/(4+(Saisie!CS4*5)+(Saisie!CS20*10)+(Saisie!CS33*16)+Saisie!CS66+(Saisie!CS68*3))","v":0},{"$f":"Saisie!CT129","v":0},{"$f":"Saisie!CT129/(4+(Saisie!CT4*5)+(Saisie!CT20*10)+(Saisie!CT33*16)+Saisie!CT66+(Saisie!CT68*3))","v":0},{"$f":"Saisie!CU129","v":0},{"$f":"Saisie!CU129/(4+(Saisie!CU4*5)+(Saisie!CU20*10)+(Saisie!CU33*16)+Saisie!CU66+(Saisie!CU68*3))","v":0},{"$f":"Saisie!CV129","v":0},{"$f":"Saisie!CV129/(4+(Saisie!CV4*5)+(Saisie!CV20*10)+(Saisie!CV33*16)+Saisie!CV66+(Saisie!CV68*3))","v":0},{"$f":"Saisie!CW129","v":0},{"$f":"Saisie!CW129/(4+(Saisie!CW4*5)+(Saisie!CW20*10)+(Saisie!CW33*16)+Saisie!CW66+(Saisie!CW68*3))","v":0},{"$f":"Saisie!CX129","v":0},{"$f":"Saisie!CX129/(4+(Saisie!CX4*5)+(Saisie!CX20*10)+(Saisie!CX33*16)+Saisie!CX66+(Saisie!CX68*3))","v":0},{"$f":"Saisie!CY129","v":0},{"$f":"Saisie!CY129/(4+(Saisie!CY4*5)+(Saisie!CY20*10)+(Saisie!CY33*16)+Saisie!CY66+(Saisie!CY68*3))","v":0},{"$f":"Saisie!CZ129","v":0},{"$f":"Saisie!CZ129/(4+(Saisie!CZ4*5)+(Saisie!CZ20*10)+(Saisie!CZ33*16)+Saisie!CZ66+(Saisie!CZ68*3))","v":0}]
["          Organisation   ",{"$f":"SUM(Saisie!E130:CZ130)","v":0},{"$f":"IF(AND(OR(Saisie!C2>0,Saisie!C4>0,Saisie!C33>0,Saisie!C68>0),Saisie!C83>0,Saisie!C56>0),Saisie!C130/(Saisie!C2+(Saisie!C4*5)+(Saisie!C33*10)+(Saisie!C68*5)),IF(AND(OR(Saisie!C2>0,Saisie!C4>0,Saisie!C33>0,Saisie!C68>0),Saisie!C83=0,Saisie!C56>0),Saisie!C130/(Saisie!C2+(Saisie!C4*3)+(Saisie!C33*10)+(Saisie!C68*5)),IF(AND(OR(Saisie!C2>0,Saisie!C4>0,Saisie!C33>0,Saisie!C68>0),Saisie!C83>0,Saisie!C56=0),Saisie!C130/(Saisie!C2+(Saisie!C4*5)+(Saisie!C33*7)+(Saisie!C68*5)),IF(AND(OR(Saisie!C2>0,Saisie!C4>0,Saisie!C33>0,Saisie!C68>0),Saisie!C83=0,Saisie!C56=0),Saisie!C130/(Saisie!C2+(Saisie!C4*3)+(Saisie!C33*7)+(Saisie!C68*5)),\"-\"))))","v":"-"},{"$f":"Saisie!E130","v":0},{"$f":"Saisie!E130/(1+(IF(Saisie!E83>0,Saisie!E4*5,Saisie!E4*3))+(IF(Saisie!E56>0,Saisie!E33*10,Saisie!E33*7))+(Saisie!E68*5))","v":0},{"$f":"Saisie!F130","v":0},{"$f":"Feuil1!E5","v":0},{"$f":"Saisie!G130","v":0},{"$f":"Feuil1!F5","v":0},{"$f":"Saisie!H130","v":0},{"$f":"Feuil1!G5","v":0},{"$f":"Saisie!I130","v":0},{"$f":"Feuil1!H5","v":0},{"$f":"Saisie!J130","v":0},{"$f":"Feuil1!I5","v":0},{"$f":"Saisie!K130","v":0},{"$f":"Feuil1!J5","v":0},{"$f":"Saisie!L130","v":0},{"$f":"Feuil1!K5","v":0},{"$f":"Saisie!M130","v":0},{"$f":"Feuil1!L5","v":0},{"$f":"Saisie!N130","v":0},{"$f":"Feuil1!M5","v":0},{"$f":"Saisie!O130","v":0},{"$f":"Feuil1!N5","v":0},{"$f":"Saisie!P130","v":0},{"$f":"Feuil1!O5","v":0},{"$f":"Saisie!Q130","v":0},{"$f":"Feuil1!P5","v":0},{"$f":"Saisie!R130","v":0},{"$f":"Feuil1!Q5","v":0},{"$f":"Saisie!S130","v":0},{"$f":"Feuil1!R5","v":0},{"$f":"Saisie!T130","v":0},{"$f":"Feuil1!S5","v":0},{"$f":"Saisie!U130","v":0},{"$f":"Feuil1!T5","v":0},{"$f":"Saisie!V130","v":0},{"$f":"Feuil1!U5","v":0},{"$f":"Saisie!W130","v":0},{"$f":"Feuil1!V5","v":0},{"$f":"Saisie!X130","v":0},{"$f":"Feuil1!W5","v":0},{"$f":"Saisie!Y130","v":0},{"$f":"Feuil1!X5","v":0},{"$f":"Saisie!Z130","v":0},{"$f":"Feuil1!Y5","v":0},{"$f":"Saisie!AA130","v":0},{"$f":"Feuil1!Z5","v":0},{"$f":"Saisie!AB130","v":0},{"$f":"Feuil1!AA5","v":0},{"$f":"Saisie!AC130","v":0},{"$f":"Feuil1!AB5","v":0},{"$f":"Saisie!AD130","v":0},{"$f":"Feuil1!AC5","v":0},{"$f":"Saisie!AE130","v":0},{"$f":"Feuil1!AD5","v":0},{"$f":"Saisie!AF130","v":0},{"$f":"Feuil1!AE5","v":0},{"$f":"Saisie!AG130","v":0},{"$f":"Feuil1!AF5","v":0},{"$f":"Saisie!AH130","v":0},{"$f":"Feuil1!AG5","v":0},{"$f":"Saisie!AI130","v":0},{"$f":"Feuil1!AH5","v":0},{"$f":"Saisie!AJ130","v":0},{"$f":"Feuil1!AI5","v":0},{"$f":"Saisie!AK130","v":0},{"$f":"Feuil1!AJ5","v":0},{"$f":"Saisie!AL130","v":0},{"$f":"Feuil1!AK5","v":0},{"$f":"Saisie!AM130","v":0},{"$f":"Feuil1!AL5","v":0},{"$f":"Saisie!AN130","v":0},{"$f":"Feuil1!AM5","v":0},{"$f":"Saisie!AO130","v":0},{"$f":"Feuil1!AN5","v":0},{"$f":"Saisie!AP130","v":0},{"$f":"Feuil1!AO5","v":0},{"$f":"Saisie!AQ130","v":0},{"$f":"Feuil1!AP5","v":0},{"$f":"Saisie!AR130","v":0},{"$f":"Feuil1!AQ5","v":0},{"$f":"Saisie!AS130","v":0},{"$f":"Feuil1!AR5","v":0},{"$f":"Saisie!AT130","v":0},{"$f":"Feuil1!AS5","v":0},{"$f":"Saisie!AU130","v":0},{"$f":"Feuil1!AT5","v":0},{"$f":"Saisie!AV130","v":0},{"$f":"Feuil1!AU5","v":0},{"$f":"Saisie!AW130","v":0},{"$f":"Feuil1!AV5","v":0},{"$f":"Saisie!AX130","v":0},{"$f":"Feuil1!AW5","v":0},{"$f":"Saisie!AY130","v":0},{"$f":"Feuil1!AX5","v":0},{"$f":"Saisie!AZ130","v":0},{"$f":"Feuil1!AY5","v":0},{"$f":"Saisie!BA130","v":0},{"$f":"Feuil1!AZ5","v":0},{"$f":"Saisie!BB130","v":0},{"$f":"Feuil1!BA5","v":0},{"$f":"Saisie!BC130","v":0},{"$f":"Feuil1!BB5","v":0},{"$f":"Saisie!BD130","v":0},{"$f":"Feuil1!BC5","v":0},{"$f":"Saisie!BE130","v":0},{"$f":"Feuil1!BD5","v":0},{"$f":"Saisie!BF130","v":0},{"$f":"Feuil1!BE5","v":0},{"$f":"Saisie!BG130","v":0},{"$f":"Feuil1!BF5","v":0},{"$f":"Saisie!BH130","v":0},{"$f":"Feuil1!BG5","v":0},{"$f":"Saisie!BI130","v":0},{"$f":"Feuil1!BH5","v":0},{"$f":"Saisie!BJ130","v":0},{"$f":"Feuil1!BI5","v":0},{"$f":"Saisie!BK130","v":0},{"$f":"Feuil1!BJ5","v":0},{"$f":"Saisie!BL130","v":0},{"$f":"Feuil1!BK5","v":0},{"$f":"Saisie!BM130","v":0},{"$f":"Feuil1!BL5","v":0},{"$f":"Saisie!BN130","v":0},{"$f":"Feuil1!BM5","v":0},{"$f":"Saisie!BO130","v":0},{"$f":"Feuil1!BN5","v":0},{"$f":"Saisie!BP130","v":0},{"$f":"Feuil1!BO5","v":0},{"$f":"Saisie!BQ130","v":0},{"$f":"Feuil1!BP5","v":0},{"$f":"Saisie!BR130","v":0},{"$f":"Feuil1!BQ5","v":0},{"$f":"Saisie!BS130","v":0},{"$f":"Feuil1!BR5","v":0},{"$f":"Saisie!BT130","v":0},{"$f":"Feuil1!BS5","v":0},{"$f":"Saisie!BU130","v":0},{"$f":"Feuil1!BT5","v":0},{"$f":"Saisie!BV130","v":0},{"$f":"Feuil1!BU5","v":0},{"$f":"Saisie!BW130","v":0},{"$f":"Feuil1!BV5","v":0},{"$f":"Saisie!BX130","v":0},{"$f":"Feuil1!BW5","v":0},{"$f":"Saisie!BY130","v":0},{"$f":"Feuil1!BX5","v":0},{"$f":"Saisie!BZ130","v":0},{"$f":"Feuil1!BY5","v":0},{"$f":"Saisie!CA130","v":0},{"$f":"Feuil1!BZ5","v":0},{"$f":"Saisie!CB130","v":0},{"$f":"Feuil1!CA5","v":0},{"$f":"Saisie!CC130","v":0},{"$f":"Feuil1!CB5","v":0},{"$f":"Saisie!CD130","v":0},{"$f":"Feuil1!CC5","v":0},{"$f":"Saisie!CE130","v":0},{"$f":"Feuil1!CD5","v":0},{"$f":"Saisie!CF130","v":0},{"$f":"Feuil1!CE5","v":0},{"$f":"Saisie!CG130","v":0},{"$f":"Feuil1!CF5","v":0},{"$f":"Saisie!CH130","v":0},{"$f":"Feuil1!CG5","v":0},{"$f":"Saisie!CI130","v":0},{"$f":"Feuil1!CH5","v":0},{"$f":"Saisie!CJ130","v":0},{"$f":"Feuil1!CI5","v":0},{"$f":"Saisie!CK130","v":0},{"$f":"Feuil1!CJ5","v":0},{"$f":"Saisie!CL130","v":0},{"$f":"Feuil1!CK5","v":0},{"$f":"Saisie!CM130","v":0},{"$f":"Feuil1!CL5","v":0},{"$f":"Saisie!CN130","v":0},{"$f":"Feuil1!CM5","v":0},{"$f":"Saisie!CO130","v":0},{"$f":"Feuil1!CN5","v":0},{"$f":"Saisie!CP130","v":0},{"$f":"Feuil1!CO5","v":0},{"$f":"Saisie!CQ130","v":0},{"$f":"Feuil1!CP5","v":0},{"$f":"Saisie!CR130","v":0},{"$f":"Feuil1!CQ5","v":0},{"$f":"Saisie!CS130","v":0},{"$f":"Feuil1!CR5","v":0},{"$f":"Saisie!CT130","v":0},{"$f":"Feuil1!CS5","v":0},{"$f":"Saisie!CU130","v":0},{"$f":"Feuil1!CT5","v":0},{"$f":"Saisie!CV130","v":0},{"$f":"Feuil1!CU5","v":0},{"$f":"Saisie!CW130","v":0},{"$f":"Feuil1!CV5","v":0},{"$f":"Saisie!CX130","v":0},{"$f":"Feuil1!CW5","v":0},{"$f":"Saisie!CY130","v":0},{"$f":"Feuil1!CX5","v":0},{"$f":"Saisie!CZ130","v":0},{"$f":"Feuil1!CY5","v":0}]
["          Pratiques   ",{"$f":"SUM(Saisie!E131:CZ131)","v":0},{"$f":"IF(OR(Saisie!C2>0,Saisie!C4>0,Saisie!C20>0,Saisie!C33>0,Saisie!C66>0,Saisie!C68>0),Saisie!C131/((Saisie!C2*26)+(Saisie!C4*10)+Saisie!C20+(Saisie!C33*5)+Saisie!C66+(Saisie!C68*4)),\"-\")","v":"-"},{"$f":"Saisie!E131","v":0},{"$f":"Saisie!E131/(26+(Saisie!E4*10)+Saisie!E20+(Saisie!E33*5)+Saisie!E66+(Saisie!E68*4))","v":0},{"$f":"Saisie!F131","v":0},{"$f":"Saisie!F131/(26+(Saisie!F4*10)+Saisie!F20+(Saisie!F33*5)+Saisie!F66+(Saisie!F68*4))","v":0},{"$f":"Saisie!G131","v":0},{"$f":"Saisie!G131/(26+(Saisie!G4*10)+Saisie!G20+(Saisie!G33*5)+Saisie!G66+(Saisie!G68*4))","v":0},{"$f":"Saisie!H131","v":0},{"$f":"Saisie!H131/(26+(Saisie!H4*10)+Saisie!H20+(Saisie!H33*5)+Saisie!H66+(Saisie!H68*4))","v":0},{"$f":"Saisie!I131","v":0},{"$f":"Saisie!I131/(26+(Saisie!I4*10)+Saisie!I20+(Saisie!I33*5)+Saisie!I66+(Saisie!I68*4))","v":0},{"$f":"Saisie!J131","v":0},{"$f":"Saisie!J131/(26+(Saisie!J4*10)+Saisie!J20+(Saisie!J33*5)+Saisie!J66+(Saisie!J68*4))","v":0},{"$f":"Saisie!K131","v":0},{"$f":"Saisie!K131/(26+(Saisie!K4*10)+Saisie!K20+(Saisie!K33*5)+Saisie!K66+(Saisie!K68*4))","v":0},{"$f":"Saisie!L131","v":0},{"$f":"Feuil1!K6","v":0},{"$f":"Saisie!M131","v":0},{"$f":"Feuil1!L6","v":0},{"$f":"Saisie!N131","v":0},{"$f":"Feuil1!M6","v":0},{"$f":"Saisie!O131","v":0},{"$f":"Feuil1!N6","v":0},{"$f":"Saisie!P131","v":0},{"$f":"Feuil1!O6","v":0},{"$f":"Saisie!Q131","v":0},{"$f":"Feuil1!P6","v":0},{"$f":"Saisie!R131","v":0},{"$f":"Feuil1!Q6","v":0},{"$f":"Saisie!S131","v":0},{"$f":"Feuil1!R6","v":0},{"$f":"Saisie!T131","v":0},{"$f":"Feuil1!S6","v":0},{"$f":"Saisie!U131","v":0},{"$f":"Feuil1!T6","v":0},{"$f":"Saisie!V131","v":0},{"$f":"Feuil1!U6","v":0},{"$f":"Saisie!W131","v":0},{"$f":"Feuil1!V6","v":0},{"$f":"Saisie!X131","v":0},{"$f":"Feuil1!W6","v":0},{"$f":"Saisie!Y131","v":0},{"$f":"Feuil1!X6","v":0},{"$f":"Saisie!Z131","v":0},{"$f":"Feuil1!Y6","v":0},{"$f":"Saisie!AA131","v":0},{"$f":"Feuil1!Z6","v":0},{"$f":"Saisie!AB131","v":0},{"$f":"Feuil1!AA6","v":0},{"$f":"Saisie!AC131","v":0},{"$f":"Feuil1!AB6","v":0},{"$f":"Saisie!AD131","v":0},{"$f":"Feuil1!AC6","v":0},{"$f":"Saisie!AE131","v":0},{"$f":"Feuil1!AD6","v":0},{"$f":"Saisie!AF131","v":0},{"$f":"Feuil1!AE6","v":0},{"$f":"Saisie!AG131","v":0},{"$f":"Feuil1!AF6","v":0},{"$f":"Saisie!AH131","v":0},{"$f":"Feuil1!AG6","v":0},{"$f":"Saisie!AI131","v":0},{"$f":"Feuil1!AH6","v":0},{"$f":"Saisie!AJ131","v":0},{"$f":"Feuil1!AI6","v":0},{"$f":"Saisie!AK131","v":0},{"$f":"Feuil1!AJ6","v":0},{"$f":"Saisie!AL131","v":0},{"$f":"Feuil1!AK6","v":0},{"$f":"Saisie!AM131","v":0},{"$f":"Feuil1!AL6","v":0},{"$f":"Saisie!AN131","v":0},{"$f":"Feuil1!AM6","v":0},{"$f":"Saisie!AO131","v":0},{"$f":"Feuil1!AN6","v":0},{"$f":"Saisie!AP131","v":0},{"$f":"Feuil1!AO6","v":0},{"$f":"Saisie!AQ131","v":0},{"$f":"Feuil1!AP6","v":0},{"$f":"Saisie!AR131","v":0},{"$f":"Feuil1!AQ6","v":0},{"$f":"Saisie!AS131","v":0},{"$f":"Feuil1!AR6","v":0},{"$f":"Saisie!AT131","v":0},{"$f":"Feuil1!AS6","v":0},{"$f":"Saisie!AU131","v":0},{"$f":"Feuil1!AT6","v":0},{"$f":"Saisie!AV131","v":0},{"$f":"Feuil1!AU6","v":0},{"$f":"Saisie!AW131","v":0},{"$f":"Feuil1!AV6","v":0},{"$f":"Saisie!AX131","v":0},{"$f":"Feuil1!AW6","v":0},{"$f":"Saisie!AY131","v":0},{"$f":"Feuil1!AX6","v":0},{"$f":"Saisie!AZ131","v":0},{"$f":"Feuil1!AY6","v":0},{"$f":"Saisie!BA131","v":0},{"$f":"Feuil1!AZ6","v":0},{"$f":"Saisie!BB131","v":0},{"$f":"Feuil1!BA6","v":0},{"$f":"Saisie!BC131","v":0},{"$f":"Feuil1!BB6","v":0},{"$f":"Saisie!BD131","v":0},{"$f":"Feuil1!BC6","v":0},{"$f":"Saisie!BE131","v":0},{"$f":"Feuil1!BD6","v":0},{"$f":"Saisie!BF131","v":0},{"$f":"Feuil1!BE6","v":0},{"$f":"Saisie!BG131","v":0},{"$f":"Feuil1!BF6","v":0},{"$f":"Saisie!BH131","v":0},{"$f":"Feuil1!BG6","v":0},{"$f":"Saisie!BI131","v":0},{"$f":"Feuil1!BH6","v":0},{"$f":"Saisie!BJ131","v":0},{"$f":"Feuil1!BI6","v":0},{"$f":"Saisie!BK131","v":0},{"$f":"Feuil1!BJ6","v":0},{"$f":"Saisie!BL131","v":0},{"$f":"Feuil1!BK6","v":0},{"$f":"Saisie!BM131","v":0},{"$f":"Feuil1!BL6","v":0},{"$f":"Saisie!BN131","v":0},{"$f":"Feuil1!BM6","v":0},{"$f":"Saisie!BO131","v":0},{"$f":"Feuil1!BN6","v":0},{"$f":"Saisie!BP131","v":0},{"$f":"Feuil1!BO6","v":0},{"$f":"Saisie!BQ131","v":0},{"$f":"Feuil1!BP6","v":0},{"$f":"Saisie!BR131","v":0},{"$f":"Feuil1!BQ6","v":0},{"$f":"Saisie!BS131","v":0},{"$f":"Feuil1!BR6","v":0},{"$f":"Saisie!BT131","v":0},{"$f":"Feuil1!BS6","v":0},{"$f":"Saisie!BU131","v":0},{"$f":"Feuil1!BT6","v":0},{"$f":"Saisie!BV131","v":0},{"$f":"Feuil1!BU6","v":0},{"$f":"Saisie!BW131","v":0},{"$f":"Feuil1!BV6","v":0},{"$f":"Saisie!BX131","v":0},{"$f":"Feuil1!BW6","v":0},{"$f":"Saisie!BY131","v":0},{"$f":"Feuil1!BX6","v":0},{"$f":"Saisie!BZ131","v":0},{"$f":"Feuil1!BY6","v":0},{"$f":"Saisie!CA131","v":0},{"$f":"Feuil1!BZ6","v":0},{"$f":"Saisie!CB131","v":0},{"$f":"Feuil1!CA6","v":0},{"$f":"Saisie!CC131","v":0},{"$f":"Feuil1!CB6","v":0},{"$f":"Saisie!CD131","v":0},{"$f":"Feuil1!CC6","v":0},{"$f":"Saisie!CE131","v":0},{"$f":"Feuil1!CD6","v":0},{"$f":"Saisie!CF131","v":0},{"$f":"Feuil1!CE6","v":0},{"$f":"Saisie!CG131","v":0},{"$f":"Feuil1!CF6","v":0},{"$f":"Saisie!CH131","v":0},{"$f":"Feuil1!CG6","v":0},{"$f":"Saisie!CI131","v":0},{"$f":"Feuil1!CH6","v":0},{"$f":"Saisie!CJ131","v":0},{"$f":"Feuil1!CI6","v":0},{"$f":"Saisie!CK131","v":0},{"$f":"Feuil1!CJ6","v":0},{"$f":"Saisie!CL131","v":0},{"$f":"Feuil1!CK6","v":0},{"$f":"Saisie!CM131","v":0},{"$f":"Feuil1!CL6","v":0},{"$f":"Saisie!CN131","v":0},{"$f":"Feuil1!CM6","v":0},{"$f":"Saisie!CO131","v":0},{"$f":"Feuil1!CN6","v":0},{"$f":"Saisie!CP131","v":0},{"$f":"Feuil1!CO6","v":0},{"$f":"Saisie!CQ131","v":0},{"$f":"Feuil1!CP6","v":0},{"$f":"Saisie!CR131","v":0},{"$f":"Feuil1!CQ6","v":0},{"$f":"Saisie!CS131","v":0},{"$f":"Feuil1!CR6","v":0},{"$f":"Saisie!CT131","v":0},{"$f":"Feuil1!CS6","v":0},{"$f":"Saisie!CU131","v":0},{"$f":"Feuil1!CT6","v":0},{"$f":"Saisie!CV131","v":0},{"$f":"Feuil1!CU6","v":0},{"$f":"Saisie!CW131","v":0},{"$f":"Feuil1!CV6","v":0},{"$f":"Saisie!CX131","v":0},{"$f":"Feuil1!CW6","v":0},{"$f":"Saisie!CY131","v":0},{"$f":"Feuil1!CX6","v":0},{"$f":"Saisie!CZ131","v":0},{"$f":"Feuil1!CY6","v":0}]
["          Total   ",{"$f":"SUM(Saisie!C128:C131)","v":0},{"$f":"IF(AND(OR(Saisie!C2>0,Saisie!C4>0,Saisie!C20>0,Saisie!C33>0,Saisie!C66>0,Saisie!C68>0),Saisie!C83>0,Saisie!C56>0),Saisie!C132/((Saisie!C2*32)+(Saisie!C4*20)+(Saisie!C20*11)+(Saisie!C33*31)+(Saisie!C66*2)+(Saisie!C68*12)),IF(AND(OR(Saisie!C2>0,Saisie!C4>0,Saisie!C20>0,Saisie!C33>0,Saisie!C66>0,Saisie!C68>0),Saisie!C83=0,Saisie!C56>0),Saisie!C132/((Saisie!C2*32)+(Saisie!C4*18)+(Saisie!C20*11)+(Saisie!C33*31)+(Saisie!C66*2)+(Saisie!C68*12)),IF(AND(OR(Saisie!C2>0,Saisie!C4>0,Saisie!C20>0,Saisie!C33>0,Saisie!C66>0,Saisie!C68>0),Saisie!C83>0,Saisie!C56=0),Saisie!C132/((Saisie!C2*32)+(Saisie!C4*20)+(Saisie!C20*11)+(Saisie!C33*28)+(Saisie!C66*2)+(Saisie!C68*12)),IF(AND(OR(Saisie!C2>0,Saisie!C4>0,Saisie!C20>0,Saisie!C33>0,Saisie!C66>0,Saisie!C68>0),Saisie!C83=0,Saisie!C56=0),Saisie!C132/((Saisie!C2*32)+(Saisie!C4*18)+(Saisie!C20*11)+(Saisie!C33*28)+(Saisie!C66*2)+(Saisie!C68*12)),\"-\"))))","v":"-"},{"$f":"Saisie!E132","v":0},{"$f":"Saisie!E132/(32+(IF(Saisie!E83>0,Saisie!E4*20,Saisie!E4*18))+(Saisie!E20*11)+(IF(Saisie!E56>0,Saisie!E33*31,Saisie!E33*28))+(Saisie!E66*2)+(Saisie!E68*12))","v":0},{"$f":"Saisie!F132","v":0},{"$f":"Saisie!F132/(32+(IF(Saisie!F83>0,Saisie!F4*20,Saisie!F4*18))+(Saisie!F20*11)+(IF(Saisie!F56>0,Saisie!F33*31,Saisie!F33*28))+(Saisie!F66*2)+(Saisie!F68*12))","v":0},{"$f":"Saisie!G132","v":0},{"$f":"Saisie!G132/(32+(IF(Saisie!G83>0,Saisie!G4*20,Saisie!G4*18))+(Saisie!G20*11)+(IF(Saisie!G56>0,Saisie!G33*31,Saisie!G33*28))+(Saisie!G66*2)+(Saisie!G68*12))","v":0},{"$f":"Saisie!H132","v":0},{"$f":"Saisie!H132/(32+(IF(Saisie!H83>0,Saisie!H4*20,Saisie!H4*18))+(Saisie!H20*11)+(IF(Saisie!H56>0,Saisie!H33*31,Saisie!H33*28))+(Saisie!H66*2)+(Saisie!H68*12))","v":0},{"$f":"Saisie!I132","v":0},{"$f":"Saisie!I132/(32+(IF(Saisie!I83>0,Saisie!I4*20,Saisie!I4*18))+(Saisie!I20*11)+(IF(Saisie!I56>0,Saisie!I33*31,Saisie!I33*28))+(Saisie!I66*2)+(Saisie!I68*12))","v":0},{"$f":"Saisie!J132","v":0},{"$f":"Saisie!J132/(32+(IF(Saisie!J83>0,Saisie!J4*20,Saisie!J4*18))+(Saisie!J20*11)+(IF(Saisie!J56>0,Saisie!J33*31,Saisie!J33*28))+(Saisie!J66*2)+(Saisie!J68*12))","v":0},{"$f":"Saisie!K132","v":0},{"$f":"Saisie!K132/(32+(IF(Saisie!K83>0,Saisie!K4*20,Saisie!K4*18))+(Saisie!K20*11)+(IF(Saisie!K56>0,Saisie!K33*31,Saisie!K33*28))+(Saisie!K66*2)+(Saisie!K68*12))","v":0},{"$f":"Saisie!L132","v":0},{"$f":"Feuil1!K7","v":0},{"$f":"Saisie!M132","v":0},{"$f":"Feuil1!L7","v":0},{"$f":"Saisie!N132","v":0},{"$f":"Feuil1!M7","v":0},{"$f":"Saisie!O132","v":0},{"$f":"Feuil1!N7","v":0},{"$f":"Saisie!P132","v":0},{"$f":"Feuil1!O7","v":0},{"$f":"Saisie!Q132","v":0},{"$f":"Feuil1!P7","v":0},{"$f":"Saisie!R132","v":0},{"$f":"Feuil1!Q7","v":0},{"$f":"Saisie!S132","v":0},{"$f":"Feuil1!R7","v":0},{"$f":"Saisie!T132","v":0},{"$f":"Feuil1!S7","v":0},{"$f":"Saisie!U132","v":0},{"$f":"Feuil1!T7","v":0},{"$f":"Saisie!V132","v":0},{"$f":"Feuil1!U7","v":0},{"$f":"Saisie!W132","v":0},{"$f":"Feuil1!V7","v":0},{"$f":"Saisie!X132","v":0},{"$f":"Feuil1!W7","v":0},{"$f":"Saisie!Y132","v":0},{"$f":"Feuil1!X7","v":0},{"$f":"Saisie!Z132","v":0},{"$f":"Feuil1!Y7","v":0},{"$f":"Saisie!AA132","v":0},{"$f":"Feuil1!Z7","v":0},{"$f":"Saisie!AB132","v":0},{"$f":"Feuil1!AA7","v":0},{"$f":"Saisie!AC132","v":0},{"$f":"Feuil1!AB7","v":0},{"$f":"Saisie!AD132","v":0},{"$f":"Feuil1!AC7","v":0},{"$f":"Saisie!AE132","v":0},{"$f":"Feuil1!AD7","v":0},{"$f":"Saisie!AF132","v":0},{"$f":"Feuil1!AE7","v":0},{"$f":"Saisie!AG132","v":0},{"$f":"Feuil1!AF7","v":0},{"$f":"Saisie!AH132","v":0},{"$f":"Feuil1!AG7","v":0},{"$f":"Saisie!AI132","v":0},{"$f":"Feuil1!AH7","v":0},{"$f":"Saisie!AJ132","v":0},{"$f":"Feuil1!AI7","v":0},{"$f":"Saisie!AK132","v":0},{"$f":"Feuil1!AJ7","v":0},{"$f":"Saisie!AL132","v":0},{"$f":"Feuil1!AK7","v":0},{"$f":"Saisie!AM132","v":0},{"$f":"Feuil1!AL7","v":0},{"$f":"Saisie!AN132","v":0},{"$f":"Feuil1!AM7","v":0},{"$f":"Saisie!AO132","v":0},{"$f":"Feuil1!AN7","v":0},{"$f":"Saisie!AP132","v":0},{"$f":"Feuil1!AO7","v":0},{"$f":"Saisie!AQ132","v":0},{"$f":"Feuil1!AP7","v":0},{"$f":"Saisie!AR132","v":0},{"$f":"Feuil1!AQ7","v":0},{"$f":"Saisie!AS132","v":0},{"$f":"Feuil1!AR7","v":0},{"$f":"Saisie!AT132","v":0},{"$f":"Feuil1!AS7","v":0},{"$f":"Saisie!AU132","v":0},{"$f":"Feuil1!AT7","v":0},{"$f":"Saisie!AV132","v":0},{"$f":"Feuil1!AU7","v":0},{"$f":"Saisie!AW132","v":0},{"$f":"Feuil1!AV7","v":0},{"$f":"Saisie!AX132","v":0},{"$f":"Feuil1!AW7","v":0},{"$f":"Saisie!AY132","v":0},{"$f":"Feuil1!AX7","v":0},{"$f":"Saisie!AZ132","v":0},{"$f":"Feuil1!AY7","v":0},{"$f":"Saisie!BA132","v":0},{"$f":"Feuil1!AZ7","v":0},{"$f":"Saisie!BB132","v":0},{"$f":"Feuil1!BA7","v":0},{"$f":"Saisie!BC132","v":0},{"$f":"Feuil1!BB7","v":0},{"$f":"Saisie!BD132","v":0},{"$f":"Feuil1!BC7","v":0},{"$f":"Saisie!BE132","v":0},{"$f":"Feuil1!BD7","v":0},{"$f":"Saisie!BF132","v":0},{"$f":"Feuil1!BE7","v":0},{"$f":"Saisie!BG132","v":0},{"$f":"Feuil1!BF7","v":0},{"$f":"Saisie!BH132","v":0},{"$f":"Feuil1!BG7","v":0},{"$f":"Saisie!BI132","v":0},{"$f":"Feuil1!BH7","v":0},{"$f":"Saisie!BJ132","v":0},{"$f":"Feuil1!BI7","v":0},{"$f":"Saisie!BK132","v":0},{"$f":"Feuil1!BJ7","v":0},{"$f":"Saisie!BL132","v":0},{"$f":"Feuil1!BK7","v":0},{"$f":"Saisie!BM132","v":0},{"$f":"Feuil1!BL7","v":0},{"$f":"Saisie!BN132","v":0},{"$f":"Feuil1!BM7","v":0},{"$f":"Saisie!BO132","v":0},{"$f":"Feuil1!BN7","v":0},{"$f":"Saisie!BP132","v":0},{"$f":"Feuil1!BO7","v":0},{"$f":"Saisie!BQ132","v":0},{"$f":"Feuil1!BP7","v":0},{"$f":"Saisie!BR132","v":0},{"$f":"Feuil1!BQ7","v":0},{"$f":"Saisie!BS132","v":0},{"$f":"Feuil1!BR7","v":0},{"$f":"Saisie!BT132","v":0},{"$f":"Feuil1!BS7","v":0},{"$f":"Saisie!BU132","v":0},{"$f":"Feuil1!BT7","v":0},{"$f":"Saisie!BV132","v":0},{"$f":"Feuil1!BU7","v":0},{"$f":"Saisie!BW132","v":0},{"$f":"Feuil1!BV7","v":0},{"$f":"Saisie!BX132","v":0},{"$f":"Feuil1!BW7","v":0},{"$f":"Saisie!BY132","v":0},{"$f":"Feuil1!BX7","v":0},{"$f":"Saisie!BZ132","v":0},{"$f":"Feuil1!BY7","v":0},{"$f":"Saisie!CA132","v":0},{"$f":"Feuil1!BZ7","v":0},{"$f":"Saisie!CB132","v":0},{"$f":"Feuil1!CA7","v":0},{"$f":"Saisie!CC132","v":0},{"$f":"Feuil1!CB7","v":0},{"$f":"Saisie!CD132","v":0},{"$f":"Feuil1!CC7","v":0},{"$f":"Saisie!CE132","v":0},{"$f":"Feuil1!CD7","v":0},{"$f":"Saisie!CF132","v":0},{"$f":"Feuil1!CE7","v":0},{"$f":"Saisie!CG132","v":0},{"$f":"Feuil1!CF7","v":0},{"$f":"Saisie!CH132","v":0},{"$f":"Feuil1!CG7","v":0},{"$f":"Saisie!CI132","v":0},{"$f":"Feuil1!CH7","v":0},{"$f":"Saisie!CJ132","v":0},{"$f":"Feuil1!CI7","v":0},{"$f":"Saisie!CK132","v":0},{"$f":"Feuil1!CJ7","v":0},{"$f":"Saisie!CL132","v":0},{"$f":"Feuil1!CK7","v":0},{"$f":"Saisie!CM132","v":0},{"$f":"Feuil1!CL7","v":0},{"$f":"Saisie!CN132","v":0},{"$f":"Feuil1!CM7","v":0},{"$f":"Saisie!CO132","v":0},{"$f":"Feuil1!CN7","v":0},{"$f":"Saisie!CP132","v":0},{"$f":"Feuil1!CO7","v":0},{"$f":"Saisie!CQ132","v":0},{"$f":"Feuil1!CP7","v":0},{"$f":"Saisie!CR132","v":0},{"$f":"Feuil1!CQ7","v":0},{"$f":"Saisie!CS132","v":0},{"$f":"Feuil1!CR7","v":0},{"$f":"Saisie!CT132","v":0},{"$f":"Feuil1!CS7","v":0},{"$f":"Saisie!CU132","v":0},{"$f":"Feuil1!CT7","v":0},{"$f":"Saisie!CV132","v":0},{"$f":"Feuil1!CU7","v":0},{"$f":"Saisie!CW132","v":0},{"$f":"Feuil1!CV7","v":0},{"$f":"Saisie!CX132","v":0},{"$f":"Feuil1!CW7","v":0},{"$f":"Saisie!CY132","v":0},{"$f":"Feuil1!CX7","v":0},{"$f":"Saisie!CZ132","v":0},{"$f":"Feuil1!CY7","v":0}]
[]
[]
[]
[]
[]
[]
[]
[]
[]
[]
[]
[]
[]
[]
[]
[]
["              Pourcentage de réponses attendues par catégorie pour l'ensemble l'établissement",null,null,null,"Pourcentage de réponses attendues par service"]

{"sheet":"Feuil1","index":3,"n_rows":7,"n_cols":103,"rows_kept":7,"cut":false,"hidden":true,"merged":[[0,1,0,2]]}
["          Nom de l'unité","Total établissement",null,{"$f":"Saisie!E1","v":0},{"$f":"Saisie!F1","v":0},{"$f":"Saisie!G1","v":0},{"$f":"Saisie!H1","v":0},{"$f":"Saisie!I1","v":0},{"$f":"Saisie!J1","v":0},{"$f":"Saisie!K1","v":0},{"$f":"Saisie!L1","v":0},{"$f":"Saisie!M1","v":0},{"$f":"Saisie!N1","v":0},{"$f":"Saisie!O1","v":0},{"$f":"Saisie!P1","v":0},{"$f":"Saisie!Q1","v":0},{"$f":"Saisie!R1","v":0},{"$f":"Saisie!S1","v":0},{"$f":"Saisie!T1","v":0},{"$f":"Saisie!U1","v":0},{"$f":"Saisie!V1","v":0},{"$f":"Saisie!W1","v":0},{"$f":"Saisie!X1","v":0},{"$f":"Saisie!Y1","v":0},{"$f":"Saisie!Z1","v":0},{"$f":"Saisie!AA1","v":0},{"$f":"Saisie!AB1","v":0},{"$f":"Saisie!AC1","v":0},{"$f":"Saisie!AD1","v":0},{"$f":"Saisie!AE1","v":0},{"$f":"Saisie!AF1","v":0},{"$f":"Saisie!AG1","v":0},{"$f":"Saisie!AH1","v":0},{"$f":"Saisie!AI1","v":0},{"$f":"Saisie!AJ1","v":0},{"$f":"Saisie!AK1","v":0},{"$f":"Saisie!AL1","v":0},{"$f":"Saisie!AM1","v":0},{"$f":"Saisie!AN1","v":0},{"$f":"Saisie!AO1","v":0},{"$f":"Saisie!AP1","v":0},{"$f":"Saisie!AQ1","v":0},{"$f":"Saisie!AR1","v":0},{"$f":"Saisie!AS1","v":0},{"$f":"Saisie!AT1","v":0},{"$f":"Saisie!AU1","v":0},{"$f":"Saisie!AV1","v":0},{"$f":"Saisie!AW1","v":0},{"$f":"Saisie!AX1","v":0},{"$f":"Saisie!AY1","v":0},{"$f":"Saisie!AZ1","v":0},{"$f":"Saisie!BA1","v":0},{"$f":"Saisie!BB1","v":0},{"$f":"Saisie!BC1","v":0},{"$f":"Saisie!BD1","v":0},{"$f":"Saisie!BE1","v":0},{"$f":"Saisie!BF1","v":0},{"$f":"Saisie!BG1","v":0},{"$f":"Saisie!BH1","v":0},{"$f":"Saisie!BI1","v":0},{"$f":"Saisie!BJ1","v":0},{"$f":"Saisie!BK1","v":0},{"$f":"Saisie!BL1","v":0},{"$f":"Saisie!BM1","v":0},{"$f":"Saisie!BN1","v":0},{"$f":"Saisie!BO1","v":0},{"$f":"Saisie!BP1","v":0},{"$f":"Saisie!BQ1","v":0},{"$f":"Saisie!BR1","v":0},{"$f":"Saisie!BS1","v":0},{"$f":"Saisie!BT1","v":0},{"$f":"Saisie!BU1","v":0},{"$f":"Saisie!BV1","v":0},{"$f":"Saisie!BW1","v":0},{"$f":"Saisie!BX1","v":0},{"$f":"Saisie!BY1","v":0},{"$f":"Saisie!BZ1","v":0},{"$f":"Saisie!CA1","v":0},{"$f":"Saisie!CB1","v":0},{"$f":"Saisie!CC1","v":0},{"$f":"Saisie!CD1","v":0},{"$f":"Saisie!CE1","v":0},{"$f":"Saisie!CF1","v":0},{"$f":"Saisie!CG1","v":0},{"$f":"Saisie!CH1","v":0},{"$f":"Saisie!CI1","v":0},{"$f":"Saisie!CJ1","v":0},{"$f":"Saisie!CK1","v":0},{"$f":"Saisie!CL1","v":0},{"$f":"Saisie!CM1","v":0},{"$f":"Saisie!CN1","v":0},{"$f":"Saisie!CO1","v":0},{"$f":"Saisie!CP1","v":0},{"$f":"Saisie!CQ1","v":0},{"$f":"Saisie!CR1","v":0},{"$f":"Saisie!CS1","v":0},{"$f":"Saisie!CT1","v":0},{"$f":"Saisie!CU1","v":0},{"$f":"Saisie!CV1","v":0},{"$f":"Saisie!CW1","v":0},{"$f":"Saisie!CX1","v":0},{"$f":"Saisie!CY1","v":0},{"$f":"Saisie!CZ1","v":0}]
["          Nombre d'unités",{"$f":"Saisie!C2","v":0},"%","%","%","%","%","%","%","%","%","%","%","%","%","%","%","%","%","%","%","%","%","%","%","%","%","%","%","%","%","%","%","%","%","%","%","%","%","%","%","%","%","%","%","%","%","%","%","%","%","%","%","%","%","%","%","%","%","%","%","%","%","%","%","%","%","%","%","%","%","%","%","%","%","%","%","%","%","%","%","%","%","%","%","%","%","%","%","%","%","%","%","%","%","%","%","%","%","%","%","%","%"]
["          Au moins un équipement",{"$f":"SUM(Saisie!E128:CZ128)","v":0},{"$f":"IF(Saisie!C2>0,Saisie!C128/Saisie!C2,\"-\")","v":"-"},{"$f":"Saisie!E128/1","v":0},{"$f":"Saisie!F128/1","v":0},{"$f":"Saisie!G128/1","v":0},{"$f":"Saisie!H128/1","v":0},{"$f":"Saisie!I128/1","v":0},{"$f":"Saisie!J128/1","v":0},{"$f":"Saisie!K128/1","v":0},{"$f":"Saisie!L128/1","v":0},{"$f":"Saisie!M128/1","v":0},{"$f":"Saisie!N128/1","v":0},{"$f":"Saisie!O128/1","v":0},{"$f":"Saisie!P128/1","v":0},{"$f":"Saisie!Q128/1","v":0},{"$f":"Saisie!R128/1","v":0},{"$f":"Saisie!S128/1","v":0},{"$f":"Saisie!T128/1","v":0},{"$f":"Saisie!U128/1","v":0},{"$f":"Saisie!V128/1","v":0},{"$f":"Saisie!W128/1","v":0},{"$f":"Saisie!X128/1","v":0},{"$f":"Saisie!Y128/1","v":0},{"$f":"Saisie!Z128/1","v":0},{"$f":"Saisie!AA128/1","v":0},{"$f":"Saisie!AB128/1","v":0},{"$f":"Saisie!AC128/1","v":0},{"$f":"Saisie!AD128/1","v":0},{"$f":"Saisie!AE128/1","v":0},{"$f":"Saisie!AF128/1","v":0},{"$f":"Saisie!AG128/1","v":0},{"$f":"Saisie!AH128/1","v":0},{"$f":"Saisie!AI128/1","v":0},{"$f":"Saisie!AJ128/1","v":0},{"$f":"Saisie!AK128/1","v":0},{"$f":"Saisie!AL128/1","v":0},{"$f":"Saisie!AM128/1","v":0},{"$f":"Saisie!AN128/1","v":0},{"$f":"Saisie!AO128/1","v":0},{"$f":"Saisie!AP128/1","v":0},{"$f":"Saisie!AQ128/1","v":0},{"$f":"Saisie!AR128/1","v":0},{"$f":"Saisie!AS128/1","v":0},{"$f":"Saisie!AT128/1","v":0},{"$f":"Saisie!AU128/1","v":0},{"$f":"Saisie!AV128/1","v":0},{"$f":"Saisie!AW128/1","v":0},{"$f":"Saisie!AX128/1","v":0},{"$f":"Saisie!AY128/1","v":0},{"$f":"Saisie!AZ128/1","v":0},{"$f":"Saisie!BA128/1","v":0},{"$f":"Saisie!BB128/1","v":0},{"$f":"Saisie!BC128/1","v":0},{"$f":"Saisie!BD128/1","v":0},{"$f":"Saisie!BE128/1","v":0},{"$f":"Saisie!BF128/1","v":0},{"$f":"Saisie!BG128/1","v":0},{"$f":"Saisie!BH128/1","v":0},{"$f":"Saisie!BI128/1","v":0},{"$f":"Saisie!BJ128/1","v":0},{"$f":"Saisie!BK128/1","v":0},{"$f":"Saisie!BL128/1","v":0},{"$f":"Saisie!BM128/1","v":0},{"$f":"Saisie!BN128/1","v":0},{"$f":"Saisie!BO128/1","v":0},{"$f":"Saisie!BP128/1","v":0},{"$f":"Saisie!BQ128/1","v":0},{"$f":"Saisie!BR128/1","v":0},{"$f":"Saisie!BS128/1","v":0},{"$f":"Saisie!BT128/1","v":0},{"$f":"Saisie!BU128/1","v":0},{"$f":"Saisie!BV128/1","v":0},{"$f":"Saisie!BW128/1","v":0},{"$f":"Saisie!BX128/1","v":0},{"$f":"Saisie!BY128/1","v":0},{"$f":"Saisie!BZ128/1","v":0},{"$f":"Saisie!CA128/1","v":0},{"$f":"Saisie!CB128/1","v":0},{"$f":"Saisie!CC128/1","v":0},{"$f":"Saisie!CD128/1","v":0},{"$f":"Saisie!CE128/1","v":0},{"$f":"Saisie!CF128/1","v":0},{"$f":"Saisie!CG128/1","v":0},{"$f":"Saisie!CH128/1","v":0},{"$f":"Saisie!CI128/1","v":0},{"$f":"Saisie!CJ128/1","v":0},{"$f":"Saisie!CK128/1","v":0},{"$f":"Saisie!CL128/1","v":0},{"$f":"Saisie!CM128/1","v":0},{"$f":"Saisie!CN128/1","v":0},{"$f":"Saisie!CO128/1","v":0},{"$f":"Saisie!CP128/1","v":0},{"$f":"Saisie!CQ128/1","v":0},{"$f":"Saisie!CR128/1","v":0},{"$f":"Saisie!CS128/1","v":0},{"$f":"Saisie!CT128/1","v":0},{"$f":"Saisie!CU128/1","v":0},{"$f":"Saisie!CV128/1","v":0},{"$f":"Saisie!CW128/1","v":0},{"$f":"Saisie!CX128/1","v":0},{"$f":"Saisie!CY128/1","v":0},{"$f":"Saisie!CZ128/1","v":0}]
["          Equipements   ",{"$f":"SUM(Saisie!E129:CZ129)","v":0},{"$f":"IF(OR(Saisie!C2>0,Saisie!C4>0,Saisie!C20>0,Saisie!C33>0,Saisie!C66>0,Saisie!C68>0),Saisie!C129/((Saisie!C2*4)+(Saisie!C4*5)+(Saisie!C20*10)+(Saisie!C33*16)+Saisie!C66+(Saisie!C68*3)),\"-\")","v":"-"},{"$f":"Saisie!E129/(4+(Saisie!E4*5)+(Saisie!E20*10)+(Saisie!E33*16)+Saisie!E66+(Saisie!E68*3))","v":0},{"$f":"Saisie!F129/(4+(Saisie!F4*5)+(Saisie!F20*10)+(Saisie!F33*16)+Saisie!F66+(Saisie!F68*3))","v":0},{"$f":"Saisie!G129/(4+(Saisie!G4*5)+(Saisie!G20*10)+(Saisie!G33*16)+Saisie!G66+(Saisie!G68*3))","v":0},{"$f":"Saisie!H129/(4+(Saisie!H4*5)+(Saisie!H20*10)+(Saisie!H33*16)+Saisie!H66+(Saisie!H68*3))","v":0},{"$f":"Saisie!I129/(4+(Saisie!I4*5)+(Saisie!I20*10)+(Saisie!I33*16)+Saisie!I66+(Saisie!I68*3))","v":0},{"$f":"Saisie!J129/(4+(Saisie!J4*5)+(Saisie!J20*10)+(Saisie!J33*16)+Saisie!J66+(Saisie!J68*3))","v":0},{"$f":"Saisie!K129/(4+(Saisie!K4*5)+(Saisie!K20*10)+(Saisie!K33*16)+Saisie!K66+(Saisie!K68*3))","v":0},{"$f":"Saisie!L129/(4+(Saisie!L4*5)+(Saisie!L20*10)+(Saisie!L33*16)+Saisie!L66+(Saisie!L68*3))","v":0},{"$f":"Saisie!M129/(4+(Saisie!M4*5)+(Saisie!M20*10)+(Saisie!M33*16)+Saisie!M66+(Saisie!M68*3))","v":0},{"$f":"Saisie!N129/(4+(Saisie!N4*5)+(Saisie!N20*10)+(Saisie!N33*16)+Saisie!N66+(Saisie!N68*3))","v":0},{"$f":"Saisie!O129/(4+(Saisie!O4*5)+(Saisie!O20*10)+(Saisie!O33*16)+Saisie!O66+(Saisie!O68*3))","v":0},{"$f":"Saisie!P129/(4+(Saisie!P4*5)+(Saisie!P20*10)+(Saisie!P33*16)+Saisie!P66+(Saisie!P68*3))","v":0},{"$f":"Saisie!Q129/(4+(Saisie!Q4*5)+(Saisie!Q20*10)+(Saisie!Q33*16)+Saisie!Q66+(Saisie!Q68*3))","v":0},{"$f":"Saisie!R129/(4+(Saisie!R4*5)+(Saisie!R20*10)+(Saisie!R33*16)+Saisie!R66+(Saisie!R68*3))","v":0},{"$f":"Saisie!S129/(4+(Saisie!S4*5)+(Saisie!S20*10)+(Saisie!S33*16)+Saisie!S66+(Saisie!S68*3))","v":0},{"$f":"Saisie!T129/(4+(Saisie!T4*5)+(Saisie!T20*10)+(Saisie!T33*16)+Saisie!T66+(Saisie!T68*3))","v":0},{"$f":"Saisie!U129/(4+(Saisie!U4*5)+(Saisie!U20*10)+(Saisie!U33*16)+Saisie!U66+(Saisie!U68*3))","v":0},{"$f":"Saisie!V129/(4+(Saisie!V4*5)+(Saisie!V20*10)+(Saisie!V33*16)+Saisie!V66+(Saisie!V68*3))","v":0},{"$f":"Saisie!W129/(4+(Saisie!W4*5)+(Saisie!W20*10)+(Saisie!W33*16)+Saisie!W66+(Saisie!W68*3))","v":0},{"$f":"Saisie!X129/(4+(Saisie!X4*5)+(Saisie!X20*10)+(Saisie!X33*16)+Saisie!X66+(Saisie!X68*3))","v":0},{"$f":"Saisie!Y129/(4+(Saisie!Y4*5)+(Saisie!Y20*10)+(Saisie!Y33*16)+Saisie!Y66+(Saisie!Y68*3))","v":0},{"$f":"Saisie!Z129/(4+(Saisie!Z4*5)+(Saisie!Z20*10)+(Saisie!Z33*16)+Saisie!Z66+(Saisie!Z68*3))","v":0},{"$f":"Saisie!AA129/(4+(Saisie!AA4*5)+(Saisie!AA20*10)+(Saisie!AA33*16)+Saisie!AA66+(Saisie!AA68*3))","v":0},{"$f":"Saisie!AB129/(4+(Saisie!AB4*5)+(Saisie!AB20*10)+(Saisie!AB33*16)+Saisie!AB66+(Saisie!AB68*3))","v":0},{"$f":"Saisie!AC129/(4+(Saisie!AC4*5)+(Saisie!AC20*10)+(Saisie!AC33*16)+Saisie!AC66+(Saisie!AC68*3))","v":0},{"$f":"Saisie!AD129/(4+(Saisie!AD4*5)+(Saisie!AD20*10)+(Saisie!AD33*16)+Saisie!AD66+(Saisie!AD68*3))","v":0},{"$f":"Saisie!AE129/(4+(Saisie!AE4*5)+(Saisie!AE20*10)+(Saisie!AE33*16)+Saisie!AE66+(Saisie!AE68*3))","v":0},{"$f":"Saisie!AF129/(4+(Saisie!AF4*5)+(Saisie!AF20*10)+(Saisie!AF33*16)+Saisie!AF66+(Saisie!AF68*3))","v":0},{"$f":"Saisie!AG129/(4+(Saisie!AG4*5)+(Saisie!AG20*10)+(Saisie!AG33*16)+Saisie!AG66+(Saisie!AG68*3))","v":0},{"$f":"Saisie!AH129/(4+(Saisie!AH4*5)+(Saisie!AH20*10)+(Saisie!AH33*16)+Saisie!AH66+(Saisie!AH68*3))","v":0},{"$f":"Saisie!AI129/(4+(Saisie!AI4*5)+(Saisie!AI20*10)+(Saisie!AI33*16)+Saisie!AI66+(Saisie!AI68*3))","v":0},{"$f":"Saisie!AJ129/(4+(Saisie!AJ4*5)+(Saisie!AJ20*10)+(Saisie!AJ33*16)+Saisie!AJ66+(Saisie!AJ68*3))","v":0},{"$f":"Saisie!AK129/(4+(Saisie!AK4*5)+(Saisie!AK20*10)+(Saisie!AK33*16)+Saisie!AK66+(Saisie!AK68*3))","v":0},{"$f":"Saisie!AL129/(4+(Saisie!AL4*5)+(Saisie!AL20*10)+(Saisie!AL33*16)+Saisie!AL66+(Saisie!AL68*3))","v":0},{"$f":"Saisie!AM129/(4+(Saisie!AM4*5)+(Saisie!AM20*10)+(Saisie!AM33*16)+Saisie!AM66+(Saisie!AM68*3))","v":0},{"$f":"Saisie!AN129/(4+(Saisie!AN4*5)+(Saisie!AN20*10)+(Saisie!AN33*16)+Saisie!AN66+(Saisie!AN68*3))","v":0},{"$f":"Saisie!AO129/(4+(Saisie!AO4*5)+(Saisie!AO20*10)+(Saisie!AO33*16)+Saisie!AO66+(Saisie!AO68*3))","v":0},{"$f":"Saisie!AP129/(4+(Saisie!AP4*5)+(Saisie!AP20*10)+(Saisie!AP33*16)+Saisie!AP66+(Saisie!AP68*3))","v":0},{"$f":"Saisie!AQ129/(4+(Saisie!AQ4*5)+(Saisie!AQ20*10)+(Saisie!AQ33*16)+Saisie!AQ66+(Saisie!AQ68*3))","v":0},{"$f":"Saisie!AR129/(4+(Saisie!AR4*5)+(Saisie!AR20*10)+(Saisie!AR33*16)+Saisie!AR66+(Saisie!AR68*3))","v":0},{"$f":"Saisie!AS129/(4+(Saisie!AS4*5)+(Saisie!AS20*10)+(Saisie!AS33*16)+Saisie!AS66+(Saisie!AS68*3))","v":0},{"$f":"Saisie!AT129/(4+(Saisie!AT4*5)+(Saisie!AT20*10)+(Saisie!AT33*16)+Saisie!AT66+(Saisie!AT68*3))","v":0},{"$f":"Saisie!AU129/(4+(Saisie!AU4*5)+(Saisie!AU20*10)+(Saisie!AU33*16)+Saisie!AU66+(Saisie!AU68*3))","v":0},{"$f":"Saisie!AV129/(4+(Saisie!AV4*5)+(Saisie!AV20*10)+(Saisie!AV33*16)+Saisie!AV66+(Saisie!AV68*3))","v":0},{"$f":"Saisie!AW129/(4+(Saisie!AW4*5)+(Saisie!AW20*10)+(Saisie!AW33*16)+Saisie!AW66+(Saisie!AW68*3))","v":0},{"$f":"Saisie!AX129/(4+(Saisie!AX4*5)+(Saisie!AX20*10)+(Saisie!AX33*16)+Saisie!AX66+(Saisie!AX68*3))","v":0},{"$f":"Saisie!AY129/(4+(Saisie!AY4*5)+(Saisie!AY20*10)+(Saisie!AY33*16)+Saisie!AY66+(Saisie!AY68*3))","v":0},{"$f":"Saisie!AZ129/(4+(Saisie!AZ4*5)+(Saisie!AZ20*10)+(Saisie!AZ33*16)+Saisie!AZ66+(Saisie!AZ68*3))","v":0},{"$f":"Saisie!BA129/(4+(Saisie!BA4*5)+(Saisie!BA20*10)+(Saisie!BA33*16)+Saisie!BA66+(Saisie!BA68*3))","v":0},{"$f":"Saisie!BB129/(4+(Saisie!BB4*5)+(Saisie!BB20*10)+(Saisie!BB33*16)+Saisie!BB66+(Saisie!BB68*3))","v":0},{"$f":"Saisie!BC129/(4+(Saisie!BC4*5)+(Saisie!BC20*10)+(Saisie!BC33*16)+Saisie!BC66+(Saisie!BC68*3))","v":0},{"$f":"Saisie!BD129/(4+(Saisie!BD4*5)+(Saisie!BD20*10)+(Saisie!BD33*16)+Saisie!BD66+(Saisie!BD68*3))","v":0},{"$f":"Saisie!BE129/(4+(Saisie!BE4*5)+(Saisie!BE20*10)+(Saisie!BE33*16)+Saisie!BE66+(Saisie!BE68*3))","v":0},{"$f":"Saisie!BF129/(4+(Saisie!BF4*5)+(Saisie!BF20*10)+(Saisie!BF33*16)+Saisie!BF66+(Saisie!BF68*3))","v":0},{"$f":"Saisie!BG129/(4+(Saisie!BG4*5)+(Saisie!BG20*10)+(Saisie!BG33*16)+Saisie!BG66+(Saisie!BG68*3))","v":0},{"$f":"Saisie!BH129/(4+(Saisie!BH4*5)+(Saisie!BH20*10)+(Saisie!BH33*16)+Saisie!BH66+(Saisie!BH68*3))","v":0},{"$f":"Saisie!BI129/(4+(Saisie!BI4*5)+(Saisie!BI20*10)+(Saisie!BI33*16)+Saisie!BI66+(Saisie!BI68*3))","v":0},{"$f":"Saisie!BJ129/(4+(Saisie!BJ4*5)+(Saisie!BJ20*10)+(Saisie!BJ33*16)+Saisie!BJ66+(Saisie!BJ68*3))","v":0},{"$f":"Saisie!BK129/(4+(Saisie!BK4*5)+(Saisie!BK20*10)+(Saisie!BK33*16)+Saisie!BK66+(Saisie!BK68*3))","v":0},{"$f":"Saisie!BL129/(4+(Saisie!BL4*5)+(Saisie!BL20*10)+(Saisie!BL33*16)+Saisie!BL66+(Saisie!BL68*3))","v":0},{"$f":"Saisie!BM129/(4+(Saisie!BM4*5)+(Saisie!BM20*10)+(Saisie!BM33*16)+Saisie!BM66+(Saisie!BM68*3))","v":0},{"$f":"Saisie!BN129/(4+(Saisie!BN4*5)+(Saisie!BN20*10)+(Saisie!BN33*16)+Saisie!BN66+(Saisie!BN68*3))","v":0},{"$f":"Saisie!BO129/(4+(Saisie!BO4*5)+(Saisie!BO20*10)+(Saisie!BO33*16)+Saisie!BO66+(Saisie!BO68*3))","v":0},{"$f":"Saisie!BP129/(4+(Saisie!BP4*5)+(Saisie!BP20*10)+(Saisie!BP33*16)+Saisie!BP66+(Saisie!BP68*3))","v":0},{"$f":"Saisie!BQ129/(4+(Saisie!BQ4*5)+(Saisie!BQ20*10)+(Saisie!BQ33*16)+Saisie!BQ66+(Saisie!BQ68*3))","v":0},{"$f":"Saisie!BR129/(4+(Saisie!BR4*5)+(Saisie!BR20*10)+(Saisie!BR33*16)+Saisie!BR66+(Saisie!BR68*3))","v":0},{"$f":"Saisie!BS129/(4+(Saisie!BS4*5)+(Saisie!BS20*10)+(Saisie!BS33*16)+Saisie!BS66+(Saisie!BS68*3))","v":0},{"$f":"Saisie!BT129/(4+(Saisie!BT4*5)+(Saisie!BT20*10)+(Saisie!BT33*16)+Saisie!BT66+(Saisie!BT68*3))","v":0},{"$f":"Saisie!BU129/(4+(Saisie!BU4*5)+(Saisie!BU20*10)+(Saisie!BU33*16)+Saisie!BU66+(Saisie!BU68*3))","v":0},{"$f":"Saisie!BV129/(4+(Saisie!BV4*5)+(Saisie!BV20*10)+(Saisie!BV33*16)+Saisie!BV66+(Saisie!BV68*3))","v":0},{"$f":"Saisie!BW129/(4+(Saisie!BW4*5)+(Saisie!BW20*10)+(Saisie!BW33*16)+Saisie!BW66+(Saisie!BW68*3))","v":0},{"$f":"Saisie!BX129/(4+(Saisie!BX4*5)+(Saisie!BX20*10)+(Saisie!BX33*16)+Saisie!BX66+(Saisie!BX68*3))","v":0},{"$f":"Saisie!BY129/(4+(Saisie!BY4*5)+(Saisie!BY20*10)+(Saisie!BY33*16)+Saisie!BY66+(Saisie!BY68*3))","v":0},{"$f":"Saisie!BZ129/(4+(Saisie!BZ4*5)+(Saisie!BZ20*10)+(Saisie!BZ33*16)+Saisie!BZ66+(Saisie!BZ68*3))","v":0},{"$f":"Saisie!CA129/(4+(Saisie!CA4*5)+(Saisie!CA20*10)+(Saisie!CA33*16)+Saisie!CA66+(Saisie!CA68*3))","v":0},{"$f":"Saisie!CB129/(4+(Saisie!CB4*5)+(Saisie!CB20*10)+(Saisie!CB33*16)+Saisie!CB66+(Saisie!CB68*3))","v":0},{"$f":"Saisie!CC129/(4+(Saisie!CC4*5)+(Saisie!CC20*10)+(Saisie!CC33*16)+Saisie!CC66+(Saisie!CC68*3))","v":0},{"$f":"Saisie!CD129/(4+(Saisie!CD4*5)+(Saisie!CD20*10)+(Saisie!CD33*16)+Saisie!CD66+(Saisie!CD68*3))","v":0},{"$f":"Saisie!CE129/(4+(Saisie!CE4*5)+(Saisie!CE20*10)+(Saisie!CE33*16)+Saisie!CE66+(Saisie!CE68*3))","v":0},{"$f":"Saisie!CF129/(4+(Saisie!CF4*5)+(Saisie!CF20*10)+(Saisie!CF33*16)+Saisie!CF66+(Saisie!CF68*3))","v":0},{"$f":"Saisie!CG129/(4+(Saisie!CG4*5)+(Saisie!CG20*10)+(Saisie!CG33*16)+Saisie!CG66+(Saisie!CG68*3))","v":0},{"$f":"Saisie!CH129/(4+(Saisie!CH4*5)+(Saisie!CH20*10)+(Saisie!CH33*16)+Saisie!CH66+(Saisie!CH68*3))","v":0},{"$f":"Saisie!CI129/(4+(Saisie!CI4*5)+(Saisie!CI20*10)+(Saisie!CI33*16)+Saisie!CI66+(Saisie!CI68*3))","v":0},{"$f":"Saisie!CJ129/(4+(Saisie!CJ4*5)+(Saisie!CJ20*10)+(Saisie!CJ33*16)+Saisie!CJ66+(Saisie!CJ68*3))","v":0},{"$f":"Saisie!CK129/(4+(Saisie!CK4*5)+(Saisie!CK20*10)+(Saisie!CK33*16)+Saisie!CK66+(Saisie!CK68*3))","v":0},{"$f":"Saisie!CL129/(4+(Saisie!CL4*5)+(Saisie!CL20*10)+(Saisie!CL33*16)+Saisie!CL66+(Saisie!CL68*3))","v":0},{"$f":"Saisie!CM129/(4+(Saisie!CM4*5)+(Saisie!CM20*10)+(Saisie!CM33*16)+Saisie!CM66+(Saisie!CM68*3))","v":0},{"$f":"Saisie!CN129/(4+(Saisie!CN4*5)+(Saisie!CN20*10)+(Saisie!CN33*16)+Saisie!CN66+(Saisie!CN68*3))","v":0},{"$f":"Saisie!CO129/(4+(Saisie!CO4*5)+(Saisie!CO20*10)+(Saisie!CO33*16)+Saisie!CO66+(Saisie!CO68*3))","v":0},{"$f":"Saisie!CP129/(4+(Saisie!CP4*5)+(Saisie!CP20*10)+(Saisie!CP33*16)+Saisie!CP66+(Saisie!CP68*3))","v":0},{"$f":"Saisie!CQ129/(4+(Saisie!CQ4*5)+(Saisie!CQ20*10)+(Saisie!CQ33*16)+Saisie!CQ66+(Saisie!CQ68*3))","v":0},{"$f":"Saisie!CR129/(4+(Saisie!CR4*5)+(Saisie!CR20*10)+(Saisie!CR33*16)+Saisie!CR66+(Saisie!CR68*3))","v":0},{"$f":"Saisie!CS129/(4+(Saisie!CS4*5)+(Saisie!CS20*10)+(Saisie!CS33*16)+Saisie!CS66+(Saisie!CS68*3))","v":0},{"$f":"Saisie!CT129/(4+(Saisie!CT4*5)+(Saisie!CT20*10)+(Saisie!CT33*16)+Saisie!CT66+(Saisie!CT68*3))","v":0},{"$f":"Saisie!CU129/(4+(Saisie!CU4*5)+(Saisie!CU20*10)+(Saisie!CU33*16)+Saisie!CU66+(Saisie!CU68*3))","v":0},{"$f":"Saisie!CV129/(4+(Saisie!CV4*5)+(Saisie!CV20*10)+(Saisie!CV33*16)+Saisie!CV66+(Saisie!CV68*3))","v":0},{"$f":"Saisie!CW129/(4+(Saisie!CW4*5)+(Saisie!CW20*10)+(Saisie!CW33*16)+Saisie!CW66+(Saisie!CW68*3))","v":0},{"$f":"Saisie!CX129/(4+(Saisie!CX4*5)+(Saisie!CX20*10)+(Saisie!CX33*16)+Saisie!CX66+(Saisie!CX68*3))","v":0},{"$f":"Saisie!CY129/(4+(Saisie!CY4*5)+(Saisie!CY20*10)+(Saisie!CY33*16)+Saisie!CY66+(Saisie!CY68*3))","v":0},{"$f":"Saisie!CZ129/(4+(Saisie!CZ4*5)+(Saisie!CZ20*10)+(Saisie!CZ33*16)+Saisie!CZ66+(Saisie!CZ68*3))","v":0}]
["          Organisation   ",{"$f":"SUM(Saisie!E130:CZ130)","v":0},{"$f":"IF(AND(OR(Saisie!C2>0,Saisie!C4>0,Saisie!C33>0,Saisie!C68>0),Saisie!C83>0,Saisie!C56>0),Saisie!C130/(Saisie!C2+(Saisie!C4*5)+(Saisie!C33*10)+(Saisie!C68*5)),IF(AND(OR(Saisie!C2>0,Saisie!C4>0,Saisie!C33>0,Saisie!C68>0),Saisie!C83=0,Saisie!C56>0),Saisie!C130/(Saisie!C2+(Saisie!C4*3)+(Saisie!C33*10)+(Saisie!C68*5)),IF(AND(OR(Saisie!C2>0,Saisie!C4>0,Saisie!C33>0,Saisie!C68>0),Saisie!C83>0,Saisie!C56=0),Saisie!C130/(Saisie!C2+(Saisie!C4*5)+(Saisie!C33*7)+(Saisie!C68*5)),IF(AND(OR(Saisie!C2>0,Saisie!C4>0,Saisie!C33>0,Saisie!C68>0),Saisie!C83=0,Saisie!C56=0),Saisie!C130/(Saisie!C2+(Saisie!C4*3)+(Saisie!C33*7)+(Saisie!C68*5)),\"-\"))))","v":"-"},{"$f":"Saisie!E130/(1+(IF(Saisie!E83>0,Saisie!E4*5,Saisie!E4*3))+(IF(Saisie!E56>0,Saisie!E33*10,Saisie!E33*7))+(Saisie!E68*5))","v":0},{"$f":"Saisie!F130/(1+(IF(Saisie!F83>0,Saisie!F4*5,Saisie!F4*3))+(IF(Saisie!F56>0,Saisie!F33*10,Saisie!F33*7))+(Saisie!F68*5))","v":0},{"$f":"Saisie!G130/(1+(IF(Saisie!G83>0,Saisie!G4*5,Saisie!G4*3))+(IF(Saisie!G56>0,Saisie!G33*10,Saisie!G33*7))+(Saisie!G68*5))","v":0},{"$f":"Saisie!H130/(1+(IF(Saisie!H83>0,Saisie!H4*5,Saisie!H4*3))+(IF(Saisie!H56>0,Saisie!H33*10,Saisie!H33*7))+(Saisie!H68*5))","v":0},{"$f":"Saisie!I130/(1+(IF(Saisie!I83>0,Saisie!I4*5,Saisie!I4*3))+(IF(Saisie!I56>0,Saisie!I33*10,Saisie!I33*7))+(Saisie!I68*5))","v":0},{"$f":"Saisie!J130/(1+(IF(Saisie!J83>0,Saisie!J4*5,Saisie!J4*3))+(IF(Saisie!J56>0,Saisie!J33*10,Saisie!J33*7))+(Saisie!J68*5))","v":0},{"$f":"Saisie!K130/(1+(IF(Saisie!K83>0,Saisie!K4*5,Saisie!K4*3))+(IF(Saisie!K56>0,Saisie!K33*10,Saisie!K33*7))+(Saisie!K68*5))","v":0},{"$f":"Saisie!L130/(1+(IF(Saisie!L83>0,Saisie!L4*5,Saisie!L4*3))+(IF(Saisie!L56>0,Saisie!L33*10,Saisie!L33*7))+(Saisie!L68*5))","v":0},{"$f":"Saisie!M130/(1+(IF(Saisie!M83>0,Saisie!M4*5,Saisie!M4*3))+(IF(Saisie!M56>0,Saisie!M33*10,Saisie!M33*7))+(Saisie!M68*5))","v":0},{"$f":"Saisie!N130/(1+(IF(Saisie!N83>0,Saisie!N4*5,Saisie!N4*3))+(IF(Saisie!N56>0,Saisie!N33*10,Saisie!N33*7))+(Saisie!N68*5))","v":0},{"$f":"Saisie!O130/(1+(IF(Saisie!O83>0,Saisie!O4*5,Saisie!O4*3))+(IF(Saisie!O56>0,Saisie!O33*10,Saisie!O33*7))+(Saisie!O68*5))","v":0},{"$f":"Saisie!P130/(1+(IF(Saisie!P83>0,Saisie!P4*5,Saisie!P4*3))+(IF(Saisie!P56>0,Saisie!P33*10,Saisie!P33*7))+(Saisie!P68*5))","v":0},{"$f":"Saisie!Q130/(1+(IF(Saisie!Q83>0,Saisie!Q4*5,Saisie!Q4*3))+(IF(Saisie!Q56>0,Saisie!Q33*10,Saisie!Q33*7))+(Saisie!Q68*5))","v":0},{"$f":"Saisie!R130/(1+(IF(Saisie!R83>0,Saisie!R4*5,Saisie!R4*3))+(IF(Saisie!R56>0,Saisie!R33*10,Saisie!R33*7))+(Saisie!R68*5))","v":0},{"$f":"Saisie!S130/(1+(IF(Saisie!S83>0,Saisie!S4*5,Saisie!S4*3))+(IF(Saisie!S56>0,Saisie!S33*10,Saisie!S33*7))+(Saisie!S68*5))","v":0},{"$f":"Saisie!T130/(1+(IF(Saisie!T83>0,Saisie!T4*5,Saisie!T4*3))+(IF(Saisie!T56>0,Saisie!T33*10,Saisie!T33*7))+(Saisie!T68*5))","v":0},{"$f":"Saisie!U130/(1+(IF(Saisie!U83>0,Saisie!U4*5,Saisie!U4*3))+(IF(Saisie!U56>0,Saisie!U33*10,Saisie!U33*7))+(Saisie!U68*5))","v":0},{"$f":"Saisie!V130/(1+(IF(Saisie!V83>0,Saisie!V4*5,Saisie!V4*3))+(IF(Saisie!V56>0,Saisie!V33*10,Saisie!V33*7))+(Saisie!V68*5))","v":0},{"$f":"Saisie!W130/(1+(IF(Saisie!W83>0,Saisie!W4*5,Saisie!W4*3))+(IF(Saisie!W56>0,Saisie!W33*10,Saisie!W33*7))+(Saisie!W68*5))","v":0},{"$f":"Saisie!X130/(1+(IF(Saisie!X83>0,Saisie!X4*5,Saisie!X4*3))+(IF(Saisie!X56>0,Saisie!X33*10,Saisie!X33*7))+(Saisie!X68*5))","v":0},{"$f":"Saisie!Y130/(1+(IF(Saisie!Y83>0,Saisie!Y4*5,Saisie!Y4*3))+(IF(Saisie!Y56>0,Saisie!Y33*10,Saisie!Y33*7))+(Saisie!Y68*5))","v":0},{"$f":"Saisie!Z130/(1+(IF(Saisie!Z83>0,Saisie!Z4*5,Saisie!Z4*3))+(IF(Saisie!Z56>0,Saisie!Z33*10,Saisie!Z33*7))+(Saisie!Z68*5))","v":0},{"$f":"Saisie!AA130/(1+(IF(Saisie!AA83>0,Saisie!AA4*5,Saisie!AA4*3))+(IF(Saisie!AA56>0,Saisie!AA33*10,Saisie!AA33*7))+(Saisie!AA68*5))","v":0},{"$f":"Saisie!AB130/(1+(IF(Saisie!AB83>0,Saisie!AB4*5,Saisie!AB4*3))+(IF(Saisie!AB56>0,Saisie!AB33*10,Saisie!AB33*7))+(Saisie!AB68*5))","v":0},{"$f":"Saisie!AC130/(1+(IF(Saisie!AC83>0,Saisie!AC4*5,Saisie!AC4*3))+(IF(Saisie!AC56>0,Saisie!AC33*10,Saisie!AC33*7))+(Saisie!AC68*5))","v":0},{"$f":"Saisie!AD130/(1+(IF(Saisie!AD83>0,Saisie!AD4*5,Saisie!AD4*3))+(IF(Saisie!AD56>0,Saisie!AD33*10,Saisie!AD33*7))+(Saisie!AD68*5))","v":0},{"$f":"Saisie!AE130/(1+(IF(Saisie!AE83>0,Saisie!AE4*5,Saisie!AE4*3))+(IF(Saisie!AE56>0,Saisie!AE33*10,Saisie!AE33*7))+(Saisie!AE68*5))","v":0},{"$f":"Saisie!AF130/(1+(IF(Saisie!AF83>0,Saisie!AF4*5,Saisie!AF4*3))+(IF(Saisie!AF56>0,Saisie!AF33*10,Saisie!AF33*7))+(Saisie!AF68*5))","v":0},{"$f":"Saisie!AG130/(1+(IF(Saisie!AG83>0,Saisie!AG4*5,Saisie!AG4*3))+(IF(Saisie!AG56>0,Saisie!AG33*10,Saisie!AG33*7))+(Saisie!AG68*5))","v":0},{"$f":"Saisie!AH130/(1+(IF(Saisie!AH83>0,Saisie!AH4*5,Saisie!AH4*3))+(IF(Saisie!AH56>0,Saisie!AH33*10,Saisie!AH33*7))+(Saisie!AH68*5))","v":0},{"$f":"Saisie!AI130/(1+(IF(Saisie!AI83>0,Saisie!AI4*5,Saisie!AI4*3))+(IF(Saisie!AI56>0,Saisie!AI33*10,Saisie!AI33*7))+(Saisie!AI68*5))","v":0},{"$f":"Saisie!AJ130/(1+(IF(Saisie!AJ83>0,Saisie!AJ4*5,Saisie!AJ4*3))+(IF(Saisie!AJ56>0,Saisie!AJ33*10,Saisie!AJ33*7))+(Saisie!AJ68*5))","v":0},{"$f":"Saisie!AK130/(1+(IF(Saisie!AK83>0,Saisie!AK4*5,Saisie!AK4*3))+(IF(Saisie!AK56>0,Saisie!AK33*10,Saisie!AK33*7))+(Saisie!AK68*5))","v":0},{"$f":"Saisie!AL130/(1+(IF(Saisie!AL83>0,Saisie!AL4*5,Saisie!AL4*3))+(IF(Saisie!AL56>0,Saisie!AL33*10,Saisie!AL33*7))+(Saisie!AL68*5))","v":0},{"$f":"Saisie!AM130/(1+(IF(Saisie!AM83>0,Saisie!AM4*5,Saisie!AM4*3))+(IF(Saisie!AM56>0,Saisie!AM33*10,Saisie!AM33*7))+(Saisie!AM68*5))","v":0},{"$f":"Saisie!AN130/(1+(IF(Saisie!AN83>0,Saisie!AN4*5,Saisie!AN4*3))+(IF(Saisie!AN56>0,Saisie!AN33*10,Saisie!AN33*7))+(Saisie!AN68*5))","v":0},{"$f":"Saisie!AO130/(1+(IF(Saisie!AO83>0,Saisie!AO4*5,Saisie!AO4*3))+(IF(Saisie!AO56>0,Saisie!AO33*10,Saisie!AO33*7))+(Saisie!AO68*5))","v":0},{"$f":"Saisie!AP130/(1+(IF(Saisie!AP83>0,Saisie!AP4*5,Saisie!AP4*3))+(IF(Saisie!AP56>0,Saisie!AP33*10,Saisie!AP33*7))+(Saisie!AP68*5))","v":0},{"$f":"Saisie!AQ130/(1+(IF(Saisie!AQ83>0,Saisie!AQ4*5,Saisie!AQ4*3))+(IF(Saisie!AQ56>0,Saisie!AQ33*10,Saisie!AQ33*7))+(Saisie!AQ68*5))","v":0},{"$f":"Saisie!AR130/(1+(IF(Saisie!AR83>0,Saisie!AR4*5,Saisie!AR4*3))+(IF(Saisie!AR56>0,Saisie!AR33*10,Saisie!AR33*7))+(Saisie!AR68*5))","v":0},{"$f":"Saisie!AS130/(1+(IF(Saisie!AS83>0,Saisie!AS4*5,Saisie!AS4*3))+(IF(Saisie!AS56>0,Saisie!AS33*10,Saisie!AS33*7))+(Saisie!AS68*5))","v":0},{"$f":"Saisie!AT130/(1+(IF(Saisie!AT83>0,Saisie!AT4*5,Saisie!AT4*3))+(IF(Saisie!AT56>0,Saisie!AT33*10,Saisie!AT33*7))+(Saisie!AT68*5))","v":0},{"$f":"Saisie!AU130/(1+(IF(Saisie!AU83>0,Saisie!AU4*5,Saisie!AU4*3))+(IF(Saisie!AU56>0,Saisie!AU33*10,Saisie!AU33*7))+(Saisie!AU68*5))","v":0},{"$f":"Saisie!AV130/(1+(IF(Saisie!AV83>0,Saisie!AV4*5,Saisie!AV4*3))+(IF(Saisie!AV56>0,Saisie!AV33*10,Saisie!AV33*7))+(Saisie!AV68*5))","v":0},{"$f":"Saisie!AW130/(1+(IF(Saisie!AW83>0,Saisie!AW4*5,Saisie!AW4*3))+(IF(Saisie!AW56>0,Saisie!AW33*10,Saisie!AW33*7))+(Saisie!AW68*5))","v":0},{"$f":"Saisie!AX130/(1+(IF(Saisie!AX83>0,Saisie!AX4*5,Saisie!AX4*3))+(IF(Saisie!AX56>0,Saisie!AX33*10,Saisie!AX33*7))+(Saisie!AX68*5))","v":0},{"$f":"Saisie!AY130/(1+(IF(Saisie!AY83>0,Saisie!AY4*5,Saisie!AY4*3))+(IF(Saisie!AY56>0,Saisie!AY33*10,Saisie!AY33*7))+(Saisie!AY68*5))","v":0},{"$f":"Saisie!AZ130/(1+(IF(Saisie!AZ83>0,Saisie!AZ4*5,Saisie!AZ4*3))+(IF(Saisie!AZ56>0,Saisie!AZ33*10,Saisie!AZ33*7))+(Saisie!AZ68*5))","v":0},{"$f":"Saisie!BA130/(1+(IF(Saisie!BA83>0,Saisie!BA4*5,Saisie!BA4*3))+(IF(Saisie!BA56>0,Saisie!BA33*10,Saisie!BA33*7))+(Saisie!BA68*5))","v":0},{"$f":"Saisie!BB130/(1+(IF(Saisie!BB83>0,Saisie!BB4*5,Saisie!BB4*3))+(IF(Saisie!BB56>0,Saisie!BB33*10,Saisie!BB33*7))+(Saisie!BB68*5))","v":0},{"$f":"Saisie!BC130/(1+(IF(Saisie!BC83>0,Saisie!BC4*5,Saisie!BC4*3))+(IF(Saisie!BC56>0,Saisie!BC33*10,Saisie!BC33*7))+(Saisie!BC68*5))","v":0},{"$f":"Saisie!BD130/(1+(IF(Saisie!BD83>0,Saisie!BD4*5,Saisie!BD4*3))+(IF(Saisie!BD56>0,Saisie!BD33*10,Saisie!BD33*7))+(Saisie!BD68*5))","v":0},{"$f":"Saisie!BE130/(1+(IF(Saisie!BE83>0,Saisie!BE4*5,Saisie!BE4*3))+(IF(Saisie!BE56>0,Saisie!BE33*10,Saisie!BE33*7))+(Saisie!BE68*5))","v":0},{"$f":"Saisie!BF130/(1+(IF(Saisie!BF83>0,Saisie!BF4*5,Saisie!BF4*3))+(IF(Saisie!BF56>0,Saisie!BF33*10,Saisie!BF33*7))+(Saisie!BF68*5))","v":0},{"$f":"Saisie!BG130/(1+(IF(Saisie!BG83>0,Saisie!BG4*5,Saisie!BG4*3))+(IF(Saisie!BG56>0,Saisie!BG33*10,Saisie!BG33*7))+(Saisie!BG68*5))","v":0},{"$f":"Saisie!BH130/(1+(IF(Saisie!BH83>0,Saisie!BH4*5,Saisie!BH4*3))+(IF(Saisie!BH56>0,Saisie!BH33*10,Saisie!BH33*7))+(Saisie!BH68*5))","v":0},{"$f":"Saisie!BI130/(1+(IF(Saisie!BI83>0,Saisie!BI4*5,Saisie!BI4*3))+(IF(Saisie!BI56>0,Saisie!BI33*10,Saisie!BI33*7))+(Saisie!BI68*5))","v":0},{"$f":"Saisie!BJ130/(1+(IF(Saisie!BJ83>0,Saisie!BJ4*5,Saisie!BJ4*3))+(IF(Saisie!BJ56>0,Saisie!BJ33*10,Saisie!BJ33*7))+(Saisie!BJ68*5))","v":0},{"$f":"Saisie!BK130/(1+(IF(Saisie!BK83>0,Saisie!BK4*5,Saisie!BK4*3))+(IF(Saisie!BK56>0,Saisie!BK33*10,Saisie!BK33*7))+(Saisie!BK68*5))","v":0},{"$f":"Saisie!BL130/(1+(IF(Saisie!BL83>0,Saisie!BL4*5,Saisie!BL4*3))+(IF(Saisie!BL56>0,Saisie!BL33*10,Saisie!BL33*7))+(Saisie!BL68*5))","v":0},{"$f":"Saisie!BM130/(1+(IF(Saisie!BM83>0,Saisie!BM4*5,Saisie!BM4*3))+(IF(Saisie!BM56>0,Saisie!BM33*10,Saisie!BM33*7))+(Saisie!BM68*5))","v":0},{"$f":"Saisie!BN130/(1+(IF(Saisie!BN83>0,Saisie!BN4*5,Saisie!BN4*3))+(IF(Saisie!BN56>0,Saisie!BN33*10,Saisie!BN33*7))+(Saisie!BN68*5))","v":0},{"$f":"Saisie!BO130/(1+(IF(Saisie!BO83>0,Saisie!BO4*5,Saisie!BO4*3))+(IF(Saisie!BO56>0,Saisie!BO33*10,Saisie!BO33*7))+(Saisie!BO68*5))","v":0},{"$f":"Saisie!BP130/(1+(IF(Saisie!BP83>0,Saisie!BP4*5,Saisie!BP4*3))+(IF(Saisie!BP56>0,Saisie!BP33*10,Saisie!BP33*7))+(Saisie!BP68*5))","v":0},{"$f":"Saisie!BQ130/(1+(IF(Saisie!BQ83>0,Saisie!BQ4*5,Saisie!BQ4*3))+(IF(Saisie!BQ56>0,Saisie!BQ33*10,Saisie!BQ33*7))+(Saisie!BQ68*5))","v":0},{"$f":"Saisie!BR130/(1+(IF(Saisie!BR83>0,Saisie!BR4*5,Saisie!BR4*3))+(IF(Saisie!BR56>0,Saisie!BR33*10,Saisie!BR33*7))+(Saisie!BR68*5))","v":0},{"$f":"Saisie!BS130/(1+(IF(Saisie!BS83>0,Saisie!BS4*5,Saisie!BS4*3))+(IF(Saisie!BS56>0,Saisie!BS33*10,Saisie!BS33*7))+(Saisie!BS68*5))","v":0},{"$f":"Saisie!BT130/(1+(IF(Saisie!BT83>0,Saisie!BT4*5,Saisie!BT4*3))+(IF(Saisie!BT56>0,Saisie!BT33*10,Saisie!BT33*7))+(Saisie!BT68*5))","v":0},{"$f":"Saisie!BU130/(1+(IF(Saisie!BU83>0,Saisie!BU4*5,Saisie!BU4*3))+(IF(Saisie!BU56>0,Saisie!BU33*10,Saisie!BU33*7))+(Saisie!BU68*5))","v":0},{"$f":"Saisie!BV130/(1+(IF(Saisie!BV83>0,Saisie!BV4*5,Saisie!BV4*3))+(IF(Saisie!BV56>0,Saisie!BV33*10,Saisie!BV33*7))+(Saisie!BV68*5))","v":0},{"$f":"Saisie!BW130/(1+(IF(Saisie!BW83>0,Saisie!BW4*5,Saisie!BW4*3))+(IF(Saisie!BW56>0,Saisie!BW33*10,Saisie!BW33*7))+(Saisie!BW68*5))","v":0},{"$f":"Saisie!BX130/(1+(IF(Saisie!BX83>0,Saisie!BX4*5,Saisie!BX4*3))+(IF(Saisie!BX56>0,Saisie!BX33*10,Saisie!BX33*7))+(Saisie!BX68*5))","v":0},{"$f":"Saisie!BY130/(1+(IF(Saisie!BY83>0,Saisie!BY4*5,Saisie!BY4*3))+(IF(Saisie!BY56>0,Saisie!BY33*10,Saisie!BY33*7))+(Saisie!BY68*5))","v":0},{"$f":"Saisie!BZ130/(1+(IF(Saisie!BZ83>0,Saisie!BZ4*5,Saisie!BZ4*3))+(IF(Saisie!BZ56>0,Saisie!BZ33*10,Saisie!BZ33*7))+(Saisie!BZ68*5))","v":0},{"$f":"Saisie!CA130/(1+(IF(Saisie!CA83>0,Saisie!CA4*5,Saisie!CA4*3))+(IF(Saisie!CA56>0,Saisie!CA33*10,Saisie!CA33*7))+(Saisie!CA68*5))","v":0},{"$f":"Saisie!CB130/(1+(IF(Saisie!CB83>0,Saisie!CB4*5,Saisie!CB4*3))+(IF(Saisie!CB56>0,Saisie!CB33*10,Saisie!CB33*7))+(Saisie!CB68*5))","v":0},{"$f":"Saisie!CC130/(1+(IF(Saisie!CC83>0,Saisie!CC4*5,Saisie!CC4*3))+(IF(Saisie!CC56>0,Saisie!CC33*10,Saisie!CC33*7))+(Saisie!CC68*5))","v":0},{"$f":"Saisie!CD130/(1+(IF(Saisie!CD83>0,Saisie!CD4*5,Saisie!CD4*3))+(IF(Saisie!CD56>0,Saisie!CD33*10,Saisie!CD33*7))+(Saisie!CD68*5))","v":0},{"$f":"Saisie!CE130/(1+(IF(Saisie!CE83>0,Saisie!CE4*5,Saisie!CE4*3))+(IF(Saisie!CE56>0,Saisie!CE33*10,Saisie!CE33*7))+(Saisie!CE68*5))","v":0},{"$f":"Saisie!CF130/(1+(IF(Saisie!CF83>0,Saisie!CF4*5,Saisie!CF4*3))+(IF(Saisie!CF56>0,Saisie!CF33*10,Saisie!CF33*7))+(Saisie!CF68*5))","v":0},{"$f":"Saisie!CG130/(1+(IF(Saisie!CG83>0,Saisie!CG4*5,Saisie!CG4*3))+(IF(Saisie!CG56>0,Saisie!CG33*10,Saisie!CG33*7))+(Saisie!CG68*5))","v":0},{"$f":"Saisie!CH130/(1+(IF(Saisie!CH83>0,Saisie!CH4*5,Saisie!CH4*3))+(IF(Saisie!CH56>0,Saisie!CH33*10,Saisie!CH33*7))+(Saisie!CH68*5))","v":0},{"$f":"Saisie!CI130/(1+(IF(Saisie!CI83>0,Saisie!CI4*5,Saisie!CI4*3))+(IF(Saisie!CI56>0,Saisie!CI33*10,Saisie!CI33*7))+(Saisie!CI68*5))","v":0},{"$f":"Saisie!CJ130/(1+(IF(Saisie!CJ83>0,Saisie!CJ4*5,Saisie!CJ4*3))+(IF(Saisie!CJ56>0,Saisie!CJ33*10,Saisie!CJ33*7))+(Saisie!CJ68*5))","v":0},{"$f":"Saisie!CK130/(1+(IF(Saisie!CK83>0,Saisie!CK4*5,Saisie!CK4*3))+(IF(Saisie!CK56>0,Saisie!CK33*10,Saisie!CK33*7))+(Saisie!CK68*5))","v":0},{"$f":"Saisie!CL130/(1+(IF(Saisie!CL83>0,Saisie!CL4*5,Saisie!CL4*3))+(IF(Saisie!CL56>0,Saisie!CL33*10,Saisie!CL33*7))+(Saisie!CL68*5))","v":0},{"$f":"Saisie!CM130/(1+(IF(Saisie!CM83>0,Saisie!CM4*5,Saisie!CM4*3))+(IF(Saisie!CM56>0,Saisie!CM33*10,Saisie!CM33*7))+(Saisie!CM68*5))","v":0},{"$f":"Saisie!CN130/(1+(IF(Saisie!CN83>0,Saisie!CN4*5,Saisie!CN4*3))+(IF(Saisie!CN56>0,Saisie!CN33*10,Saisie!CN33*7))+(Saisie!CN68*5))","v":0},{"$f":"Saisie!CO130/(1+(IF(Saisie!CO83>0,Saisie!CO4*5,Saisie!CO4*3))+(IF(Saisie!CO56>0,Saisie!CO33*10,Saisie!CO33*7))+(Saisie!CO68*5))","v":0},{"$f":"Saisie!CP130/(1+(IF(Saisie!CP83>0,Saisie!CP4*5,Saisie!CP4*3))+(IF(Saisie!CP56>0,Saisie!CP33*10,Saisie!CP33*7))+(Saisie!CP68*5))","v":0},{"$f":"Saisie!CQ130/(1+(IF(Saisie!CQ83>0,Saisie!CQ4*5,Saisie!CQ4*3))+(IF(Saisie!CQ56>0,Saisie!CQ33*10,Saisie!CQ33*7))+(Saisie!CQ68*5))","v":0},{"$f":"Saisie!CR130/(1+(IF(Saisie!CR83>0,Saisie!CR4*5,Saisie!CR4*3))+(IF(Saisie!CR56>0,Saisie!CR33*10,Saisie!CR33*7))+(Saisie!CR68*5))","v":0},{"$f":"Saisie!CS130/(1+(IF(Saisie!CS83>0,Saisie!CS4*5,Saisie!CS4*3))+(IF(Saisie!CS56>0,Saisie!CS33*10,Saisie!CS33*7))+(Saisie!CS68*5))","v":0},{"$f":"Saisie!CT130/(1+(IF(Saisie!CT83>0,Saisie!CT4*5,Saisie!CT4*3))+(IF(Saisie!CT56>0,Saisie!CT33*10,Saisie!CT33*7))+(Saisie!CT68*5))","v":0},{"$f":"Saisie!CU130/(1+(IF(Saisie!CU83>0,Saisie!CU4*5,Saisie!CU4*3))+(IF(Saisie!CU56>0,Saisie!CU33*10,Saisie!CU33*7))+(Saisie!CU68*5))","v":0},{"$f":"Saisie!CV130/(1+(IF(Saisie!CV83>0,Saisie!CV4*5,Saisie!CV4*3))+(IF(Saisie!CV56>0,Saisie!CV33*10,Saisie!CV33*7))+(Saisie!CV68*5))","v":0},{"$f":"Saisie!CW130/(1+(IF(Saisie!CW83>0,Saisie!CW4*5,Saisie!CW4*3))+(IF(Saisie!CW56>0,Saisie!CW33*10,Saisie!CW33*7))+(Saisie!CW68*5))","v":0},{"$f":"Saisie!CX130/(1+(IF(Saisie!CX83>0,Saisie!CX4*5,Saisie!CX4*3))+(IF(Saisie!CX56>0,Saisie!CX33*10,Saisie!CX33*7))+(Saisie!CX68*5))","v":0},{"$f":"Saisie!CY130/(1+(IF(Saisie!CY83>0,Saisie!CY4*5,Saisie!CY4*3))+(IF(Saisie!CY56>0,Saisie!CY33*10,Saisie!CY33*7))+(Saisie!CY68*5))","v":0},{"$f":"Saisie!CZ130/(1+(IF(Saisie!CZ83>0,Saisie!CZ4*5,Saisie!CZ4*3))+(IF(Saisie!CZ56>0,Saisie!CZ33*10,Saisie!CZ33*7))+(Saisie!CZ68*5))","v":0}]
["          Pratiques   ",{"$f":"SUM(Saisie!E131:CZ131)","v":0},{"$f":"IF(OR(Saisie!C2>0,Saisie!C4>0,Saisie!C20>0,Saisie!C33>0,Saisie!C66>0,Saisie!C68>0),Saisie!C131/((Saisie!C2*26)+(Saisie!C4*10)+Saisie!C20+(Saisie!C33*5)+Saisie!C66+(Saisie!C68*4)),\"-\")","v":"-"},{"$f":"Saisie!E131/(26+(Saisie!E4*10)+Saisie!E20+(Saisie!E33*5)+Saisie!E66+(Saisie!E68*4))","v":0},{"$f":"Saisie!F131/(26+(Saisie!F4*10)+Saisie!F20+(Saisie!F33*5)+Saisie!F66+(Saisie!F68*4))","v":0},{"$f":"Saisie!G131/(26+(Saisie!G4*10)+Saisie!G20+(Saisie!G33*5)+Saisie!G66+(Saisie!G68*4))","v":0},{"$f":"Saisie!H131/(26+(Saisie!H4*10)+Saisie!H20+(Saisie!H33*5)+Saisie!H66+(Saisie!H68*4))","v":0},{"$f":"Saisie!I131/(26+(Saisie!I4*10)+Saisie!I20+(Saisie!I33*5)+Saisie!I66+(Saisie!I68*4))","v":0},{"$f":"Saisie!J131/(26+(Saisie!J4*10)+Saisie!J20+(Saisie!J33*5)+Saisie!J66+(Saisie!J68*4))","v":0},{"$f":"Saisie!K131/(26+(Saisie!K4*10)+Saisie!K20+(Saisie!K33*5)+Saisie!K66+(Saisie!K68*4))","v":0},{"$f":"Saisie!L131/(26+(Saisie!L4*10)+Saisie!L20+(Saisie!L33*5)+Saisie!L66+(Saisie!L68*4))","v":0},{"$f":"Saisie!M131/(26+(Saisie!M4*10)+Saisie!M20+(Saisie!M33*5)+Saisie!M66+(Saisie!M68*4))","v":0},{"$f":"Saisie!N131/(26+(Saisie!N4*10)+Saisie!N20+(Saisie!N33*5)+Saisie!N66+(Saisie!N68*4))","v":0},{"$f":"Saisie!O131/(26+(Saisie!O4*10)+Saisie!O20+(Saisie!O33*5)+Saisie!O66+(Saisie!O68*4))","v":0},{"$f":"Saisie!P131/(26+(Saisie!P4*10)+Saisie!P20+(Saisie!P33*5)+Saisie!P66+(Saisie!P68*4))","v":0},{"$f":"Saisie!Q131/(26+(Saisie!Q4*10)+Saisie!Q20+(Saisie!Q33*5)+Saisie!Q66+(Saisie!Q68*4))","v":0},{"$f":"Saisie!R131/(26+(Saisie!R4*10)+Saisie!R20+(Saisie!R33*5)+Saisie!R66+(Saisie!R68*4))","v":0},{"$f":"Saisie!S131/(26+(Saisie!S4*10)+Saisie!S20+(Saisie!S33*5)+Saisie!S66+(Saisie!S68*4))","v":0},{"$f":"Saisie!T131/(26+(Saisie!T4*10)+Saisie!T20+(Saisie!T33*5)+Saisie!T66+(Saisie!T68*4))","v":0},{"$f":"Saisie!U131/(26+(Saisie!U4*10)+Saisie!U20+(Saisie!U33*5)+Saisie!U66+(Saisie!U68*4))","v":0},{"$f":"Saisie!V131/(26+(Saisie!V4*10)+Saisie!V20+(Saisie!V33*5)+Saisie!V66+(Saisie!V68*4))","v":0},{"$f":"Saisie!W131/(26+(Saisie!W4*10)+Saisie!W20+(Saisie!W33*5)+Saisie!W66+(Saisie!W68*4))","v":0},{"$f":"Saisie!X131/(26+(Saisie!X4*10)+Saisie!X20+(Saisie!X33*5)+Saisie!X66+(Saisie!X68*4))","v":0},{"$f":"Saisie!Y131/(26+(Saisie!Y4*10)+Saisie!Y20+(Saisie!Y33*5)+Saisie!Y66+(Saisie!Y68*4))","v":0},{"$f":"Saisie!Z131/(26+(Saisie!Z4*10)+Saisie!Z20+(Saisie!Z33*5)+Saisie!Z66+(Saisie!Z68*4))","v":0},{"$f":"Saisie!AA131/(26+(Saisie!AA4*10)+Saisie!AA20+(Saisie!AA33*5)+Saisie!AA66+(Saisie!AA68*4))","v":0},{"$f":"Saisie!AB131/(26+(Saisie!AB4*10)+Saisie!AB20+(Saisie!AB33*5)+Saisie!AB66+(Saisie!AB68*4))","v":0},{"$f":"Saisie!AC131/(26+(Saisie!AC4*10)+Saisie!AC20+(Saisie!AC33*5)+Saisie!AC66+(Saisie!AC68*4))","v":0},{"$f":"Saisie!AD131/(26+(Saisie!AD4*10)+Saisie!AD20+(Saisie!AD33*5)+Saisie!AD66+(Saisie!AD68*4))","v":0},{"$f":"Saisie!AE131/(26+(Saisie!AE4*10)+Saisie!AE20+(Saisie!AE33*5)+Saisie!AE66+(Saisie!AE68*4))","v":0},{"$f":"Saisie!AF131/(26+(Saisie!AF4*10)+Saisie!AF20+(Saisie!AF33*5)+Saisie!AF66+(Saisie!AF68*4))","v":0},{"$f":"Saisie!AG131/(26+(Saisie!AG4*10)+Saisie!AG20+(Saisie!AG33*5)+Saisie!AG66+(Saisie!AG68*4))","v":0},{"$f":"Saisie!AH131/(26+(Saisie!AH4*10)+Saisie!AH20+(Saisie!AH33*5)+Saisie!AH66+(Saisie!AH68*4))","v":0},{"$f":"Saisie!AI131/(26+(Saisie!AI4*10)+Saisie!AI20+(Saisie!AI33*5)+Saisie!AI66+(Saisie!AI68*4))","v":0},{"$f":"Saisie!AJ131/(26+(Saisie!AJ4*10)+Saisie!AJ20+(Saisie!AJ33*5)+Saisie!AJ66+(Saisie!AJ68*4))","v":0},{"$f":"Saisie!AK131/(26+(Saisie!AK4*10)+Saisie!AK20+(Saisie!AK33*5)+Saisie!AK66+(Saisie!AK68*4))","v":0},{"$f":"Saisie!AL131/(26+(Saisie!AL4*10)+Saisie!AL20+(Saisie!AL33*5)+Saisie!AL66+(Saisie!AL68*4))","v":0},{"$f":"Saisie!AM131/(26+(Saisie!AM4*10)+Saisie!AM20+(Saisie!AM33*5)+Saisie!AM66+(Saisie!AM68*4))","v":0},{"$f":"Saisie!AN131/(26+(Saisie!AN4*10)+Saisie!AN20+(Saisie!AN33*5)+Saisie!AN66+(Saisie!AN68*4))","v":0},{"$f":"Saisie!AO131/(26+(Saisie!AO4*10)+Saisie!AO20+(Saisie!AO33*5)+Saisie!AO66+(Saisie!AO68*4))","v":0},{"$f":"Saisie!AP131/(26+(Saisie!AP4*10)+Saisie!AP20+(Saisie!AP33*5)+Saisie!AP66+(Saisie!AP68*4))","v":0},{"$f":"Saisie!AQ131/(26+(Saisie!AQ4*10)+Saisie!AQ20+(Saisie!AQ33*5)+Saisie!AQ66+(Saisie!AQ68*4))","v":0},{"$f":"Saisie!AR131/(26+(Saisie!AR4*10)+Saisie!AR20+(Saisie!AR33*5)+Saisie!AR66+(Saisie!AR68*4))","v":0},{"$f":"Saisie!AS131/(26+(Saisie!AS4*10)+Saisie!AS20+(Saisie!AS33*5)+Saisie!AS66+(Saisie!AS68*4))","v":0},{"$f":"Saisie!AT131/(26+(Saisie!AT4*10)+Saisie!AT20+(Saisie!AT33*5)+Saisie!AT66+(Saisie!AT68*4))","v":0},{"$f":"Saisie!AU131/(26+(Saisie!AU4*10)+Saisie!AU20+(Saisie!AU33*5)+Saisie!AU66+(Saisie!AU68*4))","v":0},{"$f":"Saisie!AV131/(26+(Saisie!AV4*10)+Saisie!AV20+(Saisie!AV33*5)+Saisie!AV66+(Saisie!AV68*4))","v":0},{"$f":"Saisie!AW131/(26+(Saisie!AW4*10)+Saisie!AW20+(Saisie!AW33*5)+Saisie!AW66+(Saisie!AW68*4))","v":0},{"$f":"Saisie!AX131/(26+(Saisie!AX4*10)+Saisie!AX20+(Saisie!AX33*5)+Saisie!AX66+(Saisie!AX68*4))","v":0},{"$f":"Saisie!AY131/(26+(Saisie!AY4*10)+Saisie!AY20+(Saisie!AY33*5)+Saisie!AY66+(Saisie!AY68*4))","v":0},{"$f":"Saisie!AZ131/(26+(Saisie!AZ4*10)+Saisie!AZ20+(Saisie!AZ33*5)+Saisie!AZ66+(Saisie!AZ68*4))","v":0},{"$f":"Saisie!BA131/(26+(Saisie!BA4*10)+Saisie!BA20+(Saisie!BA33*5)+Saisie!BA66+(Saisie!BA68*4))","v":0},{"$f":"Saisie!BB131/(26+(Saisie!BB4*10)+Saisie!BB20+(Saisie!BB33*5)+Saisie!BB66+(Saisie!BB68*4))","v":0},{"$f":"Saisie!BC131/(26+(Saisie!BC4*10)+Saisie!BC20+(Saisie!BC33*5)+Saisie!BC66+(Saisie!BC68*4))","v":0},{"$f":"Saisie!BD131/(26+(Saisie!BD4*10)+Saisie!BD20+(Saisie!BD33*5)+Saisie!BD66+(Saisie!BD68*4))","v":0},{"$f":"Saisie!BE131/(26+(Saisie!BE4*10)+Saisie!BE20+(Saisie!BE33*5)+Saisie!BE66+(Saisie!BE68*4))","v":0},{"$f":"Saisie!BF131/(26+(Saisie!BF4*10)+Saisie!BF20+(Saisie!BF33*5)+Saisie!BF66+(Saisie!BF68*4))","v":0},{"$f":"Saisie!BG131/(26+(Saisie!BG4*10)+Saisie!BG20+(Saisie!BG33*5)+Saisie!BG66+(Saisie!BG68*4))","v":0},{"$f":"Saisie!BH131/(26+(Saisie!BH4*10)+Saisie!BH20+(Saisie!BH33*5)+Saisie!BH66+(Saisie!BH68*4))","v":0},{"$f":"Saisie!BI131/(26+(Saisie!BI4*10)+Saisie!BI20+(Saisie!BI33*5)+Saisie!BI66+(Saisie!BI68*4))","v":0},{"$f":"Saisie!BJ131/(26+(Saisie!BJ4*10)+Saisie!BJ20+(Saisie!BJ33*5)+Saisie!BJ66+(Saisie!BJ68*4))","v":0},{"$f":"Saisie!BK131/(26+(Saisie!BK4*10)+Saisie!BK20+(Saisie!BK33*5)+Saisie!BK66+(Saisie!BK68*4))","v":0},{"$f":"Saisie!BL131/(26+(Saisie!BL4*10)+Saisie!BL20+(Saisie!BL33*5)+Saisie!BL66+(Saisie!BL68*4))","v":0},{"$f":"Saisie!BM131/(26+(Saisie!BM4*10)+Saisie!BM20+(Saisie!BM33*5)+Saisie!BM66+(Saisie!BM68*4))","v":0},{"$f":"Saisie!BN131/(26+(Saisie!BN4*10)+Saisie!BN20+(Saisie!BN33*5)+Saisie!BN66+(Saisie!BN68*4))","v":0},{"$f":"Saisie!BO131/(26+(Saisie!BO4*10)+Saisie!BO20+(Saisie!BO33*5)+Saisie!BO66+(Saisie!BO68*4))","v":0},{"$f":"Saisie!BP131/(26+(Saisie!BP4*10)+Saisie!BP20+(Saisie!BP33*5)+Saisie!BP66+(Saisie!BP68*4))","v":0},{"$f":"Saisie!BQ131/(26+(Saisie!BQ4*10)+Saisie!BQ20+(Saisie!BQ33*5)+Saisie!BQ66+(Saisie!BQ68*4))","v":0},{"$f":"Saisie!BR131/(26+(Saisie!BR4*10)+Saisie!BR20+(Saisie!BR33*5)+Saisie!BR66+(Saisie!BR68*4))","v":0},{"$f":"Saisie!BS131/(26+(Saisie!BS4*10)+Saisie!BS20+(Saisie!BS33*5)+Saisie!BS66+(Saisie!BS68*4))","v":0},{"$f":"Saisie!BT131/(26+(Saisie!BT4*10)+Saisie!BT20+(Saisie!BT33*5)+Saisie!BT66+(Saisie!BT68*4))","v":0},{"$f":"Saisie!BU131/(26+(Saisie!BU4*10)+Saisie!BU20+(Saisie!BU33*5)+Saisie!BU66+(Saisie!BU68*4))","v":0},{"$f":"Saisie!BV131/(26+(Saisie!BV4*10)+Saisie!BV20+(Saisie!BV33*5)+Saisie!BV66+(Saisie!BV68*4))","v":0},{"$f":"Saisie!BW131/(26+(Saisie!BW4*10)+Saisie!BW20+(Saisie!BW33*5)+Saisie!BW66+(Saisie!BW68*4))","v":0},{"$f":"Saisie!BX131/(26+(Saisie!BX4*10)+Saisie!BX20+(Saisie!BX33*5)+Saisie!BX66+(Saisie!BX68*4))","v":0},{"$f":"Saisie!BY131/(26+(Saisie!BY4*10)+Saisie!BY20+(Saisie!BY33*5)+Saisie!BY66+(Saisie!BY68*4))","v":0},{"$f":"Saisie!BZ131/(26+(Saisie!BZ4*10)+Saisie!BZ20+(Saisie!BZ33*5)+Saisie!BZ66+(Saisie!BZ68*4))","v":0},{"$f":"Saisie!CA131/(26+(Saisie!CA4*10)+Saisie!CA20+(Saisie!CA33*5)+Saisie!CA66+(Saisie!CA68*4))","v":0},{"$f":"Saisie!CB131/(26+(Saisie!CB4*10)+Saisie!CB20+(Saisie!CB33*5)+Saisie!CB66+(Saisie!CB68*4))","v":0},{"$f":"Saisie!CC131/(26+(Saisie!CC4*10)+Saisie!CC20+(Saisie!CC33*5)+Saisie!CC66+(Saisie!CC68*4))","v":0},{"$f":"Saisie!CD131/(26+(Saisie!CD4*10)+Saisie!CD20+(Saisie!CD33*5)+Saisie!CD66+(Saisie!CD68*4))","v":0},{"$f":"Saisie!CE131/(26+(Saisie!CE4*10)+Saisie!CE20+(Saisie!CE33*5)+Saisie!CE66+(Saisie!CE68*4))","v":0},{"$f":"Saisie!CF131/(26+(Saisie!CF4*10)+Saisie!CF20+(Saisie!CF33*5)+Saisie!CF66+(Saisie!CF68*4))","v":0},{"$f":"Saisie!CG131/(26+(Saisie!CG4*10)+Saisie!CG20+(Saisie!CG33*5)+Saisie!CG66+(Saisie!CG68*4))","v":0},{"$f":"Saisie!CH131/(26+(Saisie!CH4*10)+Saisie!CH20+(Saisie!CH33*5)+Saisie!CH66+(Saisie!CH68*4))","v":0},{"$f":"Saisie!CI131/(26+(Saisie!CI4*10)+Saisie!CI20+(Saisie!CI33*5)+Saisie!CI66+(Saisie!CI68*4))","v":0},{"$f":"Saisie!CJ131/(26+(Saisie!CJ4*10)+Saisie!CJ20+(Saisie!CJ33*5)+Saisie!CJ66+(Saisie!CJ68*4))","v":0},{"$f":"Saisie!CK131/(26+(Saisie!CK4*10)+Saisie!CK20+(Saisie!CK33*5)+Saisie!CK66+(Saisie!CK68*4))","v":0},{"$f":"Saisie!CL131/(26+(Saisie!CL4*10)+Saisie!CL20+(Saisie!CL33*5)+Saisie!CL66+(Saisie!CL68*4))","v":0},{"$f":"Saisie!CM131/(26+(Saisie!CM4*10)+Saisie!CM20+(Saisie!CM33*5)+Saisie!CM66+(Saisie!CM68*4))","v":0},{"$f":"Saisie!CN131/(26+(Saisie!CN4*10)+Saisie!CN20+(Saisie!CN33*5)+Saisie!CN66+(Saisie!CN68*4))","v":0},{"$f":"Saisie!CO131/(26+(Saisie!CO4*10)+Saisie!CO20+(Saisie!CO33*5)+Saisie!CO66+(Saisie!CO68*4))","v":0},{"$f":"Saisie!CP131/(26+(Saisie!CP4*10)+Saisie!CP20+(Saisie!CP33*5)+Saisie!CP66+(Saisie!CP68*4))","v":0},{"$f":"Saisie!CQ131/(26+(Saisie!CQ4*10)+Saisie!CQ20+(Saisie!CQ33*5)+Saisie!CQ66+(Saisie!CQ68*4))","v":0},{"$f":"Saisie!CR131/(26+(Saisie!CR4*10)+Saisie!CR20+(Saisie!CR33*5)+Saisie!CR66+(Saisie!CR68*4))","v":0},{"$f":"Saisie!CS131/(26+(Saisie!CS4*10)+Saisie!CS20+(Saisie!CS33*5)+Saisie!CS66+(Saisie!CS68*4))","v":0},{"$f":"Saisie!CT131/(26+(Saisie!CT4*10)+Saisie!CT20+(Saisie!CT33*5)+Saisie!CT66+(Saisie!CT68*4))","v":0},{"$f":"Saisie!CU131/(26+(Saisie!CU4*10)+Saisie!CU20+(Saisie!CU33*5)+Saisie!CU66+(Saisie!CU68*4))","v":0},{"$f":"Saisie!CV131/(26+(Saisie!CV4*10)+Saisie!CV20+(Saisie!CV33*5)+Saisie!CV66+(Saisie!CV68*4))","v":0},{"$f":"Saisie!CW131/(26+(Saisie!CW4*10)+Saisie!CW20+(Saisie!CW33*5)+Saisie!CW66+(Saisie!CW68*4))","v":0},{"$f":"Saisie!CX131/(26+(Saisie!CX4*10)+Saisie!CX20+(Saisie!CX33*5)+Saisie!CX66+(Saisie!CX68*4))","v":0},{"$f":"Saisie!CY131/(26+(Saisie!CY4*10)+Saisie!CY20+(Saisie!CY33*5)+Saisie!CY66+(Saisie!CY68*4))","v":0},{"$f":"Saisie!CZ131/(26+(Saisie!CZ4*10)+Saisie!CZ20+(Saisie!CZ33*5)+Saisie!CZ66+(Saisie!CZ68*4))","v":0}]
["          Total   ",{"$f":"SUM(Saisie!C128:C131)","v":0},{"$f":"IF(AND(OR(Saisie!C2>0,Saisie!C4>0,Saisie!C20>0,Saisie!C33>0,Saisie!C66>0,Saisie!C68>0),Saisie!C83>0,Saisie!C56>0),Saisie!C132/((Saisie!C2*32)+(Saisie!C4*20)+(Saisie!C20*11)+(Saisie!C33*31)+(Saisie!C66*2)+(Saisie!C68*12)),IF(AND(OR(Saisie!C2>0,Saisie!C4>0,Saisie!C20>0,Saisie!C33>0,Saisie!C66>0,Saisie!C68>0),Saisie!C83=0,Saisie!C56>0),Saisie!C132/((Saisie!C2*32)+(Saisie!C4*18)+(Saisie!C20*11)+(Saisie!C33*31)+(Saisie!C66*2)+(Saisie!C68*12)),IF(AND(OR(Saisie!C2>0,Saisie!C4>0,Saisie!C20>0,Saisie!C33>0,Saisie!C66>0,Saisie!C68>0),Saisie!C83>0,Saisie!C56=0),Saisie!C132/((Saisie!C2*32)+(Saisie!C4*20)+(Saisie!C20*11)+(Saisie!C33*28)+(Saisie!C66*2)+(Saisie!C68*12)),IF(AND(OR(Saisie!C2>0,Saisie!C4>0,Saisie!C20>0,Saisie!C33>0,Saisie!C66>0,Saisie!C68>0),Saisie!C83=0,Saisie!C56=0),Saisie!C132/((Saisie!C2*32)+(Saisie!C4*18)+(Saisie!C20*11)+(Saisie!C33*28)+(Saisie!C66*2)+(Saisie!C68*12)),\"-\"))))","v":"-"},{"$f":"Saisie!E132/(32+(IF(Saisie!E83>0,Saisie!E4*20,Saisie!E4*18))+(Saisie!E20*11)+(IF(Saisie!E56>0,Saisie!E33*31,Saisie!E33*28))+(Saisie!E66*2)+(Saisie!E68*12))","v":0},{"$f":"Saisie!F132/(32+(IF(Saisie!F83>0,Saisie!F4*20,Saisie!F4*18))+(Saisie!F20*11)+(IF(Saisie!F56>0,Saisie!F33*31,Saisie!F33*28))+(Saisie!F66*2)+(Saisie!F68*12))","v":0},{"$f":"Saisie!G132/(32+(IF(Saisie!G83>0,Saisie!G4*20,Saisie!G4*18))+(Saisie!G20*11)+(IF(Saisie!G56>0,Saisie!G33*31,Saisie!G33*28))+(Saisie!G66*2)+(Saisie!G68*12))","v":0},{"$f":"Saisie!H132/(32+(IF(Saisie!H83>0,Saisie!H4*20,Saisie!H4*18))+(Saisie!H20*11)+(IF(Saisie!H56>0,Saisie!H33*31,Saisie!H33*28))+(Saisie!H66*2)+(Saisie!H68*12))","v":0},{"$f":"Saisie!I132/(32+(IF(Saisie!I83>0,Saisie!I4*20,Saisie!I4*18))+(Saisie!I20*11)+(IF(Saisie!I56>0,Saisie!I33*31,Saisie!I33*28))+(Saisie!I66*2)+(Saisie!I68*12))","v":0},{"$f":"Saisie!J132/(32+(IF(Saisie!J83>0,Saisie!J4*20,Saisie!J4*18))+(Saisie!J20*11)+(IF(Saisie!J56>0,Saisie!J33*31,Saisie!J33*28))+(Saisie!J66*2)+(Saisie!J68*12))","v":0},{"$f":"Saisie!K132/(32+(IF(Saisie!K83>0,Saisie!K4*20,Saisie!K4*18))+(Saisie!K20*11)+(IF(Saisie!K56>0,Saisie!K33*31,Saisie!K33*28))+(Saisie!K66*2)+(Saisie!K68*12))","v":0},{"$f":"Saisie!L132/(32+(IF(Saisie!L83>0,Saisie!L4*20,Saisie!L4*18))+(Saisie!L20*11)+(IF(Saisie!L56>0,Saisie!L33*31,Saisie!L33*28))+(Saisie!L66*2)+(Saisie!L68*12))","v":0},{"$f":"Saisie!M132/(32+(IF(Saisie!M83>0,Saisie!M4*20,Saisie!M4*18))+(Saisie!M20*11)+(IF(Saisie!M56>0,Saisie!M33*31,Saisie!M33*28))+(Saisie!M66*2)+(Saisie!M68*12))","v":0},{"$f":"Saisie!N132/(32+(IF(Saisie!N83>0,Saisie!N4*20,Saisie!N4*18))+(Saisie!N20*11)+(IF(Saisie!N56>0,Saisie!N33*31,Saisie!N33*28))+(Saisie!N66*2)+(Saisie!N68*12))","v":0},{"$f":"Saisie!O132/(32+(IF(Saisie!O83>0,Saisie!O4*20,Saisie!O4*18))+(Saisie!O20*11)+(IF(Saisie!O56>0,Saisie!O33*31,Saisie!O33*28))+(Saisie!O66*2)+(Saisie!O68*12))","v":0},{"$f":"Saisie!P132/(32+(IF(Saisie!P83>0,Saisie!P4*20,Saisie!P4*18))+(Saisie!P20*11)+(IF(Saisie!P56>0,Saisie!P33*31,Saisie!P33*28))+(Saisie!P66*2)+(Saisie!P68*12))","v":0},{"$f":"Saisie!Q132/(32+(IF(Saisie!Q83>0,Saisie!Q4*20,Saisie!Q4*18))+(Saisie!Q20*11)+(IF(Saisie!Q56>0,Saisie!Q33*31,Saisie!Q33*28))+(Saisie!Q66*2)+(Saisie!Q68*12))","v":0},{"$f":"Saisie!R132/(32+(IF(Saisie!R83>0,Saisie!R4*20,Saisie!R4*18))+(Saisie!R20*11)+(IF(Saisie!R56>0,Saisie!R33*31,Saisie!R33*28))+(Saisie!R66*2)+(Saisie!R68*12))","v":0},{"$f":"Saisie!S132/(32+(IF(Saisie!S83>0,Saisie!S4*20,Saisie!S4*18))+(Saisie!S20*11)+(IF(Saisie!S56>0,Saisie!S33*31,Saisie!S33*28))+(Saisie!S66*2)+(Saisie!S68*12))","v":0},{"$f":"Saisie!T132/(32+(IF(Saisie!T83>0,Saisie!T4*20,Saisie!T4*18))+(Saisie!T20*11)+(IF(Saisie!T56>0,Saisie!T33*31,Saisie!T33*28))+(Saisie!T66*2)+(Saisie!T68*12))","v":0},{"$f":"Saisie!U132/(32+(IF(Saisie!U83>0,Saisie!U4*20,Saisie!U4*18))+(Saisie!U20*11)+(IF(Saisie!U56>0,Saisie!U33*31,Saisie!U33*28))+(Saisie!U66*2)+(Saisie!U68*12))","v":0},{"$f":"Saisie!V132/(32+(IF(Saisie!V83>0,Saisie!V4*20,Saisie!V4*18))+(Saisie!V20*11)+(IF(Saisie!V56>0,Saisie!V33*31,Saisie!V33*28))+(Saisie!V66*2)+(Saisie!V68*12))","v":0},{"$f":"Saisie!W132/(32+(IF(Saisie!W83>0,Saisie!W4*20,Saisie!W4*18))+(Saisie!W20*11)+(IF(Saisie!W56>0,Saisie!W33*31,Saisie!W33*28))+(Saisie!W66*2)+(Saisie!W68*12))","v":0},{"$f":"Saisie!X132/(32+(IF(Saisie!X83>0,Saisie!X4*20,Saisie!X4*18))+(Saisie!X20*11)+(IF(Saisie!X56>0,Saisie!X33*31,Saisie!X33*28))+(Saisie!X66*2)+(Saisie!X68*12))","v":0},{"$f":"Saisie!Y132/(32+(IF(Saisie!Y83>0,Saisie!Y4*20,Saisie!Y4*18))+(Saisie!Y20*11)+(IF(Saisie!Y56>0,Saisie!Y33*31,Saisie!Y33*28))+(Saisie!Y66*2)+(Saisie!Y68*12))","v":0},{"$f":"Saisie!Z132/(32+(IF(Saisie!Z83>0,Saisie!Z4*20,Saisie!Z4*18))+(Saisie!Z20*11)+(IF(Saisie!Z56>0,Saisie!Z33*31,Saisie!Z33*28))+(Saisie!Z66*2)+(Saisie!Z68*12))","v":0},{"$f":"Saisie!AA132/(32+(IF(Saisie!AA83>0,Saisie!AA4*20,Saisie!AA4*18))+(Saisie!AA20*11)+(IF(Saisie!AA56>0,Saisie!AA33*31,Saisie!AA33*28))+(Saisie!AA66*2)+(Saisie!AA68*12))","v":0},{"$f":"Saisie!AB132/(32+(IF(Saisie!AB83>0,Saisie!AB4*20,Saisie!AB4*18))+(Saisie!AB20*11)+(IF(Saisie!AB56>0,Saisie!AB33*31,Saisie!AB33*28))+(Saisie!AB66*2)+(Saisie!AB68*12))","v":0},{"$f":"Saisie!AC132/(32+(IF(Saisie!AC83>0,Saisie!AC4*20,Saisie!AC4*18))+(Saisie!AC20*11)+(IF(Saisie!AC56>0,Saisie!AC33*31,Saisie!AC33*28))+(Saisie!AC66*2)+(Saisie!AC68*12))","v":0},{"$f":"Saisie!AD132/(32+(IF(Saisie!AD83>0,Saisie!AD4*20,Saisie!AD4*18))+(Saisie!AD20*11)+(IF(Saisie!AD56>0,Saisie!AD33*31,Saisie!AD33*28))+(Saisie!AD66*2)+(Saisie!AD68*12))","v":0},{"$f":"Saisie!AE132/(32+(IF(Saisie!AE83>0,Saisie!AE4*20,Saisie!AE4*18))+(Saisie!AE20*11)+(IF(Saisie!AE56>0,Saisie!AE33*31,Saisie!AE33*28))+(Saisie!AE66*2)+(Saisie!AE68*12))","v":0},{"$f":"Saisie!AF132/(32+(IF(Saisie!AF83>0,Saisie!AF4*20,Saisie!AF4*18))+(Saisie!AF20*11)+(IF(Saisie!AF56>0,Saisie!AF33*31,Saisie!AF33*28))+(Saisie!AF66*2)+(Saisie!AF68*12))","v":0},{"$f":"Saisie!AG132/(32+(IF(Saisie!AG83>0,Saisie!AG4*20,Saisie!AG4*18))+(Saisie!AG20*11)+(IF(Saisie!AG56>0,Saisie!AG33*31,Saisie!AG33*28))+(Saisie!AG66*2)+(Saisie!AG68*12))","v":0},{"$f":"Saisie!AH132/(32+(IF(Saisie!AH83>0,Saisie!AH4*20,Saisie!AH4*18))+(Saisie!AH20*11)+(IF(Saisie!AH56>0,Saisie!AH33*31,Saisie!AH33*28))+(Saisie!AH66*2)+(Saisie!AH68*12))","v":0},{"$f":"Saisie!AI132/(32+(IF(Saisie!AI83>0,Saisie!AI4*20,Saisie!AI4*18))+(Saisie!AI20*11)+(IF(Saisie!AI56>0,Saisie!AI33*31,Saisie!AI33*28))+(Saisie!AI66*2)+(Saisie!AI68*12))","v":0},{"$f":"Saisie!AJ132/(32+(IF(Saisie!AJ83>0,Saisie!AJ4*20,Saisie!AJ4*18))+(Saisie!AJ20*11)+(IF(Saisie!AJ56>0,Saisie!AJ33*31,Saisie!AJ33*28))+(Saisie!AJ66*2)+(Saisie!AJ68*12))","v":0},{"$f":"Saisie!AK132/(32+(IF(Saisie!AK83>0,Saisie!AK4*20,Saisie!AK4*18))+(Saisie!AK20*11)+(IF(Saisie!AK56>0,Saisie!AK33*31,Saisie!AK33*28))+(Saisie!AK66*2)+(Saisie!AK68*12))","v":0},{"$f":"Saisie!AL132/(32+(IF(Saisie!AL83>0,Saisie!AL4*20,Saisie!AL4*18))+(Saisie!AL20*11)+(IF(Saisie!AL56>0,Saisie!AL33*31,Saisie!AL33*28))+(Saisie!AL66*2)+(Saisie!AL68*12))","v":0},{"$f":"Saisie!AM132/(32+(IF(Saisie!AM83>0,Saisie!AM4*20,Saisie!AM4*18))+(Saisie!AM20*11)+(IF(Saisie!AM56>0,Saisie!AM33*31,Saisie!AM33*28))+(Saisie!AM66*2)+(Saisie!AM68*12))","v":0},{"$f":"Saisie!AN132/(32+(IF(Saisie!AN83>0,Saisie!AN4*20,Saisie!AN4*18))+(Saisie!AN20*11)+(IF(Saisie!AN56>0,Saisie!AN33*31,Saisie!AN33*28))+(Saisie!AN66*2)+(Saisie!AN68*12))","v":0},{"$f":"Saisie!AO132/(32+(IF(Saisie!AO83>0,Saisie!AO4*20,Saisie!AO4*18))+(Saisie!AO20*11)+(IF(Saisie!AO56>0,Saisie!AO33*31,Saisie!AO33*28))+(Saisie!AO66*2)+(Saisie!AO68*12))","v":0},{"$f":"Saisie!AP132/(32+(IF(Saisie!AP83>0,Saisie!AP4*20,Saisie!AP4*18))+(Saisie!AP20*11)+(IF(Saisie!AP56>0,Saisie!AP33*31,Saisie!AP33*28))+(Saisie!AP66*2)+(Saisie!AP68*12))","v":0},{"$f":"Saisie!AQ132/(32+(IF(Saisie!AQ83>0,Saisie!AQ4*20,Saisie!AQ4*18))+(Saisie!AQ20*11)+(IF(Saisie!AQ56>0,Saisie!AQ33*31,Saisie!AQ33*28))+(Saisie!AQ66*2)+(Saisie!AQ68*12))","v":0},{"$f":"Saisie!AR132/(32+(IF(Saisie!AR83>0,Saisie!AR4*20,Saisie!AR4*18))+(Saisie!AR20*11)+(IF(Saisie!AR56>0,Saisie!AR33*31,Saisie!AR33*28))+(Saisie!AR66*2)+(Saisie!AR68*12))","v":0},{"$f":"Saisie!AS132/(32+(IF(Saisie!AS83>0,Saisie!AS4*20,Saisie!AS4*18))+(Saisie!AS20*11)+(IF(Saisie!AS56>0,Saisie!AS33*31,Saisie!AS33*28))+(Saisie!AS66*2)+(Saisie!AS68*12))","v":0},{"$f":"Saisie!AT132/(32+(IF(Saisie!AT83>0,Saisie!AT4*20,Saisie!AT4*18))+(Saisie!AT20*11)+(IF(Saisie!AT56>0,Saisie!AT33*31,Saisie!AT33*28))+(Saisie!AT66*2)+(Saisie!AT68*12))","v":0},{"$f":"Saisie!AU132/(32+(IF(Saisie!AU83>0,Saisie!AU4*20,Saisie!AU4*18))+(Saisie!AU20*11)+(IF(Saisie!AU56>0,Saisie!AU33*31,Saisie!AU33*28))+(Saisie!AU66*2)+(Saisie!AU68*12))","v":0},{"$f":"Saisie!AV132/(32+(IF(Saisie!AV83>0,Saisie!AV4*20,Saisie!AV4*18))+(Saisie!AV20*11)+(IF(Saisie!AV56>0,Saisie!AV33*31,Saisie!AV33*28))+(Saisie!AV66*2)+(Saisie!AV68*12))","v":0},{"$f":"Saisie!AW132/(32+(IF(Saisie!AW83>0,Saisie!AW4*20,Saisie!AW4*18))+(Saisie!AW20*11)+(IF(Saisie!AW56>0,Saisie!AW33*31,Saisie!AW33*28))+(Saisie!AW66*2)+(Saisie!AW68*12))","v":0},{"$f":"Saisie!AX132/(32+(IF(Saisie!AX83>0,Saisie!AX4*20,Saisie!AX4*18))+(Saisie!AX20*11)+(IF(Saisie!AX56>0,Saisie!AX33*31,Saisie!AX33*28))+(Saisie!AX66*2)+(Saisie!AX68*12))","v":0},{"$f":"Saisie!AY132/(32+(IF(Saisie!AY83>0,Saisie!AY4*20,Saisie!AY4*18))+(Saisie!AY20*11)+(IF(Saisie!AY56>0,Saisie!AY33*31,Saisie!AY33*28))+(Saisie!AY66*2)+(Saisie!AY68*12))","v":0},{"$f":"Saisie!AZ132/(32+(IF(Saisie!AZ83>0,Saisie!AZ4*20,Saisie!AZ4*18))+(Saisie!AZ20*11)+(IF(Saisie!AZ56>0,Saisie!AZ33*31,Saisie!AZ33*28))+(Saisie!AZ66*2)+(Saisie!AZ68*12))","v":0},{"$f":"Saisie!BA132/(32+(IF(Saisie!BA83>0,Saisie!BA4*20,Saisie!BA4*18))+(Saisie!BA20*11)+(IF(Saisie!BA56>0,Saisie!BA33*31,Saisie!BA33*28))+(Saisie!BA66*2)+(Saisie!BA68*12))","v":0},{"$f":"Saisie!BB132/(32+(IF(Saisie!BB83>0,Saisie!BB4*20,Saisie!BB4*18))+(Saisie!BB20*11)+(IF(Saisie!BB56>0,Saisie!BB33*31,Saisie!BB33*28))+(Saisie!BB66*2)+(Saisie!BB68*12))","v":0},{"$f":"Saisie!BC132/(32+(IF(Saisie!BC83>0,Saisie!BC4*20,Saisie!BC4*18))+(Saisie!BC20*11)+(IF(Saisie!BC56>0,Saisie!BC33*31,Saisie!BC33*28))+(Saisie!BC66*2)+(Saisie!BC68*12))","v":0},{"$f":"Saisie!BD132/(32+(IF(Saisie!BD83>0,Saisie!BD4*20,Saisie!BD4*18))+(Saisie!BD20*11)+(IF(Saisie!BD56>0,Saisie!BD33*31,Saisie!BD33*28))+(Saisie!BD66*2)+(Saisie!BD68*12))","v":0},{"$f":"Saisie!BE132/(32+(IF(Saisie!BE83>0,Saisie!BE4*20,Saisie!BE4*18))+(Saisie!BE20*11)+(IF(Saisie!BE56>0,Saisie!BE33*31,Saisie!BE33*28))+(Saisie!BE66*2)+(Saisie!BE68*12))","v":0},{"$f":"Saisie!BF132/(32+(IF(Saisie!BF83>0,Saisie!BF4*20,Saisie!BF4*18))+(Saisie!BF20*11)+(IF(Saisie!BF56>0,Saisie!BF33*31,Saisie!BF33*28))+(Saisie!BF66*2)+(Saisie!BF68*12))","v":0},{"$f":"Saisie!BG132/(32+(IF(Saisie!BG83>0,Saisie!BG4*20,Saisie!BG4*18))+(Saisie!BG20*11)+(IF(Saisie!BG56>0,Saisie!BG33*31,Saisie!BG33*28))+(Saisie!BG66*2)+(Saisie!BG68*12))","v":0},{"$f":"Saisie!BH132/(32+(IF(Saisie!BH83>0,Saisie!BH4*20,Saisie!BH4*18))+(Saisie!BH20*11)+(IF(Saisie!BH56>0,Saisie!BH33*31,Saisie!BH33*28))+(Saisie!BH66*2)+(Saisie!BH68*12))","v":0},{"$f":"Saisie!BI132/(32+(IF(Saisie!BI83>0,Saisie!BI4*20,Saisie!BI4*18))+(Saisie!BI20*11)+(IF(Saisie!BI56>0,Saisie!BI33*31,Saisie!BI33*28))+(Saisie!BI66*2)+(Saisie!BI68*12))","v":0},{"$f":"Saisie!BJ132/(32+(IF(Saisie!BJ83>0,Saisie!BJ4*20,Saisie!BJ4*18))+(Saisie!BJ20*11)+(IF(Saisie!BJ56>0,Saisie!BJ33*31,Saisie!BJ33*28))+(Saisie!BJ66*2)+(Saisie!BJ68*12))","v":0},{"$f":"Saisie!BK132/(32+(IF(Saisie!BK83>0,Saisie!BK4*20,Saisie!BK4*18))+(Saisie!BK20*11)+(IF(Saisie!BK56>0,Saisie!BK33*31,Saisie!BK33*28))+(Saisie!BK66*2)+(Saisie!BK68*12))","v":0},{"$f":"Saisie!BL132/(32+(IF(Saisie!BL83>0,Saisie!BL4*20,Saisie!BL4*18))+(Saisie!BL20*11)+(IF(Saisie!BL56>0,Saisie!BL33*31,Saisie!BL33*28))+(Saisie!BL66*2)+(Saisie!BL68*12))","v":0},{"$f":"Saisie!BM132/(32+(IF(Saisie!BM83>0,Saisie!BM4*20,Saisie!BM4*18))+(Saisie!BM20*11)+(IF(Saisie!BM56>0,Saisie!BM33*31,Saisie!BM33*28))+(Saisie!BM66*2)+(Saisie!BM68*12))","v":0},{"$f":"Saisie!BN132/(32+(IF(Saisie!BN83>0,Saisie!BN4*20,Saisie!BN4*18))+(Saisie!BN20*11)+(IF(Saisie!BN56>0,Saisie!BN33*31,Saisie!BN33*28))+(Saisie!BN66*2)+(Saisie!BN68*12))","v":0},{"$f":"Saisie!BO132/(32+(IF(Saisie!BO83>0,Saisie!BO4*20,Saisie!BO4*18))+(Saisie!BO20*11)+(IF(Saisie!BO56>0,Saisie!BO33*31,Saisie!BO33*28))+(Saisie!BO66*2)+(Saisie!BO68*12))","v":0},{"$f":"Saisie!BP132/(32+(IF(Saisie!BP83>0,Saisie!BP4*20,Saisie!BP4*18))+(Saisie!BP20*11)+(IF(Saisie!BP56>0,Saisie!BP33*31,Saisie!BP33*28))+(Saisie!BP66*2)+(Saisie!BP68*12))","v":0},{"$f":"Saisie!BQ132/(32+(IF(Saisie!BQ83>0,Saisie!BQ4*20,Saisie!BQ4*18))+(Saisie!BQ20*11)+(IF(Saisie!BQ56>0,Saisie!BQ33*31,Saisie!BQ33*28))+(Saisie!BQ66*2)+(Saisie!BQ68*12))","v":0},{"$f":"Saisie!BR132/(32+(IF(Saisie!BR83>0,Saisie!BR4*20,Saisie!BR4*18))+(Saisie!BR20*11)+(IF(Saisie!BR56>0,Saisie!BR33*31,Saisie!BR33*28))+(Saisie!BR66*2)+(Saisie!BR68*12))","v":0},{"$f":"Saisie!BS132/(32+(IF(Saisie!BS83>0,Saisie!BS4*20,Saisie!BS4*18))+(Saisie!BS20*11)+(IF(Saisie!BS56>0,Saisie!BS33*31,Saisie!BS33*28))+(Saisie!BS66*2)+(Saisie!BS68*12))","v":0},{"$f":"Saisie!BT132/(32+(IF(Saisie!BT83>0,Saisie!BT4*20,Saisie!BT4*18))+(Saisie!BT20*11)+(IF(Saisie!BT56>0,Saisie!BT33*31,Saisie!BT33*28))+(Saisie!BT66*2)+(Saisie!BT68*12))","v":0},{"$f":"Saisie!BU132/(32+(IF(Saisie!BU83>0,Saisie!BU4*20,Saisie!BU4*18))+(Saisie!BU20*11)+(IF(Saisie!BU56>0,Saisie!BU33*31,Saisie!BU33*28))+(Saisie!BU66*2)+(Saisie!BU68*12))","v":0},{"$f":"Saisie!BV132/(32+(IF(Saisie!BV83>0,Saisie!BV4*20,Saisie!BV4*18))+(Saisie!BV20*11)+(IF(Saisie!BV56>0,Saisie!BV33*31,Saisie!BV33*28))+(Saisie!BV66*2)+(Saisie!BV68*12))","v":0},{"$f":"Saisie!BW132/(32+(IF(Saisie!BW83>0,Saisie!BW4*20,Saisie!BW4*18))+(Saisie!BW20*11)+(IF(Saisie!BW56>0,Saisie!BW33*31,Saisie!BW33*28))+(Saisie!BW66*2)+(Saisie!BW68*12))","v":0},{"$f":"Saisie!BX132/(32+(IF(Saisie!BX83>0,Saisie!BX4*20,Saisie!BX4*18))+(Saisie!BX20*11)+(IF(Saisie!BX56>0,Saisie!BX33*31,Saisie!BX33*28))+(Saisie!BX66*2)+(Saisie!BX68*12))","v":0},{"$f":"Saisie!BY132/(32+(IF(Saisie!BY83>0,Saisie!BY4*20,Saisie!BY4*18))+(Saisie!BY20*11)+(IF(Saisie!BY56>0,Saisie!BY33*31,Saisie!BY33*28))+(Saisie!BY66*2)+(Saisie!BY68*12))","v":0},{"$f":"Saisie!BZ132/(32+(IF(Saisie!BZ83>0,Saisie!BZ4*20,Saisie!BZ4*18))+(Saisie!BZ20*11)+(IF(Saisie!BZ56>0,Saisie!BZ33*31,Saisie!BZ33*28))+(Saisie!BZ66*2)+(Saisie!BZ68*12))","v":0},{"$f":"Saisie!CA132/(32+(IF(Saisie!CA83>0,Saisie!CA4*20,Saisie!CA4*18))+(Saisie!CA20*11)+(IF(Saisie!CA56>0,Saisie!CA33*31,Saisie!CA33*28))+(Saisie!CA66*2)+(Saisie!CA68*12))","v":0},{"$f":"Saisie!CB132/(32+(IF(Saisie!CB83>0,Saisie!CB4*20,Saisie!CB4*18))+(Saisie!CB20*11)+(IF(Saisie!CB56>0,Saisie!CB33*31,Saisie!CB33*28))+(Saisie!CB66*2)+(Saisie!CB68*12))","v":0},{"$f":"Saisie!CC132/(32+(IF(Saisie!CC83>0,Saisie!CC4*20,Saisie!CC4*18))+(Saisie!CC20*11)+(IF(Saisie!CC56>0,Saisie!CC33*31,Saisie!CC33*28))+(Saisie!CC66*2)+(Saisie!CC68*12))","v":0},{"$f":"Saisie!CD132/(32+(IF(Saisie!CD83>0,Saisie!CD4*20,Saisie!CD4*18))+(Saisie!CD20*11)+(IF(Saisie!CD56>0,Saisie!CD33*31,Saisie!CD33*28))+(Saisie!CD66*2)+(Saisie!CD68*12))","v":0},{"$f":"Saisie!CE132/(32+(IF(Saisie!CE83>0,Saisie!CE4*20,Saisie!CE4*18))+(Saisie!CE20*11)+(IF(Saisie!CE56>0,Saisie!CE33*31,Saisie!CE33*28))+(Saisie!CE66*2)+(Saisie!CE68*12))","v":0},{"$f":"Saisie!CF132/(32+(IF(Saisie!CF83>0,Saisie!CF4*20,Saisie!CF4*18))+(Saisie!CF20*11)+(IF(Saisie!CF56>0,Saisie!CF33*31,Saisie!CF33*28))+(Saisie!CF66*2)+(Saisie!CF68*12))","v":0},{"$f":"Saisie!CG132/(32+(IF(Saisie!CG83>0,Saisie!CG4*20,Saisie!CG4*18))+(Saisie!CG20*11)+(IF(Saisie!CG56>0,Saisie!CG33*31,Saisie!CG33*28))+(Saisie!CG66*2)+(Saisie!CG68*12))","v":0},{"$f":"Saisie!CH132/(32+(IF(Saisie!CH83>0,Saisie!CH4*20,Saisie!CH4*18))+(Saisie!CH20*11)+(IF(Saisie!CH56>0,Saisie!CH33*31,Saisie!CH33*28))+(Saisie!CH66*2)+(Saisie!CH68*12))","v":0},{"$f":"Saisie!CI132/(32+(IF(Saisie!CI83>0,Saisie!CI4*20,Saisie!CI4*18))+(Saisie!CI20*11)+(IF(Saisie!CI56>0,Saisie!CI33*31,Saisie!CI33*28))+(Saisie!CI66*2)+(Saisie!CI68*12))","v":0},{"$f":"Saisie!CJ132/(32+(IF(Saisie!CJ83>0,Saisie!CJ4*20,Saisie!CJ4*18))+(Saisie!CJ20*11)+(IF(Saisie!CJ56>0,Saisie!CJ33*31,Saisie!CJ33*28))+(Saisie!CJ66*2)+(Saisie!CJ68*12))","v":0},{"$f":"Saisie!CK132/(32+(IF(Saisie!CK83>0,Saisie!CK4*20,Saisie!CK4*18))+(Saisie!CK20*11)+(IF(Saisie!CK56>0,Saisie!CK33*31,Saisie!CK33*28))+(Saisie!CK66*2)+(Saisie!CK68*12))","v":0},{"$f":"Saisie!CL132/(32+(IF(Saisie!CL83>0,Saisie!CL4*20,Saisie!CL4*18))+(Saisie!CL20*11)+(IF(Saisie!CL56>0,Saisie!CL33*31,Saisie!CL33*28))+(Saisie!CL66*2)+(Saisie!CL68*12))","v":0},{"$f":"Saisie!CM132/(32+(IF(Saisie!CM83>0,Saisie!CM4*20,Saisie!CM4*18))+(Saisie!CM20*11)+(IF(Saisie!CM56>0,Saisie!CM33*31,Saisie!CM33*28))+(Saisie!CM66*2)+(Saisie!CM68*12))","v":0},{"$f":"Saisie!CN132/(32+(IF(Saisie!CN83>0,Saisie!CN4*20,Saisie!CN4*18))+(Saisie!CN20*11)+(IF(Saisie!CN56>0,Saisie!CN33*31,Saisie!CN33*28))+(Saisie!CN66*2)+(Saisie!CN68*12))","v":0},{"$f":"Saisie!CO132/(32+(IF(Saisie!CO83>0,Saisie!CO4*20,Saisie!CO4*18))+(Saisie!CO20*11)+(IF(Saisie!CO56>0,Saisie!CO33*31,Saisie!CO33*28))+(Saisie!CO66*2)+(Saisie!CO68*12))","v":0},{"$f":"Saisie!CP132/(32+(IF(Saisie!CP83>0,Saisie!CP4*20,Saisie!CP4*18))+(Saisie!CP20*11)+(IF(Saisie!CP56>0,Saisie!CP33*31,Saisie!CP33*28))+(Saisie!CP66*2)+(Saisie!CP68*12))","v":0},{"$f":"Saisie!CQ132/(32+(IF(Saisie!CQ83>0,Saisie!CQ4*20,Saisie!CQ4*18))+(Saisie!CQ20*11)+(IF(Saisie!CQ56>0,Saisie!CQ33*31,Saisie!CQ33*28))+(Saisie!CQ66*2)+(Saisie!CQ68*12))","v":0},{"$f":"Saisie!CR132/(32+(IF(Saisie!CR83>0,Saisie!CR4*20,Saisie!CR4*18))+(Saisie!CR20*11)+(IF(Saisie!CR56>0,Saisie!CR33*31,Saisie!CR33*28))+(Saisie!CR66*2)+(Saisie!CR68*12))","v":0},{"$f":"Saisie!CS132/(32+(IF(Saisie!CS83>0,Saisie!CS4*20,Saisie!CS4*18))+(Saisie!CS20*11)+(IF(Saisie!CS56>0,Saisie!CS33*31,Saisie!CS33*28))+(Saisie!CS66*2)+(Saisie!CS68*12))","v":0},{"$f":"Saisie!CT132/(32+(IF(Saisie!CT83>0,Saisie!CT4*20,Saisie!CT4*18))+(Saisie!CT20*11)+(IF(Saisie!CT56>0,Saisie!CT33*31,Saisie!CT33*28))+(Saisie!CT66*2)+(Saisie!CT68*12))","v":0},{"$f":"Saisie!CU132/(32+(IF(Saisie!CU83>0,Saisie!CU4*20,Saisie!CU4*18))+(Saisie!CU20*11)+(IF(Saisie!CU56>0,Saisie!CU33*31,Saisie!CU33*28))+(Saisie!CU66*2)+(Saisie!CU68*12))","v":0},{"$f":"Saisie!CV132/(32+(IF(Saisie!CV83>0,Saisie!CV4*20,Saisie!CV4*18))+(Saisie!CV20*11)+(IF(Saisie!CV56>0,Saisie!CV33*31,Saisie!CV33*28))+(Saisie!CV66*2)+(Saisie!CV68*12))","v":0},{"$f":"Saisie!CW132/(32+(IF(Saisie!CW83>0,Saisie!CW4*20,Saisie!CW4*18))+(Saisie!CW20*11)+(IF(Saisie!CW56>0,Saisie!CW33*31,Saisie!CW33*28))+(Saisie!CW66*2)+(Saisie!CW68*12))","v":0},{"$f":"Saisie!CX132/(32+(IF(Saisie!CX83>0,Saisie!CX4*20,Saisie!CX4*18))+(Saisie!CX20*11)+(IF(Saisie!CX56>0,Saisie!CX33*31,Saisie!CX33*28))+(Saisie!CX66*2)+(Saisie!CX68*12))","v":0},{"$f":"Saisie!CY132/(32+(IF(Saisie!CY83>0,Saisie!CY4*20,Saisie!CY4*18))+(Saisie!CY20*11)+(IF(Saisie!CY56>0,Saisie!CY33*31,Saisie!CY33*28))+(Saisie!CY66*2)+(Saisie!CY68*12))","v":0},{"$f":"Saisie!CZ132/(32+(IF(Saisie!CZ83>0,Saisie!CZ4*20,Saisie!CZ4*18))+(Saisie!CZ20*11)+(IF(Saisie!CZ56>0,Saisie!CZ33*31,Saisie!CZ33*28))+(Saisie!CZ66*2)+(Saisie!CZ68*12))","v":0}]