{"text_format":"1","workbook":"xlsx","n_sheets":37,"sheets":["Avertissement","Menu","Rapport","Renseignements_Etablissement","Etab","Fiches_Services","SScore","Fiches_Utilisateurs_Service#1","Score1","Poster_Service#1","Fiches_Utilisateurs_Service#2","Score2","Poster_Service#2","Fiches_Utilisateurs_Service#3","Score3","Poster_Service#3","Fiches_Utilisateurs_Service#4","Score4","Poster_Service#4","Fiches_Utilisateurs_Service#5","Score5","Poster_Service#5","Fiches_Utilisateurs_Service#6","Score6","Poster_Service#6","Fiches_Utilisateurs_Service#7","Score7","Poster_Service#7","Fiches_Utilisateurs_Service#8","Score8","Poster_Service#8","Fiches_Utilisateurs_Service#9","Score9","Poster_Service#9","Fiches_Utilisateurs_Service#10","Score10","Poster_Service#10"],"not_rendered":{"charts":10,"images":2,"macros":1,"external_links":0,"defined_names":296,"comments":0,"pivot_tables":0},"unopened":[],"bounds":{"document_bytes":16777216,"sheet_cells":100000,"rows_first":2000,"rows_last":500,"rows_between":2000,"halvings":0,"cell_chars":16384,"cell_head_chars":4096},"cells_cut":0,"cells_raw":0,"read":"whole","date_system":"1900"}

{"sheet":"Avertissement","index":0,"n_rows":25,"n_cols":11,"rows_kept":25,"cut":false,"hidden":false,"merged":[[0,2,0,9],[1,2,1,9],[4,1,4,10],[18,0,18,11],[14,0,14,10],[12,0,12,11],[11,0,11,11],[13,0,13,10],[15,0,15,11],[16,0,16,11]]}
[null,null,"Evaluation de la fonction linge"]
[null,null,"en établissement de santé et en EHPAD"]
[]
[]
[null,"A LIRE AVANT DE COMMENCER LA SAISIE DES DONNEES"]
[]
[null,null,null,"Cet outil vous permet:"]
[null,null,null,null,{"$f":"\"- de saisir les données recueillies\"","v":"- de saisir les données recueillies"}]
[null,null,null,null,{"$f":"\"- d'établir un rapport global\"","v":"- d'établir un rapport global"}]
[null,null,null,null,{"$f":"\"- d'établir un poster de résultats par service\"","v":"- d'établir un poster de résultats par service"}]
[]
["Avant de commencer la saisie informatique, vous devez lire attentivement le guide informatique. "]
[]
["ATTENTION: Les données ne peuvent être saisies que dans les cellules vert pâle"]
["La saisie est obligatoire pour tous les critères qui vous sont proposés"]
[]
[]
[]
["Pour commencer, cliquer sur l'onglet \"Menu\" situé en bas de l'écran ou sur le lien suivant:"]
[null,null,null,null,null,null,"MENU"]
[]
[]
[]
[null,"Assistance informatique:",null,null,null,"Anaïs MACHUT"]
[null,null,null,null,null,"anais.machut@chu-lyon.fr",null,null,null,null,"Cpias ARA 04 78 86 49 22"]

{"sheet":"Menu","index":1,"n_rows":35,"n_cols":6,"rows_kept":35,"cut":false,"hidden":false,"merged":[]}
[null,null,"Evaluation de la fonction linge"]
[null,null,"en établissement de santé et en EHPAD"]
[]
[]
[null,null,"Menu principal"]
[null,null,"Cliquer sur les liens (texte souligné en bleu) "]
[]
[]
[null,null,"Renseignements Etablissement"]
[]
[null,null,"Services (Fiche No 1)"]
[]
[null,null,"Fiches Services"]
[]
[null,"Service","Utilisateurs Service (Fiche No 2)"]
[]
[null,"#1","Fiches Utilisateurs Service #1"]
[null,null,null,null,"Etablissement:"]
[null,"#2","Fiches Utilisateurs Service #2"]
[null,null,null,null,"Nom:",{"$f":"IF(NOM<>\"\",NOM,\"A préciser\")","v":"A préciser"}]
[null,"#3","Fiches Utilisateurs Service #3"]
[]
[null,"#4","Fiches Utilisateurs Service #4"]
[]
[null,"#5","Fiches Utilisateurs Service #5"]
[]
[null,"#6","Fiches Utilisateurs Service #6"]
[]
[null,"#7","Fiches Utilisateurs Service #7"]
[]
[null,"#8","Fiches Utilisateurs Service #8"]
[]
[null,"#9","Fiches Utilisateurs Service #9"]
[]
[null,"#10","Fiches Utilisateurs Service #10"]

{"sheet":"Rapport","index":2,"n_rows":1188,"n_cols":14,"rows_kept":1188,"cut":false,"hidden":true,"merged":[[484,2,484,4],[484,7,484,8],[233,2,236,8],[230,2,230,4],[264,7,264,8],[265,2,265,4],[265,7,265,8],[263,2,263,3],[263,6,263,7],[481,7,481,8],[229,2,229,4],[229,7,229,8],[227,2,227,3],[231,2,231,4],[231,7,231,8],[164,0,164,9],[191,7,191,8],[218,0,218,9],[220,2,220,8],[212,7,212,8],[213,7,213,8],[185,7,185,8],[186,7,186,8],[187,7,187,8],[205,7,205,8],[109,0,109,9],[122,7,122,8],[123,7,123,8],[158,7,158,8],[157,2,157,4],[155,2,155,3],[110,0,110,9],[117,6,117,7],[118,6,118,7],[160,7,160,8],[120,2,120,4],[121,2,121,4],[122,2,122,4],[156,7,156,8],[159,7,159,8],[160,2,160,4],[159,2,159,4],[153,6,153,7],[21,2,21,4],[22,2,22,4],[49,7,49,8],[50,7,50,8],[33,2,33,3],[157,7,157,8],[34,2,34,4],[33,7,33,8],[34,7,34,8],[91,7,91,8],[57,0,57,9],[81,2,81,3],[83,2,83,3],[81,7,81,8],[60,0,60,9],[87,7,87,8],[89,7,89,8],[87,2,87,3],[89,2,89,3],[83,7,83,8],[85,7,85,8],[79,7,79,8],[79,2,79,3],[4,0,4,9],[7,0,7,9],[23,2,23,4],[25,2,28,8],[19,7,19,8],[20,7,20,8],[21,7,21,8],[22,7,22,8],[23,7,23,8],[20,2,20,4],[58,0,58,9],[77,2,77,3],[74,7,74,8],[77,7,77,8],[73,2,73,3],[119,7,119,8],[91,2,91,3],[93,2,93,3],[95,2,95,3],[93,7,93,8],[35,7,35,8],[47,2,47,3],[38,2,41,8],[47,7,47,8],[35,2,35,4],[48,2,48,3],[48,6,48,7],[36,7,36,8],[36,2,36,4],[52,7,52,8],[52,2,52,4],[51,7,51,8],[51,2,51,4],[50,2,50,4],[49,2,49,4],[194,7,194,8],[163,0,163,9],[199,7,199,8],[172,2,172,3],[172,6,172,7],[198,7,198,8],[185,2,185,3],[195,2,195,3],[195,6,195,7],[173,7,173,8],[112,2,112,8],[155,6,155,7],[158,2,158,4],[173,2,173,3],[166,2,166,8],[125,2,128,8],[120,7,120,8],[121,7,121,8],[119,2,119,3],[123,2,123,4],[1091,2,1091,3],[1081,0,1081,9],[411,2,411,3],[388,6,388,7],[388,2,388,3],[411,6,411,7],[479,2,479,3],[487,0,487,9],[488,0,488,9],[479,6,479,7],[490,2,490,8],[446,7,446,8],[447,2,447,4],[447,7,447,8],[449,2,452,8],[481,2,481,4],[480,7,480,8],[482,7,482,8],[483,2,483,4],[483,7,483,8],[482,2,482,4],[441,6,441,7],[434,0,434,9],[436,2,436,8],[477,6,477,7],[442,6,442,7],[443,7,443,8],[446,2,446,4],[193,7,193,8],[188,7,188,8],[189,7,189,8],[171,6,171,7],[192,7,192,8],[178,2,181,8],[174,7,174,8],[175,7,175,8],[176,7,176,8],[177,2,177,3],[210,7,210,8],[200,7,200,8],[207,7,207,8],[208,7,208,8],[209,7,209,8],[206,7,206,8],[201,7,201,8],[204,7,204,8],[211,7,211,8],[261,6,261,7],[225,6,225,7],[227,7,227,8],[217,0,217,9],[226,6,226,7],[230,7,230,8],[228,2,228,4],[228,7,228,8],[212,2,212,3],[213,2,213,3],[214,2,214,3],[214,7,214,8],[295,7,295,8],[266,2,266,4],[266,7,266,8],[271,0,271,9],[272,0,272,9],[267,2,267,4],[267,7,267,8],[268,2,268,4],[268,7,268,8],[280,2,280,3],[280,6,280,7],[279,6,279,7],[274,2,274,8],[312,7,312,8],[313,7,313,8],[307,7,307,8],[308,7,308,8],[282,7,282,8],[281,7,281,8],[286,2,289,8],[285,2,285,3],[293,7,293,8],[294,7,294,8],[306,7,306,8],[296,7,296,8],[333,6,333,7],[318,7,318,8],[319,7,319,8],[303,6,303,7],[314,7,314,8],[309,7,309,8],[430,2,430,3],[430,7,430,8],[338,2,338,4],[338,7,338,8],[427,7,427,8],[428,2,428,3],[428,7,428,8],[416,7,416,8],[417,7,417,8],[394,2,397,8],[369,6,369,7],[337,2,337,4],[337,7,337,8],[405,7,405,8],[407,7,407,8],[408,7,408,8],[409,7,409,8],[429,2,429,3],[429,7,429,8],[410,7,410,8],[420,7,420,8],[426,7,426,8],[415,7,415,8],[336,2,336,4],[336,7,336,8],[371,6,371,7],[403,7,403,8],[339,7,339,8],[382,2,382,8],[401,2,401,3],[401,7,401,8],[387,6,387,7],[334,6,334,7],[373,7,373,8],[341,2,344,8],[375,7,375,8],[376,2,376,4],[376,7,376,8],[374,2,374,4],[339,2,339,4],[335,2,335,3],[335,7,335,8],[371,2,371,3],[372,7,372,8],[393,2,393,3],[389,2,389,3],[389,7,389,8],[390,7,390,8],[391,7,391,8],[392,7,392,8],[373,2,373,4],[374,7,374,8],[424,7,424,8],[425,7,425,8],[421,7,421,8],[422,7,422,8],[380,0,380,9],[379,0,379,9],[404,7,404,8],[402,7,402,8],[414,7,414,8],[423,7,423,8],[375,2,375,4],[433,0,433,9],[509,2,509,3],[509,7,509,8],[510,7,510,8],[443,2,443,3],[444,2,444,4],[444,7,444,8],[445,2,445,4],[445,7,445,8],[522,7,522,8],[523,7,523,8],[524,7,524,8],[497,7,497,8],[498,7,498,8],[499,7,499,8],[500,7,500,8],[515,7,515,8],[516,7,516,8],[517,7,517,8],[525,7,525,8],[528,7,528,8],[529,7,529,8],[530,7,530,8],[531,7,531,8],[532,7,532,8],[533,7,533,8],[534,7,534,8],[535,7,535,8],[536,2,536,3],[536,7,536,8],[537,2,537,3],[537,7,537,8],[868,2,868,8],[873,6,873,7],[973,0,973,9],[874,6,874,7],[875,2,875,3],[875,7,875,8],[876,2,876,4],[876,7,876,8],[877,2,877,4],[877,7,877,8],[538,2,538,3],[538,7,538,8],[865,0,865,9],[866,0,866,9],[552,2,552,4],[552,7,552,8],[553,2,553,4],[553,7,553,8],[554,2,554,4],[554,7,554,8],[1053,7,1053,8],[1059,2,1059,3],[1059,6,1059,7],[1037,2,1037,3],[1037,7,1037,8],[1056,7,1056,8],[1057,7,1057,8],[1050,7,1050,8],[1163,7,1163,8],[1164,7,1164,8],[1094,7,1094,8],[1128,7,1128,8],[1148,7,1148,8],[1150,2,1153,8],[1145,2,1145,3],[1144,2,1144,3],[1165,7,1165,8],[1058,7,1058,8],[1062,7,1062,8],[1063,7,1063,8],[1064,7,1064,8],[1146,7,1146,8],[1065,7,1065,8],[1143,6,1143,7],[1089,6,1089,7],[1082,0,1082,9],[1084,2,1084,8],[1125,6,1125,7],[1090,6,1090,7],[1091,7,1091,8],[1092,2,1092,4],[1092,7,1092,8],[1093,2,1093,4],[1093,7,1093,8],[1095,2,1095,4],[1095,7,1095,8],[502,2,505,8],[518,7,518,8],[511,7,511,8],[512,7,512,8],[513,7,513,8],[501,2,501,3],[3,0,3,9],[6,0,6,9],[95,7,95,8],[497,2,497,3],[495,6,495,7],[300,7,300,8],[301,7,301,8],[302,7,302,8],[281,2,281,3],[303,2,303,3],[283,7,283,8],[284,7,284,8],[328,2,328,8],[315,7,315,8],[316,7,316,8],[317,7,317,8],[322,2,322,3],[297,7,297,8],[299,7,299,8],[293,2,293,3],[542,0,542,9],[544,2,544,8],[585,6,585,7],[325,0,325,9],[321,2,321,3],[321,7,321,8],[496,2,496,3],[496,6,496,7],[519,2,519,3],[519,6,519,7],[985,2,985,4],[985,7,985,8],[986,2,986,4],[322,7,322,8],[326,0,326,9],[320,2,320,3],[320,7,320,8],[974,0,974,9],[976,2,976,8],[541,0,541,9],[981,6,981,7],[982,6,982,7],[983,2,983,3],[983,7,983,8],[984,2,984,4],[984,7,984,8],[1097,2,1100,8],[1094,2,1094,4],[1127,2,1127,3],[1127,6,1127,7],[1129,2,1129,4],[1129,7,1129,8],[1130,2,1130,4],[1130,7,1130,8],[1131,2,1131,4],[1131,7,1131,8],[1132,2,1132,4],[1132,7,1132,8],[1135,0,1135,9],[1136,0,1136,9],[1138,2,1138,8],[1157,7,1157,8],[1157,2,1157,3],[1147,7,1147,8],[1144,6,1144,7],[1145,7,1145,8],[1170,7,1170,8],[1171,7,1171,8],[1149,2,1149,3],[1158,7,1158,8],[1159,7,1159,8],[1160,7,1160,8],[1161,7,1161,8],[1167,2,1167,3],[1167,6,1167,7],[1166,7,1166,8],[1172,7,1172,8],[1173,7,1173,8],[1176,7,1176,8],[1177,7,1177,8],[1182,7,1182,8],[1183,7,1183,8],[1178,7,1178,8],[1179,7,1179,8],[1180,7,1180,8],[1181,7,1181,8],[1184,2,1184,3],[1184,7,1184,8],[1185,2,1185,3],[1185,7,1185,8],[1186,2,1186,3],[1186,7,1186,8],[986,7,986,8],[987,2,987,4],[987,7,987,8],[989,2,992,8],[1019,2,1019,3],[1019,6,1019,7],[1017,6,1017,7],[1020,7,1020,8],[1021,2,1021,4],[1021,7,1021,8],[1022,2,1022,4],[1022,7,1022,8],[1023,2,1023,4],[1023,7,1023,8],[1024,2,1024,4],[1024,7,1024,8],[1027,0,1027,9],[1028,0,1028,9],[1030,2,1030,8],[1049,2,1049,3],[1049,7,1049,8],[1041,2,1041,3],[1042,2,1045,8],[1038,7,1038,8],[1039,7,1039,8],[1040,7,1040,8],[1035,6,1035,7],[1036,2,1036,3],[1068,7,1068,8],[1069,7,1069,8],[1051,7,1051,8],[1052,7,1052,8],[1036,6,1036,7],[1055,7,1055,8],[1070,7,1070,8],[1071,7,1071,8],[1072,7,1072,8],[1073,7,1073,8],[1074,7,1074,8],[1075,7,1075,8],[1076,2,1076,3],[1076,7,1076,8],[1077,2,1077,3],[1077,7,1077,8],[1078,2,1078,3],[1078,7,1078,8],[549,6,549,7],[550,6,550,7],[551,2,551,3],[551,7,551,8],[555,2,555,4],[555,7,555,8],[557,2,560,8],[587,2,587,3],[587,6,587,7],[588,7,588,8],[589,2,589,4],[589,7,589,8],[590,2,590,4],[590,7,590,8],[605,2,605,3],[605,7,605,8],[591,2,591,4],[591,7,591,8],[592,2,592,4],[592,7,592,8],[595,0,595,9],[596,0,596,9],[598,2,598,8],[617,2,617,3],[617,7,617,8],[603,6,603,7],[604,2,604,3],[604,6,604,7],[606,7,606,8],[607,7,607,8],[608,7,608,8],[609,2,609,3],[610,2,613,8],[630,7,630,8],[627,2,627,3],[627,6,627,7],[624,7,624,8],[625,7,625,8],[626,7,626,8],[623,7,623,8],[618,7,618,8],[619,7,619,8],[631,7,631,8],[632,7,632,8],[620,7,620,8],[621,7,621,8],[633,7,633,8],[636,7,636,8],[637,7,637,8],[638,7,638,8],[639,7,639,8],[640,7,640,8],[641,7,641,8],[642,7,642,8],[643,7,643,8],[644,2,644,3],[644,7,644,8],[645,2,645,3],[645,7,645,8],[646,2,646,3],[646,7,646,8],[878,2,878,4],[878,7,878,8],[879,2,879,4],[879,7,879,8],[768,2,768,4],[768,7,768,8],[769,2,769,4],[769,7,769,8],[803,2,803,3],[803,6,803,7],[881,2,884,8],[909,2,909,3],[909,6,909,7],[911,2,911,3],[911,6,911,7],[912,7,912,8],[913,2,913,4],[913,7,913,8],[914,2,914,4],[914,7,914,8],[915,2,915,4],[915,7,915,8],[944,7,944,8],[945,7,945,8],[930,7,930,8],[931,7,931,8],[932,7,932,8],[933,2,933,3],[928,6,928,7],[929,2,929,3],[916,2,916,4],[916,7,916,8],[919,0,919,9],[920,0,920,9],[948,7,948,8],[949,7,949,8],[934,2,937,8],[947,7,947,8],[922,2,922,8],[941,2,941,3],[941,7,941,8],[942,7,942,8],[927,6,927,7],[928,2,928,3],[969,2,969,3],[969,7,969,8],[950,7,950,8],[960,7,960,8],[961,7,961,8],[962,7,962,8],[963,7,963,8],[964,7,964,8],[951,2,951,3],[951,6,951,7],[966,7,966,8],[967,7,967,8],[968,2,968,3],[968,7,968,8],[929,7,929,8],[943,7,943,8],[957,7,957,8],[954,7,954,8],[955,7,955,8],[956,7,956,8],[757,0,757,9],[758,0,758,9],[760,2,760,8],[801,6,801,7],[765,6,765,7],[766,6,766,7],[767,2,767,3],[767,7,767,8],[770,2,770,4],[770,7,770,8],[771,2,771,4],[771,7,771,8],[773,2,776,8],[970,2,970,3],[970,7,970,8],[821,2,821,3],[821,7,821,8],[965,7,965,8],[820,2,820,3],[804,7,804,8],[805,2,805,4],[805,7,805,8],[806,2,806,4],[806,7,806,8],[807,2,807,4],[807,7,807,8],[808,2,808,4],[826,2,829,8],[808,7,808,8],[836,7,836,8],[837,7,837,8],[811,0,811,9],[812,0,812,9],[814,2,814,8],[833,2,833,3],[833,7,833,8],[819,6,819,7],[843,2,843,3],[843,6,843,7],[840,7,840,8],[841,7,841,8],[842,7,842,8],[820,6,820,7],[822,7,822,8],[823,7,823,8],[824,7,824,8],[825,2,825,3],[839,7,839,8],[834,7,834,8],[835,7,835,8],[847,7,847,8],[848,7,848,8],[849,7,849,8],[846,7,846,8],[852,7,852,8],[853,7,853,8],[854,7,854,8],[855,7,855,8],[856,7,856,8],[857,7,857,8],[858,7,858,8],[859,7,859,8],[860,2,860,3],[860,7,860,8],[861,2,861,3],[861,7,861,8],[862,2,862,3],[862,7,862,8],[649,0,649,9],[650,0,650,9],[652,2,652,8],[693,6,693,7],[657,6,657,7],[658,6,658,7],[659,2,659,3],[659,7,659,8],[660,2,660,4],[660,7,660,8],[661,2,661,4],[661,7,661,8],[662,2,662,4],[662,7,662,8],[663,2,663,4],[663,7,663,8],[665,2,668,8],[695,2,695,3],[695,6,695,7],[696,7,696,8],[697,2,697,4],[697,7,697,8],[698,2,698,4],[698,7,698,8],[713,2,713,3],[713,7,713,8],[699,2,699,4],[699,7,699,8],[700,2,700,4],[700,7,700,8],[703,0,703,9],[704,0,704,9],[706,2,706,8],[725,2,725,3],[725,7,725,8],[711,6,711,7],[712,2,712,3],[712,6,712,7],[714,7,714,8],[715,7,715,8],[716,7,716,8],[717,2,717,3],[718,2,721,8],[738,7,738,8],[735,2,735,3],[735,6,735,7],[732,7,732,8],[733,7,733,8],[734,7,734,8],[731,7,731,8],[726,7,726,8],[727,7,727,8],[739,7,739,8],[740,7,740,8],[728,7,728,8],[729,7,729,8],[741,7,741,8],[744,7,744,8],[745,7,745,8],[746,7,746,8],[747,7,747,8],[748,7,748,8],[754,2,754,3],[754,7,754,8],[749,7,749,8],[750,7,750,8],[751,7,751,8],[752,2,752,3],[752,7,752,8],[753,2,753,3],[753,7,753,8]]}
[]
[]
[]
["Evaluation de la fonction linge",null,null,null,null,null,null,null,null,null,null,"Pour imprimer le rapport:"]
["en établissement de santé et en EHPAD",null,null,null,null,null,null,null,null,null,null,"Menu \"Fichier\" puis \"Imprimer\""]
[]
["RESULTATS - ETABLISSEMENT"]
[]
[]
[null,null,null,"Etablissement:",{"$f":"IF(NOM=\"\",\"à préciser\",NOM)","v":"à préciser"}]
[null,null,null,null,null,"Nombre de services audités:",{"$f":"IF(SERVICES=0,\"à préciser\",SERVICES)","v":"à préciser"}]
[null,null,null,null,null,"Nombre total de services de l'établissement:",{"$f":"IF(TOTSERVICES=0,\"à préciser\",TOTSERVICES)","v":"à préciser"}]
[null,null,null,null,null,"Pourcentage de services audités:",{"$f":"IF(G12=\"à préciser\",\"à préciser\",(IF(G11=\"à préciser\",\"à préciser\",(G11/G12))))","v":"à préciser"}]
[null,null,null,null,null,"Nombre d'utilisateurs audités:",{"$f":"IF(UTILISATEURS=0,\"à préciser\",UTILISATEURS)","v":"à préciser"}]
[]
[]
[]
[null,null,"► FICHES \"SERVICE\" - Ensemble des services évalués de l'établissement"]
[]
[null,null,{"$f":"\"Services audités: \"&SERVICES","v":"Services audités: 0"},null,null,"Score obtenu","Score attendu","% d'objectifs atteints"]
[null,null,"Score gestion du linge sale",null,null,{"$f":"IF(SERVICES=0,\"non saisi\",(L21/SERVICES))","v":"non saisi"},16,{"$f":"IF(SERVICES=0,\"non saisi\",(F21/16))","v":"non saisi"},null,null,null,{"$f":"SScore!B98","v":0}]
[null,null,"Score gestion du linge propre",null,null,{"$f":"IF(SERVICES=0,\"non saisi\",(L22/SERVICES))","v":"non saisi"},12,{"$f":"IF(SERVICES=0,\"non saisi\",(F22/12))","v":"non saisi"},null,null,null,{"$f":"SScore!B104","v":0}]
[null,null,"Score bionettoyage et traçabilité",null,null,{"$f":"IF(SERVICES=0,\"non saisi\",(L23/SERVICES))","v":"non saisi"},12,{"$f":"IF(SERVICES=0,\"non saisi\",(F23/12))","v":"non saisi"},null,null,null,{"$f":"SScore!B109","v":0}]
[null,null,"Score total fiches Services",null,null,{"$f":"IF(SERVICES=0,\"non saisi\",(L24/SERVICES))","v":"non saisi"},40,{"$f":"IF(SERVICES=0,\"non saisi\",(F24/40))","v":"non saisi"},null,null,null,{"$f":"SScore!B111","v":0}]
[]
[null,null,{"$f":"IF(H24=\"non saisi\",\"\",(IF(H24>=75%,GLOBAL1,IF(H24>49%,GLOBAL2,GLOBAL3))))","v":""}]
[]
[]
[]
[]
[]
[null,null,"► FICHES \"UTILISATEUR\" - Ensemble des utilisateurs évalués de l'établissement"]
[]
[null,null,{"$f":"\"Utilisateurs audités: \"&UTILISATEURS","v":"Utilisateurs audités: 0"},null,null,"Score obtenu","Score attendu","% d'objectifs atteints"]
[null,null,"Score évacuation du linge sale",null,null,{"$f":"IF(UTILISATEURS=0,\"non saisi\",(L35/UTILISATEURS))","v":"non saisi"},16,{"$f":"IF(UTILISATEURS=0,\"non saisi\",(F35/16))","v":"non saisi"},null,null,null,{"$f":"SScore!B117","v":0}]
[null,null,"Score utilisation du linge propre",null,null,{"$f":"IF(UTILISATEURS=0,\"non saisi\",(L36/UTILISATEURS))","v":"non saisi"},4,{"$f":"IF(UTILISATEURS=0,\"non saisi\",(F36/4))","v":"non saisi"},null,null,null,{"$f":"SScore!B122","v":0},null,"Le score obtenu est faible."]
[null,null,"Score total fiches utilisateurs",null,null,{"$f":"IF(UTILISATEURS=0,\"non saisi\",(L37/UTILISATEURS))","v":"non saisi"},20,{"$f":"IF(UTILISATEURS=0,\"non saisi\",(F37/20))","v":"non saisi"},null,null,null,{"$f":"SScore!B124","v":0},{"$f":"SScore!B124","v":0}]
[]
[null,null,{"$f":"IF(H37=\"non saisi\",\"\",(IF(H37>=75%,UTIL1,IF(H37>49%,UTIL2,UTIL3))))","v":""}]
[]
[]
[]
[]
[null,null,null,null,null,null,null,null,null,null,null,null,null,"Vous obtenez un score compris entre 75% et 100% : ce résultat traduit que les professionnels respectent les bonnes pratiques. Néanmoins, quelques points peuvent être encore améliorés ou consolidés. Le détail des chapitres vous indiquera les axes de travail."]
[null,null,null,null,null,null,null,null,null,null,null,null,null,"Vous obtenez un score compris entre 75% et 100% : ce résultat traduit que l’établissement a conduit une politique qualité des prestations relatives au linge. Néanmoins, quelques points peuvent être encore améliorés ou consolidés. Le détail des chapitres vous indiquera les axes de travail."]
[null,null,null,null,null,null,null,null,null,null,null,null,null,"Vous obtenez un score compris entre 50% et 75% : l’établissement a mis en place une politique qualité des prestations relatives au linge, mais il persiste des axes d'amélioration qui doivent être explorés. Vous devez regarder les scores par chapitre et repérer les insuffisances afin de mettre en place les mesures d'amélioration."]
[null,null,null,null,null,null,null,null,null,null,null,null,null,"Vous obtenez un score inférieur à 50% : le score obtenu est faible. Il est important que l’établissement définisse de façon prioritaire un programme et des mesures appropriées pour assurer les meilleures conditions d’hygiène et de protection des patients et des personnels vis-à-vis du risque infectieux. Les résultats obtenus chapitre par chapitre vous aideront à les arrêter."]
[null,null,null,null,null,null,null,null,null,null,null,null,null,"Vous obtenez un score compris entre 75% et 100% : ce résultat traduit que le service a conduit une politique qualité des prestations relatives au linge. Néanmoins, quelques points peuvent être encore améliorés ou consolidés. Le détail des chapitres vous indiquera les axes de travail."]
[null,null,null,null,null,null,null,null,null,null,null,null,null,"Vous obtenez un score compris entre 50% et 75% : le service a mis en place une politique qualité des prestations relatives au linge, mais il persiste des axes d'amélioration qui doivent être explorés. Vous devez regarder les scores par chapitre et repérer les insuffisances afin de mettre en place les mesures d'amélioration."]
[null,null,null,null,null,null,null,null,null,null,null,null,null,"Vous obtenez un score inférieur à 50% : le score obtenu est faible. Il est important que le service définisse de façon prioritaire un programme et des mesures appropriées pour assurer les meilleures conditions d’hygiène et de protection des patients et des personnels vis-à-vis du risque infectieux. Les résultats obtenus chapitre par chapitre vous aideront à les arrêter."]
[]
[null,null,null,null,null,null,null,null,null,null,null,null,null,"Vous obtenez un score compris entre 50% et 75% : ce résultat traduit que les professionnels doivent améliorer leurs pratiques professionnelles. Les résultats sont à mettre en lien avec ceux du service afin d’analyser le lien avec l’organisation et envisager des actions d’amélioration."]
[null,null,null,null,null,null,null,null,null,null,null,null,null,"Vous obtenez un score inférieur à 50% : les résultats sont insuffisants ; ils doivent être analyser pour mettre en place un programme de formation auprès des professionnels concernés ainsi que des actions d’amélioration."]
[]
[]
[null,null,null,null,null,null,null,null,null,null,null,"Page 2"]
[]
["Evaluation de la fonction linge"]
["en établissement de santé et en EHPAD"]
[]
["RESULTATS - ETABLISSEMENT"]
[]
[]
[null,null,null,"Etablissement:",{"$f":"IF(NOM=\"\",\"à préciser\",NOM)","v":"à préciser"}]
[null,null,null,null,null,"Nombre de services audités:",{"$f":"IF(SERVICES=0,\"à préciser\",SERVICES)","v":"à préciser"}]
[null,null,null,null,null,"Nombre total de services de l'établissement:",{"$f":"IF(TOTSERVICES=0,\"à préciser\",TOTSERVICES)","v":"à préciser"}]
[null,null,null,null,null,"Pourcentage de services audités:",{"$f":"IF(G66=\"à préciser\",\"à préciser\",(IF(G65=\"à préciser\",\"à préciser\",(G65/G66))))","v":"à préciser"}]
[null,null,null,null,null,"Nombre d'utilisateurs audités:",{"$f":"IF(UTILISATEURS=0,\"à préciser\",UTILISATEURS)","v":"à préciser"}]
[]
[]
[]
[null,null,"► FICHES \"UTILISATEUR\""]
[null,null,"    - Utilisateurs évalués de l'établissement par catégorie professionnelle"]
[]
[null,null,"Catégorie professionnelle",null,null,"Score obtenu","Score","% objectifs attients"]
[null,null,null,null,"Nombre d'utilisateurs",null,"attendu"]
[]
[null,null,"Infirmière et IDE spécialisée",null,null,{"$f":"IF(L79=0,\"-\",(L79/L78))","v":"-"},20,{"$f":"IF(L79=0,\"-\",(F78/20))","v":"-"},null,null,null,{"$f":"SScore!B71","v":0}]
[null,null,null,null,{"$f":"IF(L78=0,\"Aucun\",L78)","v":"Aucun"},null,null,null,null,null,null,{"$f":"SScore!B72","v":0}]
[null,null,"Sage-Femme",null,null,{"$f":"IF(L81=0,\"-\",(L81/L80))","v":"-"},20,{"$f":"IF(L81=0,\"-\",(F80/20))","v":"-"},null,null,null,{"$f":"SScore!B73","v":0}]
[null,null,null,null,{"$f":"IF(L80=0,\"Aucun\",L80)","v":"Aucun"},null,null,null,null,null,null,{"$f":"SScore!B74","v":0}]
[null,null,"Kinésithérapeute",null,null,{"$f":"IF(L83=0,\"-\",(L83/L82))","v":"-"},20,{"$f":"IF(L83=0,\"-\",(F82/20))","v":"-"},null,null,null,{"$f":"SScore!B75","v":0}]
[null,null,null,null,{"$f":"IF(L82=0,\"Aucun\",L82)","v":"Aucun"},null,null,null,null,null,null,{"$f":"SScore!B76","v":0}]
[null,null,"Manipulateur Radio",null,null,{"$f":"IF(L85=0,\"-\",(L85/L84))","v":"-"},20,{"$f":"IF(L85=0,\"-\",(F84/20))","v":"-"},null,null,null,{"$f":"SScore!B77","v":0}]
[null,null,null,null,{"$f":"IF(L84=0,\"Aucun\",L84)","v":"Aucun"},null,null,null,null,null,null,{"$f":"SScore!B78","v":0}]
[null,null,"Aide-Soignante/Auxiliare de puériculture",null,null,{"$f":"IF(L87=0,\"-\",(L87/L86))","v":"-"},20,{"$f":"IF(L87=0,\"-\",(F86/20))","v":"-"},null,null,null,{"$f":"SScore!B79","v":0}]
[null,null,null,null,{"$f":"IF(L86=0,\"Aucun\",L86)","v":"Aucun"},null,null,null,null,null,null,{"$f":"SScore!B80","v":0}]
[null,null,"Agent Hospitalier",null,null,{"$f":"IF(L89=0,\"-\",(L89/L88))","v":"-"},20,{"$f":"IF(L89=0,\"-\",(F88/20))","v":"-"},null,null,null,{"$f":"SScore!B81","v":0}]
[null,null,null,null,{"$f":"IF(L88=0,\"Aucun\",L88)","v":"Aucun"},null,null,null,null,null,null,{"$f":"SScore!B82","v":0}]
[null,null,"Ambulancier",null,null,{"$f":"IF(L91=0,\"-\",(L91/L90))","v":"-"},20,{"$f":"IF(L91=0,\"-\",(F90/20))","v":"-"},null,null,null,{"$f":"SScore!B83","v":0}]
[null,null,null,null,{"$f":"IF(L90=0,\"Aucun\",L90)","v":"Aucun"},null,null,null,null,null,null,{"$f":"SScore!B84","v":0}]
[null,null,"Brancardier",null,null,{"$f":"IF(L93=0,\"-\",(L93/L92))","v":"-"},20,{"$f":"IF(L93=0,\"-\",(F92/20))","v":"-"},null,null,null,{"$f":"SScore!B85","v":0}]
[null,null,null,null,{"$f":"IF(L92=0,\"Aucun\",L92)","v":"Aucun"},null,null,null,null,null,null,{"$f":"SScore!B86","v":0}]
[null,null,"Etudiant",null,null,{"$f":"IF(L95=0,\"-\",(L95/L94))","v":"-"},20,{"$f":"IF(L95=0,\"-\",(F94/20))","v":"-"},null,null,null,{"$f":"SScore!B87","v":0}]
[null,null,null,null,{"$f":"IF(L94=0,\"Aucun\",L94)","v":"Aucun"},null,null,null,null,null,null,{"$f":"SScore!B88","v":0}]
[null,null,"Autre",null,null,{"$f":"IF(L97=0,\"-\",(L97/L96))","v":"-"},20,{"$f":"IF(L97=0,\"-\",(F96/20))","v":"-"},null,null,null,{"$f":"SScore!B89","v":0}]
[null,null,null,null,{"$f":"IF(L96=0,\"Aucun\",L96)","v":"Aucun"},null,null,null,null,null,null,{"$f":"SScore!B90","v":0}]
[]
[]
[]
[]
[]
[]
[]
[]
[]
[]
[]
[]
["Evaluation de la fonction linge",null,null,null,null,null,null,null,null,null,null,"Page 3"]
["en établissement de santé et en EHPAD"]
[]
[null,null,"RESULTATS - SERVICE #1"]
[null,null,null,"Etablissement:",{"$f":"IF(NOM=\"\",\"à préciser\",NOM)","v":"à préciser"}]
[null,null,null,"Service #1:",{"$f":"IF(SERVICE1=\"\",\"à préciser\",SERVICE1)","v":"à préciser"}]
[null,null,"Nombre de services audités/nombre total de services de l'établissement:",null,null,null,null,null,{"$f":"IF(SERVICES=0,\"non saisi\",(\" \"&SERVICES&\" / \"&TOTSERVICES))","v":"non saisi"}]
[]
[null,null,"► SCORE TOTAL FICHE SERVICE #1"]
[]
[null,null,null,null,null,"Score obtenu","Score attendu","% d'objectifs atteints"]
[null,null,"Score gestion du linge sale",null,null,{"$f":"F139","v":"non saisi"},16,{"$f":"IF(_OBS1=0,\"non saisi\",(F121/16))","v":"non saisi"},null,null,null,{"$f":"SScore!C$98","v":0},{"$f":"L121/16","v":0}]
[null,null,"Score gestion du linge propre",null,null,{"$f":"F146","v":"non saisi"},12,{"$f":"IF(_OBS1=0,\"non saisi\",(F122/12))","v":"non saisi"},null,null,null,{"$f":"SScore!C$104","v":0},{"$f":"L122/12","v":0}]
[null,null,"Score bionettoyage et traçabilité",null,null,{"$f":"F152","v":"non saisi"},12,{"$f":"IF(_OBS1=0,\"non saisi\",(F123/12))","v":"non saisi"},null,null,null,{"$f":"SScore!C$109","v":0},{"$f":"L123/12","v":0}]
[null,null,"Score total fiches Services",null,null,{"$f":"IF(_OBS1=0,\"non saisi\",(F123+F122+F121))","v":"non saisi"},40,{"$f":"IF(_OBS1=0,\"non saisi\",(F124/40))","v":"non saisi"},null,null,null,{"$f":"L121+L122+L123","v":0},{"$f":"L124/40","v":0}]
[]
[null,null,{"$f":"IF(H124=\"non saisi\",\"\",(IF(H124>=75%,SGLOBAL1,IF(H124>49%,SGLOBAL2,SGLOBAL3))))","v":""}]
[]
[]
[]
[]
[null,null,"► DETAIL DE FICHE \"SERVICE\""]
[]
[null,null,null,"► Linge sale",null,"Score obtenu","Score attendu"]
[null,null,null,null,"Procédure",{"$f":"IF(_OBS1=0,\"non saisi\",L134)","v":"non saisi"},3,null,null,null,null,{"$f":"SScore!C$93","v":0}]
[null,null,null,null,"Chariot collecteur","non saisi",4,null,null,null,null,{"$f":"SScore!C$94","v":0}]
[null,null,null,null,"Sac de linge","non saisi",2,null,null,null,null,{"$f":"SScore!C$95","v":0}]
[null,null,null,null,"Local de stockage","non saisi",3,null,null,null,null,{"$f":"SScore!C$96","v":0}]
[null,null,null,null,"Transport","non saisi",4,null,null,null,null,{"$f":"SScore!C$97","v":0}]
[null,null,null,null,"Score gestion du linge sale","non saisi",16,null,null,null,null,{"$f":"SScore!C$98","v":0}]
[null,null,null,null,"% d'objectifs atteints",{"$f":"L140","v":0},null,null,null,null,null,{"$f":"L139/16","v":0}]
[]
[null,null,null,"► Linge propre",null,"Score obtenu","Score attendu"]
[null,null,null,null,"Livraison",{"$f":"IF(_OBS1=0,\"non saisi\",L143)","v":"non saisi"},2,null,null,null,null,{"$f":"SScore!C$101","v":0}]
[null,null,null,null,"Stockage",{"$f":"IF(_OBS1=0,\"non saisi\",L144)","v":"non saisi"},7,null,null,null,null,{"$f":"SScore!C$102","v":0}]
[null,null,null,null,"Chariot relais",{"$f":"IF(_OBS1=0,\"non saisi\",L145)","v":"non saisi"},3,null,null,null,null,{"$f":"SScore!C$103","v":0}]
[null,null,null,null,"Score gestion du linge propre",{"$f":"IF(_OBS1=0,\"non saisi\",L146)","v":"non saisi"},12,null,null,null,null,{"$f":"SScore!C$104","v":0}]
[null,null,null,null,"% d'objectifs atteints",{"$f":"L147","v":0},null,null,null,null,null,{"$f":"L146/12","v":0}]
[]
[null,null,null,"► Bionettoyage et traçabilité",null,"Score obtenu","Score attendu"]
[null,null,null,null,"Procédure",{"$f":"IF(_OBS1=0,\"non saisi\",L150)","v":"non saisi"},6,null,null,null,null,{"$f":"SScore!C$107","v":0}]
[null,null,null,null,"Traçabilité",{"$f":"IF(_OBS1=0,\"non saisi\",L151)","v":"non saisi"},6,null,null,null,null,{"$f":"SScore!C$108","v":0}]
[null,null,null,null,"Score bionettoyage et traçabilité",{"$f":"IF(_OBS1=0,\"non saisi\",L152)","v":"non saisi"},12,null,null,null,null,{"$f":"SScore!C$109","v":0}]
[null,null,null,null,"% d'objectifs atteints",{"$f":"L153","v":0},null,null,null,null,null,{"$f":"L152/12","v":0}]
[]
[null,null,"► SCORE TOTAL DES SERVICES EVALUES DE L'ETABLISSEMENT"]
[]
[null,null,null,null,null,"Score obtenu","Score attendu","% d'objectifs atteints"]
[null,null,"Score gestion du linge sale",null,null,{"$f":"IF(SERVICES=0,\"non saisi\",($L$158/SERVICES))","v":"non saisi"},16,{"$f":"IF(SERVICES=0,\"non saisi\",($F$158/16))","v":"non saisi"},null,null,null,{"$f":"SScore!$B$98","v":0}]
[null,null,"Score gestion du linge propre",null,null,{"$f":"IF(SERVICES=0,\"non saisi\",($L$159/SERVICES))","v":"non saisi"},12,{"$f":"IF(SERVICES=0,\"non saisi\",($F$159/12))","v":"non saisi"},null,null,null,{"$f":"SScore!$B$104","v":0}]
[null,null,"Score bionettoyage et traçabilité",null,null,{"$f":"IF(SERVICES=0,\"non saisi\",($L$160/SERVICES))","v":"non saisi"},12,{"$f":"IF(SERVICES=0,\"non saisi\",($F$160/12))","v":"non saisi"},null,null,null,{"$f":"SScore!$B$109","v":0}]
[null,null,"Score total fiches Services",null,null,{"$f":"IF(SERVICES=0,\"non saisi\",($L$161/SERVICES))","v":"non saisi"},40,{"$f":"IF(SERVICES=0,\"non saisi\",($F$161/40))","v":"non saisi"},null,null,null,{"$f":"SScore!$B$111","v":0}]
[]
[]
["Evaluation de la fonction linge",null,null,null,null,null,null,null,null,null,null,"Page 4"]
["en établissement de santé et en EHPAD"]
[]
[null,null,"RESULTATS - SERVICE #1"]
[null,null,null,"Etablissement:",{"$f":"IF(NOM=\"\",\"à préciser\",NOM)","v":"à préciser"}]
[null,null,null,"Service #1:",{"$f":"IF(SERVICE1=\"\",\"à préciser\",SERVICE1)","v":"à préciser"}]
[null,null,null,null,"Nombre d'utilisateurs audités:",{"$f":"IF(_OBS1=\"\",\"A préciser\",_OBS1)","v":0}]
[]
[null,null,"► SCORE TOTAL UTILISATEURS SERVICE #1"]
[]
[null,null,null,null,null,"Score obtenu","Score attendu","% d'objectifs atteints"]
[null,null,null,null,"Score évacuation du linge sale",{"$f":"F190","v":"non saisi"},16,{"$f":"H190","v":"non saisi"}]
[null,null,null,null,"Score utilisation du linge propre",{"$f":"F195","v":"non saisi"},4,{"$f":"H195","v":"non saisi"}]
[null,null,null,null,"Score total utilisateurs service #1",{"$f":"IF(_OBS1=0,\"non saisi\",(F175+F176))","v":"non saisi"},20,{"$f":"IF(_OBS1=0,\"non saisi\",(F177/20))","v":"non saisi"}]
[]
[null,null,{"$f":"IF(H177=\"non saisi\",\"\",(IF(H177>=75%,UTIL1,IF(H177>49%,UTIL2,UTIL3))))","v":""}]
[]
[]
[]
[]
[null,null,"► DETAIL DES FICHES \"UTILISATEUR\""]
[]
[null,null,"► Linge sale",null,null,"Score obtenu","Score attendu","% d'objectifs atteints"]
[null,null,null,null,"Evacuation du linge sale",{"$f":"IF(_OBS1=0,\"non saisi\",(L187/_OBS1))","v":"non saisi"},5,{"$f":"IF(_OBS1=0,\"non saisi\",(F187/5))","v":"non saisi"},null,null,null,{"$f":"Score1!$B$74","v":0}]
[null,null,null,null,"Protection du personnel",{"$f":"IF(_OBS1=0,\"non saisi\",(L188/_OBS1))","v":"non saisi"},9,{"$f":"IF(_OBS1=0,\"non saisi\",(F188/9))","v":"non saisi"},null,null,null,{"$f":"Score1!$B$75","v":0}]
[null,null,null,null,"Transport sac du linge",{"$f":"IF(_OBS1=0,\"non saisi\",(L189/_OBS1))","v":"non saisi"},2,{"$f":"IF(_OBS1=0,\"non saisi\",(F189/2))","v":"non saisi"},null,null,null,{"$f":"Score1!$B$76","v":0}]
[null,null,null,null,"Score évacuation du linge sale",{"$f":"IF(_OBS1=0,\"non saisi\",(L190/_OBS1))","v":"non saisi"},16,{"$f":"IF(_OBS1=0,\"non saisi\",(F190/16))","v":"non saisi"},null,null,null,{"$f":"Score1!$B$77","v":0}]
[]
[null,null,"► Linge propre",null,null,"Score obtenu","Score attendu","% d'objectifs atteints"]
[null,null,null,null,"Hygiène des mains",{"$f":"IF(_OBS1=0,\"non saisi\",(L193/_OBS1))","v":"non saisi"},2,{"$f":"IF(_OBS1=0,\"non saisi\",(F193/2))","v":"non saisi"},null,null,null,{"$f":"Score1!$B$80","v":0}]
[null,null,null,null,"Utilisation du linge",{"$f":"IF(_OBS1=0,\"non saisi\",(L194/_OBS1))","v":"non saisi"},2,{"$f":"IF(_OBS1=0,\"non saisi\",(F194/2))","v":"non saisi"},null,null,null,{"$f":"Score1!$B$81","v":0}]
[null,null,null,null,"Score utilisation du linge propre",{"$f":"IF(_OBS1=0,\"non saisi\",(L195/_OBS1))","v":"non saisi"},4,{"$f":"IF(_OBS1=0,\"non saisi\",(F195/4))","v":"non saisi"},null,null,null,{"$f":"Score1!$B$82","v":0}]
[]
[null,null,"► SCORE TOTAL DES UTILISATEURS EVALUES DE L'ETABLISSEMENT"]
[]
[null,null,null,null,null,"Score obtenu","Score attendu","% d'objectifs atteints"]
[null,null,null,null,"Score évacuation du linge sale",{"$f":"IF(_OBS1=0,\"non saisi\",(L200/UTILISATEURS))","v":"non saisi"},16,{"$f":"IF(_OBS1=0,\"non saisi\",(F200/16))","v":"non saisi"},null,null,null,{"$f":"SScore!$B$117","v":0}]
[null,null,null,null,"Score utilisation du linge propre",{"$f":"IF(_OBS1=0,\"non saisi\",(L201/UTILISATEURS))","v":"non saisi"},4,{"$f":"IF(_OBS1=0,\"non saisi\",(F201/4))","v":"non saisi"},null,null,null,{"$f":"SScore!$B$122","v":0}]
[null,null,null,null,"Score total ensemble des utilisateurs evalués ",{"$f":"IF(_OBS1=0,\"non saisi\",(L202/UTILISATEURS))","v":"non saisi"},20,{"$f":"IF(_OBS1=0,\"non saisi\",(F202/20))","v":"non saisi"},null,null,null,{"$f":"SScore!$B$124","v":0}]
[]
[null,null,"► UTILISATEURS SERVICE #1 - REPARTITION PAR CATEGORIE PROFESSIONNELLE"]
[null,null,"Catégorie professionnelle",null,"Utilisateurs","Score obtenu","Score attendu","% objectifs attients"]
[null,null,"Infirmière et IDE spécialisée",null,{"$f":"IF(_OBS1=0,\"non saisi\",L206)","v":"non saisi"},{"$f":"IF(_OBS1=0,\"non saisi\",(IF(E206=0,\"-\",(M206/L206))))","v":"non saisi"},20,{"$f":"IF(_OBS1=0,\"non saisi\",(IF(E206=0,\"-\",(F206/20))))","v":"non saisi"},null,null,null,{"$f":"Score1!$B$52","v":0},{"$f":"Score1!$B$53","v":0}]
[null,null,"Sage-femme",null,"non saisi","non saisi",20,"non saisi",null,null,null,{"$f":"Score1!$B$54","v":0},{"$f":"Score1!$B$55","v":0}]
[null,null,"Kinésithérapeute",null,"non saisi","non saisi",20,"non saisi",null,null,null,{"$f":"Score1!$B$56","v":0},{"$f":"Score1!$B$57","v":0}]
[null,null,"Manipulateur radio",null,"non saisi","non saisi",20,"non saisi",null,null,null,{"$f":"Score1!$B$58","v":0},{"$f":"Score1!$B$59","v":0}]
[null,null,"Aide-soignante/aux. puériculture",null,"non saisi","non saisi",20,"non saisi",null,null,null,{"$f":"Score1!$B$60","v":0},{"$f":"Score1!$B$61","v":0}]
[null,null,"Agent hospitalier",null,"non saisi","non saisi",20,"non saisi",null,null,null,{"$f":"Score1!$B$62","v":0},{"$f":"Score1!$B$63","v":0}]
[null,null,"Ambulancier",null,"non saisi","non saisi",20,"non saisi",null,null,null,{"$f":"Score1!$B$64","v":0},{"$f":"Score1!$B$65","v":0}]
[null,null,"Brancardier",null,"non saisi","non saisi",20,"non saisi",null,null,null,{"$f":"Score1!$B$66","v":0},{"$f":"Score1!$B$67","v":0}]
[null,null,"Etudiant",null,"non saisi","non saisi",20,"non saisi",null,null,null,{"$f":"Score1!B$68","v":0},{"$f":"Score1!$B$69","v":0}]
[null,null,"Autre",null,"non saisi","non saisi",20,{"$f":"IF(_OBS1=0,\"non saisi\",(IF(E215=0,\"-\",(F215/20))))","v":"non saisi"},null,null,null,{"$f":"Score1!$B$70","v":0},{"$f":"Score1!$B$71","v":0}]
[]
[]
["Evaluation de la fonction linge",null,null,null,null,null,null,null,null,null,null,"Page 5"]
["en établissement de santé et en EHPAD"]
[]
[null,null,"RESULTATS - SERVICE #2"]
[null,null,null,"Etablissement:",{"$f":"IF(NOM=\"\",\"à préciser\",NOM)","v":"à préciser"}]
[null,null,null,"Service #2:",{"$f":"IF(SERVICE2=\"\",\"à préciser\",SERVICE2)","v":"à préciser"}]
[null,null,"Nombre de services audités/nombre total de services de l'établissement:",null,null,null,null,null,{"$f":"IF(SERVICES=0,\"non saisi\",(\" \"&SERVICES&\" / \"&TOTSERVICES))","v":"non saisi"}]
[]
[null,null,"► SCORE TOTAL FICHE SERVICE #2"]
[]
[null,null,null,null,null,"Score obtenu","Score attendu","% d'objectifs atteints"]
[null,null,"Score gestion du linge sale",null,null,{"$f":"F247","v":"non saisi"},16,{"$f":"IF(_OBS2=0,\"non saisi\",(F229/16))","v":"non saisi"}]
[null,null,"Score gestion du linge propre",null,null,{"$f":"F254","v":"non saisi"},12,{"$f":"IF(_OBS2=0,\"non saisi\",(F230/12))","v":"non saisi"}]
[null,null,"Score bionettoyage et traçabilité",null,null,{"$f":"F260","v":"non saisi"},12,{"$f":"IF(_OBS2=0,\"non saisi\",(F231/12))","v":"non saisi"}]
[null,null,"Score total fiches Services",null,null,{"$f":"IF(_OBS2=0,\"non saisi\",(F231+F230+F229))","v":"non saisi"},40,{"$f":"IF(_OBS2=0,\"non saisi\",(F232/40))","v":"non saisi"}]
[]
[null,null,{"$f":"IF(H232=\"non saisi\",\"\",(IF(H232>=75%,SGLOBAL1,IF(H232>49%,SGLOBAL2,SGLOBAL3))))","v":""}]
[]
[]
[]
[]
[null,null,"► DETAIL DE FICHE \"SERVICE\""]
[]
[null,null,null,"► Linge sale",null,"Score obtenu","Score attendu"]
[null,null,null,null,"Procédure",{"$f":"IF(_OBS2=0,\"non saisi\",L242)","v":"non saisi"},3,null,null,null,null,{"$f":"SScore!E$93","v":0}]
[null,null,null,null,"Chariot collecteur","non saisi",4,null,null,null,null,{"$f":"SScore!E$94","v":0}]
[null,null,null,null,"Sac de linge","non saisi",2,null,null,null,null,{"$f":"SScore!E$95","v":0}]
[null,null,null,null,"Local de stockage","non saisi",3,null,null,null,null,{"$f":"SScore!E$96","v":0}]
[null,null,null,null,"Transport","non saisi",4,null,null,null,null,{"$f":"SScore!E$97","v":0}]
[null,null,null,null,"Score gestion du linge sale","non saisi",16,null,null,null,null,{"$f":"SScore!E$98","v":0}]
[null,null,null,null,"% d'objectifs atteints",{"$f":"L248","v":0},null,null,null,null,null,{"$f":"L247/16","v":0}]
[]
[null,null,null,"► Linge propre",null,"Score obtenu","Score attendu"]
[null,null,null,null,"Livraison",{"$f":"IF(_OBS2=0,\"non saisi\",L251)","v":"non saisi"},2,null,null,null,null,{"$f":"SScore!E$101","v":0}]
[null,null,null,null,"Stockage",{"$f":"IF(_OBS2=0,\"non saisi\",L252)","v":"non saisi"},7,null,null,null,null,{"$f":"SScore!E$102","v":0}]
[null,null,null,null,"Chariot relais",{"$f":"IF(_OBS2=0,\"non saisi\",L253)","v":"non saisi"},3,null,null,null,null,{"$f":"SScore!E$103","v":0}]
[null,null,null,null,"Score gestion du linge propre",{"$f":"IF(_OBS2=0,\"non saisi\",L254)","v":"non saisi"},12,null,null,null,null,{"$f":"SScore!E$104","v":0}]
[null,null,null,null,"% d'objectifs atteints",{"$f":"L255","v":0},null,null,null,null,null,{"$f":"L254/12","v":0}]
[]
[null,null,null,"► Bionettoyage et traçabilité",null,"Score obtenu","Score attendu"]
[null,null,null,null,"Procédure",{"$f":"IF(_OBS2=0,\"non saisi\",L258)","v":"non saisi"},6,null,null,null,null,{"$f":"SScore!E$107","v":0}]
[null,null,null,null,"Traçabilité",{"$f":"IF(_OBS2=0,\"non saisi\",L259)","v":"non saisi"},6,null,null,null,null,{"$f":"SScore!E$108","v":0}]
[null,null,null,null,"Score bionettoyage et traçabilité",{"$f":"IF(_OBS2=0,\"non saisi\",L260)","v":"non saisi"},12,null,null,null,null,{"$f":"SScore!E$109","v":0}]
[null,null,null,null,"% d'objectifs atteints",{"$f":"L261","v":0},null,null,null,null,null,{"$f":"L260/12","v":0}]
[null,null,null,null,null,null,null,null,null,null,null,{"$f":"SScore!C$107","v":0}]
[null,null,"► SCORE TOTAL DES SERVICES EVALUES DE L'ETABLISSEMENT"]
[]
[null,null,null,null,null,"Score obtenu","Score attendu","% d'objectifs atteints"]
[null,null,"Score gestion du linge sale",null,null,{"$f":"IF(SERVICES=0,\"non saisi\",($L$158/SERVICES))","v":"non saisi"},16,{"$f":"IF(SERVICES=0,\"non saisi\",($F$158/16))","v":"non saisi"}]
[null,null,"Score gestion du linge propre",null,null,{"$f":"IF(SERVICES=0,\"non saisi\",($L$159/SERVICES))","v":"non saisi"},12,{"$f":"IF(SERVICES=0,\"non saisi\",($F$159/12))","v":"non saisi"}]
[null,null,"Score bionettoyage et traçabilité",null,null,{"$f":"IF(SERVICES=0,\"non saisi\",($L$160/SERVICES))","v":"non saisi"},12,{"$f":"IF(SERVICES=0,\"non saisi\",($F$160/12))","v":"non saisi"}]
[null,null,"Score total fiches Services",null,null,{"$f":"IF(SERVICES=0,\"non saisi\",($L$161/SERVICES))","v":"non saisi"},40,{"$f":"IF(SERVICES=0,\"non saisi\",($F$161/40))","v":"non saisi"}]
[]
[]
["Evaluation de la fonction linge",null,null,null,null,null,null,null,null,null,null,"Page 6"]
["en établissement de santé et en EHPAD"]
[]
[null,null,"RESULTATS - SERVICE #2"]
[null,null,null,"Etablissement:",{"$f":"IF(NOM=\"\",\"à préciser\",NOM)","v":"à préciser"}]
[null,null,null,"Service #2:",{"$f":"IF(SERVICE2=\"\",\"à préciser\",SERVICE2)","v":"à préciser"}]
[null,null,null,null,"Nombre d'utilisateurs audités:",{"$f":"IF(_OBS2=\"\",\"A préciser\",_OBS2)","v":0}]
[]
[null,null,"► SCORE TOTAL UTILISATEURS SERVICE #2"]
[]
[null,null,null,null,null,"Score obtenu","Score attendu","% d'objectifs atteints"]
[null,null,null,null,"Score évacuation du linge sale",{"$f":"F298","v":"non saisi"},16,{"$f":"H298","v":"non saisi"}]
[null,null,null,null,"Score utilisation du linge propre",{"$f":"F303","v":"non saisi"},4,{"$f":"H303","v":"non saisi"}]
[null,null,null,null,"Score total utilisateurs service #2",{"$f":"IF(_OBS2=0,\"non saisi\",(F283+F284))","v":"non saisi"},20,{"$f":"IF(_OBS2=0,\"non saisi\",(F285/20))","v":"non saisi"}]
[]
[null,null,{"$f":"IF(H285=\"non saisi\",\"\",(IF(H285>=75%,UTIL1,IF(H285>49%,UTIL2,UTIL3))))","v":""}]
[]
[]
[]
[]
[null,null,"► DETAIL DES FICHES \"UTILISATEUR\""]
[]
[null,null,"► Linge sale",null,null,"Score obtenu","Score attendu","% d'objectifs atteints"]
[null,null,null,null,"Evacuation du linge sale",{"$f":"IF(_OBS2=0,\"non saisi\",(L295/_OBS2))","v":"non saisi"},5,{"$f":"IF(_OBS2=0,\"non saisi\",(F295/5))","v":"non saisi"},null,null,null,{"$f":"Score2!$B$74","v":0}]
[null,null,null,null,"Protection du personnel",{"$f":"IF(_OBS2=0,\"non saisi\",(L296/_OBS2))","v":"non saisi"},9,{"$f":"IF(_OBS2=0,\"non saisi\",(F296/9))","v":"non saisi"},null,null,null,{"$f":"Score2!$B$75","v":0}]
[null,null,null,null,"Transport sac du linge",{"$f":"IF(_OBS2=0,\"non saisi\",(L297/_OBS2))","v":"non saisi"},2,{"$f":"IF(_OBS2=0,\"non saisi\",(F297/2))","v":"non saisi"},null,null,null,{"$f":"Score2!$B$76","v":0}]
[null,null,null,null,"Score évacuation du linge sale",{"$f":"IF(_OBS2=0,\"non saisi\",(L298/_OBS2))","v":"non saisi"},16,{"$f":"IF(_OBS2=0,\"non saisi\",(F298/16))","v":"non saisi"},null,null,null,{"$f":"Score2!$B$77","v":0}]
[]
[null,null,"► Linge propre",null,null,"Score obtenu","Score attendu","% d'objectifs atteints"]
[null,null,null,null,"Hygiène des mains",{"$f":"IF(_OBS2=0,\"non saisi\",(L301/_OBS2))","v":"non saisi"},2,{"$f":"IF(_OBS2=0,\"non saisi\",(F301/2))","v":"non saisi"},null,null,null,{"$f":"Score2!$B$80","v":0}]
[null,null,null,null,"Utilisation du linge",{"$f":"IF(_OBS2=0,\"non saisi\",(L302/_OBS2))","v":"non saisi"},2,{"$f":"IF(_OBS2=0,\"non saisi\",(F302/2))","v":"non saisi"},null,null,null,{"$f":"Score2!$B$81","v":0}]
[null,null,null,null,"Score utilisation du linge propre",{"$f":"IF(_OBS2=0,\"non saisi\",(L303/_OBS2))","v":"non saisi"},4,{"$f":"IF(_OBS2=0,\"non saisi\",(F303/4))","v":"non saisi"},null,null,null,{"$f":"Score2!$B$82","v":0}]
[]
[null,null,"► SCORE TOTAL DES UTILISATEURS EVALUES DE L'ETABLISSEMENT"]
[]
[null,null,null,null,null,"Score obtenu","Score attendu","% d'objectifs atteints"]
[null,null,null,null,"Score évacuation du linge sale",{"$f":"IF(_OBS2=0,\"non saisi\",(L308/UTILISATEURS))","v":"non saisi"},16,{"$f":"IF(_OBS2=0,\"non saisi\",(F308/16))","v":"non saisi"},null,null,null,{"$f":"SScore!$B$117","v":0}]
[null,null,null,null,"Score utilisation du linge propre",{"$f":"IF(_OBS2=0,\"non saisi\",(L309/UTILISATEURS))","v":"non saisi"},4,{"$f":"IF(_OBS2=0,\"non saisi\",(F309/4))","v":"non saisi"},null,null,null,{"$f":"SScore!$B$122","v":0}]
[null,null,null,null,"Score total ensemble des utilisateurs evalués ",{"$f":"IF(_OBS2=0,\"non saisi\",(L310/UTILISATEURS))","v":"non saisi"},20,{"$f":"IF(_OBS2=0,\"non saisi\",(F310/20))","v":"non saisi"},null,null,null,{"$f":"SScore!$B$124","v":0}]
[]
[null,null,"► UTILISATEURS SERVICE #2 - REPARTITION PAR CATEGORIE PROFESSIONNELLE"]
[null,null,"Catégorie professionnelle",null,"Utilisateurs","Score obtenu","Score attendu","% objectifs attients"]
[null,null,"Infirmière et IDE spécialisée",null,{"$f":"IF(_OBS2=0,\"non saisi\",L314)","v":"non saisi"},{"$f":"IF(_OBS2=0,\"non saisi\",(IF(E314=0,\"-\",(M314/L314))))","v":"non saisi"},20,{"$f":"IF(_OBS2=0,\"non saisi\",(IF(E314=0,\"-\",(F314/20))))","v":"non saisi"},null,null,null,{"$f":"Score2!$B$52","v":0},{"$f":"Score2!$B$53","v":0}]
[null,null,"Sage-femme",null,"non saisi","non saisi",20,"non saisi",null,null,null,{"$f":"Score2!$B$54","v":0},{"$f":"Score2!$B$55","v":0}]
[null,null,"Kinésithérapeute",null,"non saisi","non saisi",20,"non saisi",null,null,null,{"$f":"Score2!$B$56","v":0},{"$f":"Score2!$B$57","v":0}]
[null,null,"Manipulateur radio",null,"non saisi","non saisi",20,"non saisi",null,null,null,{"$f":"Score2!$B$58","v":0},{"$f":"Score2!$B$59","v":0}]
[null,null,"Aide-soignante/aux. puériculture",null,"non saisi","non saisi",20,"non saisi",null,null,null,{"$f":"Score2!$B$60","v":0},{"$f":"Score2!$B$61","v":0}]
[null,null,"Agent hospitalier",null,"non saisi","non saisi",20,"non saisi",null,null,null,{"$f":"Score2!$B$62","v":0},{"$f":"Score2!$B$63","v":0}]
[null,null,"Ambulancier",null,"non saisi","non saisi",20,"non saisi",null,null,null,{"$f":"Score2!$B$64","v":0},{"$f":"Score2!$B$65","v":0}]
[null,null,"Brancardier",null,"non saisi","non saisi",20,"non saisi",null,null,null,{"$f":"Score2!$B$66","v":0},{"$f":"Score2!$B$67","v":0}]
[null,null,"Etudiant",null,"non saisi","non saisi",20,"non saisi",null,null,null,{"$f":"Score2!B$68","v":0},{"$f":"Score2!$B$69","v":0}]
[null,null,"Autre",null,"non saisi","non saisi",20,"non saisi",null,null,null,{"$f":"Score2!$B$70","v":0},{"$f":"Score2!$B$71","v":0}]
[]
[]
["Evaluation de la fonction linge",null,null,null,null,null,null,null,null,null,null,"Page 7"]
["en établissement de santé et en EHPAD"]
[]
[null,null,"RESULTATS - SERVICE #3"]
[null,null,null,"Etablissement:",{"$f":"IF(NOM=\"\",\"à préciser\",NOM)","v":"à préciser"}]
[null,null,null,"Service #3:",{"$f":"IF(SERVICE3=\"\",\"à préciser\",SERVICE3)","v":"à préciser"}]
[null,null,"Nombre de services audités/nombre total de services de l'établissement:",null,null,null,null,null,{"$f":"IF(SERVICES=0,\"non saisi\",(\" \"&SERVICES&\" / \"&TOTSERVICES))","v":"non saisi"}]
[]
[null,null,"► SCORE TOTAL FICHE SERVICE #3"]
[]
[null,null,null,null,null,"Score obtenu","Score attendu","% d'objectifs atteints"]
[null,null,"Score gestion du linge sale",null,null,{"$f":"F355","v":"non saisi"},16,{"$f":"IF(_OBS3=0,\"non saisi\",(F337/16))","v":"non saisi"}]
[null,null,"Score gestion du linge propre",null,null,{"$f":"F362","v":"non saisi"},12,{"$f":"IF(_OBS3=0,\"non saisi\",(F338/12))","v":"non saisi"}]
[null,null,"Score bionettoyage et traçabilité",null,null,{"$f":"F368","v":"non saisi"},12,{"$f":"IF(_OBS3=0,\"non saisi\",(F339/12))","v":"non saisi"}]
[null,null,"Score total fiches Services",null,null,{"$f":"IF(_OBS3=0,\"non saisi\",(F339+F338+F337))","v":"non saisi"},40,{"$f":"IF(_OBS3=0,\"non saisi\",(F340/40))","v":"non saisi"}]
[]
[null,null,{"$f":"IF(H340=\"non saisi\",\"\",(IF(H340>=75%,SGLOBAL1,IF(H340>49%,SGLOBAL2,SGLOBAL3))))","v":""}]
[]
[]
[]
[]
[null,null,"► DETAIL DE FICHE \"SERVICE\""]
[]
[null,null,null,"► Linge sale",null,"Score obtenu","Score attendu"]
[null,null,null,null,"Procédure",{"$f":"IF(_OBS3=0,\"non saisi\",L350)","v":"non saisi"},3,null,null,null,null,{"$f":"SScore!G$93","v":0}]
[null,null,null,null,"Chariot collecteur","non saisi",4,null,null,null,null,{"$f":"SScore!G$94","v":0}]
[null,null,null,null,"Sac de linge","non saisi",2,null,null,null,null,{"$f":"SScore!G$95","v":0}]
[null,null,null,null,"Local de stockage","non saisi",3,null,null,null,null,{"$f":"SScore!G$96","v":0}]
[null,null,null,null,"Transport","non saisi",4,null,null,null,null,{"$f":"SScore!G$97","v":0}]
[null,null,null,null,"Score gestion du linge sale","non saisi",16,null,null,null,null,{"$f":"SScore!G$98","v":0}]
[null,null,null,null,"% d'objectifs atteints",{"$f":"L356","v":0},null,null,null,null,null,{"$f":"L355/16","v":0}]
[]
[null,null,null,"► Linge propre",null,"Score obtenu","Score attendu"]
[null,null,null,null,"Livraison",{"$f":"IF(_OBS3=0,\"non saisi\",L359)","v":"non saisi"},2,null,null,null,null,{"$f":"SScore!G$101","v":0}]
[null,null,null,null,"Stockage",{"$f":"IF(_OBS3=0,\"non saisi\",L360)","v":"non saisi"},7,null,null,null,null,{"$f":"SScore!G$102","v":0}]
[null,null,null,null,"Chariot relais",{"$f":"IF(_OBS3=0,\"non saisi\",L361)","v":"non saisi"},3,null,null,null,null,{"$f":"SScore!G$103","v":0}]
[null,null,null,null,"Score gestion du linge propre",{"$f":"IF(_OBS3=0,\"non saisi\",L362)","v":"non saisi"},12,null,null,null,null,{"$f":"SScore!G$104","v":0}]
[null,null,null,null,"% d'objectifs atteints",{"$f":"L363","v":0},null,null,null,null,null,{"$f":"L362/12","v":0}]
[]
[null,null,null,"► Bionettoyage et traçabilité",null,"Score obtenu","Score attendu"]
[null,null,null,null,"Procédure",{"$f":"IF(_OBS3=0,\"non saisi\",L366)","v":"non saisi"},6,null,null,null,null,{"$f":"SScore!G$107","v":0}]
[null,null,null,null,"Traçabilité",{"$f":"IF(_OBS3=0,\"non saisi\",L367)","v":"non saisi"},6,null,null,null,null,{"$f":"SScore!G$108","v":0}]
[null,null,null,null,"Score bionettoyage et traçabilité",{"$f":"IF(_OBS3=0,\"non saisi\",L368)","v":"non saisi"},12,null,null,null,null,{"$f":"SScore!G$109","v":0}]
[null,null,null,null,"% d'objectifs atteints",{"$f":"L369","v":0},null,null,null,null,null,{"$f":"L368/12","v":0}]
[]
[null,null,"► SCORE TOTAL DES SERVICES EVALUES DE L'ETABLISSEMENT"]
[]
[null,null,null,null,null,"Score obtenu","Score attendu","% d'objectifs atteints"]
[null,null,"Score gestion du linge sale",null,null,{"$f":"IF(SERVICES=0,\"non saisi\",($L$158/SERVICES))","v":"non saisi"},16,{"$f":"IF(SERVICES=0,\"non saisi\",($F$158/16))","v":"non saisi"}]
[null,null,"Score gestion du linge propre",null,null,{"$f":"IF(SERVICES=0,\"non saisi\",($L$159/SERVICES))","v":"non saisi"},12,{"$f":"IF(SERVICES=0,\"non saisi\",($F$159/12))","v":"non saisi"}]
[null,null,"Score bionettoyage et traçabilité",null,null,{"$f":"IF(SERVICES=0,\"non saisi\",($L$160/SERVICES))","v":"non saisi"},12,{"$f":"IF(SERVICES=0,\"non saisi\",($F$160/12))","v":"non saisi"}]
[null,null,"Score total fiches Services",null,null,{"$f":"IF(SERVICES=0,\"non saisi\",($L$161/SERVICES))","v":"non saisi"},40,{"$f":"IF(SERVICES=0,\"non saisi\",($F$161/40))","v":"non saisi"}]
[]
[]
["Evaluation de la fonction linge",null,null,null,null,null,null,null,null,null,null,"Page 8"]
["en établissement de santé et en EHPAD"]
[]
[null,null,"RESULTATS - SERVICE #3"]
[null,null,null,"Etablissement:",{"$f":"IF(NOM=\"\",\"à préciser\",NOM)","v":"à préciser"}]
[null,null,null,"Service #3:",{"$f":"IF(SERVICE3=\"\",\"à préciser\",SERVICE3)","v":"à préciser"}]
[null,null,null,null,"Nombre d'utilisateurs audités:",{"$f":"IF(_OBS3=\"\",\"A préciser\",_OBS3)","v":0}]
[]
[null,null,"► SCORE TOTAL UTILISATEURS SERVICE #3"]
[]
[null,null,null,null,null,"Score obtenu","Score attendu","% d'objectifs atteints"]
[null,null,null,null,"Score évacuation du linge sale",{"$f":"F406","v":"non saisi"},16,{"$f":"H406","v":"non saisi"}]
[null,null,null,null,"Score utilisation du linge propre",{"$f":"F411","v":"non saisi"},4,{"$f":"H411","v":"non saisi"}]
[null,null,null,null,"Score total utilisateurs service #3",{"$f":"IF(_OBS3=0,\"non saisi\",(F391+F392))","v":"non saisi"},20,{"$f":"IF(_OBS3=0,\"non saisi\",(F393/20))","v":"non saisi"}]
[]
[null,null,{"$f":"IF(H393=\"non saisi\",\"\",(IF(H393>=75%,UTIL1,IF(H393>49%,UTIL2,UTIL3))))","v":""}]
[]
[]
[]
[]
[null,null,"► DETAIL DES FICHES \"UTILISATEUR\""]
[]
[null,null,"► Linge sale",null,null,"Score obtenu","Score attendu","% d'objectifs atteints"]
[null,null,null,null,"Evacuation du linge sale",{"$f":"IF(_OBS3=0,\"non saisi\",(L403/_OBS3))","v":"non saisi"},5,{"$f":"IF(_OBS3=0,\"non saisi\",(F403/5))","v":"non saisi"},null,null,null,{"$f":"Score3!$B$74","v":0}]
[null,null,null,null,"Protection du personnel",{"$f":"IF(_OBS3=0,\"non saisi\",(L404/_OBS3))","v":"non saisi"},9,{"$f":"IF(_OBS3=0,\"non saisi\",(F404/9))","v":"non saisi"},null,null,null,{"$f":"Score3!$B$75","v":0}]
[null,null,null,null,"Transport sac du linge",{"$f":"IF(_OBS3=0,\"non saisi\",(L405/_OBS3))","v":"non saisi"},2,{"$f":"IF(_OBS3=0,\"non saisi\",(F405/2))","v":"non saisi"},null,null,null,{"$f":"Score3!$B$76","v":0}]
[null,null,null,null,"Score évacuation du linge sale",{"$f":"IF(_OBS3=0,\"non saisi\",(L406/_OBS3))","v":"non saisi"},16,{"$f":"IF(_OBS3=0,\"non saisi\",(F406/16))","v":"non saisi"},null,null,null,{"$f":"Score3!$B$77","v":0}]
[]
[null,null,"► Linge propre",null,null,"Score obtenu","Score attendu","% d'objectifs atteints"]
[null,null,null,null,"Hygiène des mains",{"$f":"IF(_OBS3=0,\"non saisi\",(L409/_OBS3))","v":"non saisi"},2,{"$f":"IF(_OBS3=0,\"non saisi\",(F409/2))","v":"non saisi"},null,null,null,{"$f":"Score3!$B$80","v":0}]
[null,null,null,null,"Utilisation du linge",{"$f":"IF(_OBS3=0,\"non saisi\",(L410/_OBS3))","v":"non saisi"},2,{"$f":"IF(_OBS3=0,\"non saisi\",(F410/2))","v":"non saisi"},null,null,null,{"$f":"Score3!$B$81","v":0}]
[null,null,null,null,"Score utilisation du linge propre",{"$f":"IF(_OBS3=0,\"non saisi\",(L411/_OBS3))","v":"non saisi"},4,{"$f":"IF(_OBS3=0,\"non saisi\",(F411/4))","v":"non saisi"},null,null,null,{"$f":"Score3!$B$82","v":0}]
[]
[null,null,"► SCORE TOTAL DES UTILISATEURS EVALUES DE L'ETABLISSEMENT"]
[]
[null,null,null,null,null,"Score obtenu","Score attendu","% d'objectifs atteints"]
[null,null,null,null,"Score évacuation du linge sale",{"$f":"IF(_OBS3=0,\"non saisi\",(L416/UTILISATEURS))","v":"non saisi"},16,{"$f":"IF(_OBS3=0,\"non saisi\",(F416/16))","v":"non saisi"},null,null,null,{"$f":"SScore!$B$117","v":0}]
[null,null,null,null,"Score utilisation du linge propre",{"$f":"IF(_OBS3=0,\"non saisi\",(L417/UTILISATEURS))","v":"non saisi"},4,{"$f":"IF(_OBS3=0,\"non saisi\",(F417/4))","v":"non saisi"},null,null,null,{"$f":"SScore!$B$122","v":0}]
[null,null,null,null,"Score total ensemble des utilisateurs evalués ",{"$f":"IF(_OBS3=0,\"non saisi\",(L418/UTILISATEURS))","v":"non saisi"},20,{"$f":"IF(_OBS3=0,\"non saisi\",(F418/20))","v":"non saisi"},null,null,null,{"$f":"SScore!$B$124","v":0}]
[]
[null,null,"► UTILISATEURS SERVICE #3 - REPARTITION PAR CATEGORIE PROFESSIONNELLE"]
[null,null,"Catégorie professionnelle",null,"Utilisateurs","Score obtenu","Score attendu","% objectifs attients"]
[null,null,"Infirmière et IDE spécialisée",null,{"$f":"IF(_OBS3=0,\"non saisi\",L422)","v":"non saisi"},{"$f":"IF(_OBS3=0,\"non saisi\",(IF(E422=0,\"-\",(M422/L422))))","v":"non saisi"},20,{"$f":"IF(_OBS3=0,\"non saisi\",(IF(E422=0,\"-\",(F422/20))))","v":"non saisi"},null,null,null,{"$f":"Score3!$B$52","v":0},{"$f":"Score3!$B$53","v":0}]
[null,null,"Sage-femme",null,"non saisi","non saisi",20,"non saisi",null,null,null,{"$f":"Score3!$B$54","v":0},{"$f":"Score3!$B$55","v":0}]
[null,null,"Kinésithérapeute",null,"non saisi","non saisi",20,"non saisi",null,null,null,{"$f":"Score3!$B$56","v":0},{"$f":"Score3!$B$57","v":0}]
[null,null,"Manipulateur radio",null,"non saisi","non saisi",20,"non saisi",null,null,null,{"$f":"Score3!$B$58","v":0},{"$f":"Score3!$B$59","v":0}]
[null,null,"Aide-soignante/aux. puériculture",null,"non saisi","non saisi",20,"non saisi",null,null,null,{"$f":"Score3!$B$60","v":0},{"$f":"Score3!$B$61","v":0}]
[null,null,"Agent hospitalier",null,"non saisi","non saisi",20,"non saisi",null,null,null,{"$f":"Score3!$B$62","v":0},{"$f":"Score3!$B$63","v":0}]
[null,null,"Ambulancier",null,"non saisi","non saisi",20,"non saisi",null,null,null,{"$f":"Score3!$B$64","v":0},{"$f":"Score3!$B$65","v":0}]
[null,null,"Brancardier",null,"non saisi","non saisi",20,"non saisi",null,null,null,{"$f":"Score3!$B$66","v":0},{"$f":"Score3!$B$67","v":0}]
[null,null,"Etudiant",null,"non saisi","non saisi",20,"non saisi",null,null,null,{"$f":"Score3!B$68","v":0},{"$f":"Score3!$B$69","v":0}]
[null,null,"Autre",null,"non saisi","non saisi",20,"non saisi",null,null,null,{"$f":"Score3!$B$70","v":0},{"$f":"Score3!$B$71","v":0}]
[]
[]
["Evaluation de la fonction linge",null,null,null,null,null,null,null,null,null,null,"Page 9"]
["en établissement de santé et en EHPAD"]
[]
[null,null,"RESULTATS - SERVICE #4"]
[null,null,null,"Etablissement:",{"$f":"IF(NOM=\"\",\"à préciser\",NOM)","v":"à préciser"}]
[null,null,null,"Service #4:",{"$f":"IF(SERVICE4=\"\",\"à préciser\",SERVICE4)","v":"à préciser"}]
[null,null,"Nombre de services audités/nombre total de services de l'établissement:",null,null,null,null,null,{"$f":"IF(SERVICES=0,\"non saisi\",(\" \"&SERVICES&\" / \"&TOTSERVICES))","v":"non saisi"}]
[]
[null,null,"► SCORE TOTAL FICHE SERVICE #4"]
[]
[null,null,null,null,null,"Score obtenu","Score attendu","% d'objectifs atteints"]
[null,null,"Score gestion du linge sale",null,null,{"$f":"F463","v":"non saisi"},16,{"$f":"IF(_OBS4=0,\"non saisi\",(F445/16))","v":"non saisi"}]
[null,null,"Score gestion du linge propre",null,null,{"$f":"F470","v":"non saisi"},12,{"$f":"IF(_OBS4=0,\"non saisi\",(F446/12))","v":"non saisi"}]
[null,null,"Score bionettoyage et traçabilité",null,null,{"$f":"F476","v":"non saisi"},12,{"$f":"IF(_OBS4=0,\"non saisi\",(F447/12))","v":"non saisi"}]
[null,null,"Score total fiches Services",null,null,{"$f":"IF(_OBS4=0,\"non saisi\",(F447+F446+F445))","v":"non saisi"},40,{"$f":"IF(_OBS4=0,\"non saisi\",(F448/40))","v":"non saisi"}]
[]
[null,null,{"$f":"IF(H448=\"non saisi\",\"\",(IF(H448>=75%,SGLOBAL1,IF(H448>49%,SGLOBAL2,SGLOBAL3))))","v":""}]
[]
[]
[]
[]
[null,null,"► DETAIL DE FICHE \"SERVICE\""]
[]
[null,null,null,"► Linge sale",null,"Score obtenu","Score attendu"]
[null,null,null,null,"Procédure",{"$f":"IF(_OBS4=0,\"non saisi\",L458)","v":"non saisi"},3,null,null,null,null,{"$f":"SScore!I$93","v":0}]
[null,null,null,null,"Chariot collecteur","non saisi",4,null,null,null,null,{"$f":"SScore!I$94","v":0}]
[null,null,null,null,"Sac de linge","non saisi",2,null,null,null,null,{"$f":"SScore!I$95","v":0}]
[null,null,null,null,"Local de stockage","non saisi",3,null,null,null,null,{"$f":"SScore!I$96","v":0}]
[null,null,null,null,"Transport","non saisi",4,null,null,null,null,{"$f":"SScore!I$97","v":0}]
[null,null,null,null,"Score gestion du linge sale","non saisi",16,null,null,null,null,{"$f":"SScore!I$98","v":0}]
[null,null,null,null,"% d'objectifs atteints",{"$f":"L464","v":0},null,null,null,null,null,{"$f":"L463/16","v":0}]
[]
[null,null,null,"► Linge propre",null,"Score obtenu","Score attendu"]
[null,null,null,null,"Livraison",{"$f":"IF(_OBS4=0,\"non saisi\",L467)","v":"non saisi"},2,null,null,null,null,{"$f":"SScore!I$101","v":0}]
[null,null,null,null,"Stockage",{"$f":"IF(_OBS4=0,\"non saisi\",L468)","v":"non saisi"},7,null,null,null,null,{"$f":"SScore!I$102","v":0}]
[null,null,null,null,"Chariot relais",{"$f":"IF(_OBS4=0,\"non saisi\",L469)","v":"non saisi"},3,null,null,null,null,{"$f":"SScore!I$103","v":0}]
[null,null,null,null,"Score gestion du linge propre",{"$f":"IF(_OBS4=0,\"non saisi\",L470)","v":"non saisi"},12,null,null,null,null,{"$f":"SScore!I$104","v":0}]
[null,null,null,null,"% d'objectifs atteints",{"$f":"L471","v":0},null,null,null,null,null,{"$f":"L470/12","v":0}]
[]
[null,null,null,"► Bionettoyage et traçabilité",null,"Score obtenu","Score attendu"]
[null,null,null,null,"Procédure",{"$f":"IF(_OBS4=0,\"non saisi\",L474)","v":"non saisi"},6,null,null,null,null,{"$f":"SScore!I$107","v":0}]
[null,null,null,null,"Traçabilité",{"$f":"IF(_OBS4=0,\"non saisi\",L475)","v":"non saisi"},6,null,null,null,null,{"$f":"SScore!I$108","v":0}]
[null,null,null,null,"Score bionettoyage et traçabilité",{"$f":"IF(_OBS4=0,\"non saisi\",L476)","v":"non saisi"},12,null,null,null,null,{"$f":"SScore!I$109","v":0}]
[null,null,null,null,"% d'objectifs atteints",{"$f":"L477","v":0},null,null,null,null,null,{"$f":"L476/12","v":0}]
[]
[null,null,"► SCORE TOTAL DES SERVICES EVALUES DE L'ETABLISSEMENT"]
[]
[null,null,null,null,null,"Score obtenu","Score attendu","% d'objectifs atteints"]
[null,null,"Score gestion du linge sale",null,null,{"$f":"IF(SERVICES=0,\"non saisi\",($L$158/SERVICES))","v":"non saisi"},16,{"$f":"IF(SERVICES=0,\"non saisi\",($F$158/16))","v":"non saisi"}]
[null,null,"Score gestion du linge propre",null,null,{"$f":"IF(SERVICES=0,\"non saisi\",($L$159/SERVICES))","v":"non saisi"},12,{"$f":"IF(SERVICES=0,\"non saisi\",($F$159/12))","v":"non saisi"}]
[null,null,"Score bionettoyage et traçabilité",null,null,{"$f":"IF(SERVICES=0,\"non saisi\",($L$160/SERVICES))","v":"non saisi"},12,{"$f":"IF(SERVICES=0,\"non saisi\",($F$160/12))","v":"non saisi"}]
[null,null,"Score total fiches Services",null,null,{"$f":"IF(SERVICES=0,\"non saisi\",($L$161/SERVICES))","v":"non saisi"},40,{"$f":"IF(SERVICES=0,\"non saisi\",($F$161/40))","v":"non saisi"}]
[]
[]
["Evaluation de la fonction linge",null,null,null,null,null,null,null,null,null,null,"Page 10"]
["en établissement de santé et en EHPAD"]
[]
[null,null,"RESULTATS - SERVICE #4"]
[null,null,null,"Etablissement:",{"$f":"IF(NOM=\"\",\"à préciser\",NOM)","v":"à préciser"}]
[null,null,null,"Service #4:",{"$f":"IF(SERVICE4=\"\",\"à préciser\",SERVICE4)","v":"à préciser"}]
[null,null,null,null,"Nombre d'utilisateurs audités:",{"$f":"IF(_OBS4=\"\",\"A préciser\",_OBS4)","v":0}]
[]
[null,null,"► SCORE TOTAL UTILISATEURS SERVICE #4"]
[]
[null,null,null,null,null,"Score obtenu","Score attendu","% d'objectifs atteints"]
[null,null,null,null,"Score évacuation du linge sale",{"$f":"F514","v":"non saisi"},16,{"$f":"H514","v":"non saisi"}]
[null,null,null,null,"Score utilisation du linge propre",{"$f":"F519","v":"non saisi"},4,{"$f":"H519","v":"non saisi"}]
[null,null,null,null,"Score total utilisateurs service #4",{"$f":"IF(_OBS4=0,\"non saisi\",(F499+F500))","v":"non saisi"},20,{"$f":"IF(_OBS4=0,\"non saisi\",(F501/20))","v":"non saisi"}]
[]
[null,null,{"$f":"IF(H501=\"non saisi\",\"\",(IF(H501>=75%,UTIL1,IF(H501>49%,UTIL2,UTIL3))))","v":""}]
[]
[]
[]
[]
[null,null,"► DETAIL DES FICHES \"UTILISATEUR\""]
[]
[null,null,"► Linge sale",null,null,"Score obtenu","Score attendu","% d'objectifs atteints"]
[null,null,null,null,"Evacuation du linge sale",{"$f":"IF(_OBS4=0,\"non saisi\",(L511/_OBS4))","v":"non saisi"},5,{"$f":"IF(_OBS4=0,\"non saisi\",(F511/5))","v":"non saisi"},null,null,null,{"$f":"Score4!$B$74","v":0}]
[null,null,null,null,"Protection du personnel",{"$f":"IF(_OBS4=0,\"non saisi\",(L512/_OBS4))","v":"non saisi"},9,{"$f":"IF(_OBS4=0,\"non saisi\",(F512/9))","v":"non saisi"},null,null,null,{"$f":"Score4!$B$75","v":0}]
[null,null,null,null,"Transport sac du linge",{"$f":"IF(_OBS4=0,\"non saisi\",(L513/_OBS4))","v":"non saisi"},2,{"$f":"IF(_OBS4=0,\"non saisi\",(F513/2))","v":"non saisi"},null,null,null,{"$f":"Score4!$B$76","v":0}]
[null,null,null,null,"Score évacuation du linge sale",{"$f":"IF(_OBS4=0,\"non saisi\",(L514/_OBS4))","v":"non saisi"},16,{"$f":"IF(_OBS4=0,\"non saisi\",(F514/16))","v":"non saisi"},null,null,null,{"$f":"Score4!$B$77","v":0}]
[]
[null,null,"► Linge propre",null,null,"Score obtenu","Score attendu","% d'objectifs atteints"]
[null,null,null,null,"Hygiène des mains",{"$f":"IF(_OBS4=0,\"non saisi\",(L517/_OBS4))","v":"non saisi"},2,{"$f":"IF(_OBS4=0,\"non saisi\",(F517/2))","v":"non saisi"},null,null,null,{"$f":"Score4!$B$80","v":0}]
[null,null,null,null,"Utilisation du linge",{"$f":"IF(_OBS4=0,\"non saisi\",(L518/_OBS4))","v":"non saisi"},2,{"$f":"IF(_OBS4=0,\"non saisi\",(F518/2))","v":"non saisi"},null,null,null,{"$f":"Score4!$B$81","v":0}]
[null,null,null,null,"Score utilisation du linge propre",{"$f":"IF(_OBS4=0,\"non saisi\",(L519/_OBS4))","v":"non saisi"},4,{"$f":"IF(_OBS4=0,\"non saisi\",(F519/4))","v":"non saisi"},null,null,null,{"$f":"Score4!$B$82","v":0}]
[]
[null,null,"► SCORE TOTAL DES UTILISATEURS EVALUES DE L'ETABLISSEMENT"]
[]
[null,null,null,null,null,"Score obtenu","Score attendu","% d'objectifs atteints"]
[null,null,null,null,"Score évacuation du linge sale",{"$f":"IF(_OBS4=0,\"non saisi\",(L524/UTILISATEURS))","v":"non saisi"},16,{"$f":"IF(_OBS4=0,\"non saisi\",(F524/16))","v":"non saisi"},null,null,null,{"$f":"SScore!$B$117","v":0}]
[null,null,null,null,"Score utilisation du linge propre",{"$f":"IF(_OBS4=0,\"non saisi\",(L525/UTILISATEURS))","v":"non saisi"},4,{"$f":"IF(_OBS4=0,\"non saisi\",(F525/4))","v":"non saisi"},null,null,null,{"$f":"SScore!$B$122","v":0}]
[null,null,null,null,"Score total ensemble des utilisateurs evalués ",{"$f":"IF(_OBS4=0,\"non saisi\",(L526/UTILISATEURS))","v":"non saisi"},20,{"$f":"IF(_OBS4=0,\"non saisi\",(F526/20))","v":"non saisi"},null,null,null,{"$f":"SScore!$B$124","v":0}]
[]
[null,null,"► UTILISATEURS SERVICE #4 - REPARTITION PAR CATEGORIE PROFESSIONNELLE"]
[null,null,"Catégorie professionnelle",null,"Utilisateurs","Score obtenu","Score attendu","% objectifs attients"]
[null,null,"Infirmière et IDE spécialisée",null,{"$f":"IF(_OBS4=0,\"non saisi\",L530)","v":"non saisi"},{"$f":"IF(_OBS4=0,\"non saisi\",(IF(E530=0,\"-\",(M530/L530))))","v":"non saisi"},20,{"$f":"IF(_OBS4=0,\"non saisi\",(IF(E530=0,\"-\",(F530/20))))","v":"non saisi"},null,null,null,{"$f":"Score4!$B$52","v":0},{"$f":"Score4!$B$53","v":0}]
[null,null,"Sage-femme",null,"non saisi","non saisi",20,"non saisi",null,null,null,{"$f":"Score4!$B$54","v":0},{"$f":"Score4!$B$55","v":0}]
[null,null,"Kinésithérapeute",null,"non saisi","non saisi",20,"non saisi",null,null,null,{"$f":"Score4!$B$56","v":0},{"$f":"Score4!$B$57","v":0}]
[null,null,"Manipulateur radio",null,"non saisi","non saisi",20,"non saisi",null,null,null,{"$f":"Score4!$B$58","v":0},{"$f":"Score4!$B$59","v":0}]
[null,null,"Aide-soignante/aux. puériculture",null,"non saisi","non saisi",20,"non saisi",null,null,null,{"$f":"Score4!$B$60","v":0},{"$f":"Score4!$B$61","v":0}]
[null,null,"Agent hospitalier",null,"non saisi","non saisi",20,"non saisi",null,null,null,{"$f":"Score4!$B$62","v":0},{"$f":"Score4!$B$63","v":0}]
[null,null,"Ambulancier",null,"non saisi","non saisi",20,"non saisi",null,null,null,{"$f":"Score4!$B$64","v":0},{"$f":"Score4!$B$65","v":0}]
[null,null,"Brancardier",null,"non saisi","non saisi",20,"non saisi",null,null,null,{"$f":"Score4!$B$66","v":0},{"$f":"Score4!$B$67","v":0}]
[null,null,"Etudiant",null,"non saisi","non saisi",20,"non saisi",null,null,null,{"$f":"Score4!B$68","v":0},{"$f":"Score4!$B$69","v":0}]
[null,null,"Autre",null,"non saisi","non saisi",20,"non saisi",null,null,null,{"$f":"Score4!$B$70","v":0},{"$f":"Score4!$B$71","v":0}]
[]
[]
["Evaluation de la fonction linge",null,null,null,null,null,null,null,null,null,null,"Page 11"]
["en établissement de santé et en EHPAD"]
[]
[null,null,"RESULTATS - SERVICE #5"]
[null,null,null,"Etablissement:",{"$f":"IF(NOM=\"\",\"à préciser\",NOM)","v":"à préciser"}]
[null,null,null,"Service #5:",{"$f":"IF(SERVICE5=\"\",\"à préciser\",SERVICE5)","v":"à préciser"}]
[null,null,"Nombre de services audités/nombre total de services de l'établissement:",null,null,null,null,null,{"$f":"IF(SERVICES=0,\"non saisi\",(\" \"&SERVICES&\" / \"&TOTSERVICES))","v":"non saisi"}]
[]
[null,null,"► SCORE TOTAL FICHE SERVICE #5"]
[]
[null,null,null,null,null,"Score obtenu","Score attendu","% d'objectifs atteints"]
[null,null,"Score gestion du linge sale",null,null,{"$f":"F571","v":"non saisi"},16,{"$f":"IF(_OBS5=0,\"non saisi\",(F553/16))","v":"non saisi"}]
[null,null,"Score gestion du linge propre",null,null,{"$f":"F578","v":"non saisi"},12,{"$f":"IF(_OBS5=0,\"non saisi\",(F554/12))","v":"non saisi"}]
[null,null,"Score bionettoyage et traçabilité",null,null,{"$f":"F584","v":"non saisi"},12,{"$f":"IF(_OBS5=0,\"non saisi\",(F555/12))","v":"non saisi"}]
[null,null,"Score total fiches Services",null,null,{"$f":"IF(_OBS5=0,\"non saisi\",(F555+F554+F553))","v":"non saisi"},40,{"$f":"IF(_OBS5=0,\"non saisi\",(F556/40))","v":"non saisi"}]
[]
[null,null,{"$f":"IF(H556=\"non saisi\",\"\",(IF(H556>=75%,SGLOBAL1,IF(H556>49%,SGLOBAL2,SGLOBAL3))))","v":""}]
[]
[]
[]
[]
[null,null,"► DETAIL DE FICHE \"SERVICE\""]
[]
[null,null,null,"► Linge sale",null,"Score obtenu","Score attendu"]
[null,null,null,null,"Procédure",{"$f":"IF(_OBS5=0,\"non saisi\",L566)","v":"non saisi"},3,null,null,null,null,{"$f":"SScore!K$93","v":0}]
[null,null,null,null,"Chariot collecteur","non saisi",4,null,null,null,null,{"$f":"SScore!K$94","v":0}]
[null,null,null,null,"Sac de linge","non saisi",2,null,null,null,null,{"$f":"SScore!K$95","v":0}]
[null,null,null,null,"Local de stockage","non saisi",3,null,null,null,null,{"$f":"SScore!K$96","v":0}]
[null,null,null,null,"Transport","non saisi",4,null,null,null,null,{"$f":"SScore!K$97","v":0}]
[null,null,null,null,"Score gestion du linge sale","non saisi",16,null,null,null,null,{"$f":"SScore!K$98","v":0}]
[null,null,null,null,"% d'objectifs atteints",{"$f":"L572","v":0},null,null,null,null,null,{"$f":"L571/16","v":0}]
[]
[null,null,null,"► Linge propre",null,"Score obtenu","Score attendu"]
[null,null,null,null,"Livraison",{"$f":"IF(_OBS5=0,\"non saisi\",L575)","v":"non saisi"},2,null,null,null,null,{"$f":"SScore!K$101","v":0}]
[null,null,null,null,"Stockage",{"$f":"IF(_OBS5=0,\"non saisi\",L576)","v":"non saisi"},7,null,null,null,null,{"$f":"SScore!K$102","v":0}]
[null,null,null,null,"Chariot relais",{"$f":"IF(_OBS5=0,\"non saisi\",L577)","v":"non saisi"},3,null,null,null,null,{"$f":"SScore!K$103","v":0}]
[null,null,null,null,"Score gestion du linge propre",{"$f":"IF(_OBS5=0,\"non saisi\",L578)","v":"non saisi"},12,null,null,null,null,{"$f":"SScore!K$104","v":0}]
[null,null,null,null,"% d'objectifs atteints",{"$f":"L579","v":0},null,null,null,null,null,{"$f":"L578/12","v":0}]
[]
[null,null,null,"► Bionettoyage et traçabilité",null,"Score obtenu","Score attendu"]
[null,null,null,null,"Procédure",{"$f":"IF(_OBS5=0,\"non saisi\",L582)","v":"non saisi"},6,null,null,null,null,{"$f":"SScore!K$107","v":0}]
[null,null,null,null,"Traçabilité",{"$f":"IF(_OBS5=0,\"non saisi\",L583)","v":"non saisi"},6,null,null,null,null,{"$f":"SScore!K$108","v":0}]
[null,null,null,null,"Score bionettoyage et traçabilité",{"$f":"IF(_OBS5=0,\"non saisi\",L584)","v":"non saisi"},12,null,null,null,null,{"$f":"SScore!K$109","v":0}]
[null,null,null,null,"% d'objectifs atteints",{"$f":"L585","v":0},null,null,null,null,null,{"$f":"L584/12","v":0}]
[null,null,null,null,null,null,null,null,null,null,null,{"$f":"SScore!C$107","v":0}]
[null,null,"► SCORE TOTAL DES SERVICES EVALUES DE L'ETABLISSEMENT"]
[]
[null,null,null,null,null,"Score obtenu","Score attendu","% d'objectifs atteints"]
[null,null,"Score gestion du linge sale",null,null,{"$f":"IF(SERVICES=0,\"non saisi\",($L$158/SERVICES))","v":"non saisi"},16,{"$f":"IF(SERVICES=0,\"non saisi\",($F$158/16))","v":"non saisi"}]
[null,null,"Score gestion du linge propre",null,null,{"$f":"IF(SERVICES=0,\"non saisi\",($L$159/SERVICES))","v":"non saisi"},12,{"$f":"IF(SERVICES=0,\"non saisi\",($F$159/12))","v":"non saisi"}]
[null,null,"Score bionettoyage et traçabilité",null,null,{"$f":"IF(SERVICES=0,\"non saisi\",($L$160/SERVICES))","v":"non saisi"},12,{"$f":"IF(SERVICES=0,\"non saisi\",($F$160/12))","v":"non saisi"}]
[null,null,"Score total fiches Services",null,null,{"$f":"IF(SERVICES=0,\"non saisi\",($L$161/SERVICES))","v":"non saisi"},40,{"$f":"IF(SERVICES=0,\"non saisi\",($F$161/40))","v":"non saisi"}]
[]
[]
["Evaluation de la fonction linge",null,null,null,null,null,null,null,null,null,null,"Page 12"]
["en établissement de santé et en EHPAD"]
[]
[null,null,"RESULTATS - SERVICE #5"]
[null,null,null,"Etablissement:",{"$f":"IF(NOM=\"\",\"à préciser\",NOM)","v":"à préciser"}]
[null,null,null,"Service #5:",{"$f":"IF(SERVICE5=\"\",\"à préciser\",SERVICE5)","v":"à préciser"}]
[null,null,null,null,"Nombre d'utilisateurs audités:",{"$f":"IF(_OBS5=\"\",\"A préciser\",_OBS5)","v":0}]
[]
[null,null,"► SCORE TOTAL UTILISATEURS SERVICE #5"]
[]
[null,null,null,null,null,"Score obtenu","Score attendu","% d'objectifs atteints"]
[null,null,null,null,"Score évacuation du linge sale",{"$f":"F622","v":"non saisi"},16,{"$f":"H622","v":"non saisi"}]
[null,null,null,null,"Score utilisation du linge propre",{"$f":"F627","v":"non saisi"},4,{"$f":"H627","v":"non saisi"}]
[null,null,null,null,"Score total utilisateurs service #5",{"$f":"IF(_OBS5=0,\"non saisi\",(F607+F608))","v":"non saisi"},20,{"$f":"IF(_OBS5=0,\"non saisi\",(F609/20))","v":"non saisi"}]
[]
[null,null,{"$f":"IF(H609=\"non saisi\",\"\",(IF(H609>=75%,UTIL1,IF(H609>49%,UTIL2,UTIL3))))","v":""}]
[]
[]
[]
[]
[null,null,"► DETAIL DES FICHES \"UTILISATEUR\""]
[]
[null,null,"► Linge sale",null,null,"Score obtenu","Score attendu","% d'objectifs atteints"]
[null,null,null,null,"Evacuation du linge sale",{"$f":"IF(_OBS5=0,\"non saisi\",(L619/_OBS5))","v":"non saisi"},5,{"$f":"IF(_OBS5=0,\"non saisi\",(F619/5))","v":"non saisi"},null,null,null,{"$f":"Score5!$B$74","v":0}]
[null,null,null,null,"Protection du personnel",{"$f":"IF(_OBS5=0,\"non saisi\",(L620/_OBS5))","v":"non saisi"},9,{"$f":"IF(_OBS5=0,\"non saisi\",(F620/9))","v":"non saisi"},null,null,null,{"$f":"Score5!$B$75","v":0}]
[null,null,null,null,"Transport sac du linge",{"$f":"IF(_OBS5=0,\"non saisi\",(L621/_OBS5))","v":"non saisi"},2,{"$f":"IF(_OBS5=0,\"non saisi\",(F621/2))","v":"non saisi"},null,null,null,{"$f":"Score5!$B$76","v":0}]
[null,null,null,null,"Score évacuation du linge sale",{"$f":"IF(_OBS5=0,\"non saisi\",(L622/_OBS5))","v":"non saisi"},16,{"$f":"IF(_OBS5=0,\"non saisi\",(F622/16))","v":"non saisi"},null,null,null,{"$f":"Score5!$B$77","v":0}]
[]
[null,null,"► Linge propre",null,null,"Score obtenu","Score attendu","% d'objectifs atteints"]
[null,null,null,null,"Hygiène des mains",{"$f":"IF(_OBS5=0,\"non saisi\",(L625/_OBS5))","v":"non saisi"},2,{"$f":"IF(_OBS5=0,\"non saisi\",(F625/2))","v":"non saisi"},null,null,null,{"$f":"Score5!$B$80","v":0}]
[null,null,null,null,"Utilisation du linge",{"$f":"IF(_OBS5=0,\"non saisi\",(L626/_OBS5))","v":"non saisi"},2,{"$f":"IF(_OBS5=0,\"non saisi\",(F626/2))","v":"non saisi"},null,null,null,{"$f":"Score5!$B$81","v":0}]
[null,null,null,null,"Score utilisation du linge propre",{"$f":"IF(_OBS5=0,\"non saisi\",(L627/_OBS5))","v":"non saisi"},4,{"$f":"IF(_OBS5=0,\"non saisi\",(F627/4))","v":"non saisi"},null,null,null,{"$f":"Score5!$B$82","v":0}]
[]
[null,null,"► SCORE TOTAL DES UTILISATEURS EVALUES DE L'ETABLISSEMENT"]
[]
[null,null,null,null,null,"Score obtenu","Score attendu","% d'objectifs atteints"]
[null,null,null,null,"Score évacuation du linge sale",{"$f":"IF(_OBS5=0,\"non saisi\",(L632/UTILISATEURS))","v":"non saisi"},16,{"$f":"IF(_OBS5=0,\"non saisi\",(F632/16))","v":"non saisi"},null,null,null,{"$f":"SScore!$B$117","v":0}]
[null,null,null,null,"Score utilisation du linge propre",{"$f":"IF(_OBS5=0,\"non saisi\",(L633/UTILISATEURS))","v":"non saisi"},4,{"$f":"IF(_OBS5=0,\"non saisi\",(F633/4))","v":"non saisi"},null,null,null,{"$f":"SScore!$B$122","v":0}]
[null,null,null,null,"Score total ensemble des utilisateurs evalués ",{"$f":"IF(_OBS5=0,\"non saisi\",(L634/UTILISATEURS))","v":"non saisi"},20,{"$f":"IF(_OBS5=0,\"non saisi\",(F634/20))","v":"non saisi"},null,null,null,{"$f":"SScore!$B$124","v":0}]
[]
[null,null,"► UTILISATEURS SERVICE #5 - REPARTITION PAR CATEGORIE PROFESSIONNELLE"]
[null,null,"Catégorie professionnelle",null,"Utilisateurs","Score obtenu","Score attendu","% objectifs attients"]
[null,null,"Infirmière et IDE spécialisée",null,{"$f":"IF(_OBS5=0,\"non saisi\",L638)","v":"non saisi"},{"$f":"IF(_OBS5=0,\"non saisi\",(IF(E638=0,\"-\",(M638/L638))))","v":"non saisi"},20,{"$f":"IF(_OBS5=0,\"non saisi\",(IF(E638=0,\"-\",(F638/20))))","v":"non saisi"},null,null,null,{"$f":"Score5!$B$52","v":0},{"$f":"Score5!$B$53","v":0}]
[null,null,"Sage-femme",null,"non saisi","non saisi",20,"non saisi",null,null,null,{"$f":"Score5!$B$54","v":0},{"$f":"Score5!$B$55","v":0}]
[null,null,"Kinésithérapeute",null,"non saisi","non saisi",20,"non saisi",null,null,null,{"$f":"Score5!$B$56","v":0},{"$f":"Score5!$B$57","v":0}]
[null,null,"Manipulateur radio",null,"non saisi","non saisi",20,"non saisi",null,null,null,{"$f":"Score5!$B$58","v":0},{"$f":"Score5!$B$59","v":0}]
[null,null,"Aide-soignante/aux. puériculture",null,"non saisi","non saisi",20,"non saisi",null,null,null,{"$f":"Score5!$B$60","v":0},{"$f":"Score5!$B$61","v":0}]
[null,null,"Agent hospitalier",null,"non saisi","non saisi",20,"non saisi",null,null,null,{"$f":"Score5!$B$62","v":0},{"$f":"Score5!$B$63","v":0}]
[null,null,"Ambulancier",null,"non saisi","non saisi",20,"non saisi",null,null,null,{"$f":"Score5!$B$64","v":0},{"$f":"Score5!$B$65","v":0}]
[null,null,"Brancardier",null,"non saisi","non saisi",20,"non saisi",null,null,null,{"$f":"Score5!$B$66","v":0},{"$f":"Score5!$B$67","v":0}]
[null,null,"Etudiant",null,"non saisi","non saisi",20,"non saisi",null,null,null,{"$f":"Score5!B$68","v":0},{"$f":"Score5!$B$69","v":0}]
[null,null,"Autre",null,"non saisi","non saisi",20,"non saisi",null,null,null,{"$f":"Score5!$B$70","v":0},{"$f":"Score5!$B$71","v":0}]
[]
[]
["Evaluation de la fonction linge",null,null,null,null,null,null,null,null,null,null,"Page 13"]
["en établissement de santé et en EHPAD"]
[]
[null,null,"RESULTATS - SERVICE #6"]
[null,null,null,"Etablissement:",{"$f":"IF(NOM=\"\",\"à préciser\",NOM)","v":"à préciser"}]
[null,null,null,"Service #6:",{"$f":"IF(SERVICE6=\"\",\"à préciser\",SERVICE6)","v":"à préciser"}]
[null,null,"Nombre de services audités/nombre total de services de l'établissement:",null,null,null,null,null,{"$f":"IF(SERVICES=0,\"non saisi\",(\" \"&SERVICES&\" / \"&TOTSERVICES))","v":"non saisi"}]
[]
[null,null,"► SCORE TOTAL FICHE SERVICE #6"]
[]
[null,null,null,null,null,"Score obtenu","Score attendu","% d'objectifs atteints"]
[null,null,"Score gestion du linge sale",null,null,{"$f":"F679","v":"non saisi"},16,{"$f":"IF(_OBS6=0,\"non saisi\",(F661/16))","v":"non saisi"}]
[null,null,"Score gestion du linge propre",null,null,{"$f":"F686","v":"non saisi"},12,{"$f":"IF(_OBS6=0,\"non saisi\",(F662/12))","v":"non saisi"}]
[null,null,"Score bionettoyage et traçabilité",null,null,{"$f":"F692","v":"non saisi"},12,{"$f":"IF(_OBS6=0,\"non saisi\",(F663/12))","v":"non saisi"}]
[null,null,"Score total fiches Services",null,null,{"$f":"IF(_OBS6=0,\"non saisi\",(F663+F662+F661))","v":"non saisi"},40,{"$f":"IF(_OBS6=0,\"non saisi\",(F664/40))","v":"non saisi"}]
[]
[null,null,{"$f":"IF(H664=\"non saisi\",\"\",(IF(H664>=75%,SGLOBAL1,IF(H664>49%,SGLOBAL2,SGLOBAL3))))","v":""}]
[]
[]
[]
[]
[null,null,"► DETAIL DE FICHE \"SERVICE\""]
[]
[null,null,null,"► Linge sale",null,"Score obtenu","Score attendu"]
[null,null,null,null,"Procédure",{"$f":"IF(_OBS6=0,\"non saisi\",L674)","v":"non saisi"},3,null,null,null,null,{"$f":"SScore!M$93","v":0}]
[null,null,null,null,"Chariot collecteur","non saisi",4,null,null,null,null,{"$f":"SScore!M$94","v":0}]
[null,null,null,null,"Sac de linge","non saisi",2,null,null,null,null,{"$f":"SScore!M$95","v":0}]
[null,null,null,null,"Local de stockage","non saisi",3,null,null,null,null,{"$f":"SScore!M$96","v":0}]
[null,null,null,null,"Transport","non saisi",4,null,null,null,null,{"$f":"SScore!M$97","v":0}]
[null,null,null,null,"Score gestion du linge sale","non saisi",16,null,null,null,null,{"$f":"SScore!M$98","v":0}]
[null,null,null,null,"% d'objectifs atteints",{"$f":"L680","v":0},null,null,null,null,null,{"$f":"L679/16","v":0}]
[]
[null,null,null,"► Linge propre",null,"Score obtenu","Score attendu"]
[null,null,null,null,"Livraison",{"$f":"IF(_OBS6=0,\"non saisi\",L683)","v":"non saisi"},2,null,null,null,null,{"$f":"SScore!M$101","v":0}]
[null,null,null,null,"Stockage",{"$f":"IF(_OBS6=0,\"non saisi\",L684)","v":"non saisi"},7,null,null,null,null,{"$f":"SScore!M$102","v":0}]
[null,null,null,null,"Chariot relais",{"$f":"IF(_OBS6=0,\"non saisi\",L685)","v":"non saisi"},3,null,null,null,null,{"$f":"SScore!M$103","v":0}]
[null,null,null,null,"Score gestion du linge propre",{"$f":"IF(_OBS6=0,\"non saisi\",L686)","v":"non saisi"},12,null,null,null,null,{"$f":"SScore!M$104","v":0}]
[null,null,null,null,"% d'objectifs atteints",{"$f":"L687","v":0},null,null,null,null,null,{"$f":"L686/12","v":0}]
[]
[null,null,null,"► Bionettoyage et traçabilité",null,"Score obtenu","Score attendu"]
[null,null,null,null,"Procédure",{"$f":"IF(_OBS6=0,\"non saisi\",L690)","v":"non saisi"},6,null,null,null,null,{"$f":"SScore!M$107","v":0}]
[null,null,null,null,"Traçabilité",{"$f":"IF(_OBS6=0,\"non saisi\",L691)","v":"non saisi"},6,null,null,null,null,{"$f":"SScore!M$108","v":0}]
[null,null,null,null,"Score bionettoyage et traçabilité",{"$f":"IF(_OBS6=0,\"non saisi\",L692)","v":"non saisi"},12,null,null,null,null,{"$f":"SScore!M$109","v":0}]
[null,null,null,null,"% d'objectifs atteints",{"$f":"L693","v":0},null,null,null,null,null,{"$f":"L692/12","v":0}]
[]
[null,null,"► SCORE TOTAL DES SERVICES EVALUES DE L'ETABLISSEMENT"]
[]
[null,null,null,null,null,"Score obtenu","Score attendu","% d'objectifs atteints"]
[null,null,"Score gestion du linge sale",null,null,{"$f":"IF(SERVICES=0,\"non saisi\",($L$158/SERVICES))","v":"non saisi"},16,{"$f":"IF(SERVICES=0,\"non saisi\",($F$158/16))","v":"non saisi"}]
[null,null,"Score gestion du linge propre",null,null,{"$f":"IF(SERVICES=0,\"non saisi\",($L$159/SERVICES))","v":"non saisi"},12,{"$f":"IF(SERVICES=0,\"non saisi\",($F$159/12))","v":"non saisi"}]
[null,null,"Score bionettoyage et traçabilité",null,null,{"$f":"IF(SERVICES=0,\"non saisi\",($L$160/SERVICES))","v":"non saisi"},12,{"$f":"IF(SERVICES=0,\"non saisi\",($F$160/12))","v":"non saisi"}]
[null,null,"Score total fiches Services",null,null,{"$f":"IF(SERVICES=0,\"non saisi\",($L$161/SERVICES))","v":"non saisi"},40,{"$f":"IF(SERVICES=0,\"non saisi\",($F$161/40))","v":"non saisi"}]
[]
[]
["Evaluation de la fonction linge",null,null,null,null,null,null,null,null,null,null,"Page 14"]
["en établissement de santé et en EHPAD"]
[]
[null,null,"RESULTATS - SERVICE #6"]
[null,null,null,"Etablissement:",{"$f":"IF(NOM=\"\",\"à préciser\",NOM)","v":"à préciser"}]
[null,null,null,"Service #6:",{"$f":"IF(SERVICE6=\"\",\"à préciser\",SERVICE6)","v":"à préciser"}]
[null,null,null,null,"Nombre d'utilisateurs audités:",{"$f":"IF(_OBS6=\"\",\"A préciser\",_OBS6)","v":0}]
[]
[null,null,"► SCORE TOTAL UTILISATEURS SERVICE #6"]
[]
[null,null,null,null,null,"Score obtenu","Score attendu","% d'objectifs atteints"]
[null,null,null,null,"Score évacuation du linge sale",{"$f":"F730","v":"non saisi"},16,{"$f":"H730","v":"non saisi"}]
[null,null,null,null,"Score utilisation du linge propre",{"$f":"F735","v":"non saisi"},4,{"$f":"H735","v":"non saisi"}]
[null,null,null,null,"Score total utilisateurs service #6",{"$f":"IF(_OBS6=0,\"non saisi\",(F715+F716))","v":"non saisi"},20,{"$f":"IF(_OBS6=0,\"non saisi\",(F717/20))","v":"non saisi"}]
[]
[null,null,{"$f":"IF(H717=\"non saisi\",\"\",(IF(H717>=75%,UTIL1,IF(H717>49%,UTIL2,UTIL3))))","v":""}]
[]
[]
[]
[]
[null,null,"► DETAIL DES FICHES \"UTILISATEUR\""]
[]
[null,null,"► Linge sale",null,null,"Score obtenu","Score attendu","% d'objectifs atteints"]
[null,null,null,null,"Evacuation du linge sale",{"$f":"IF(_OBS6=0,\"non saisi\",(L727/_OBS6))","v":"non saisi"},5,{"$f":"IF(_OBS6=0,\"non saisi\",(F727/5))","v":"non saisi"},null,null,null,{"$f":"Score6!$B$74","v":0}]
[null,null,null,null,"Protection du personnel",{"$f":"IF(_OBS6=0,\"non saisi\",(L728/_OBS6))","v":"non saisi"},9,{"$f":"IF(_OBS6=0,\"non saisi\",(F728/9))","v":"non saisi"},null,null,null,{"$f":"Score6!$B$75","v":0}]
[null,null,null,null,"Transport sac du linge",{"$f":"IF(_OBS6=0,\"non saisi\",(L729/_OBS6))","v":"non saisi"},2,{"$f":"IF(_OBS6=0,\"non saisi\",(F729/2))","v":"non saisi"},null,null,null,{"$f":"Score6!$B$76","v":0}]
[null,null,null,null,"Score évacuation du linge sale",{"$f":"IF(_OBS6=0,\"non saisi\",(L730/_OBS6))","v":"non saisi"},16,{"$f":"IF(_OBS6=0,\"non saisi\",(F730/16))","v":"non saisi"},null,null,null,{"$f":"Score6!$B$77","v":0}]
[]
[null,null,"► Linge propre",null,null,"Score obtenu","Score attendu","% d'objectifs atteints"]
[null,null,null,null,"Hygiène des mains",{"$f":"IF(_OBS6=0,\"non saisi\",(L733/_OBS6))","v":"non saisi"},2,{"$f":"IF(_OBS6=0,\"non saisi\",(F733/2))","v":"non saisi"},null,null,null,{"$f":"Score6!$B$80","v":0}]
[null,null,null,null,"Utilisation du linge",{"$f":"IF(_OBS6=0,\"non saisi\",(L734/_OBS6))","v":"non saisi"},2,{"$f":"IF(_OBS6=0,\"non saisi\",(F734/2))","v":"non saisi"},null,null,null,{"$f":"Score6!$B$81","v":0}]
[null,null,null,null,"Score utilisation du linge propre",{"$f":"IF(_OBS6=0,\"non saisi\",(L735/_OBS6))","v":"non saisi"},4,{"$f":"IF(_OBS6=0,\"non saisi\",(F735/4))","v":"non saisi"},null,null,null,{"$f":"Score6!$B$82","v":0}]
[]
[null,null,"► SCORE TOTAL DES UTILISATEURS EVALUES DE L'ETABLISSEMENT"]
[]
[null,null,null,null,null,"Score obtenu","Score attendu","% d'objectifs atteints"]
[null,null,null,null,"Score évacuation du linge sale",{"$f":"IF(_OBS6=0,\"non saisi\",(L740/UTILISATEURS))","v":"non saisi"},16,{"$f":"IF(_OBS6=0,\"non saisi\",(F740/16))","v":"non saisi"},null,null,null,{"$f":"SScore!$B$117","v":0}]
[null,null,null,null,"Score utilisation du linge propre",{"$f":"IF(_OBS6=0,\"non saisi\",(L741/UTILISATEURS))","v":"non saisi"},4,{"$f":"IF(_OBS6=0,\"non saisi\",(F741/4))","v":"non saisi"},null,null,null,{"$f":"SScore!$B$122","v":0}]
[null,null,null,null,"Score total ensemble des utilisateurs evalués ",{"$f":"IF(_OBS6=0,\"non saisi\",(L742/UTILISATEURS))","v":"non saisi"},20,{"$f":"IF(_OBS6=0,\"non saisi\",(F742/20))","v":"non saisi"},null,null,null,{"$f":"SScore!$B$124","v":0}]
[]
[null,null,"► UTILISATEURS SERVICE #6 - REPARTITION PAR CATEGORIE PROFESSIONNELLE"]
[null,null,"Catégorie professionnelle",null,"Utilisateurs","Score obtenu","Score attendu","% objectifs attients"]
[null,null,"Infirmière et IDE spécialisée",null,{"$f":"IF(_OBS6=0,\"non saisi\",L746)","v":"non saisi"},{"$f":"IF(_OBS6=0,\"non saisi\",(IF(E746=0,\"-\",(M746/L746))))","v":"non saisi"},20,{"$f":"IF(_OBS6=0,\"non saisi\",(IF(E746=0,\"-\",(F746/20))))","v":"non saisi"},null,null,null,{"$f":"Score6!$B$52","v":0},{"$f":"Score6!$B$53","v":0}]
[null,null,"Sage-femme",null,"non saisi","non saisi",20,"non saisi",null,null,null,{"$f":"Score6!$B$54","v":0},{"$f":"Score6!$B$55","v":0}]
[null,null,"Kinésithérapeute",null,"non saisi","non saisi",20,"non saisi",null,null,null,{"$f":"Score6!$B$56","v":0},{"$f":"Score6!$B$57","v":0}]
[null,null,"Manipulateur radio",null,"non saisi","non saisi",20,"non saisi",null,null,null,{"$f":"Score6!$B$58","v":0},{"$f":"Score6!$B$59","v":0}]
[null,null,"Aide-soignante/aux. puériculture",null,"non saisi","non saisi",20,"non saisi",null,null,null,{"$f":"Score6!$B$60","v":0},{"$f":"Score6!$B$61","v":0}]
[null,null,"Agent hospitalier",null,"non saisi","non saisi",20,"non saisi",null,null,null,{"$f":"Score6!$B$62","v":0},{"$f":"Score6!$B$63","v":0}]
[null,null,"Ambulancier",null,"non saisi","non saisi",20,"non saisi",null,null,null,{"$f":"Score6!$B$64","v":0},{"$f":"Score6!$B$65","v":0}]
[null,null,"Brancardier",null,"non saisi","non saisi",20,"non saisi",null,null,null,{"$f":"Score6!$B$66","v":0},{"$f":"Score6!$B$67","v":0}]
[null,null,"Etudiant",null,"non saisi","non saisi",20,"non saisi",null,null,null,{"$f":"Score6!$B$68","v":0},{"$f":"Score6!$B$69","v":0}]
[null,null,"Autre",null,"non saisi","non saisi",20,"non saisi",null,null,null,{"$f":"Score6!$B$70","v":0},{"$f":"Score6!$B$71","v":0}]
[]
[]
["Evaluation de la fonction linge",null,null,null,null,null,null,null,null,null,null,"Page 15"]
["en établissement de santé et en EHPAD"]
[]
[null,null,"RESULTATS - SERVICE #7"]
[null,null,null,"Etablissement:",{"$f":"IF(NOM=\"\",\"à préciser\",NOM)","v":"à préciser"}]
[null,null,null,"Service #7:",{"$f":"IF(SERVICE7=\"\",\"à préciser\",SERVICE7)","v":"à préciser"}]
[null,null,"Nombre de services audités/nombre total de services de l'établissement:",null,null,null,null,null,{"$f":"IF(SERVICES=0,\"non saisi\",(\" \"&SERVICES&\" / \"&TOTSERVICES))","v":"non saisi"}]
[]
[null,null,"► SCORE TOTAL FICHE SERVICE #7"]
[]
[null,null,null,null,null,"Score obtenu","Score attendu","% d'objectifs atteints"]
[null,null,"Score gestion du linge sale",null,null,{"$f":"F787","v":"non saisi"},16,{"$f":"IF(L780=0,\"non saisi\",(F769/16))","v":"non saisi"}]
[null,null,"Score gestion du linge propre",null,null,{"$f":"F794","v":"non saisi"},12,{"$f":"IF(L780=0,\"non saisi\",(F770/12))","v":"non saisi"}]
[null,null,"Score bionettoyage et traçabilité",null,null,{"$f":"F800","v":"non saisi"},12,{"$f":"IF(L780=0,\"non saisi\",(F771/12))","v":"non saisi"}]
[null,null,"Score total fiches Services",null,null,{"$f":"IF(L780=0,\"non saisi\",(F771+F770+F769))","v":"non saisi"},40,{"$f":"IF(L780=0,\"non saisi\",(F772/40))","v":"non saisi"}]
[]
[null,null,{"$f":"IF(H772=\"non saisi\",\"\",(IF(H772>=75%,SGLOBAL1,IF(H772>49%,SGLOBAL2,SGLOBAL3))))","v":""}]
[]
[]
[]
[]
[null,null,"► DETAIL DE FICHE \"SERVICE\""]
[null,null,null,null,null,null,null,null,null,null,null,{"$f":"_OBS7","v":0}]
[null,null,null,"► Linge sale",null,"Score obtenu","Score attendu"]
[null,null,null,null,"Procédure",{"$f":"IF(L780=0,\"non saisi\",L782)","v":"non saisi"},3,null,null,null,null,{"$f":"SScore!O$93","v":0}]
[null,null,null,null,"Chariot collecteur",{"$f":"IF(L780=0,\"non saisi\",L783)","v":"non saisi"},4,null,null,null,null,{"$f":"SScore!O$94","v":0}]
[null,null,null,null,"Sac de linge",{"$f":"IF(L780=0,\"non saisi\",L784)","v":"non saisi"},2,null,null,null,null,{"$f":"SScore!O$95","v":0}]
[null,null,null,null,"Local de stockage",{"$f":"IF(L780=0,\"non saisi\",L785)","v":"non saisi"},3,null,null,null,null,{"$f":"SScore!O$96","v":0}]
[null,null,null,null,"Transport",{"$f":"IF(L780=0,\"non saisi\",L786)","v":"non saisi"},4,null,null,null,null,{"$f":"SScore!O$97","v":0}]
[null,null,null,null,"Score gestion du linge sale",{"$f":"IF(L780=0,\"non saisi\",L787)","v":"non saisi"},16,null,null,null,null,{"$f":"SScore!O$98","v":0}]
[null,null,null,null,"% d'objectifs atteints",{"$f":"L788","v":0},null,null,null,null,null,{"$f":"L787/16","v":0}]
[]
[null,null,null,"► Linge propre",null,"Score obtenu","Score attendu"]
[null,null,null,null,"Livraison",{"$f":"IF(L780=0,\"non saisi\",L791)","v":"non saisi"},2,null,null,null,null,{"$f":"SScore!O$101","v":0}]
[null,null,null,null,"Stockage",{"$f":"IF(L780=0,\"non saisi\",L792)","v":"non saisi"},7,null,null,null,null,{"$f":"SScore!O$102","v":0}]
[null,null,null,null,"Chariot relais",{"$f":"IF(L780=0,\"non saisi\",L793)","v":"non saisi"},3,null,null,null,null,{"$f":"SScore!O$103","v":0}]
[null,null,null,null,"Score gestion du linge propre",{"$f":"IF(L780=0,\"non saisi\",L794)","v":"non saisi"},12,null,null,null,null,{"$f":"SScore!O$104","v":0}]
[null,null,null,null,"% d'objectifs atteints",{"$f":"L795","v":0},null,null,null,null,null,{"$f":"L794/12","v":0}]
[]
[null,null,null,"► Bionettoyage et traçabilité",null,"Score obtenu","Score attendu"]
[null,null,null,null,"Procédure",{"$f":"IF(L780=0,\"non saisi\",L798)","v":"non saisi"},6,null,null,null,null,{"$f":"SScore!O$107","v":0}]
[null,null,null,null,"Traçabilité",{"$f":"IF(L780=0,\"non saisi\",L799)","v":"non saisi"},6,null,null,null,null,{"$f":"SScore!O$108","v":0}]
[null,null,null,null,"Score bionettoyage et traçabilité",{"$f":"IF(L780=0,\"non saisi\",L800)","v":"non saisi"},12,null,null,null,null,{"$f":"SScore!O$109","v":0}]
[null,null,null,null,"% d'objectifs atteints",{"$f":"L801","v":0},null,null,null,null,null,{"$f":"L800/12","v":0}]
[null,null,null,null,null,null,null,null,null,null,null,{"$f":"SScore!C$107","v":0}]
[null,null,"► SCORE TOTAL DES SERVICES EVALUES DE L'ETABLISSEMENT"]
[]
[null,null,null,null,null,"Score obtenu","Score attendu","% d'objectifs atteints"]
[null,null,"Score gestion du linge sale",null,null,{"$f":"IF(SERVICES=0,\"non saisi\",($L$158/SERVICES))","v":"non saisi"},16,{"$f":"IF(SERVICES=0,\"non saisi\",($F$158/16))","v":"non saisi"}]
[null,null,"Score gestion du linge propre",null,null,{"$f":"IF(SERVICES=0,\"non saisi\",($L$159/SERVICES))","v":"non saisi"},12,{"$f":"IF(SERVICES=0,\"non saisi\",($F$159/12))","v":"non saisi"}]
[null,null,"Score bionettoyage et traçabilité",null,null,{"$f":"IF(SERVICES=0,\"non saisi\",($L$160/SERVICES))","v":"non saisi"},12,{"$f":"IF(SERVICES=0,\"non saisi\",($F$160/12))","v":"non saisi"}]
[null,null,"Score total fiches Services",null,null,{"$f":"IF(SERVICES=0,\"non saisi\",($L$161/SERVICES))","v":"non saisi"},40,{"$f":"IF(SERVICES=0,\"non saisi\",($F$161/40))","v":"non saisi"}]
[]
[]
["Evaluation de la fonction linge",null,null,null,null,null,null,null,null,null,null,"Page 16"]
["en établissement de santé et en EHPAD"]
[]
[null,null,"RESULTATS - SERVICE #7"]
[null,null,null,"Etablissement:",{"$f":"IF(NOM=\"\",\"à préciser\",NOM)","v":"à préciser"}]
[null,null,null,"Service #7:",{"$f":"IF(SERVICE7=\"\",\"à préciser\",SERVICE7)","v":"à préciser"}]
[null,null,null,null,"Nombre d'utilisateurs audités:",{"$f":"IF(_OBS7=\"\",\"A préciser\",_OBS7)","v":0}]
[]
[null,null,"► SCORE TOTAL UTILISATEURS SERVICE #7"]
[]
[null,null,null,null,null,"Score obtenu","Score attendu","% d'objectifs atteints"]
[null,null,null,null,"Score évacuation du linge sale",{"$f":"F838","v":"non saisi"},16,{"$f":"H838","v":"non saisi"}]
[null,null,null,null,"Score utilisation du linge propre",{"$f":"F843","v":"non saisi"},4,{"$f":"H843","v":"non saisi"}]
[null,null,null,null,"Score total utilisateurs service #7",{"$f":"IF(L780=0,\"non saisi\",(F823+F824))","v":"non saisi"},20,{"$f":"IF(L780=0,\"non saisi\",(F825/20))","v":"non saisi"}]
[]
[null,null,{"$f":"IF(H825=\"non saisi\",\"\",(IF(H825>=75%,UTIL1,IF(H825>49%,UTIL2,UTIL3))))","v":""}]
[]
[]
[]
[]
[null,null,"► DETAIL DES FICHES \"UTILISATEUR\""]
[]
[null,null,"► Linge sale",null,null,"Score obtenu","Score attendu","% d'objectifs atteints"]
[null,null,null,null,"Evacuation du linge sale",{"$f":"IF(L780=0,\"non saisi\",(L835/L780))","v":"non saisi"},5,{"$f":"IF(L780=0,\"non saisi\",(F835/5))","v":"non saisi"},null,null,null,{"$f":"Score7!$B$74","v":0}]
[null,null,null,null,"Protection du personnel",{"$f":"IF(L780=0,\"non saisi\",(L836/L780))","v":"non saisi"},9,{"$f":"IF(L780=0,\"non saisi\",(F836/9))","v":"non saisi"},null,null,null,{"$f":"Score7!$B$75","v":0}]
[null,null,null,null,"Transport sac du linge",{"$f":"IF(L780=0,\"non saisi\",(L837/L780))","v":"non saisi"},2,{"$f":"IF(L780=0,\"non saisi\",(F837/2))","v":"non saisi"},null,null,null,{"$f":"Score7!$B$76","v":0}]
[null,null,null,null,"Score évacuation du linge sale",{"$f":"IF(L780=0,\"non saisi\",(L838/L780))","v":"non saisi"},16,{"$f":"IF(L780=0,\"non saisi\",(F838/16))","v":"non saisi"},null,null,null,{"$f":"Score7!$B$77","v":0}]
[]
[null,null,"► Linge propre",null,null,"Score obtenu","Score attendu","% d'objectifs atteints"]
[null,null,null,null,"Hygiène des mains",{"$f":"IF(L780=0,\"non saisi\",(L841/L780))","v":"non saisi"},2,{"$f":"IF(L780=0,\"non saisi\",(F841/2))","v":"non saisi"},null,null,null,{"$f":"Score7!$B$80","v":0}]
[null,null,null,null,"Utilisation du linge",{"$f":"IF(L780=0,\"non saisi\",(L842/L780))","v":"non saisi"},2,{"$f":"IF(L780=0,\"non saisi\",(F842/2))","v":"non saisi"},null,null,null,{"$f":"Score7!$B$81","v":0}]
[null,null,null,null,"Score utilisation du linge propre",{"$f":"IF(L780=0,\"non saisi\",(L843/L780))","v":"non saisi"},4,{"$f":"IF(L780=0,\"non saisi\",(F843/4))","v":"non saisi"},null,null,null,{"$f":"Score7!$B$82","v":0}]
[]
[null,null,"► SCORE TOTAL DES UTILISATEURS EVALUES DE L'ETABLISSEMENT"]
[]
[null,null,null,null,null,"Score obtenu","Score attendu","% d'objectifs atteints"]
[null,null,null,null,"Score évacuation du linge sale",{"$f":"IF(L780=0,\"non saisi\",(L848/UTILISATEURS))","v":"non saisi"},16,{"$f":"IF(L780=0,\"non saisi\",(F848/16))","v":"non saisi"},null,null,null,{"$f":"SScore!$B$117","v":0}]
[null,null,null,null,"Score utilisation du linge propre",{"$f":"IF(L780=0,\"non saisi\",(L849/UTILISATEURS))","v":"non saisi"},4,{"$f":"IF(L780=0,\"non saisi\",(F849/4))","v":"non saisi"},null,null,null,{"$f":"SScore!$B$122","v":0}]
[null,null,null,null,"Score total ensemble des utilisateurs evalués ",{"$f":"IF(L780=0,\"non saisi\",(L850/UTILISATEURS))","v":"non saisi"},20,{"$f":"IF(L780=0,\"non saisi\",(F850/20))","v":"non saisi"},null,null,null,{"$f":"SScore!$B$124","v":0}]
[]
[null,null,"► UTILISATEURS SERVICE #7 - REPARTITION PAR CATEGORIE PROFESSIONNELLE"]
[null,null,"Catégorie professionnelle",null,"Utilisateurs","Score obtenu","Score attendu","% objectifs attients"]
[null,null,"Infirmière et IDE spécialisée",null,{"$f":"IF(L780=0,\"non saisi\",L854)","v":"non saisi"},{"$f":"IF(L780=0,\"non saisi\",(IF(E854=0,\"-\",(M854/L854))))","v":"non saisi"},20,{"$f":"IF(L780=0,\"non saisi\",(IF(E854=0,\"-\",(F854/20))))","v":"non saisi"},null,null,null,{"$f":"Score7!$B$52","v":0},{"$f":"Score7!$B$53","v":0}]
[null,null,"Sage-femme",null,{"$f":"IF(L780=0,\"non saisi\",L855)","v":"non saisi"},{"$f":"IF(L780=0,\"non saisi\",(IF(E855=0,\"-\",(M855/L855))))","v":"non saisi"},20,{"$f":"IF(L780=0,\"non saisi\",(IF(E855=0,\"-\",(F855/20))))","v":"non saisi"},null,null,null,{"$f":"Score7!$B$54","v":0},{"$f":"Score7!$B$55","v":0}]
[null,null,"Kinésithérapeute",null,{"$f":"IF(L780=0,\"non saisi\",L856)","v":"non saisi"},{"$f":"IF(L780=0,\"non saisi\",(IF(E856=0,\"-\",(M856/L856))))","v":"non saisi"},20,{"$f":"IF(L780=0,\"non saisi\",(IF(E856=0,\"-\",(F856/20))))","v":"non saisi"},null,null,null,{"$f":"Score7!$B$56","v":0},{"$f":"Score7!$B$57","v":0}]
[null,null,"Manipulateur radio",null,{"$f":"IF(L780=0,\"non saisi\",L857)","v":"non saisi"},{"$f":"IF(L780=0,\"non saisi\",(IF(E857=0,\"-\",(M857/L857))))","v":"non saisi"},20,{"$f":"IF(L780=0,\"non saisi\",(IF(E857=0,\"-\",(F857/20))))","v":"non saisi"},null,null,null,{"$f":"Score7!$B$58","v":0},{"$f":"Score7!$B$59","v":0}]
[null,null,"Aide-soignante/aux. puériculture",null,{"$f":"IF(L780=0,\"non saisi\",L858)","v":"non saisi"},{"$f":"IF(L780=0,\"non saisi\",(IF(E858=0,\"-\",(M858/L858))))","v":"non saisi"},20,{"$f":"IF(L780=0,\"non saisi\",(IF(E858=0,\"-\",(F858/20))))","v":"non saisi"},null,null,null,{"$f":"Score7!$B$60","v":0},{"$f":"Score7!$B$61","v":0}]
[null,null,"Agent hospitalier",null,{"$f":"IF(L780=0,\"non saisi\",L859)","v":"non saisi"},{"$f":"IF(L780=0,\"non saisi\",(IF(E859=0,\"-\",(M859/L859))))","v":"non saisi"},20,{"$f":"IF(L780=0,\"non saisi\",(IF(E859=0,\"-\",(F859/20))))","v":"non saisi"},null,null,null,{"$f":"Score7!$B$62","v":0},{"$f":"Score7!$B$63","v":0}]
[null,null,"Ambulancier",null,{"$f":"IF(L780=0,\"non saisi\",L860)","v":"non saisi"},{"$f":"IF(L780=0,\"non saisi\",(IF(E860=0,\"-\",(M860/L860))))","v":"non saisi"},20,{"$f":"IF(L780=0,\"non saisi\",(IF(E860=0,\"-\",(F860/20))))","v":"non saisi"},null,null,null,{"$f":"Score7!$B$64","v":0},{"$f":"Score7!$B$65","v":0}]
[null,null,"Brancardier",null,{"$f":"IF(L780=0,\"non saisi\",L861)","v":"non saisi"},{"$f":"IF(L780=0,\"non saisi\",(IF(E861=0,\"-\",(M861/L861))))","v":"non saisi"},20,{"$f":"IF(L780=0,\"non saisi\",(IF(E861=0,\"-\",(F861/20))))","v":"non saisi"},null,null,null,{"$f":"Score7!$B$66","v":0},{"$f":"Score7!$B$67","v":0}]
[null,null,"Etudiant",null,{"$f":"IF(L780=0,\"non saisi\",L862)","v":"non saisi"},{"$f":"IF(L780=0,\"non saisi\",(IF(E862=0,\"-\",(M862/L862))))","v":"non saisi"},20,{"$f":"IF(L780=0,\"non saisi\",(IF(E862=0,\"-\",(F862/20))))","v":"non saisi"},null,null,null,{"$f":"Score7!B$68","v":0},{"$f":"Score7!$B$69","v":0}]
[null,null,"Autre",null,{"$f":"IF(L780=0,\"non saisi\",L863)","v":"non saisi"},{"$f":"IF(L780=0,\"non saisi\",(IF(E863=0,\"-\",(M863/L863))))","v":"non saisi"},20,{"$f":"IF(L780=0,\"non saisi\",(IF(E863=0,\"-\",(F863/20))))","v":"non saisi"},null,null,null,{"$f":"Score7!$B$70","v":0},{"$f":"Score7!$B$71","v":0}]
[]
[]
["Evaluation de la fonction linge",null,null,null,null,null,null,null,null,null,null,"Page 17"]
["en établissement de santé et en EHPAD"]
[]
[null,null,"RESULTATS - SERVICE #8"]
[null,null,null,"Etablissement:",{"$f":"IF(NOM=\"\",\"à préciser\",NOM)","v":"à préciser"}]
[null,null,null,"Service #8:",{"$f":"IF(SERVICE8=\"\",\"à préciser\",SERVICE8)","v":"à préciser"}]
[null,null,"Nombre de services audités/nombre total de services de l'établissement:",null,null,null,null,null,{"$f":"IF(SERVICES=0,\"non saisi\",(\" \"&SERVICES&\" / \"&TOTSERVICES))","v":"non saisi"}]
[]
[null,null,"► SCORE TOTAL FICHE SERVICE #8"]
[]
[null,null,null,null,null,"Score obtenu","Score attendu","% d'objectifs atteints"]
[null,null,"Score gestion du linge sale",null,null,{"$f":"F895","v":"non saisi"},16,{"$f":"IF(L888=0,\"non saisi\",(F877/16))","v":"non saisi"}]
[null,null,"Score gestion du linge propre",null,null,{"$f":"F902","v":"non saisi"},12,{"$f":"IF(L888=0,\"non saisi\",(F878/12))","v":"non saisi"}]
[null,null,"Score bionettoyage et traçabilité",null,null,{"$f":"F908","v":"non saisi"},12,{"$f":"IF(L888=0,\"non saisi\",(F879/12))","v":"non saisi"}]
[null,null,"Score total fiches Services",null,null,{"$f":"IF(L888=0,\"non saisi\",(F879+F878+F877))","v":"non saisi"},40,{"$f":"IF(L888=0,\"non saisi\",(F880/40))","v":"non saisi"}]
[]
[null,null,{"$f":"IF(H880=\"non saisi\",\"\",(IF(H880>=75%,SGLOBAL1,IF(H880>49%,SGLOBAL2,SGLOBAL3))))","v":""}]
[]
[]
[]
[]
[null,null,"► DETAIL DE FICHE \"SERVICE\""]
[null,null,null,null,null,null,null,null,null,null,null,{"$f":"_OBS8","v":0}]
[null,null,null,"► Linge sale",null,"Score obtenu","Score attendu"]
[null,null,null,null,"Procédure",{"$f":"IF(L888=0,\"non saisi\",L890)","v":"non saisi"},3,null,null,null,null,{"$f":"SScore!Q$93","v":0}]
[null,null,null,null,"Chariot collecteur",{"$f":"IF(L888=0,\"non saisi\",L891)","v":"non saisi"},4,null,null,null,null,{"$f":"SScore!Q$94","v":0}]
[null,null,null,null,"Sac de linge",{"$f":"IF(L888=0,\"non saisi\",L892)","v":"non saisi"},2,null,null,null,null,{"$f":"SScore!Q$95","v":0}]
[null,null,null,null,"Local de stockage",{"$f":"IF(L888=0,\"non saisi\",L893)","v":"non saisi"},3,null,null,null,null,{"$f":"SScore!Q$96","v":0}]
[null,null,null,null,"Transport",{"$f":"IF(L888=0,\"non saisi\",L894)","v":"non saisi"},4,null,null,null,null,{"$f":"SScore!Q$97","v":0}]
[null,null,null,null,"Score gestion du linge sale",{"$f":"IF(L888=0,\"non saisi\",L895)","v":"non saisi"},16,null,null,null,null,{"$f":"SScore!Q$98","v":0}]
[null,null,null,null,"% d'objectifs atteints",{"$f":"L896","v":0},null,null,null,null,null,{"$f":"L895/16","v":0}]
[]
[null,null,null,"► Linge propre",null,"Score obtenu","Score attendu"]
[null,null,null,null,"Livraison",{"$f":"IF(L888=0,\"non saisi\",L899)","v":"non saisi"},2,null,null,null,null,{"$f":"SScore!Q$101","v":0}]
[null,null,null,null,"Stockage",{"$f":"IF(L888=0,\"non saisi\",L900)","v":"non saisi"},7,null,null,null,null,{"$f":"SScore!Q$102","v":0}]
[null,null,null,null,"Chariot relais",{"$f":"IF(L888=0,\"non saisi\",L901)","v":"non saisi"},3,null,null,null,null,{"$f":"SScore!Q$103","v":0}]
[null,null,null,null,"Score gestion du linge propre",{"$f":"IF(L888=0,\"non saisi\",L902)","v":"non saisi"},12,null,null,null,null,{"$f":"SScore!Q$104","v":0}]
[null,null,null,null,"% d'objectifs atteints",{"$f":"L903","v":0},null,null,null,null,null,{"$f":"L902/12","v":0}]
[]
[null,null,null,"► Bionettoyage et traçabilité",null,"Score obtenu","Score attendu"]
[null,null,null,null,"Procédure",{"$f":"IF(L888=0,\"non saisi\",L906)","v":"non saisi"},6,null,null,null,null,{"$f":"SScore!Q$107","v":0}]
[null,null,null,null,"Traçabilité",{"$f":"IF(L888=0,\"non saisi\",L907)","v":"non saisi"},6,null,null,null,null,{"$f":"SScore!Q$108","v":0}]
[null,null,null,null,"Score bionettoyage et traçabilité",{"$f":"IF(L888=0,\"non saisi\",L908)","v":"non saisi"},12,null,null,null,null,{"$f":"SScore!Q$109","v":0}]
[null,null,null,null,"% d'objectifs atteints",{"$f":"L909","v":0},null,null,null,null,null,{"$f":"L908/12","v":0}]
[]
[null,null,"► SCORE TOTAL DES SERVICES EVALUES DE L'ETABLISSEMENT"]
[]
[null,null,null,null,null,"Score obtenu","Score attendu","% d'objectifs atteints"]
[null,null,"Score gestion du linge sale",null,null,{"$f":"IF(SERVICES=0,\"non saisi\",($L$158/SERVICES))","v":"non saisi"},16,{"$f":"IF(SERVICES=0,\"non saisi\",($F$158/16))","v":"non saisi"}]
[null,null,"Score gestion du linge propre",null,null,{"$f":"IF(SERVICES=0,\"non saisi\",($L$159/SERVICES))","v":"non saisi"},12,{"$f":"IF(SERVICES=0,\"non saisi\",($F$159/12))","v":"non saisi"}]
[null,null,"Score bionettoyage et traçabilité",null,null,{"$f":"IF(SERVICES=0,\"non saisi\",($L$160/SERVICES))","v":"non saisi"},12,{"$f":"IF(SERVICES=0,\"non saisi\",($F$160/12))","v":"non saisi"}]
[null,null,"Score total fiches Services",null,null,{"$f":"IF(SERVICES=0,\"non saisi\",($L$161/SERVICES))","v":"non saisi"},40,{"$f":"IF(SERVICES=0,\"non saisi\",($F$161/40))","v":"non saisi"}]
[]
[]
["Evaluation de la fonction linge",null,null,null,null,null,null,null,null,null,null,"Page 18"]
["en établissement de santé et en EHPAD"]
[]
[null,null,"RESULTATS - SERVICE #8"]
[null,null,null,"Etablissement:",{"$f":"IF(NOM=\"\",\"à préciser\",NOM)","v":"à préciser"}]
[null,null,null,"Service #8:",{"$f":"IF(SERVICE8=\"\",\"à préciser\",SERVICE8)","v":"à préciser"}]
[null,null,null,null,"Nombre d'utilisateurs audités:",{"$f":"IF(_OBS8=\"\",\"A préciser\",_OBS8)","v":0}]
[]
[null,null,"► SCORE TOTAL UTILISATEURS SERVICE #8"]
[]
[null,null,null,null,null,"Score obtenu","Score attendu","% d'objectifs atteints"]
[null,null,null,null,"Score évacuation du linge sale",{"$f":"F946","v":"non saisi"},16,{"$f":"H946","v":"non saisi"}]
[null,null,null,null,"Score utilisation du linge propre",{"$f":"F951","v":"non saisi"},4,{"$f":"H951","v":"non saisi"}]
[null,null,null,null,"Score total utilisateurs service #8",{"$f":"IF(L888=0,\"non saisi\",(F931+F932))","v":"non saisi"},20,{"$f":"IF(L888=0,\"non saisi\",(F933/20))","v":"non saisi"}]
[]
[null,null,{"$f":"IF(H933=\"non saisi\",\"\",(IF(H933>=75%,UTIL1,IF(H933>49%,UTIL2,UTIL3))))","v":""}]
[]
[]
[]
[]
[null,null,"► DETAIL DES FICHES \"UTILISATEUR\""]
[]
[null,null,"► Linge sale",null,null,"Score obtenu","Score attendu","% d'objectifs atteints"]
[null,null,null,null,"Evacuation du linge sale",{"$f":"IF(L888=0,\"non saisi\",(L943/L888))","v":"non saisi"},5,{"$f":"IF(L888=0,\"non saisi\",(F943/5))","v":"non saisi"},null,null,null,{"$f":"Score8!$B$74","v":0}]
[null,null,null,null,"Protection du personnel",{"$f":"IF(L888=0,\"non saisi\",(L944/L888))","v":"non saisi"},9,{"$f":"IF(L888=0,\"non saisi\",(F944/9))","v":"non saisi"},null,null,null,{"$f":"Score8!$B$75","v":0}]
[null,null,null,null,"Transport sac du linge",{"$f":"IF(L888=0,\"non saisi\",(L945/L888))","v":"non saisi"},2,{"$f":"IF(L888=0,\"non saisi\",(F945/2))","v":"non saisi"},null,null,null,{"$f":"Score8!$B$76","v":0}]
[null,null,null,null,"Score évacuation du linge sale",{"$f":"IF(L888=0,\"non saisi\",(L946/L888))","v":"non saisi"},16,{"$f":"IF(L888=0,\"non saisi\",(F946/16))","v":"non saisi"},null,null,null,{"$f":"Score8!$B$77","v":0}]
[]
[null,null,"► Linge propre",null,null,"Score obtenu","Score attendu","% d'objectifs atteints"]
[null,null,null,null,"Hygiène des mains",{"$f":"IF(L888=0,\"non saisi\",(L949/L888))","v":"non saisi"},2,{"$f":"IF(L888=0,\"non saisi\",(F949/2))","v":"non saisi"},null,null,null,{"$f":"Score8!$B$80","v":0}]
[null,null,null,null,"Utilisation du linge",{"$f":"IF(L888=0,\"non saisi\",(L950/L888))","v":"non saisi"},2,{"$f":"IF(L888=0,\"non saisi\",(F950/2))","v":"non saisi"},null,null,null,{"$f":"Score8!$B$81","v":0}]
[null,null,null,null,"Score utilisation du linge propre",{"$f":"IF(L888=0,\"non saisi\",(L951/L888))","v":"non saisi"},4,{"$f":"IF(L888=0,\"non saisi\",(F951/4))","v":"non saisi"},null,null,null,{"$f":"Score8!$B$82","v":0}]
[]
[null,null,"► SCORE TOTAL DES UTILISATEURS EVALUES DE L'ETABLISSEMENT"]
[]
[null,null,null,null,null,"Score obtenu","Score attendu","% d'objectifs atteints"]
[null,null,null,null,"Score évacuation du linge sale",{"$f":"IF(L888=0,\"non saisi\",(L956/UTILISATEURS))","v":"non saisi"},16,{"$f":"IF(L888=0,\"non saisi\",(F956/16))","v":"non saisi"},null,null,null,{"$f":"SScore!$B$117","v":0}]
[null,null,null,null,"Score utilisation du linge propre",{"$f":"IF(L888=0,\"non saisi\",(L957/UTILISATEURS))","v":"non saisi"},4,{"$f":"IF(L888=0,\"non saisi\",(F957/4))","v":"non saisi"},null,null,null,{"$f":"SScore!$B$122","v":0}]
[null,null,null,null,"Score total ensemble des utilisateurs evalués ",{"$f":"IF(L888=0,\"non saisi\",(L958/UTILISATEURS))","v":"non saisi"},20,{"$f":"IF(L888=0,\"non saisi\",(F958/20))","v":"non saisi"},null,null,null,{"$f":"SScore!$B$124","v":0}]
[]
[null,null,"► UTILISATEURS SERVICE #8 - REPARTITION PAR CATEGORIE PROFESSIONNELLE"]
[null,null,"Catégorie professionnelle",null,"Utilisateurs","Score obtenu","Score attendu","% objectifs attients"]
[null,null,"Infirmière et IDE spécialisée",null,{"$f":"IF(L888=0,\"non saisi\",L962)","v":"non saisi"},{"$f":"IF(L888=0,\"non saisi\",(IF(E962=0,\"-\",(M962/L962))))","v":"non saisi"},20,{"$f":"IF(L888=0,\"non saisi\",(IF(E962=0,\"-\",(F962/20))))","v":"non saisi"},null,null,null,{"$f":"Score8!$B$52","v":0},{"$f":"Score8!$B$53","v":0}]
[null,null,"Sage-femme",null,{"$f":"IF(L888=0,\"non saisi\",L963)","v":"non saisi"},{"$f":"IF(L888=0,\"non saisi\",(IF(E963=0,\"-\",(M963/L963))))","v":"non saisi"},20,{"$f":"IF(L888=0,\"non saisi\",(IF(E963=0,\"-\",(F963/20))))","v":"non saisi"},null,null,null,{"$f":"Score8!$B$54","v":0},{"$f":"Score8!$B$55","v":0}]
[null,null,"Kinésithérapeute",null,{"$f":"IF(L888=0,\"non saisi\",L964)","v":"non saisi"},{"$f":"IF(L888=0,\"non saisi\",(IF(E964=0,\"-\",(M964/L964))))","v":"non saisi"},20,{"$f":"IF(L888=0,\"non saisi\",(IF(E964=0,\"-\",(F964/20))))","v":"non saisi"},null,null,null,{"$f":"Score8!$B$56","v":0},{"$f":"Score8!$B$57","v":0}]
[null,null,"Manipulateur radio",null,{"$f":"IF(L888=0,\"non saisi\",L965)","v":"non saisi"},{"$f":"IF(L888=0,\"non saisi\",(IF(E965=0,\"-\",(M965/L965))))","v":"non saisi"},20,{"$f":"IF(L888=0,\"non saisi\",(IF(E965=0,\"-\",(F965/20))))","v":"non saisi"},null,null,null,{"$f":"Score8!$B$58","v":0},{"$f":"Score8!$B$59","v":0}]
[null,null,"Aide-soignante/aux. puériculture",null,{"$f":"IF(L888=0,\"non saisi\",L966)","v":"non saisi"},{"$f":"IF(L888=0,\"non saisi\",(IF(E966=0,\"-\",(M966/L966))))","v":"non saisi"},20,{"$f":"IF(L888=0,\"non saisi\",(IF(E966=0,\"-\",(F966/20))))","v":"non saisi"},null,null,null,{"$f":"Score8!$B$60","v":0},{"$f":"Score8!$B$61","v":0}]
[null,null,"Agent hospitalier",null,{"$f":"IF(L888=0,\"non saisi\",L967)","v":"non saisi"},{"$f":"IF(L888=0,\"non saisi\",(IF(E967=0,\"-\",(M967/L967))))","v":"non saisi"},20,{"$f":"IF(L888=0,\"non saisi\",(IF(E967=0,\"-\",(F967/20))))","v":"non saisi"},null,null,null,{"$f":"Score8!$B$62","v":0},{"$f":"Score8!$B$63","v":0}]
[null,null,"Ambulancier",null,{"$f":"IF(L888=0,\"non saisi\",L968)","v":"non saisi"},{"$f":"IF(L888=0,\"non saisi\",(IF(E968=0,\"-\",(M968/L968))))","v":"non saisi"},20,{"$f":"IF(L888=0,\"non saisi\",(IF(E968=0,\"-\",(F968/20))))","v":"non saisi"},null,null,null,{"$f":"Score8!$B$64","v":0},{"$f":"Score8!$B$65","v":0}]
[null,null,"Brancardier",null,{"$f":"IF(L888=0,\"non saisi\",L969)","v":"non saisi"},{"$f":"IF(L888=0,\"non saisi\",(IF(E969=0,\"-\",(M969/L969))))","v":"non saisi"},20,{"$f":"IF(L888=0,\"non saisi\",(IF(E969=0,\"-\",(F969/20))))","v":"non saisi"},null,null,null,{"$f":"Score8!$B$66","v":0},{"$f":"Score8!$B$67","v":0}]
[null,null,"Etudiant",null,{"$f":"IF(L888=0,\"non saisi\",L970)","v":"non saisi"},{"$f":"IF(L888=0,\"non saisi\",(IF(E970=0,\"-\",(M970/L970))))","v":"non saisi"},20,{"$f":"IF(L888=0,\"non saisi\",(IF(E970=0,\"-\",(F970/20))))","v":"non saisi"},null,null,null,{"$f":"Score8!$B$68","v":0},{"$f":"Score8!$B$69","v":0}]
[null,null,"Autre",null,{"$f":"IF(L888=0,\"non saisi\",L971)","v":"non saisi"},{"$f":"IF(L888=0,\"non saisi\",(IF(E971=0,\"-\",(M971/L971))))","v":"non saisi"},20,{"$f":"IF(L888=0,\"non saisi\",(IF(E971=0,\"-\",(F971/20))))","v":"non saisi"},null,null,null,{"$f":"Score8!$B$70","v":0},{"$f":"Score8!$B$71","v":0}]
[]
[]
["Evaluation de la fonction linge",null,null,null,null,null,null,null,null,null,null,"Page 19"]
["en établissement de santé et en EHPAD"]
[]
[null,null,"RESULTATS - SERVICE #9"]
[null,null,null,"Etablissement:",{"$f":"IF(NOM=\"\",\"à préciser\",NOM)","v":"à préciser"}]
[null,null,null,"Service #9:",{"$f":"IF(SERVICE9=\"\",\"à préciser\",SERVICE9)","v":"à préciser"}]
[null,null,"Nombre de services audités/nombre total de services de l'établissement:",null,null,null,null,null,{"$f":"IF(SERVICES=0,\"non saisi\",(\" \"&SERVICES&\" / \"&TOTSERVICES))","v":"non saisi"}]
[]
[null,null,"► SCORE TOTAL FICHE SERVICE #9"]
[]
[null,null,null,null,null,"Score obtenu","Score attendu","% d'objectifs atteints"]
[null,null,"Score gestion du linge sale",null,null,{"$f":"F1003","v":"non saisi"},16,{"$f":"IF(L996=0,\"non saisi\",(F985/16))","v":"non saisi"}]
[null,null,"Score gestion du linge propre",null,null,{"$f":"F1010","v":"non saisi"},12,{"$f":"IF(L996=0,\"non saisi\",(F986/12))","v":"non saisi"}]
[null,null,"Score bionettoyage et traçabilité",null,null,{"$f":"F1016","v":"non saisi"},12,{"$f":"IF(L996=0,\"non saisi\",(F987/12))","v":"non saisi"}]
[null,null,"Score total fiches Services",null,null,{"$f":"IF(L996=0,\"non saisi\",(F987+F986+F985))","v":"non saisi"},40,{"$f":"IF(L996=0,\"non saisi\",(F988/40))","v":"non saisi"}]
[]
[null,null,{"$f":"IF(H988=\"non saisi\",\"\",(IF(H988>=75%,SGLOBAL1,IF(H988>49%,SGLOBAL2,SGLOBAL3))))","v":""}]
[]
[]
[]
[]
[null,null,"► DETAIL DE FICHE \"SERVICE\""]
[null,null,null,null,null,null,null,null,null,null,null,{"$f":"_OBS9","v":0}]
[null,null,null,"► Linge sale",null,"Score obtenu","Score attendu"]
[null,null,null,null,"Procédure",{"$f":"IF(L996=0,\"non saisi\",L998)","v":"non saisi"},3,null,null,null,null,{"$f":"SScore!S$93","v":0}]
[null,null,null,null,"Chariot collecteur",{"$f":"IF(L996=0,\"non saisi\",L999)","v":"non saisi"},4,null,null,null,null,{"$f":"SScore!S$94","v":0}]
[null,null,null,null,"Sac de linge",{"$f":"IF(L996=0,\"non saisi\",L1000)","v":"non saisi"},2,null,null,null,null,{"$f":"SScore!S$95","v":0}]
[null,null,null,null,"Local de stockage",{"$f":"IF(L996=0,\"non saisi\",L1001)","v":"non saisi"},3,null,null,null,null,{"$f":"SScore!S$96","v":0}]
[null,null,null,null,"Transport",{"$f":"IF(L996=0,\"non saisi\",L1002)","v":"non saisi"},4,null,null,null,null,{"$f":"SScore!S$97","v":0}]
[null,null,null,null,"Score gestion du linge sale",{"$f":"IF(L996=0,\"non saisi\",L1003)","v":"non saisi"},16,null,null,null,null,{"$f":"SScore!S$98","v":0}]
[null,null,null,null,"% d'objectifs atteints",{"$f":"L1004","v":0},null,null,null,null,null,{"$f":"L1003/16","v":0}]
[]
[null,null,null,"► Linge propre",null,"Score obtenu","Score attendu"]
[null,null,null,null,"Livraison",{"$f":"IF(L996=0,\"non saisi\",L1007)","v":"non saisi"},2,null,null,null,null,{"$f":"SScore!S$101","v":0}]
[null,null,null,null,"Stockage",{"$f":"IF(L996=0,\"non saisi\",L1008)","v":"non saisi"},7,null,null,null,null,{"$f":"SScore!S$102","v":0}]
[null,null,null,null,"Chariot relais",{"$f":"IF(L996=0,\"non saisi\",L1009)","v":"non saisi"},3,null,null,null,null,{"$f":"SScore!S$103","v":0}]
[null,null,null,null,"Score gestion du linge propre",{"$f":"IF(L996=0,\"non saisi\",L1010)","v":"non saisi"},12,null,null,null,null,{"$f":"SScore!S$104","v":0}]
[null,null,null,null,"% d'objectifs atteints",{"$f":"L1011","v":0},null,null,null,null,null,{"$f":"L1010/12","v":0}]
[]
[null,null,null,"► Bionettoyage et traçabilité",null,"Score obtenu","Score attendu"]
[null,null,null,null,"Procédure",{"$f":"IF(L996=0,\"non saisi\",L1014)","v":"non saisi"},6,null,null,null,null,{"$f":"SScore!S$107","v":0}]
[null,null,null,null,"Traçabilité",{"$f":"IF(L996=0,\"non saisi\",L1015)","v":"non saisi"},6,null,null,null,null,{"$f":"SScore!S$108","v":0}]
[null,null,null,null,"Score bionettoyage et traçabilité",{"$f":"IF(L996=0,\"non saisi\",L1016)","v":"non saisi"},12,null,null,null,null,{"$f":"SScore!S$109","v":0}]
[null,null,null,null,"% d'objectifs atteints",{"$f":"L1017","v":0},null,null,null,null,null,{"$f":"L1016/12","v":0}]
[null,null,null,null,null,null,null,null,null,null,null,{"$f":"SScore!C$107","v":0}]
[null,null,"► SCORE TOTAL DES SERVICES EVALUES DE L'ETABLISSEMENT"]
[]
[null,null,null,null,null,"Score obtenu","Score attendu","% d'objectifs atteints"]
[null,null,"Score gestion du linge sale",null,null,{"$f":"IF(SERVICES=0,\"non saisi\",($L$158/SERVICES))","v":"non saisi"},16,{"$f":"IF(SERVICES=0,\"non saisi\",($F$158/16))","v":"non saisi"}]
[null,null,"Score gestion du linge propre",null,null,{"$f":"IF(SERVICES=0,\"non saisi\",($L$159/SERVICES))","v":"non saisi"},12,{"$f":"IF(SERVICES=0,\"non saisi\",($F$159/12))","v":"non saisi"}]
[null,null,"Score bionettoyage et traçabilité",null,null,{"$f":"IF(SERVICES=0,\"non saisi\",($L$160/SERVICES))","v":"non saisi"},12,{"$f":"IF(SERVICES=0,\"non saisi\",($F$160/12))","v":"non saisi"}]
[null,null,"Score total fiches Services",null,null,{"$f":"IF(SERVICES=0,\"non saisi\",($L$161/SERVICES))","v":"non saisi"},40,{"$f":"IF(SERVICES=0,\"non saisi\",($F$161/40))","v":"non saisi"}]
[]
[]
["Evaluation de la fonction linge",null,null,null,null,null,null,null,null,null,null,"Page 20"]
["en établissement de santé et en EHPAD"]
[]
[null,null,"RESULTATS - SERVICE #9"]
[null,null,null,"Etablissement:",{"$f":"IF(NOM=\"\",\"à préciser\",NOM)","v":"à préciser"}]
[null,null,null,"Service #9:",{"$f":"IF(SERVICE9=\"\",\"à préciser\",SERVICE9)","v":"à préciser"}]
[null,null,null,null,"Nombre d'utilisateurs audités:",{"$f":"IF(_OBS9=\"\",\"A préciser\",_OBS9)","v":0}]
[]
[null,null,"► SCORE TOTAL UTILISATEURS SERVICE #9"]
[]
[null,null,null,null,null,"Score obtenu","Score attendu","% d'objectifs atteints"]
[null,null,null,null,"Score évacuation du linge sale",{"$f":"F1054","v":"non saisi"},16,{"$f":"H1054","v":"non saisi"}]
[null,null,null,null,"Score utilisation du linge propre",{"$f":"F1059","v":"non saisi"},4,{"$f":"H1059","v":"non saisi"}]
[null,null,null,null,"Score total utilisateurs service #9",{"$f":"IF(L996=0,\"non saisi\",(F1039+F1040))","v":"non saisi"},20,{"$f":"IF(L996=0,\"non saisi\",(F1041/20))","v":"non saisi"}]
[]
[null,null,{"$f":"IF(H1041=\"non saisi\",\"\",(IF(H1041>=75%,UTIL1,IF(H1041>49%,UTIL2,UTIL3))))","v":""}]
[]
[]
[]
[]
[null,null,"► DETAIL DES FICHES \"UTILISATEUR\""]
[]
[null,null,"► Linge sale",null,null,"Score obtenu","Score attendu","% d'objectifs atteints"]
[null,null,null,null,"Evacuation du linge sale",{"$f":"IF(L996=0,\"non saisi\",(L1051/L996))","v":"non saisi"},5,{"$f":"IF(L996=0,\"non saisi\",(F1051/5))","v":"non saisi"},null,null,null,{"$f":"Score9!$B$74","v":0}]
[null,null,null,null,"Protection du personnel",{"$f":"IF(L996=0,\"non saisi\",(L1052/L996))","v":"non saisi"},9,{"$f":"IF(L996=0,\"non saisi\",(F1052/9))","v":"non saisi"},null,null,null,{"$f":"Score9!$B$75","v":0}]
[null,null,null,null,"Transport sac du linge",{"$f":"IF(L996=0,\"non saisi\",(L1053/L996))","v":"non saisi"},2,{"$f":"IF(L996=0,\"non saisi\",(F1053/2))","v":"non saisi"},null,null,null,{"$f":"Score9!$B$76","v":0}]
[null,null,null,null,"Score évacuation du linge sale",{"$f":"IF(L996=0,\"non saisi\",(L1054/L996))","v":"non saisi"},16,{"$f":"IF(L996=0,\"non saisi\",(F1054/16))","v":"non saisi"},null,null,null,{"$f":"Score9!$B$77","v":0}]
[]
[null,null,"► Linge propre",null,null,"Score obtenu","Score attendu","% d'objectifs atteints"]
[null,null,null,null,"Hygiène des mains",{"$f":"IF(L996=0,\"non saisi\",(L1057/L996))","v":"non saisi"},2,{"$f":"IF(L996=0,\"non saisi\",(F1057/2))","v":"non saisi"},null,null,null,{"$f":"Score9!$B$80","v":0}]
[null,null,null,null,"Utilisation du linge",{"$f":"IF(L996=0,\"non saisi\",(L1058/L996))","v":"non saisi"},2,{"$f":"IF(L996=0,\"non saisi\",(F1058/2))","v":"non saisi"},null,null,null,{"$f":"Score9!$B$81","v":0}]
[null,null,null,null,"Score utilisation du linge propre",{"$f":"IF(L996=0,\"non saisi\",(L1059/L996))","v":"non saisi"},4,{"$f":"IF(L996=0,\"non saisi\",(F1059/4))","v":"non saisi"},null,null,null,{"$f":"Score9!$B$82","v":0}]
[]
[null,null,"► SCORE TOTAL DES UTILISATEURS EVALUES DE L'ETABLISSEMENT"]
[]
[null,null,null,null,null,"Score obtenu","Score attendu","% d'objectifs atteints"]
[null,null,null,null,"Score évacuation du linge sale",{"$f":"IF(L996=0,\"non saisi\",(L1064/UTILISATEURS))","v":"non saisi"},16,{"$f":"IF(L996=0,\"non saisi\",(F1064/16))","v":"non saisi"},null,null,null,{"$f":"SScore!$B$117","v":0}]
[null,null,null,null,"Score utilisation du linge propre",{"$f":"IF(L996=0,\"non saisi\",(L1065/UTILISATEURS))","v":"non saisi"},4,{"$f":"IF(L996=0,\"non saisi\",(F1065/4))","v":"non saisi"},null,null,null,{"$f":"SScore!$B$122","v":0}]
[null,null,null,null,"Score total ensemble des utilisateurs evalués ",{"$f":"IF(L996=0,\"non saisi\",(L1066/UTILISATEURS))","v":"non saisi"},20,{"$f":"IF(L996=0,\"non saisi\",(F1066/20))","v":"non saisi"},null,null,null,{"$f":"SScore!$B$124","v":0}]
[]
[null,null,"► UTILISATEURS SERVICE #9 - REPARTITION PAR CATEGORIE PROFESSIONNELLE"]
[null,null,"Catégorie professionnelle",null,"Utilisateurs","Score obtenu","Score attendu","% objectifs attients"]
[null,null,"Infirmière et IDE spécialisée",null,{"$f":"IF(L996=0,\"non saisi\",L1070)","v":"non saisi"},{"$f":"IF(L996=0,\"non saisi\",(IF(E1070=0,\"-\",(M1070/L1070))))","v":"non saisi"},20,{"$f":"IF(L996=0,\"non saisi\",(IF(E1070=0,\"-\",(F1070/20))))","v":"non saisi"},null,null,null,{"$f":"Score9!$B$52","v":0},{"$f":"Score9!$B$53","v":0}]
[null,null,"Sage-femme",null,{"$f":"IF(L996=0,\"non saisi\",L1071)","v":"non saisi"},{"$f":"IF(L996=0,\"non saisi\",(IF(E1071=0,\"-\",(M1071/L1071))))","v":"non saisi"},20,{"$f":"IF(L996=0,\"non saisi\",(IF(E1071=0,\"-\",(F1071/20))))","v":"non saisi"},null,null,null,{"$f":"Score9!$B$54","v":0},{"$f":"Score9!$B$55","v":0}]
[null,null,"Kinésithérapeute",null,{"$f":"IF(L996=0,\"non saisi\",L1072)","v":"non saisi"},{"$f":"IF(L996=0,\"non saisi\",(IF(E1072=0,\"-\",(M1072/L1072))))","v":"non saisi"},20,{"$f":"IF(L996=0,\"non saisi\",(IF(E1072=0,\"-\",(F1072/20))))","v":"non saisi"},null,null,null,{"$f":"Score9!$B$56","v":0},{"$f":"Score9!$B$57","v":0}]
[null,null,"Manipulateur radio",null,{"$f":"IF(L996=0,\"non saisi\",L1073)","v":"non saisi"},{"$f":"IF(L996=0,\"non saisi\",(IF(E1073=0,\"-\",(M1073/L1073))))","v":"non saisi"},20,{"$f":"IF(L996=0,\"non saisi\",(IF(E1073=0,\"-\",(F1073/20))))","v":"non saisi"},null,null,null,{"$f":"Score9!$B$58","v":0},{"$f":"Score9!$B$59","v":0}]
[null,null,"Aide-soignante/aux. puériculture",null,{"$f":"IF(L996=0,\"non saisi\",L1074)","v":"non saisi"},{"$f":"IF(L996=0,\"non saisi\",(IF(E1074=0,\"-\",(M1074/L1074))))","v":"non saisi"},20,{"$f":"IF(L996=0,\"non saisi\",(IF(E1074=0,\"-\",(F1074/20))))","v":"non saisi"},null,null,null,{"$f":"Score9!$B$60","v":0},{"$f":"Score9!$B$61","v":0}]
[null,null,"Agent hospitalier",null,{"$f":"IF(L996=0,\"non saisi\",L1075)","v":"non saisi"},{"$f":"IF(L996=0,\"non saisi\",(IF(E1075=0,\"-\",(M1075/L1075))))","v":"non saisi"},20,{"$f":"IF(L996=0,\"non saisi\",(IF(E1075=0,\"-\",(F1075/20))))","v":"non saisi"},null,null,null,{"$f":"Score9!$B$62","v":0},{"$f":"Score9!$B$63","v":0}]
[null,null,"Ambulancier",null,{"$f":"IF(L996=0,\"non saisi\",L1076)","v":"non saisi"},{"$f":"IF(L996=0,\"non saisi\",(IF(E1076=0,\"-\",(M1076/L1076))))","v":"non saisi"},20,{"$f":"IF(L996=0,\"non saisi\",(IF(E1076=0,\"-\",(F1076/20))))","v":"non saisi"},null,null,null,{"$f":"Score9!$B$64","v":0},{"$f":"Score9!$B$65","v":0}]
[null,null,"Brancardier",null,{"$f":"IF(L996=0,\"non saisi\",L1077)","v":"non saisi"},{"$f":"IF(L996=0,\"non saisi\",(IF(E1077=0,\"-\",(M1077/L1077))))","v":"non saisi"},20,{"$f":"IF(L996=0,\"non saisi\",(IF(E1077=0,\"-\",(F1077/20))))","v":"non saisi"},null,null,null,{"$f":"Score9!$B$66","v":0},{"$f":"Score9!$B$67","v":0}]
[null,null,"Etudiant",null,{"$f":"IF(L996=0,\"non saisi\",L1078)","v":"non saisi"},{"$f":"IF(L996=0,\"non saisi\",(IF(E1078=0,\"-\",(M1078/L1078))))","v":"non saisi"},20,{"$f":"IF(L996=0,\"non saisi\",(IF(E1078=0,\"-\",(F1078/20))))","v":"non saisi"},null,null,null,{"$f":"Score9!B$68","v":0},{"$f":"Score9!$B$69","v":0}]
[null,null,"Autre",null,{"$f":"IF(L996=0,\"non saisi\",L1079)","v":"non saisi"},{"$f":"IF(L996=0,\"non saisi\",(IF(E1079=0,\"-\",(M1079/L1079))))","v":"non saisi"},20,{"$f":"IF(L996=0,\"non saisi\",(IF(E1079=0,\"-\",(F1079/20))))","v":"non saisi"},null,null,null,{"$f":"Score9!$B$70","v":0},{"$f":"Score9!$B$71","v":0}]
[]
[]
["Evaluation de la fonction linge",null,null,null,null,null,null,null,null,null,null,"Page 21"]
["en établissement de santé et en EHPAD"]
[]
[null,null,"RESULTATS - SERVICE #10"]
[null,null,null,"Etablissement:",{"$f":"IF(NOM=\"\",\"à préciser\",NOM)","v":"à préciser"}]
[null,null,null,"Service #10:",{"$f":"IF(SERVICE10=\"\",\"à préciser\",SERVICE10)","v":"à préciser"}]
[null,null,"Nombre de services audités/nombre total de services de l'établissement:",null,null,null,null,null,{"$f":"IF(SERVICES=0,\"non saisi\",(\" \"&SERVICES&\" / \"&TOTSERVICES))","v":"non saisi"}]
[]
[null,null,"► SCORE TOTAL FICHE SERVICE #10"]
[]
[null,null,null,null,null,"Score obtenu","Score attendu","% d'objectifs atteints"]
[null,null,"Score gestion du linge sale",null,null,{"$f":"F1111","v":"non saisi"},16,{"$f":"IF(L1104=0,\"non saisi\",(F1093/16))","v":"non saisi"}]
[null,null,"Score gestion du linge propre",null,null,{"$f":"F1118","v":"non saisi"},12,{"$f":"IF(L1104=0,\"non saisi\",(F1094/12))","v":"non saisi"}]
[null,null,"Score bionettoyage et traçabilité",null,null,{"$f":"F1124","v":"non saisi"},12,{"$f":"IF(L1104=0,\"non saisi\",(F1095/12))","v":"non saisi"}]
[null,null,"Score total fiches Services",null,null,{"$f":"IF(L1104=0,\"non saisi\",(F1095+F1094+F1093))","v":"non saisi"},40,{"$f":"IF(L1104=0,\"non saisi\",(F1096/40))","v":"non saisi"}]
[]
[null,null,{"$f":"IF(H1096=\"non saisi\",\"\",(IF(H1096>=75%,SGLOBAL1,IF(H1096>49%,SGLOBAL2,SGLOBAL3))))","v":""}]
[]
[]
[]
[]
[null,null,"► DETAIL DE FICHE \"SERVICE\""]
[null,null,null,null,null,null,null,null,null,null,null,{"$f":"_OBS10","v":0}]
[null,null,null,"► Linge sale",null,"Score obtenu","Score attendu"]
[null,null,null,null,"Procédure",{"$f":"IF(L1104=0,\"non saisi\",L1106)","v":"non saisi"},3,null,null,null,null,{"$f":"SScore!U$93","v":0}]
[null,null,null,null,"Chariot collecteur",{"$f":"IF(L1104=0,\"non saisi\",L1107)","v":"non saisi"},4,null,null,null,null,{"$f":"SScore!U$94","v":0}]
[null,null,null,null,"Sac de linge",{"$f":"IF(L1104=0,\"non saisi\",L1108)","v":"non saisi"},2,null,null,null,null,{"$f":"SScore!U$95","v":0}]
[null,null,null,null,"Local de stockage",{"$f":"IF(L1104=0,\"non saisi\",L1109)","v":"non saisi"},3,null,null,null,null,{"$f":"SScore!U$96","v":0}]
[null,null,null,null,"Transport",{"$f":"IF(L1104=0,\"non saisi\",L1110)","v":"non saisi"},4,null,null,null,null,{"$f":"SScore!U$97","v":0}]
[null,null,null,null,"Score gestion du linge sale",{"$f":"IF(L1104=0,\"non saisi\",L1111)","v":"non saisi"},16,null,null,null,null,{"$f":"SScore!U$98","v":0}]
[null,null,null,null,"% d'objectifs atteints",{"$f":"L1112","v":0},null,null,null,null,null,{"$f":"L1111/16","v":0}]
[]
[null,null,null,"► Linge propre",null,"Score obtenu","Score attendu"]
[null,null,null,null,"Livraison",{"$f":"IF(L1104=0,\"non saisi\",L1115)","v":"non saisi"},2,null,null,null,null,{"$f":"SScore!U$101","v":0}]
[null,null,null,null,"Stockage",{"$f":"IF(L1104=0,\"non saisi\",L1116)","v":"non saisi"},7,null,null,null,null,{"$f":"SScore!U$102","v":0}]
[null,null,null,null,"Chariot relais",{"$f":"IF(L1104=0,\"non saisi\",L1117)","v":"non saisi"},3,null,null,null,null,{"$f":"SScore!U$103","v":0}]
[null,null,null,null,"Score gestion du linge propre",{"$f":"IF(L1104=0,\"non saisi\",L1118)","v":"non saisi"},12,null,null,null,null,{"$f":"SScore!U$104","v":0}]
[null,null,null,null,"% d'objectifs atteints",{"$f":"L1119","v":0},null,null,null,null,null,{"$f":"L1118/12","v":0}]
[]
[null,null,null,"► Bionettoyage et traçabilité",null,"Score obtenu","Score attendu"]
[null,null,null,null,"Procédure",{"$f":"IF(L1104=0,\"non saisi\",L1122)","v":"non saisi"},6,null,null,null,null,{"$f":"SScore!U$107","v":0}]
[null,null,null,null,"Traçabilité",{"$f":"IF(L1104=0,\"non saisi\",L1123)","v":"non saisi"},6,null,null,null,null,{"$f":"SScore!U$108","v":0}]
[null,null,null,null,"Score bionettoyage et traçabilité",{"$f":"IF(L1104=0,\"non saisi\",L1124)","v":"non saisi"},12,null,null,null,null,{"$f":"SScore!U$109","v":0}]
[null,null,null,null,"% d'objectifs atteints",{"$f":"L1125","v":0},null,null,null,null,null,{"$f":"L1124/12","v":0}]
[]
[null,null,"► SCORE TOTAL DES SERVICES EVALUES DE L'ETABLISSEMENT"]
[]
[null,null,null,null,null,"Score obtenu","Score attendu","% d'objectifs atteints"]
[null,null,"Score gestion du linge sale",null,null,{"$f":"IF(SERVICES=0,\"non saisi\",($L$158/SERVICES))","v":"non saisi"},16,{"$f":"IF(SERVICES=0,\"non saisi\",($F$158/16))","v":"non saisi"}]
[null,null,"Score gestion du linge propre",null,null,{"$f":"IF(SERVICES=0,\"non saisi\",($L$159/SERVICES))","v":"non saisi"},12,{"$f":"IF(SERVICES=0,\"non saisi\",($F$159/12))","v":"non saisi"}]
[null,null,"Score bionettoyage et traçabilité",null,null,{"$f":"IF(SERVICES=0,\"non saisi\",($L$160/SERVICES))","v":"non saisi"},12,{"$f":"IF(SERVICES=0,\"non saisi\",($F$160/12))","v":"non saisi"}]
[null,null,"Score total fiches Services",null,null,{"$f":"IF(SERVICES=0,\"non saisi\",($L$161/SERVICES))","v":"non saisi"},40,{"$f":"IF(SERVICES=0,\"non saisi\",($F$161/40))","v":"non saisi"}]
[]
[]
["Evaluation de la fonction linge",null,null,null,null,null,null,null,null,null,null,"Page 22"]
["en établissement de santé et en EHPAD"]
[]
[null,null,"RESULTATS - SERVICE #10"]
[null,null,null,"Etablissement:",{"$f":"IF(NOM=\"\",\"à préciser\",NOM)","v":"à préciser"}]
[null,null,null,"Service #10:",{"$f":"IF(SERVICE10=\"\",\"à préciser\",SERVICE10)","v":"à préciser"}]
[null,null,null,null,"Nombre d'utilisateurs audités:",{"$f":"IF(_OBS10=\"\",\"A préciser\",_OBS10)","v":0}]
[]
[null,null,"► SCORE TOTAL UTILISATEURS SERVICE #10"]
[]
[null,null,null,null,null,"Score obtenu","Score attendu","% d'objectifs atteints"]
[null,null,null,null,"Score évacuation du linge sale",{"$f":"F1162","v":"non saisi"},16,{"$f":"H1162","v":"non saisi"}]
[null,null,null,null,"Score utilisation du linge propre",{"$f":"F1167","v":"non saisi"},4,{"$f":"H1167","v":"non saisi"}]
[null,null,null,null,"Score total utilisateurs service #10",{"$f":"IF(L1104=0,\"non saisi\",(F1147+F1148))","v":"non saisi"},20,{"$f":"IF(L1104=0,\"non saisi\",(F1149/20))","v":"non saisi"}]
[]
[null,null,{"$f":"IF(H1149=\"non saisi\",\"\",(IF(H1149>=75%,UTIL1,IF(H1149>49%,UTIL2,UTIL3))))","v":""}]
[]
[]
[]
[]
[null,null,"► DETAIL DES FICHES \"UTILISATEUR\""]
[]
[null,null,"► Linge sale",null,null,"Score obtenu","Score attendu","% d'objectifs atteints"]
[null,null,null,null,"Evacuation du linge sale",{"$f":"IF(L1104=0,\"non saisi\",(L1159/L1104))","v":"non saisi"},5,{"$f":"IF(L1104=0,\"non saisi\",(F1159/5))","v":"non saisi"},null,null,null,{"$f":"Score10!$B$74","v":0}]
[null,null,null,null,"Protection du personnel",{"$f":"IF(L1104=0,\"non saisi\",(L1160/L1104))","v":"non saisi"},9,{"$f":"IF(L1104=0,\"non saisi\",(F1160/9))","v":"non saisi"},null,null,null,{"$f":"Score10!$B$75","v":0}]
[null,null,null,null,"Transport sac du linge",{"$f":"IF(L1104=0,\"non saisi\",(L1161/L1104))","v":"non saisi"},2,{"$f":"IF(L1104=0,\"non saisi\",(F1161/2))","v":"non saisi"},null,null,null,{"$f":"Score10!$B$76","v":0}]
[null,null,null,null,"Score évacuation du linge sale",{"$f":"IF(L1104=0,\"non saisi\",(L1162/L1104))","v":"non saisi"},16,{"$f":"IF(L1104=0,\"non saisi\",(F1162/16))","v":"non saisi"},null,null,null,{"$f":"Score10!$B$77","v":0}]
[]
[null,null,"► Linge propre",null,null,"Score obtenu","Score attendu","% d'objectifs atteints"]
[null,null,null,null,"Hygiène des mains",{"$f":"IF(L1104=0,\"non saisi\",(L1165/L1104))","v":"non saisi"},2,{"$f":"IF(L1104=0,\"non saisi\",(F1165/2))","v":"non saisi"},null,null,null,{"$f":"Score10!$B$80","v":0}]
[null,null,null,null,"Utilisation du linge",{"$f":"IF(L1104=0,\"non saisi\",(L1166/L1104))","v":"non saisi"},2,{"$f":"IF(L1104=0,\"non saisi\",(F1166/2))","v":"non saisi"},null,null,null,{"$f":"Score10!$B$81","v":0}]
[null,null,null,null,"Score utilisation du linge propre",{"$f":"IF(L1104=0,\"non saisi\",(L1167/L1104))","v":"non saisi"},4,{"$f":"IF(L1104=0,\"non saisi\",(F1167/4))","v":"non saisi"},null,null,null,{"$f":"Score10!$B$82","v":0}]
[]
[null,null,"► SCORE TOTAL DES UTILISATEURS EVALUES DE L'ETABLISSEMENT"]
[]
[null,null,null,null,null,"Score obtenu","Score attendu","% d'objectifs atteints"]
[null,null,null,null,"Score évacuation du linge sale",{"$f":"IF(L1104=0,\"non saisi\",(L1172/UTILISATEURS))","v":"non saisi"},16,{"$f":"IF(L1104=0,\"non saisi\",(F1172/16))","v":"non saisi"}]
[null,null,null,null,"Score utilisation du linge propre",{"$f":"IF(L1104=0,\"non saisi\",(L1173/UTILISATEURS))","v":"non saisi"},4,{"$f":"IF(L1104=0,\"non saisi\",(F1173/4))","v":"non saisi"}]
[null,null,null,null,"Score total ensemble des utilisateurs evalués ",{"$f":"IF(L1104=0,\"non saisi\",(L1174/UTILISATEURS))","v":"non saisi"},20,{"$f":"IF(L1104=0,\"non saisi\",(F1174/20))","v":"non saisi"}]
[]
[null,null,"► UTILISATEURS SERVICE #10 - REPARTITION PAR CATEGORIE PROFESSIONNELLE"]
[null,null,"Catégorie professionnelle",null,"Utilisateurs","Score obtenu","Score attendu","% objectifs attients"]
[null,null,"Infirmière et IDE spécialisée",null,{"$f":"IF(L1104=0,\"non saisi\",L1178)","v":"non saisi"},{"$f":"IF(L1104=0,\"non saisi\",(IF(E1178=0,\"-\",(M1178/L1178))))","v":"non saisi"},20,{"$f":"IF(L1104=0,\"non saisi\",(IF(E1178=0,\"-\",(F1178/20))))","v":"non saisi"},null,null,null,{"$f":"Score10!$B$52","v":0},{"$f":"Score10!$B$53","v":0}]
[null,null,"Sage-femme",null,{"$f":"IF(L1104=0,\"non saisi\",L1179)","v":"non saisi"},{"$f":"IF(L1104=0,\"non saisi\",(IF(E1179=0,\"-\",(M1179/L1179))))","v":"non saisi"},20,{"$f":"IF(L1104=0,\"non saisi\",(IF(E1179=0,\"-\",(F1179/20))))","v":"non saisi"},null,null,null,{"$f":"Score10!$B$54","v":0},{"$f":"Score10!$B$55","v":0}]
[null,null,"Kinésithérapeute",null,{"$f":"IF(L1104=0,\"non saisi\",L1180)","v":"non saisi"},{"$f":"IF(L1104=0,\"non saisi\",(IF(E1180=0,\"-\",(M1180/L1180))))","v":"non saisi"},20,{"$f":"IF(L1104=0,\"non saisi\",(IF(E1180=0,\"-\",(F1180/20))))","v":"non saisi"},null,null,null,{"$f":"Score10!$B$56","v":0},{"$f":"Score10!$B$57","v":0}]
[null,null,"Manipulateur radio",null,{"$f":"IF(L1104=0,\"non saisi\",L1181)","v":"non saisi"},{"$f":"IF(L1104=0,\"non saisi\",(IF(E1181=0,\"-\",(M1181/L1181))))","v":"non saisi"},20,{"$f":"IF(L1104=0,\"non saisi\",(IF(E1181=0,\"-\",(F1181/20))))","v":"non saisi"},null,null,null,{"$f":"Score10!$B$58","v":0},{"$f":"Score10!$B$59","v":0}]
[null,null,"Aide-soignante/aux. puériculture",null,{"$f":"IF(L1104=0,\"non saisi\",L1182)","v":"non saisi"},{"$f":"IF(L1104=0,\"non saisi\",(IF(E1182=0,\"-\",(M1182/L1182))))","v":"non saisi"},20,{"$f":"IF(L1104=0,\"non saisi\",(IF(E1182=0,\"-\",(F1182/20))))","v":"non saisi"},null,null,null,{"$f":"Score10!$B$60","v":0},{"$f":"Score10!$B$61","v":0}]
[null,null,"Agent hospitalier",null,{"$f":"IF(L1104=0,\"non saisi\",L1183)","v":"non saisi"},{"$f":"IF(L1104=0,\"non saisi\",(IF(E1183=0,\"-\",(M1183/L1183))))","v":"non saisi"},20,{"$f":"IF(L1104=0,\"non saisi\",(IF(E1183=0,\"-\",(F1183/20))))","v":"non saisi"},null,null,null,{"$f":"Score10!$B$62","v":0},{"$f":"Score10!$B$63","v":0}]
[null,null,"Ambulancier",null,{"$f":"IF(L1104=0,\"non saisi\",L1184)","v":"non saisi"},{"$f":"IF(L1104=0,\"non saisi\",(IF(E1184=0,\"-\",(M1184/L1184))))","v":"non saisi"},20,{"$f":"IF(L1104=0,\"non saisi\",(IF(E1184=0,\"-\",(F1184/20))))","v":"non saisi"},null,null,null,{"$f":"Score10!$B$64","v":0},{"$f":"Score10!$B$65","v":0}]
[null,null,"Brancardier",null,{"$f":"IF(L1104=0,\"non saisi\",L1185)","v":"non saisi"},{"$f":"IF(L1104=0,\"non saisi\",(IF(E1185=0,\"-\",(M1185/L1185))))","v":"non saisi"},20,{"$f":"IF(L1104=0,\"non saisi\",(IF(E1185=0,\"-\",(F1185/20))))","v":"non saisi"},null,null,null,{"$f":"Score10!$B$66","v":0},{"$f":"Score10!$B$67","v":0}]
[null,null,"Etudiant",null,{"$f":"IF(L1104=0,\"non saisi\",L1186)","v":"non saisi"},{"$f":"IF(L1104=0,\"non saisi\",(IF(E1186=0,\"-\",(M1186/L1186))))","v":"non saisi"},20,{"$f":"IF(L1104=0,\"non saisi\",(IF(E1186=0,\"-\",(F1186/20))))","v":"non saisi"},null,null,null,{"$f":"Score10!B$68","v":0},{"$f":"Score10!$B$69","v":0}]
[null,null,"Autre",null,{"$f":"IF(L1104=0,\"non saisi\",L1187)","v":"non saisi"},{"$f":"IF(L1104=0,\"non saisi\",(IF(E1187=0,\"-\",(M1187/L1187))))","v":"non saisi"},20,{"$f":"IF(L1104=0,\"non saisi\",(IF(E1187=0,\"-\",(F1187/20))))","v":"non saisi"},null,null,null,{"$f":"Score10!$B$70","v":0},{"$f":"Score10!$B$71","v":0}]
[null,null,null,null,null,null,null,null,null,null,null,"Fin du rapport"]

{"sheet":"Renseignements_Etablissement","index":3,"n_rows":35,"n_cols":13,"rows_kept":35,"cut":false,"hidden":false,"merged":[[34,0,34,7],[26,3,26,6],[28,3,28,6],[30,3,30,6],[32,0,32,7],[18,3,18,6],[20,3,20,6],[22,3,22,6],[24,3,24,6],[6,1,6,8],[4,2,4,7],[0,0,0,7],[41,0,41,7],[2,3,2,6],[39,0,39,7],[10,3,10,6],[12,3,12,6],[14,3,14,6],[16,3,16,6]]}
["ETABLISSEMENT"]
[]
[null,"Nom d'etablissement:",null,null,null,null,null,null,null,"Nombre total de services de l'établissement:   "]
[]
[null,null,"SERVICES PARTICIPANTS",null,null,null,null,null,null,"Nombre de services audités:   ",{"$f":"Etab!M3","v":0},null,"1 - Médecine"]
[null,null,null,null,null,null,null,null,null,null,null,null,"2 - Chirurgie"]
[null,"► à saisir : seulement les services ayant participé à l'évaluation",null,null,null,null,null,null,null,null,null,null,"3 - Matérnité-Obstétrique"]
[null,null,null,null,null,null,null,null,null,null,null,null,"4 - Réanimation/Soins intensifs"]
[null,"Service",null,null,"Nom du service",null,null,null,"Discipline du service",null,"Nombre d'utilisateurs",null,"5 - SSPI"]
[null,null,null,null,null,null,null,null,null,null,null,null,"6 - Bloc opératoire"]
[null,"#1",null,null,null,null,null,null,null,null,{"$f":"SUM(Score1!$C$7:$CC$7)","v":0},{"$f":"SUM(K11:K36)","v":0},"7 - Imagerie/Laboratoire"]
[null,null,null,null,null,null,null,null,null,null,null,null,"8 - Hémodialyse"]
[null,"#2",null,null,null,null,null,null,null,null,{"$f":"SUM(Score2!$C$7:$CC$7)","v":0},null,"9 - Urgences"]
[null,null,null,null,null,null,null,null,null,null,null,null,"10 - Psychiatrie"]
[null,"#3",null,null,null,null,null,null,null,null,{"$f":"SUM(Score3!$C$7:$CC$7)","v":0},null,"11 - SSR"]
[null,null,null,null,null,null,null,null,null,null,null,null,"12 - SLD"]
[null,"#4",null,null,null,null,null,null,null,null,{"$f":"SUM(Score4!$C$7:$CC$7)","v":0},null,"13 - Consultations"]
[null,null,null,null,null,null,null,null,null,null,null,null,"14 - EHPAD/Maison de retraite"]
[null,"#5",null,null,null,null,null,null,null,null,{"$f":"SUM(Score5!$C$7:$CC$7)","v":0},null,1]
[null,null,null,null,null,null,null,null,null,null,null,null,2]
[null,"#6",null,null,null,null,null,null,null,null,{"$f":"SUM(Score6!$C$7:$CC$7)","v":0},null,3]
[null,null,null,null,null,null,null,null,null,null,null,null,4]
[null,"#7",null,null,null,null,null,null,null,null,{"$f":"SUM(Score7!$C$7:$CC$7)","v":0},null,5]
[null,null,null,null,null,null,null,null,null,null,null,null,6]
[null,"#8",null,null,null,null,null,null,null,null,{"$f":"SUM(Score8!$C$7:$CC$7)","v":0},null,7]
[null,null,null,null,null,null,null,null,null,null,null,null,8]
[null,"#9",null,null,null,null,null,null,null,null,{"$f":"SUM(Score9!$C$7:$CC$7)","v":0},null,9]
[null,null,null,null,null,null,null,null,null,null,null,null,10]
[null,"#10",null,null,null,null,null,null,null,null,{"$f":"SUM(Score10!$C$7:$CC$7)","v":0},null,11]
[null,null,null,null,null,null,null,null,null,null,null,null,12]
[null,null,null,null,null,null,null,null,null,null,null,null,13]
[null,null,null,null,null,null,null,null,null,null,null,null,14]
["MENU"]
[]
["Fiches Services"]

{"sheet":"Etab","index":4,"n_rows":27,"n_cols":13,"rows_kept":27,"cut":false,"hidden":true,"merged":[]}
[]
[]
[null,null,null,null,null,null,null,null,null,null,null,null,{"$f":"SUM(I9:I27)","v":0}]
[]
[]
[]
[]
[]
[null,null,null,null,null,null,null,1,{"$f":"IF(SERVICE1=\"\",0,1)","v":0}]
[]
[null,null,null,null,null,null,null,2,{"$f":"IF(SERVICE2=\"\",0,1)","v":0}]
[]
[null,null,null,null,null,null,null,3,{"$f":"IF(SERVICE3=\"\",0,1)","v":0}]
[]
[null,null,null,null,null,null,null,4,{"$f":"IF(SERVICE4=\"\",0,1)","v":0}]
[]
[null,null,null,null,null,null,null,5,{"$f":"IF(SERVICE5=\"\",0,1)","v":0}]
[]
[null,null,null,null,null,null,null,6,{"$f":"IF(SERVICE6=\"\",0,1)","v":0}]
[]
[null,null,null,null,null,null,null,7,{"$f":"IF(SERVICE7=\"\",0,1)","v":0}]
[]
[null,null,null,null,null,null,null,8,{"$f":"IF(SERVICE8=\"\",0,1)","v":0}]
[]
[null,null,null,null,null,null,null,9,{"$f":"IF(SERVICE9=\"\",0,1)","v":0}]
[]
[null,null,null,null,null,null,null,10,{"$f":"IF(SERVICE10=\"\",0,1)","v":0}]

{"sheet":"Fiches_Services","index":5,"n_rows":67,"n_cols":21,"rows_kept":67,"cut":false,"hidden":false,"merged":[[0,0,0,2],[1,0,1,2]]}
["FICHE N° 1"]
["SERVICES"]
[null,null,"Service #1",null,"Service #2",null,"Service #3",null,"Service #4",null,"Service #5",null,"Service #6",null,"Service #7",null,"Service #8",null,"Service #9",null,"Service #10"]
[]
[null,"VERIFICATION DONNEES NON SAISIES/N° DE SAISIE DE FICHE",{"$f":"_SS1","v":"non saisies"},null,{"$f":"_SS2","v":"non saisies"},null,{"$f":"_SS3","v":"non saisies"},null,{"$f":"_SS4","v":"non saisies"},null,{"$f":"_SS5","v":"non saisies"},null,{"$f":"_SS6","v":"non saisies"},null,{"$f":"_SS7","v":"non saisies"},null,{"$f":"_SS8","v":"non saisies"},null,{"$f":"_SS9","v":"non saisies"},null,{"$f":"_SS10","v":"non saisies"}]
[]
[null,"Nom de l'auditeur"]
[]
[null,"Date"]
[]
[null,"Nom du service",{"$f":"IF(SERVICE1=\"\",\"non saisi\",SERVICE1)","v":"non saisi"},null,{"$f":"IF(SERVICE2=\"\",\"non saisi\",SERVICE2)","v":"non saisi"},null,{"$f":"IF(SERVICE3=\"\",\"non saisi\",SERVICE3)","v":"non saisi"},null,{"$f":"IF(SERVICE4=\"\",\"non saisi\",SERVICE4)","v":"non saisi"},null,{"$f":"IF(SERVICE5=\"\",\"non saisi\",SERVICE5)","v":"non saisi"},null,{"$f":"IF(SERVICE6=\"\",\"non saisi\",SERVICE6)","v":"non saisi"},null,{"$f":"IF(SERVICE7=\"\",\"non saisi\",SERVICE7)","v":"non saisi"},null,{"$f":"IF(SERVICE8=\"\",\"non saisi\",SERVICE8)","v":"non saisi"},null,{"$f":"IF(SERVICE9=\"\",\"non saisi\",SERVICE9)","v":"non saisi"},null,{"$f":"IF(SERVICE10=\"\",\"non saisi\",SERVICE10)","v":"non saisi"}]
[]
["Linge sale",null,"1 Oui - 2 Non",null,"1 Oui - 2 Non",null,"1 Oui - 2 Non",null,"1 Oui - 2 Non",null,"1 Oui - 2 Non",null,"1 Oui - 2 Non",null,"1 Oui - 2 Non",null,"1 Oui - 2 Non",null,"1 Oui - 2 Non",null,"1 Oui - 2 Non"]
[]
[1,"Présence d’une procédure du rythme de changement du linge hospitalier (drap, taie, couverture…)"]
[]
[2,"Présence d’une procédure de tri à la source du linge"]
[]
[3,"Le chariot collecteur dispose des différents sacs permettant le tri à la source"]
[]
[4,"Le chariot collecteur dispose d'un systéme d'ouverture « mains libres »"]
[]
[5,"Les sacs à linge sont remplis au maximum au 2/3"]
[]
[6,"Les sacs sont correctement fermés après remplissage"]
[]
[7,"Existence d’un local spécifique « linge sale » au sein du service"]
[]
[8,"Les sacs sont stockés sur un support dans le local « linge sale » (pas à même le sol)"]
[]
[9,"Les sacs sont éliminés au moins une fois par jour du lundi au vendredi"]
[]
[10,"Le transport du linge sale est réalisé dans des chariots, rolls ou armoires"]
[]
["Linge propre",null,"1 Oui - 2 Non",null,"1 Oui - 2 Non",null,"1 Oui - 2 Non",null,"1 Oui - 2 Non",null,"1 Oui - 2 Non",null,"1 Oui - 2 Non",null,"1 Oui - 2 Non",null,"1 Oui - 2 Non",null,"1 Oui - 2 Non",null,"1 Oui - 2 Non"]
[]
[11,"Le linge propre est livré dans des chariots houssés, des armoires fermées ou emballé sous film"]
[]
[12,"Existence d’un local exclusif « linge propre » au sein du service"]
[]
[13,"Absence des « réserves sauvages » de linge propre (salle de bain, chambre patient…)"]
[]
[14,"Il existe une rotation des stocks"]
[]
[15,"La dotation en linge propre est ajustée au besoin"]
[]
[16,"Le chariot « relais » est approvisionné avant de partir réaliser les soins"]
[]
[17,"Absence de stockage, même temporaire, du linge propre non protégé"]
[]
["Procédure de bionettoyage et traçabilité",null,"1 Oui - 2 Non",null,"1 Oui - 2 Non",null,"1 Oui - 2 Non",null,"1 Oui - 2 Non",null,"1 Oui - 2 Non",null,"1 Oui - 2 Non",null,"1 Oui - 2 Non",null,"1 Oui - 2 Non",null,"1 Oui - 2 Non",null,"1 Oui - 2 Non"]
[]
[18,"Une procédure de bionettoyage du chariot support des sacs collecteurs de linge sale existe "]
[]
[19,"La fiche de traçabilité (question 18) est renseignée"]
[]
[20,"Une procédure de bionettoyage des locaux de stockage linge sale existe"]
[]
[21,"La fiche de traçabilité (question 20) est renseignée"]
[]
[22,"La procédure de bionettoyage des locaux de stockage linge propre existe"]
[]
[23,"La fiche de traçabilité (question 22) est renseignée"]
[]
[null,"VERIFICATION DONNEES NON SAISIES/N° DE SAISIE DE FICHE",{"$f":"IF(OR(C7=\"\",C9=\"\",C11=\"non saisi\",C15=\"\",C17=\"\",C19=\"\",C21=\"\",C23=\"\",C25=\"\",C27=\"\",C29=\"\",C31=\"\",C33=\"\",C37=\"\",C39=\"\",C41=\"\",C43=\"\",C45=\"\",C47=\"\",C49=\"\",C53=\"\",C55=\"\",C57=\"\",C59=\"\",C61=\"\",C63=\"\"),\"non saisies\",1)","v":"non saisies"},null,{"$f":"IF(OR(E7=\"\",E9=\"\",E11=\"non saisi\",E15=\"\",E17=\"\",E19=\"\",E21=\"\",E23=\"\",E25=\"\",E27=\"\",E29=\"\",E31=\"\",E33=\"\",E37=\"\",E39=\"\",E41=\"\",E43=\"\",E45=\"\",E47=\"\",E49=\"\",E53=\"\",E55=\"\",E57=\"\",E59=\"\",E61=\"\",E63=\"\"),\"non saisies\",2)","v":"non saisies"},null,{"$f":"IF(OR(G7=\"\",G9=\"\",G11=\"non saisi\",G15=\"\",G17=\"\",G19=\"\",G21=\"\",G23=\"\",G25=\"\",G27=\"\",G29=\"\",G31=\"\",G33=\"\",G37=\"\",G39=\"\",G41=\"\",G43=\"\",G45=\"\",G47=\"\",G49=\"\",G53=\"\",G55=\"\",G57=\"\",G59=\"\",G61=\"\",G63=\"\"),\"non saisies\",3)","v":"non saisies"},null,{"$f":"IF(OR(I7=\"\",I9=\"\",I11=\"non saisi\",I15=\"\",I17=\"\",I19=\"\",I21=\"\",I23=\"\",I25=\"\",I27=\"\",I29=\"\",I31=\"\",I33=\"\",I37=\"\",I39=\"\",I41=\"\",I43=\"\",I45=\"\",I47=\"\",I49=\"\",I53=\"\",I55=\"\",I57=\"\",I59=\"\",I61=\"\",I63=\"\"),\"non saisies\",4)","v":"non saisies"},null,{"$f":"IF(OR(K7=\"\",K9=\"\",K11=\"non saisi\",K15=\"\",K17=\"\",K19=\"\",K21=\"\",K23=\"\",K25=\"\",K27=\"\",K29=\"\",K31=\"\",K33=\"\",K37=\"\",K39=\"\",K41=\"\",K43=\"\",K45=\"\",K47=\"\",K49=\"\",K53=\"\",K55=\"\",K57=\"\",K59=\"\",K61=\"\",K63=\"\"),\"non saisies\",5)","v":"non saisies"},null,{"$f":"IF(OR(M7=\"\",M9=\"\",M11=\"non saisi\",M15=\"\",M17=\"\",M19=\"\",M21=\"\",M23=\"\",M25=\"\",M27=\"\",M29=\"\",M31=\"\",M33=\"\",M37=\"\",M39=\"\",M41=\"\",M43=\"\",M45=\"\",M47=\"\",M49=\"\",M53=\"\",M55=\"\",M57=\"\",M59=\"\",M61=\"\",M63=\"\"),\"non saisies\",6)","v":"non saisies"},null,{"$f":"IF(OR(O7=\"\",O9=\"\",O11=\"non saisi\",O15=\"\",O17=\"\",O19=\"\",O21=\"\",O23=\"\",O25=\"\",O27=\"\",O29=\"\",O31=\"\",O33=\"\",O37=\"\",O39=\"\",O41=\"\",O43=\"\",O45=\"\",O47=\"\",O49=\"\",O53=\"\",O55=\"\",O57=\"\",O59=\"\",O61=\"\",O63=\"\"),\"non saisies\",7)","v":"non saisies"},null,{"$f":"IF(OR(Q7=\"\",Q9=\"\",Q11=\"non saisi\",Q15=\"\",Q17=\"\",Q19=\"\",Q21=\"\",Q23=\"\",Q25=\"\",Q27=\"\",Q29=\"\",Q31=\"\",Q33=\"\",Q37=\"\",Q39=\"\",Q41=\"\",Q43=\"\",Q45=\"\",Q47=\"\",Q49=\"\",Q53=\"\",Q55=\"\",Q57=\"\",Q59=\"\",Q61=\"\",Q63=\"\"),\"non saisies\",8)","v":"non saisies"},null,{"$f":"IF(OR(S7=\"\",S9=\"\",S11=\"non saisi\",S15=\"\",S17=\"\",S19=\"\",S21=\"\",S23=\"\",S25=\"\",S27=\"\",S29=\"\",S31=\"\",S33=\"\",S37=\"\",S39=\"\",S41=\"\",S43=\"\",S45=\"\",S47=\"\",S49=\"\",S53=\"\",S55=\"\",S57=\"\",S59=\"\",S61=\"\",S63=\"\"),\"non saisies\",9)","v":"non saisies"},null,{"$f":"IF(OR(U7=\"\",U9=\"\",U11=\"non saisi\",U15=\"\",U17=\"\",U19=\"\",U21=\"\",U23=\"\",U25=\"\",U27=\"\",U29=\"\",U31=\"\",U33=\"\",U37=\"\",U39=\"\",U41=\"\",U43=\"\",U45=\"\",U47=\"\",U49=\"\",U53=\"\",U55=\"\",U57=\"\",U59=\"\",U61=\"\",U63=\"\"),\"non saisies\",10)","v":"non saisies"}]
[]
[null,"MENU"]

{"sheet":"SScore","index":6,"n_rows":124,"n_cols":81,"rows_kept":124,"cut":false,"hidden":true,"merged":[]}
[]
[]
[]
[]
[]
[]
[]
[]
[]
[]
[]
[]
[null,"glob tots"]
[]
[1,null,{"$f":"IF(Fiches_Services!C15=1,1,0)","v":0},null,{"$f":"IF(Fiches_Services!E15=1,1,0)","v":0},null,{"$f":"IF(Fiches_Services!G15=1,1,0)","v":0},null,{"$f":"IF(Fiches_Services!I15=1,1,0)","v":0},null,{"$f":"IF(Fiches_Services!K15=1,1,0)","v":0},null,{"$f":"IF(Fiches_Services!M15=1,1,0)","v":0},null,{"$f":"IF(Fiches_Services!O15=1,1,0)","v":0},null,{"$f":"IF(Fiches_Services!Q15=1,1,0)","v":0},null,{"$f":"IF(Fiches_Services!S15=1,1,0)","v":0},null,{"$f":"IF(Fiches_Services!U15=1,1,0)","v":0}]
[]
[2,null,{"$f":"IF(Fiches_Services!C17=1,1,0)","v":0},null,{"$f":"IF(Fiches_Services!E17=1,1,0)","v":0},null,{"$f":"IF(Fiches_Services!G17=1,1,0)","v":0},null,{"$f":"IF(Fiches_Services!I17=1,1,0)","v":0},null,{"$f":"IF(Fiches_Services!K17=1,1,0)","v":0},null,{"$f":"IF(Fiches_Services!M17=1,1,0)","v":0},null,{"$f":"IF(Fiches_Services!O17=1,1,0)","v":0},null,{"$f":"IF(Fiches_Services!Q17=1,1,0)","v":0},null,{"$f":"IF(Fiches_Services!S17=1,1,0)","v":0},null,{"$f":"IF(Fiches_Services!U17=1,1,0)","v":0}]
[]
[3,null,{"$f":"IF(Fiches_Services!C19=1,1,0)","v":0},null,{"$f":"IF(Fiches_Services!E19=1,1,0)","v":0},null,{"$f":"IF(Fiches_Services!G19=1,1,0)","v":0},null,{"$f":"IF(Fiches_Services!I19=1,1,0)","v":0},null,{"$f":"IF(Fiches_Services!K19=1,1,0)","v":0},null,{"$f":"IF(Fiches_Services!M19=1,1,0)","v":0},null,{"$f":"IF(Fiches_Services!O19=1,1,0)","v":0},null,{"$f":"IF(Fiches_Services!Q19=1,1,0)","v":0},null,{"$f":"IF(Fiches_Services!S19=1,1,0)","v":0},null,{"$f":"IF(Fiches_Services!U19=1,1,0)","v":0}]
[]
[4,null,{"$f":"IF(Fiches_Services!C21=1,1,0)","v":0},null,{"$f":"IF(Fiches_Services!E21=1,1,0)","v":0},null,{"$f":"IF(Fiches_Services!G21=1,1,0)","v":0},null,{"$f":"IF(Fiches_Services!I21=1,1,0)","v":0},null,{"$f":"IF(Fiches_Services!K21=1,1,0)","v":0},null,{"$f":"IF(Fiches_Services!M21=1,1,0)","v":0},null,{"$f":"IF(Fiches_Services!O21=1,1,0)","v":0},null,{"$f":"IF(Fiches_Services!Q21=1,1,0)","v":0},null,{"$f":"IF(Fiches_Services!S21=1,1,0)","v":0},null,{"$f":"IF(Fiches_Services!U21=1,1,0)","v":0}]
[]
[5,null,{"$f":"IF(Fiches_Services!C23=1,1,0)","v":0},null,{"$f":"IF(Fiches_Services!E23=1,1,0)","v":0},null,{"$f":"IF(Fiches_Services!G23=1,1,0)","v":0},null,{"$f":"IF(Fiches_Services!I23=1,1,0)","v":0},null,{"$f":"IF(Fiches_Services!K23=1,1,0)","v":0},null,{"$f":"IF(Fiches_Services!M23=1,1,0)","v":0},null,{"$f":"IF(Fiches_Services!O23=1,1,0)","v":0},null,{"$f":"IF(Fiches_Services!Q23=1,1,0)","v":0},null,{"$f":"IF(Fiches_Services!S23=1,1,0)","v":0},null,{"$f":"IF(Fiches_Services!U23=1,1,0)","v":0}]
[]
[6,null,{"$f":"IF(Fiches_Services!C25=1,1,0)","v":0},null,{"$f":"IF(Fiches_Services!E25=1,1,0)","v":0},null,{"$f":"IF(Fiches_Services!G25=1,1,0)","v":0},null,{"$f":"IF(Fiches_Services!I25=1,1,0)","v":0},null,{"$f":"IF(Fiches_Services!K25=1,1,0)","v":0},null,{"$f":"IF(Fiches_Services!M25=1,1,0)","v":0},null,{"$f":"IF(Fiches_Services!O25=1,1,0)","v":0},null,{"$f":"IF(Fiches_Services!Q25=1,1,0)","v":0},null,{"$f":"IF(Fiches_Services!S25=1,1,0)","v":0},null,{"$f":"IF(Fiches_Services!U25=1,1,0)","v":0}]
[]
[7,null,{"$f":"IF(Fiches_Services!C27=1,1,0)","v":0},null,{"$f":"IF(Fiches_Services!E27=1,1,0)","v":0},null,{"$f":"IF(Fiches_Services!G27=1,1,0)","v":0},null,{"$f":"IF(Fiches_Services!I27=1,1,0)","v":0},null,{"$f":"IF(Fiches_Services!K27=1,1,0)","v":0},null,{"$f":"IF(Fiches_Services!M27=1,1,0)","v":0},null,{"$f":"IF(Fiches_Services!O27=1,1,0)","v":0},null,{"$f":"IF(Fiches_Services!Q27=1,1,0)","v":0},null,{"$f":"IF(Fiches_Services!S27=1,1,0)","v":0},null,{"$f":"IF(Fiches_Services!U27=1,1,0)","v":0}]
[]
[8,null,{"$f":"IF(Fiches_Services!C29=1,1,0)","v":0},null,{"$f":"IF(Fiches_Services!E29=1,1,0)","v":0},null,{"$f":"IF(Fiches_Services!G29=1,1,0)","v":0},null,{"$f":"IF(Fiches_Services!I29=1,1,0)","v":0},null,{"$f":"IF(Fiches_Services!K29=1,1,0)","v":0},null,{"$f":"IF(Fiches_Services!M29=1,1,0)","v":0},null,{"$f":"IF(Fiches_Services!O29=1,1,0)","v":0},null,{"$f":"IF(Fiches_Services!Q29=1,1,0)","v":0},null,{"$f":"IF(Fiches_Services!S29=1,1,0)","v":0},null,{"$f":"IF(Fiches_Services!U29=1,1,0)","v":0}]
[]
[9,null,{"$f":"IF(Fiches_Services!C31=1,1,0)","v":0},null,{"$f":"IF(Fiches_Services!E31=1,1,0)","v":0},null,{"$f":"IF(Fiches_Services!G31=1,1,0)","v":0},null,{"$f":"IF(Fiches_Services!I31=1,1,0)","v":0},null,{"$f":"IF(Fiches_Services!K31=1,1,0)","v":0},null,{"$f":"IF(Fiches_Services!M31=1,1,0)","v":0},null,{"$f":"IF(Fiches_Services!O31=1,1,0)","v":0},null,{"$f":"IF(Fiches_Services!Q31=1,1,0)","v":0},null,{"$f":"IF(Fiches_Services!S31=1,1,0)","v":0},null,{"$f":"IF(Fiches_Services!U31=1,1,0)","v":0}]
[]
[10,null,{"$f":"IF(Fiches_Services!C33=1,1,0)","v":0},null,{"$f":"IF(Fiches_Services!E33=1,1,0)","v":0},null,{"$f":"IF(Fiches_Services!G33=1,1,0)","v":0},null,{"$f":"IF(Fiches_Services!I33=1,1,0)","v":0},null,{"$f":"IF(Fiches_Services!K33=1,1,0)","v":0},null,{"$f":"IF(Fiches_Services!M33=1,1,0)","v":0},null,{"$f":"IF(Fiches_Services!O33=1,1,0)","v":0},null,{"$f":"IF(Fiches_Services!Q33=1,1,0)","v":0},null,{"$f":"IF(Fiches_Services!S33=1,1,0)","v":0},null,{"$f":"IF(Fiches_Services!U33=1,1,0)","v":0}]
[]
["tot sale",{"$f":"SUM(C35:CC35)","v":0},{"$f":"SUM(C19:C33)","v":0},null,{"$f":"SUM(E19:E33)","v":0},null,{"$f":"SUM(G19:G33)","v":0},null,{"$f":"SUM(I19:I33)","v":0},null,{"$f":"SUM(K19:K33)","v":0},null,{"$f":"SUM(M19:M33)","v":0},null,{"$f":"SUM(O19:O33)","v":0},null,{"$f":"SUM(Q19:Q33)","v":0},null,{"$f":"SUM(S19:S33)","v":0},null,{"$f":"SUM(U19:U33)","v":0}]
[]
[11,null,{"$f":"IF(Fiches_Services!C37=1,1,0)","v":0},null,{"$f":"IF(Fiches_Services!E37=1,1,0)","v":0},null,{"$f":"IF(Fiches_Services!G37=1,1,0)","v":0},null,{"$f":"IF(Fiches_Services!I37=1,1,0)","v":0},null,{"$f":"IF(Fiches_Services!K37=1,1,0)","v":0},null,{"$f":"IF(Fiches_Services!M37=1,1,0)","v":0},null,{"$f":"IF(Fiches_Services!O37=1,1,0)","v":0},null,{"$f":"IF(Fiches_Services!Q37=1,1,0)","v":0},null,{"$f":"IF(Fiches_Services!S37=1,1,0)","v":0},null,{"$f":"IF(Fiches_Services!U37=1,1,0)","v":0}]
[]
[12,null,{"$f":"IF(Fiches_Services!C39=1,1,0)","v":0},null,{"$f":"IF(Fiches_Services!E39=1,1,0)","v":0},null,{"$f":"IF(Fiches_Services!G39=1,1,0)","v":0},null,{"$f":"IF(Fiches_Services!I39=1,1,0)","v":0},null,{"$f":"IF(Fiches_Services!K39=1,1,0)","v":0},null,{"$f":"IF(Fiches_Services!M39=1,1,0)","v":0},null,{"$f":"IF(Fiches_Services!O39=1,1,0)","v":0},null,{"$f":"IF(Fiches_Services!Q39=1,1,0)","v":0},null,{"$f":"IF(Fiches_Services!S39=1,1,0)","v":0},null,{"$f":"IF(Fiches_Services!U39=1,1,0)","v":0}]
[]
[13,null,{"$f":"IF(Fiches_Services!C41=1,1,0)","v":0},null,{"$f":"IF(Fiches_Services!E41=1,1,0)","v":0},null,{"$f":"IF(Fiches_Services!G41=1,1,0)","v":0},null,{"$f":"IF(Fiches_Services!I41=1,1,0)","v":0},null,{"$f":"IF(Fiches_Services!K41=1,1,0)","v":0},null,{"$f":"IF(Fiches_Services!M41=1,1,0)","v":0},null,{"$f":"IF(Fiches_Services!O41=1,1,0)","v":0},null,{"$f":"IF(Fiches_Services!Q41=1,1,0)","v":0},null,{"$f":"IF(Fiches_Services!S41=1,1,0)","v":0},null,{"$f":"IF(Fiches_Services!U41=1,1,0)","v":0}]
[]
[14,null,{"$f":"IF(Fiches_Services!C43=1,1,0)","v":0},null,{"$f":"IF(Fiches_Services!E43=1,1,0)","v":0},null,{"$f":"IF(Fiches_Services!G43=1,1,0)","v":0},null,{"$f":"IF(Fiches_Services!I43=1,1,0)","v":0},null,{"$f":"IF(Fiches_Services!K43=1,1,0)","v":0},null,{"$f":"IF(Fiches_Services!M43=1,1,0)","v":0},null,{"$f":"IF(Fiches_Services!O43=1,1,0)","v":0},null,{"$f":"IF(Fiches_Services!Q43=1,1,0)","v":0},null,{"$f":"IF(Fiches_Services!S43=1,1,0)","v":0},null,{"$f":"IF(Fiches_Services!U43=1,1,0)","v":0}]
[]
[15,null,{"$f":"IF(Fiches_Services!C45=1,1,0)","v":0},null,{"$f":"IF(Fiches_Services!E45=1,1,0)","v":0},null,{"$f":"IF(Fiches_Services!G45=1,1,0)","v":0},null,{"$f":"IF(Fiches_Services!I45=1,1,0)","v":0},null,{"$f":"IF(Fiches_Services!K45=1,1,0)","v":0},null,{"$f":"IF(Fiches_Services!M45=1,1,0)","v":0},null,{"$f":"IF(Fiches_Services!O45=1,1,0)","v":0},null,{"$f":"IF(Fiches_Services!Q45=1,1,0)","v":0},null,{"$f":"IF(Fiches_Services!S45=1,1,0)","v":0},null,{"$f":"IF(Fiches_Services!U45=1,1,0)","v":0}]
[]
[16,null,{"$f":"IF(Fiches_Services!C47=1,1,0)","v":0},null,{"$f":"IF(Fiches_Services!E47=1,1,0)","v":0},null,{"$f":"IF(Fiches_Services!G47=1,1,0)","v":0},null,{"$f":"IF(Fiches_Services!I47=1,1,0)","v":0},null,{"$f":"IF(Fiches_Services!K47=1,1,0)","v":0},null,{"$f":"IF(Fiches_Services!M47=1,1,0)","v":0},null,{"$f":"IF(Fiches_Services!O47=1,1,0)","v":0},null,{"$f":"IF(Fiches_Services!Q47=1,1,0)","v":0},null,{"$f":"IF(Fiches_Services!S47=1,1,0)","v":0},null,{"$f":"IF(Fiches_Services!U47=1,1,0)","v":0}]
[]
[17,null,{"$f":"IF(Fiches_Services!C49=1,1,0)","v":0},null,{"$f":"IF(Fiches_Services!E49=1,1,0)","v":0},null,{"$f":"IF(Fiches_Services!G49=1,1,0)","v":0},null,{"$f":"IF(Fiches_Services!I49=1,1,0)","v":0},null,{"$f":"IF(Fiches_Services!K49=1,1,0)","v":0},null,{"$f":"IF(Fiches_Services!M49=1,1,0)","v":0},null,{"$f":"IF(Fiches_Services!O49=1,1,0)","v":0},null,{"$f":"IF(Fiches_Services!Q49=1,1,0)","v":0},null,{"$f":"IF(Fiches_Services!S49=1,1,0)","v":0},null,{"$f":"IF(Fiches_Services!U49=1,1,0)","v":0}]
[]
["tot propre",{"$f":"SUM(C51:CC51)","v":0},{"$f":"SUM(C37:C49)","v":0},null,{"$f":"SUM(E37:E49)","v":0},null,{"$f":"SUM(G37:G49)","v":0},null,{"$f":"SUM(I37:I49)","v":0},null,{"$f":"SUM(K37:K49)","v":0},null,{"$f":"SUM(M37:M49)","v":0},null,{"$f":"SUM(O37:O49)","v":0},null,{"$f":"SUM(Q37:Q49)","v":0},null,{"$f":"SUM(S37:S49)","v":0},null,{"$f":"SUM(U37:U49)","v":0}]
[]
[18,null,{"$f":"IF(Fiches_Services!C53=1,1,0)","v":0},null,{"$f":"IF(Fiches_Services!E53=1,1,0)","v":0},null,{"$f":"IF(Fiches_Services!G53=1,1,0)","v":0},null,{"$f":"IF(Fiches_Services!I53=1,1,0)","v":0},null,{"$f":"IF(Fiches_Services!K53=1,1,0)","v":0},null,{"$f":"IF(Fiches_Services!M53=1,1,0)","v":0},null,{"$f":"IF(Fiches_Services!O53=1,1,0)","v":0},null,{"$f":"IF(Fiches_Services!Q53=1,1,0)","v":0},null,{"$f":"IF(Fiches_Services!S53=1,1,0)","v":0},null,{"$f":"IF(Fiches_Services!U53=1,1,0)","v":0}]
[]
[19,null,{"$f":"IF(Fiches_Services!C55=1,1,0)","v":0},null,{"$f":"IF(Fiches_Services!E55=1,1,0)","v":0},null,{"$f":"IF(Fiches_Services!G55=1,1,0)","v":0},null,{"$f":"IF(Fiches_Services!I55=1,1,0)","v":0},null,{"$f":"IF(Fiches_Services!K55=1,1,0)","v":0},null,{"$f":"IF(Fiches_Services!M55=1,1,0)","v":0},null,{"$f":"IF(Fiches_Services!O55=1,1,0)","v":0},null,{"$f":"IF(Fiches_Services!Q55=1,1,0)","v":0},null,{"$f":"IF(Fiches_Services!S55=1,1,0)","v":0},null,{"$f":"IF(Fiches_Services!U55=1,1,0)","v":0}]
[]
[20,null,{"$f":"IF(Fiches_Services!C57=1,1,0)","v":0},null,{"$f":"IF(Fiches_Services!E57=1,1,0)","v":0},null,{"$f":"IF(Fiches_Services!G57=1,1,0)","v":0},null,{"$f":"IF(Fiches_Services!I57=1,1,0)","v":0},null,{"$f":"IF(Fiches_Services!K57=1,1,0)","v":0},null,{"$f":"IF(Fiches_Services!M57=1,1,0)","v":0},null,{"$f":"IF(Fiches_Services!O57=1,1,0)","v":0},null,{"$f":"IF(Fiches_Services!Q57=1,1,0)","v":0},null,{"$f":"IF(Fiches_Services!S57=1,1,0)","v":0},null,{"$f":"IF(Fiches_Services!U57=1,1,0)","v":0}]
[]
[21,null,{"$f":"IF(Fiches_Services!C59=1,1,0)","v":0},null,{"$f":"IF(Fiches_Services!E59=1,1,0)","v":0},null,{"$f":"IF(Fiches_Services!G59=1,1,0)","v":0},null,{"$f":"IF(Fiches_Services!I59=1,1,0)","v":0},null,{"$f":"IF(Fiches_Services!K59=1,1,0)","v":0},null,{"$f":"IF(Fiches_Services!M59=1,1,0)","v":0},null,{"$f":"IF(Fiches_Services!O59=1,1,0)","v":0},null,{"$f":"IF(Fiches_Services!Q59=1,1,0)","v":0},null,{"$f":"IF(Fiches_Services!S59=1,1,0)","v":0},null,{"$f":"IF(Fiches_Services!U59=1,1,0)","v":0}]
[]
[22,null,{"$f":"IF(Fiches_Services!C61=1,1,0)","v":0},null,{"$f":"IF(Fiches_Services!E61=1,1,0)","v":0},null,{"$f":"IF(Fiches_Services!G61=1,1,0)","v":0},null,{"$f":"IF(Fiches_Services!I61=1,1,0)","v":0},null,{"$f":"IF(Fiches_Services!K61=1,1,0)","v":0},null,{"$f":"IF(Fiches_Services!M61=1,1,0)","v":0},null,{"$f":"IF(Fiches_Services!O61=1,1,0)","v":0},null,{"$f":"IF(Fiches_Services!Q61=1,1,0)","v":0},null,{"$f":"IF(Fiches_Services!S61=1,1,0)","v":0},null,{"$f":"IF(Fiches_Services!U61=1,1,0)","v":0}]
[]
[23,null,{"$f":"IF(Fiches_Services!C63=1,1,0)","v":0},null,{"$f":"IF(Fiches_Services!E63=1,1,0)","v":0},null,{"$f":"IF(Fiches_Services!G63=1,1,0)","v":0},null,{"$f":"IF(Fiches_Services!I63=1,1,0)","v":0},null,{"$f":"IF(Fiches_Services!K63=1,1,0)","v":0},null,{"$f":"IF(Fiches_Services!M63=1,1,0)","v":0},null,{"$f":"IF(Fiches_Services!O63=1,1,0)","v":0},null,{"$f":"IF(Fiches_Services!Q63=1,1,0)","v":0},null,{"$f":"IF(Fiches_Services!S63=1,1,0)","v":0},null,{"$f":"IF(Fiches_Services!U63=1,1,0)","v":0}]
[]
["tot bio nett et",{"$f":"SUM(C65:CC65)","v":0},{"$f":"SUM(C53:C63,C15:C18)","v":0},null,{"$f":"SUM(E53:E63,E15:E18)","v":0},null,{"$f":"SUM(G53:G63,G15:G18)","v":0},null,{"$f":"SUM(I53:I63,I15:I18)","v":0},null,{"$f":"SUM(K53:K63,K15:K18)","v":0},null,{"$f":"SUM(M53:M63,M15:M18)","v":0},null,{"$f":"SUM(O53:O63,O15:O18)","v":0},null,{"$f":"SUM(Q53:Q63,Q15:Q18)","v":0},null,{"$f":"SUM(S53:S63,S15:S18)","v":0},null,{"$f":"SUM(U53:U63,U15:U18)","v":0}]
[]
["tot tot",{"$f":"SUM(C67:CC67)","v":0},{"$f":"C65+C51+C35","v":0},null,{"$f":"E65+E51+E35","v":0},null,{"$f":"G65+G51+G35","v":0},null,{"$f":"I65+I51+I35","v":0},null,{"$f":"K65+K51+K35","v":0},null,{"$f":"M65+M51+M35","v":0},null,{"$f":"O65+O51+O35","v":0},null,{"$f":"Q65+Q51+Q35","v":0},null,{"$f":"S65+S51+S35","v":0},null,{"$f":"U65+U51+U35","v":0}]
[]
[]
[]
[1,{"$f":"Score1!B52+Score2!B52+Score3!B52+Score4!B52+Score5!B52+Score6!B52+Score7!B52+Score8!B52+Score9!B52+Score10!B52","v":0}]
[null,{"$f":"Score1!B53+Score2!B53+Score3!B53+Score4!B53+Score5!B53+Score6!B53+Score7!B53+Score8!B53+Score9!B53+Score10!B53","v":0}]
[2,{"$f":"Score1!B54+Score2!B54+Score3!B54+Score4!B54+Score5!B54+Score6!B54+Score7!B54+Score8!B54+Score9!B54+Score10!B54","v":0}]
[null,{"$f":"Score1!B55+Score2!B55+Score3!B55+Score4!B55+Score5!B55+Score6!B55+Score7!B55+Score8!B55+Score9!B55+Score10!B55","v":0}]
[3,{"$f":"Score1!B56+Score2!B56+Score3!B56+Score4!B56+Score5!B56+Score6!B56+Score7!B56+Score8!B56+Score9!B56+Score10!B56","v":0}]
[null,{"$f":"Score1!B57+Score2!B57+Score3!B57+Score4!B57+Score5!B57+Score6!B57+Score7!B57+Score8!B57+Score9!B57+Score10!B57","v":0}]
[4,{"$f":"Score1!B58+Score2!B58+Score3!B58+Score4!B58+Score5!B58+Score6!B58+Score7!B58+Score8!B58+Score9!B58+Score10!B58","v":0}]
[null,{"$f":"Score1!B59+Score2!B59+Score3!B59+Score4!B59+Score5!B59+Score6!B59+Score7!B59+Score8!B59+Score9!B59+Score10!B59","v":0}]
[5,{"$f":"Score1!B60+Score2!B60+Score3!B60+Score4!B60+Score5!B60+Score6!B60+Score7!B60+Score8!B60+Score9!B60+Score10!B60","v":0}]
[null,{"$f":"Score1!B61+Score2!B61+Score3!B61+Score4!B61+Score5!B61+Score6!B61+Score7!B61+Score8!B61+Score9!B61+Score10!B61","v":0}]
[6,{"$f":"Score1!B62+Score2!B62+Score3!B62+Score4!B62+Score5!B62+Score6!B62+Score7!B62+Score8!B62+Score9!B62+Score10!B62","v":0}]
[null,{"$f":"Score1!B63+Score2!B63+Score3!B63+Score4!B63+Score5!B63+Score6!B63+Score7!B63+Score8!B63+Score9!B63+Score10!B63","v":0}]
[7,{"$f":"Score1!B64+Score2!B64+Score3!B64+Score4!B64+Score5!B64+Score6!B64+Score7!B64+Score8!B64+Score9!B64+Score10!B64","v":0}]
[null,{"$f":"Score1!B65+Score2!B65+Score3!B65+Score4!B65+Score5!B65+Score6!B65+Score7!B65+Score8!B65+Score9!B65+Score10!B65","v":0}]
[8,{"$f":"Score1!B66+Score2!B66+Score3!B66+Score4!B66+Score5!B66+Score6!B66+Score7!B66+Score8!B66+Score9!B66+Score10!B66","v":0}]
[null,{"$f":"Score1!B67+Score2!B67+Score3!B67+Score4!B67+Score5!B67+Score6!B67+Score7!B67+Score8!B67+Score9!B67+Score10!B67","v":0}]
[9,{"$f":"Score1!B68+Score2!B68+Score3!B68+Score4!B68+Score5!B68+Score6!B68+Score7!B68+Score8!B68+Score9!B68+Score10!B68","v":0}]
[null,{"$f":"Score1!B69+Score2!B69+Score3!B69+Score4!B69+Score5!B69+Score6!B69+Score7!B69+Score8!B69+Score9!B69+Score10!B69","v":0}]
[10,{"$f":"Score1!B70+Score2!B70+Score3!B70+Score4!B70+Score5!B70+Score6!B70+Score7!B70+Score8!B70+Score9!B70+Score10!B70","v":0}]
[null,{"$f":"Score1!B71+Score2!B71+Score3!B71+Score4!B71+Score5!B71+Score6!B71+Score7!B71+Score8!B71+Score9!B71+Score10!B71","v":0}]
[]
["linge sale"]
["procédure",{"$f":"SUM(C93:CC93)","v":0},{"$f":"C15+(2*C17)","v":0},null,{"$f":"E15+(2*E17)","v":0},null,{"$f":"G15+(2*G17)","v":0},null,{"$f":"I15+(2*I17)","v":0},null,{"$f":"K15+(2*K17)","v":0},null,{"$f":"M15+(2*M17)","v":0},null,{"$f":"O15+(2*O17)","v":0},null,{"$f":"Q15+(2*Q17)","v":0},null,{"$f":"S15+(2*S17)","v":0},null,{"$f":"U15+(2*U17)","v":0},null,{"$f":"W15+(2*W17)","v":0},null,{"$f":"Y15+(2*Y17)","v":0},null,{"$f":"AA15+(2*AA17)","v":0},null,{"$f":"AC15+(2*AC17)","v":0},null,{"$f":"AE15+(2*AE17)","v":0},null,{"$f":"AG15+(2*AG17)","v":0},null,{"$f":"AI15+(2*AI17)","v":0},null,{"$f":"AK15+(2*AK17)","v":0},null,{"$f":"AM15+(2*AM17)","v":0},null,{"$f":"AO15+(2*AO17)","v":0},null,{"$f":"AQ15+(2*AQ17)","v":0},null,{"$f":"AS15+(2*AS17)","v":0},null,{"$f":"AU15+(2*AU17)","v":0},null,{"$f":"AW15+(2*AW17)","v":0},null,{"$f":"AY15+(2*AY17)","v":0},null,{"$f":"BA15+(2*BA17)","v":0},null,{"$f":"BC15+(2*BC17)","v":0},null,{"$f":"BE15+(2*BE17)","v":0},null,{"$f":"BG15+(2*BG17)","v":0},null,{"$f":"BI15+(2*BI17)","v":0},null,{"$f":"BK15+(2*BK17)","v":0},null,{"$f":"BM15+(2*BM17)","v":0},null,{"$f":"BO15+(2*BO17)","v":0},null,{"$f":"BQ15+(2*BQ17)","v":0},null,{"$f":"BS15+(2*BS17)","v":0},null,{"$f":"BU15+(2*BU17)","v":0},null,{"$f":"BW15+(2*BW17)","v":0},null,{"$f":"BY15+(2*BY17)","v":0},null,{"$f":"CA15+(2*CA17)","v":0},null,{"$f":"CC15+(2*CC17)","v":0}]
["chariot coll",0,{"$f":"(2*C19)+(2*C21)","v":0},null,{"$f":"(2*E19)+(2*E21)","v":0},null,{"$f":"(2*G19)+(2*G21)","v":0},null,{"$f":"(2*I19)+(2*I21)","v":0},null,{"$f":"(2*K19)+(2*K21)","v":0},null,{"$f":"(2*M19)+(2*M21)","v":0},null,{"$f":"(2*O19)+(2*O21)","v":0},null,{"$f":"(2*Q19)+(2*Q21)","v":0},null,{"$f":"(2*S19)+(2*S21)","v":0},null,{"$f":"(2*U19)+(2*U21)","v":0},null,{"$f":"(2*W19)+(2*W21)","v":0},null,{"$f":"(2*Y19)+(2*Y21)","v":0},null,{"$f":"(2*AA19)+(2*AA21)","v":0},null,{"$f":"(2*AC19)+(2*AC21)","v":0},null,{"$f":"(2*AE19)+(2*AE21)","v":0},null,{"$f":"(2*AG19)+(2*AG21)","v":0},null,{"$f":"(2*AI19)+(2*AI21)","v":0},null,{"$f":"(2*AK19)+(2*AK21)","v":0},null,{"$f":"(2*AM19)+(2*AM21)","v":0},null,{"$f":"(2*AO19)+(2*AO21)","v":0},null,{"$f":"(2*AQ19)+(2*AQ21)","v":0},null,{"$f":"(2*AS19)+(2*AS21)","v":0},null,{"$f":"(2*AU19)+(2*AU21)","v":0},null,{"$f":"(2*AW19)+(2*AW21)","v":0},null,{"$f":"(2*AY19)+(2*AY21)","v":0},null,{"$f":"(2*BA19)+(2*BA21)","v":0},null,{"$f":"(2*BC19)+(2*BC21)","v":0},null,{"$f":"(2*BE19)+(2*BE21)","v":0},null,{"$f":"(2*BG19)+(2*BG21)","v":0},null,{"$f":"(2*BI19)+(2*BI21)","v":0},null,{"$f":"(2*BK19)+(2*BK21)","v":0},null,{"$f":"(2*BM19)+(2*BM21)","v":0},null,{"$f":"(2*BO19)+(2*BO21)","v":0},null,{"$f":"(2*BQ19)+(2*BQ21)","v":0},null,{"$f":"(2*BS19)+(2*BS21)","v":0},null,{"$f":"(2*BU19)+(2*BU21)","v":0},null,{"$f":"(2*BW19)+(2*BW21)","v":0},null,{"$f":"(2*BY19)+(2*BY21)","v":0},null,{"$f":"(2*CA19)+(2*CA21)","v":0},null,{"$f":"(2*CC19)+(2*CC21)","v":0}]
["sac de linge",0,{"$f":"(C23+C25)","v":0},null,{"$f":"(E23+E25)","v":0},null,{"$f":"(G23+G25)","v":0},null,{"$f":"(I23+I25)","v":0},null,{"$f":"(K23+K25)","v":0},null,{"$f":"(M23+M25)","v":0},null,{"$f":"(O23+O25)","v":0},null,{"$f":"(Q23+Q25)","v":0},null,{"$f":"(S23+S25)","v":0},null,{"$f":"(U23+U25)","v":0},null,{"$f":"(W23+W25)","v":0},null,{"$f":"(Y23+Y25)","v":0},null,{"$f":"(AA23+AA25)","v":0},null,{"$f":"(AC23+AC25)","v":0},null,{"$f":"(AE23+AE25)","v":0},null,{"$f":"(AG23+AG25)","v":0},null,{"$f":"(AI23+AI25)","v":0},null,{"$f":"(AK23+AK25)","v":0},null,{"$f":"(AM23+AM25)","v":0},null,{"$f":"(AO23+AO25)","v":0},null,{"$f":"(AQ23+AQ25)","v":0},null,{"$f":"(AS23+AS25)","v":0},null,{"$f":"(AU23+AU25)","v":0},null,{"$f":"(AW23+AW25)","v":0},null,{"$f":"(AY23+AY25)","v":0},null,{"$f":"(BA23+BA25)","v":0},null,{"$f":"(BC23+BC25)","v":0},null,{"$f":"(BE23+BE25)","v":0},null,{"$f":"(BG23+BG25)","v":0},null,{"$f":"(BI23+BI25)","v":0},null,{"$f":"(BK23+BK25)","v":0},null,{"$f":"(BM23+BM25)","v":0},null,{"$f":"(BO23+BO25)","v":0},null,{"$f":"(BQ23+BQ25)","v":0},null,{"$f":"(BS23+BS25)","v":0},null,{"$f":"(BU23+BU25)","v":0},null,{"$f":"(BW23+BW25)","v":0},null,{"$f":"(BY23+BY25)","v":0},null,{"$f":"(CA23+CA25)","v":0},null,{"$f":"(CC23+CC25)","v":0}]
["local de stoc",0,{"$f":"(2*C27)+C29","v":0},null,{"$f":"(2*E27)+E29","v":0},null,{"$f":"(2*G27)+G29","v":0},null,{"$f":"(2*I27)+I29","v":0},null,{"$f":"(2*K27)+K29","v":0},null,{"$f":"(2*M27)+M29","v":0},null,{"$f":"(2*O27)+O29","v":0},null,{"$f":"(2*Q27)+Q29","v":0},null,{"$f":"(2*S27)+S29","v":0},null,{"$f":"(2*U27)+U29","v":0},null,{"$f":"(2*W27)+W29","v":0},null,{"$f":"(2*Y27)+Y29","v":0},null,{"$f":"(2*AA27)+AA29","v":0},null,{"$f":"(2*AC27)+AC29","v":0},null,{"$f":"(2*AE27)+AE29","v":0},null,{"$f":"(2*AG27)+AG29","v":0},null,{"$f":"(2*AI27)+AI29","v":0},null,{"$f":"(2*AK27)+AK29","v":0},null,{"$f":"(2*AM27)+AM29","v":0},null,{"$f":"(2*AO27)+AO29","v":0},null,{"$f":"(2*AQ27)+AQ29","v":0},null,{"$f":"(2*AS27)+AS29","v":0},null,{"$f":"(2*AU27)+AU29","v":0},null,{"$f":"(2*AW27)+AW29","v":0},null,{"$f":"(2*AY27)+AY29","v":0},null,{"$f":"(2*BA27)+BA29","v":0},null,{"$f":"(2*BC27)+BC29","v":0},null,{"$f":"(2*BE27)+BE29","v":0},null,{"$f":"(2*BG27)+BG29","v":0},null,{"$f":"(2*BI27)+BI29","v":0},null,{"$f":"(2*BK27)+BK29","v":0},null,{"$f":"(2*BM27)+BM29","v":0},null,{"$f":"(2*BO27)+BO29","v":0},null,{"$f":"(2*BQ27)+BQ29","v":0},null,{"$f":"(2*BS27)+BS29","v":0},null,{"$f":"(2*BU27)+BU29","v":0},null,{"$f":"(2*BW27)+BW29","v":0},null,{"$f":"(2*BY27)+BY29","v":0},null,{"$f":"(2*CA27)+CA29","v":0},null,{"$f":"(2*CC27)+CC29","v":0}]
["transport",0,{"$f":"(2*C31)+(2*C33)","v":0},null,{"$f":"(2*E31)+(2*E33)","v":0},null,{"$f":"(2*G31)+(2*G33)","v":0},null,{"$f":"(2*I31)+(2*I33)","v":0},null,{"$f":"(2*K31)+(2*K33)","v":0},null,{"$f":"(2*M31)+(2*M33)","v":0},null,{"$f":"(2*O31)+(2*O33)","v":0},null,{"$f":"(2*Q31)+(2*Q33)","v":0},null,{"$f":"(2*S31)+(2*S33)","v":0},null,{"$f":"(2*U31)+(2*U33)","v":0},null,{"$f":"(2*W31)+(2*W33)","v":0},null,{"$f":"(2*Y31)+(2*Y33)","v":0},null,{"$f":"(2*AA31)+(2*AA33)","v":0},null,{"$f":"(2*AC31)+(2*AC33)","v":0},null,{"$f":"(2*AE31)+(2*AE33)","v":0},null,{"$f":"(2*AG31)+(2*AG33)","v":0},null,{"$f":"(2*AI31)+(2*AI33)","v":0},null,{"$f":"(2*AK31)+(2*AK33)","v":0},null,{"$f":"(2*AM31)+(2*AM33)","v":0},null,{"$f":"(2*AO31)+(2*AO33)","v":0},null,{"$f":"(2*AQ31)+(2*AQ33)","v":0},null,{"$f":"(2*AS31)+(2*AS33)","v":0},null,{"$f":"(2*AU31)+(2*AU33)","v":0},null,{"$f":"(2*AW31)+(2*AW33)","v":0},null,{"$f":"(2*AY31)+(2*AY33)","v":0},null,{"$f":"(2*BA31)+(2*BA33)","v":0},null,{"$f":"(2*BC31)+(2*BC33)","v":0},null,{"$f":"(2*BE31)+(2*BE33)","v":0},null,{"$f":"(2*BG31)+(2*BG33)","v":0},null,{"$f":"(2*BI31)+(2*BI33)","v":0},null,{"$f":"(2*BK31)+(2*BK33)","v":0},null,{"$f":"(2*BM31)+(2*BM33)","v":0},null,{"$f":"(2*BO31)+(2*BO33)","v":0},null,{"$f":"(2*BQ31)+(2*BQ33)","v":0},null,{"$f":"(2*BS31)+(2*BS33)","v":0},null,{"$f":"(2*BU31)+(2*BU33)","v":0},null,{"$f":"(2*BW31)+(2*BW33)","v":0},null,{"$f":"(2*BY31)+(2*BY33)","v":0},null,{"$f":"(2*CA31)+(2*CA33)","v":0},null,{"$f":"(2*CC31)+(2*CC33)","v":0}]
["score linge s",0,{"$f":"SUM(C93:C97)","v":0},null,{"$f":"SUM(E93:E97)","v":0},null,{"$f":"SUM(G93:G97)","v":0},null,{"$f":"SUM(I93:I97)","v":0},null,{"$f":"SUM(K93:K97)","v":0},null,{"$f":"SUM(M93:M97)","v":0},null,{"$f":"SUM(O93:O97)","v":0},null,{"$f":"SUM(Q93:Q97)","v":0},null,{"$f":"SUM(S93:S97)","v":0},null,{"$f":"SUM(U93:U97)","v":0},null,{"$f":"SUM(W93:W97)","v":0},null,{"$f":"SUM(Y93:Y97)","v":0},null,{"$f":"SUM(AA93:AA97)","v":0},null,{"$f":"SUM(AC93:AC97)","v":0},null,{"$f":"SUM(AE93:AE97)","v":0},null,{"$f":"SUM(AG93:AG97)","v":0},null,{"$f":"SUM(AI93:AI97)","v":0},null,{"$f":"SUM(AK93:AK97)","v":0},null,{"$f":"SUM(AM93:AM97)","v":0},null,{"$f":"SUM(AO93:AO97)","v":0},null,{"$f":"SUM(AQ93:AQ97)","v":0},null,{"$f":"SUM(AS93:AS97)","v":0},null,{"$f":"SUM(AU93:AU97)","v":0},null,{"$f":"SUM(AW93:AW97)","v":0},null,{"$f":"SUM(AY93:AY97)","v":0},null,{"$f":"SUM(BA93:BA97)","v":0},null,{"$f":"SUM(BC93:BC97)","v":0},null,{"$f":"SUM(BE93:BE97)","v":0},null,{"$f":"SUM(BG93:BG97)","v":0},null,{"$f":"SUM(BI93:BI97)","v":0},null,{"$f":"SUM(BK93:BK97)","v":0},null,{"$f":"SUM(BM93:BM97)","v":0},null,{"$f":"SUM(BO93:BO97)","v":0},null,{"$f":"SUM(BQ93:BQ97)","v":0},null,{"$f":"SUM(BS93:BS97)","v":0},null,{"$f":"SUM(BU93:BU97)","v":0},null,{"$f":"SUM(BW93:BW97)","v":0},null,{"$f":"SUM(BY93:BY97)","v":0},null,{"$f":"SUM(CA93:CA97)","v":0},null,{"$f":"SUM(CC93:CC97)","v":0}]
[]
["linge propre"]
["livraison",{"$f":"SUM(C101:CC101)","v":0},{"$f":"(2*C37)","v":0},null,{"$f":"(2*E37)","v":0},null,{"$f":"(2*G37)","v":0},null,{"$f":"(2*I37)","v":0},null,{"$f":"(2*K37)","v":0},null,{"$f":"(2*M37)","v":0},null,{"$f":"(2*O37)","v":0},null,{"$f":"(2*Q37)","v":0},null,{"$f":"(2*S37)","v":0},null,{"$f":"(2*U37)","v":0},null,{"$f":"(2*W37)","v":0},null,{"$f":"(2*Y37)","v":0},null,{"$f":"(2*AA37)","v":0},null,{"$f":"(2*AC37)","v":0},null,{"$f":"(2*AE37)","v":0},null,{"$f":"(2*AG37)","v":0},null,{"$f":"(2*AI37)","v":0},null,{"$f":"(2*AK37)","v":0},null,{"$f":"(2*AM37)","v":0},null,{"$f":"(2*AO37)","v":0},null,{"$f":"(2*AQ37)","v":0},null,{"$f":"(2*AS37)","v":0},null,{"$f":"(2*AU37)","v":0},null,{"$f":"(2*AW37)","v":0},null,{"$f":"(2*AY37)","v":0},null,{"$f":"(2*BA37)","v":0},null,{"$f":"(2*BC37)","v":0},null,{"$f":"(2*BE37)","v":0},null,{"$f":"(2*BG37)","v":0},null,{"$f":"(2*BI37)","v":0},null,{"$f":"(2*BK37)","v":0},null,{"$f":"(2*BM37)","v":0},null,{"$f":"(2*BO37)","v":0},null,{"$f":"(2*BQ37)","v":0},null,{"$f":"(2*BS37)","v":0},null,{"$f":"(2*BU37)","v":0},null,{"$f":"(2*BW37)","v":0},null,{"$f":"(2*BY37)","v":0},null,{"$f":"(2*CA37)","v":0},null,{"$f":"(2*CC37)","v":0}]
["stockage",{"$f":"SUM(C102:CC102)","v":0},{"$f":"(2*C39)+(2*C41)+C43+ (2*C49)","v":0},null,{"$f":"(2*E39)+(2*E41)+E43+ (2*E49)","v":0},null,{"$f":"(2*G39)+(2*G41)+G43+ (2*G49)","v":0},null,{"$f":"(2*I39)+(2*I41)+I43+ (2*I49)","v":0},null,{"$f":"(2*K39)+(2*K41)+K43+ (2*K49)","v":0},null,{"$f":"(2*M39)+(2*M41)+M43+ (2*M49)","v":0},null,{"$f":"(2*O39)+(2*O41)+O43+ (2*O49)","v":0},null,{"$f":"(2*Q39)+(2*Q41)+Q43+ (2*Q49)","v":0},null,{"$f":"(2*S39)+(2*S41)+S43+ (2*S49)","v":0},null,{"$f":"(2*U39)+(2*U41)+U43+ (2*U49)","v":0},null,{"$f":"(2*W39)+(2*W41)+W43+ (2*W49)","v":0},null,{"$f":"(2*Y39)+(2*Y41)+Y43+ (2*Y49)","v":0},null,{"$f":"(2*AA39)+(2*AA41)+AA43+ (2*AA49)","v":0},null,{"$f":"(2*AC39)+(2*AC41)+AC43+ (2*AC49)","v":0},null,{"$f":"(2*AE39)+(2*AE41)+AE43+ (2*AE49)","v":0},null,{"$f":"(2*AG39)+(2*AG41)+AG43+ (2*AG49)","v":0},null,{"$f":"(2*AI39)+(2*AI41)+AI43+ (2*AI49)","v":0},null,{"$f":"(2*AK39)+(2*AK41)+AK43+ (2*AK49)","v":0},null,{"$f":"(2*AM39)+(2*AM41)+AM43+ (2*AM49)","v":0},null,{"$f":"(2*AO39)+(2*AO41)+AO43+ (2*AO49)","v":0},null,{"$f":"(2*AQ39)+(2*AQ41)+AQ43+ (2*AQ49)","v":0},null,{"$f":"(2*AS39)+(2*AS41)+AS43+ (2*AS49)","v":0},null,{"$f":"(2*AU39)+(2*AU41)+AU43+ (2*AU49)","v":0},null,{"$f":"(2*AW39)+(2*AW41)+AW43+ (2*AW49)","v":0},null,{"$f":"(2*AY39)+(2*AY41)+AY43+ (2*AY49)","v":0},null,{"$f":"(2*BA39)+(2*BA41)+BA43+ (2*BA49)","v":0},null,{"$f":"(2*BC39)+(2*BC41)+BC43+ (2*BC49)","v":0},null,{"$f":"(2*BE39)+(2*BE41)+BE43+ (2*BE49)","v":0},null,{"$f":"(2*BG39)+(2*BG41)+BG43+ (2*BG49)","v":0},null,{"$f":"(2*BI39)+(2*BI41)+BI43+ (2*BI49)","v":0},null,{"$f":"(2*BK39)+(2*BK41)+BK43+ (2*BK49)","v":0},null,{"$f":"(2*BM39)+(2*BM41)+BM43+ (2*BM49)","v":0},null,{"$f":"(2*BO39)+(2*BO41)+BO43+ (2*BO49)","v":0},null,{"$f":"(2*BQ39)+(2*BQ41)+BQ43+ (2*BQ49)","v":0},null,{"$f":"(2*BS39)+(2*BS41)+BS43+ (2*BS49)","v":0},null,{"$f":"(2*BU39)+(2*BU41)+BU43+ (2*BU49)","v":0},null,{"$f":"(2*BW39)+(2*BW41)+BW43+ (2*BW49)","v":0},null,{"$f":"(2*BY39)+(2*BY41)+BY43+ (2*BY49)","v":0},null,{"$f":"(2*CA39)+(2*CA41)+CA43+ (2*CA49)","v":0},null,{"$f":"(2*CC39)+(2*CC41)+CC43+ (2*CC49)","v":0}]
["chariot relais",{"$f":"SUM(C103:CC103)","v":0},{"$f":"(2*C47)+C45","v":0},null,{"$f":"(2*E47)+E45","v":0},null,{"$f":"(2*G47)+G45","v":0},null,{"$f":"(2*I47)+I45","v":0},null,{"$f":"(2*K47)+K45","v":0},null,{"$f":"(2*M47)+M45","v":0},null,{"$f":"(2*O47)+O45","v":0},null,{"$f":"(2*Q47)+Q45","v":0},null,{"$f":"(2*S47)+S45","v":0},null,{"$f":"(2*U47)+U45","v":0},null,{"$f":"(2*W47)+W45","v":0},null,{"$f":"(2*Y47)+Y45","v":0},null,{"$f":"(2*AA47)+AA45","v":0},null,{"$f":"(2*AC47)+AC45","v":0},null,{"$f":"(2*AE47)+AE45","v":0},null,{"$f":"(2*AG47)+AG45","v":0},null,{"$f":"(2*AI47)+AI45","v":0},null,{"$f":"(2*AK47)+AK45","v":0},null,{"$f":"(2*AM47)+AM45","v":0},null,{"$f":"(2*AO47)+AO45","v":0},null,{"$f":"(2*AQ47)+AQ45","v":0},null,{"$f":"(2*AS47)+AS45","v":0},null,{"$f":"(2*AU47)+AU45","v":0},null,{"$f":"(2*AW47)+AW45","v":0},null,{"$f":"(2*AY47)+AY45","v":0},null,{"$f":"(2*BA47)+BA45","v":0},null,{"$f":"(2*BC47)+BC45","v":0},null,{"$f":"(2*BE47)+BE45","v":0},null,{"$f":"(2*BG47)+BG45","v":0},null,{"$f":"(2*BI47)+BI45","v":0},null,{"$f":"(2*BK47)+BK45","v":0},null,{"$f":"(2*BM47)+BM45","v":0},null,{"$f":"(2*BO47)+BO45","v":0},null,{"$f":"(2*BQ47)+BQ45","v":0},null,{"$f":"(2*BS47)+BS45","v":0},null,{"$f":"(2*BU47)+BU45","v":0},null,{"$f":"(2*BW47)+BW45","v":0},null,{"$f":"(2*BY47)+BY45","v":0},null,{"$f":"(2*CA47)+CA45","v":0},null,{"$f":"(2*CC47)+CC45","v":0}]
["score linge p",{"$f":"SUM(C104:CC104)","v":0},{"$f":"SUM(C101:C103)","v":0},null,{"$f":"SUM(E101:E103)","v":0},null,{"$f":"SUM(G101:G103)","v":0},null,{"$f":"SUM(I101:I103)","v":0},null,{"$f":"SUM(K101:K103)","v":0},null,{"$f":"SUM(M101:M103)","v":0},null,{"$f":"SUM(O101:O103)","v":0},null,{"$f":"SUM(Q101:Q103)","v":0},null,{"$f":"SUM(S101:S103)","v":0},null,{"$f":"SUM(U101:U103)","v":0},null,{"$f":"SUM(W101:W103)","v":0},null,{"$f":"SUM(Y101:Y103)","v":0},null,{"$f":"SUM(AA101:AA103)","v":0},null,{"$f":"SUM(AC101:AC103)","v":0},null,{"$f":"SUM(AE101:AE103)","v":0},null,{"$f":"SUM(AG101:AG103)","v":0},null,{"$f":"SUM(AI101:AI103)","v":0},null,{"$f":"SUM(AK101:AK103)","v":0},null,{"$f":"SUM(AM101:AM103)","v":0},null,{"$f":"SUM(AO101:AO103)","v":0},null,{"$f":"SUM(AQ101:AQ103)","v":0},null,{"$f":"SUM(AS101:AS103)","v":0},null,{"$f":"SUM(AU101:AU103)","v":0},null,{"$f":"SUM(AW101:AW103)","v":0},null,{"$f":"SUM(AY101:AY103)","v":0},null,{"$f":"SUM(BA101:BA103)","v":0},null,{"$f":"SUM(BC101:BC103)","v":0},null,{"$f":"SUM(BE101:BE103)","v":0},null,{"$f":"SUM(BG101:BG103)","v":0},null,{"$f":"SUM(BI101:BI103)","v":0},null,{"$f":"SUM(BK101:BK103)","v":0},null,{"$f":"SUM(BM101:BM103)","v":0},null,{"$f":"SUM(BO101:BO103)","v":0},null,{"$f":"SUM(BQ101:BQ103)","v":0},null,{"$f":"SUM(BS101:BS103)","v":0},null,{"$f":"SUM(BU101:BU103)","v":0},null,{"$f":"SUM(BW101:BW103)","v":0},null,{"$f":"SUM(BY101:BY103)","v":0},null,{"$f":"SUM(CA101:CA103)","v":0},null,{"$f":"SUM(CC101:CC103)","v":0}]
[]
["bio et traç"]
["procédure",{"$f":"SUM(C107:CC107)","v":0},{"$f":"(2*C53)+(2*C57)+(2*C61)","v":0},null,{"$f":"(2*E53)+(2*E57)+(2*E61)","v":0},null,{"$f":"(2*G53)+(2*G57)+(2*G61)","v":0},null,{"$f":"(2*I53)+(2*I57)+(2*I61)","v":0},null,{"$f":"(2*K53)+(2*K57)+(2*K61)","v":0},null,{"$f":"(2*M53)+(2*M57)+(2*M61)","v":0},null,{"$f":"(2*O53)+(2*O57)+(2*O61)","v":0},null,{"$f":"(2*Q53)+(2*Q57)+(2*Q61)","v":0},null,{"$f":"(2*S53)+(2*S57)+(2*S61)","v":0},null,{"$f":"(2*U53)+(2*U57)+(2*U61)","v":0},null,{"$f":"(2*W53)+(2*W57)+(2*W61)","v":0},null,{"$f":"(2*Y53)+(2*Y57)+(2*Y61)","v":0},null,{"$f":"(2*AA53)+(2*AA57)+(2*AA61)","v":0},null,{"$f":"(2*AC53)+(2*AC57)+(2*AC61)","v":0},null,{"$f":"(2*AE53)+(2*AE57)+(2*AE61)","v":0},null,{"$f":"(2*AG53)+(2*AG57)+(2*AG61)","v":0},null,{"$f":"(2*AI53)+(2*AI57)+(2*AI61)","v":0},null,{"$f":"(2*AK53)+(2*AK57)+(2*AK61)","v":0},null,{"$f":"(2*AM53)+(2*AM57)+(2*AM61)","v":0},null,{"$f":"(2*AO53)+(2*AO57)+(2*AO61)","v":0},null,{"$f":"(2*AQ53)+(2*AQ57)+(2*AQ61)","v":0},null,{"$f":"(2*AS53)+(2*AS57)+(2*AS61)","v":0},null,{"$f":"(2*AU53)+(2*AU57)+(2*AU61)","v":0},null,{"$f":"(2*AW53)+(2*AW57)+(2*AW61)","v":0},null,{"$f":"(2*AY53)+(2*AY57)+(2*AY61)","v":0},null,{"$f":"(2*BA53)+(2*BA57)+(2*BA61)","v":0},null,{"$f":"(2*BC53)+(2*BC57)+(2*BC61)","v":0},null,{"$f":"(2*BE53)+(2*BE57)+(2*BE61)","v":0},null,{"$f":"(2*BG53)+(2*BG57)+(2*BG61)","v":0},null,{"$f":"(2*BI53)+(2*BI57)+(2*BI61)","v":0},null,{"$f":"(2*BK53)+(2*BK57)+(2*BK61)","v":0},null,{"$f":"(2*BM53)+(2*BM57)+(2*BM61)","v":0},null,{"$f":"(2*BO53)+(2*BO57)+(2*BO61)","v":0},null,{"$f":"(2*BQ53)+(2*BQ57)+(2*BQ61)","v":0},null,{"$f":"(2*BS53)+(2*BS57)+(2*BS61)","v":0},null,{"$f":"(2*BU53)+(2*BU57)+(2*BU61)","v":0},null,{"$f":"(2*BW53)+(2*BW57)+(2*BW61)","v":0},null,{"$f":"(2*BY53)+(2*BY57)+(2*BY61)","v":0},null,{"$f":"(2*CA53)+(2*CA57)+(2*CA61)","v":0},null,{"$f":"(2*CC53)+(2*CC57)+(2*CC61)","v":0}]
["traçabilité",{"$f":"SUM(C108:CC108)","v":0},{"$f":"(2*C55)+(2*C59)+(2*C63)","v":0},null,{"$f":"(2*E55)+(2*E59)+(2*E63)","v":0},null,{"$f":"(2*G55)+(2*G59)+(2*G63)","v":0},null,{"$f":"(2*I55)+(2*I59)+(2*I63)","v":0},null,{"$f":"(2*K55)+(2*K59)+(2*K63)","v":0},null,{"$f":"(2*M55)+(2*M59)+(2*M63)","v":0},null,{"$f":"(2*O55)+(2*O59)+(2*O63)","v":0},null,{"$f":"(2*Q55)+(2*Q59)+(2*Q63)","v":0},null,{"$f":"(2*S55)+(2*S59)+(2*S63)","v":0},null,{"$f":"(2*U55)+(2*U59)+(2*U63)","v":0},null,{"$f":"(2*W55)+(2*W59)+(2*W63)","v":0},null,{"$f":"(2*Y55)+(2*Y59)+(2*Y63)","v":0},null,{"$f":"(2*AA55)+(2*AA59)+(2*AA63)","v":0},null,{"$f":"(2*AC55)+(2*AC59)+(2*AC63)","v":0},null,{"$f":"(2*AE55)+(2*AE59)+(2*AE63)","v":0},null,{"$f":"(2*AG55)+(2*AG59)+(2*AG63)","v":0},null,{"$f":"(2*AI55)+(2*AI59)+(2*AI63)","v":0},null,{"$f":"(2*AK55)+(2*AK59)+(2*AK63)","v":0},null,{"$f":"(2*AM55)+(2*AM59)+(2*AM63)","v":0},null,{"$f":"(2*AO55)+(2*AO59)+(2*AO63)","v":0},null,{"$f":"(2*AQ55)+(2*AQ59)+(2*AQ63)","v":0},null,{"$f":"(2*AS55)+(2*AS59)+(2*AS63)","v":0},null,{"$f":"(2*AU55)+(2*AU59)+(2*AU63)","v":0},null,{"$f":"(2*AW55)+(2*AW59)+(2*AW63)","v":0},null,{"$f":"(2*AY55)+(2*AY59)+(2*AY63)","v":0},null,{"$f":"(2*BA55)+(2*BA59)+(2*BA63)","v":0},null,{"$f":"(2*BC55)+(2*BC59)+(2*BC63)","v":0},null,{"$f":"(2*BE55)+(2*BE59)+(2*BE63)","v":0},null,{"$f":"(2*BG55)+(2*BG59)+(2*BG63)","v":0},null,{"$f":"(2*BI55)+(2*BI59)+(2*BI63)","v":0},null,{"$f":"(2*BK55)+(2*BK59)+(2*BK63)","v":0},null,{"$f":"(2*BM55)+(2*BM59)+(2*BM63)","v":0},null,{"$f":"(2*BO55)+(2*BO59)+(2*BO63)","v":0},null,{"$f":"(2*BQ55)+(2*BQ59)+(2*BQ63)","v":0},null,{"$f":"(2*BS55)+(2*BS59)+(2*BS63)","v":0},null,{"$f":"(2*BU55)+(2*BU59)+(2*BU63)","v":0},null,{"$f":"(2*BW55)+(2*BW59)+(2*BW63)","v":0},null,{"$f":"(2*BY55)+(2*BY59)+(2*BY63)","v":0},null,{"$f":"(2*CA55)+(2*CA59)+(2*CA63)","v":0},null,{"$f":"(2*CC55)+(2*CC59)+(2*CC63)","v":0}]
["score b&t",{"$f":"SUM(C109:CC109)","v":0},{"$f":"SUM(C107:C108)","v":0},null,{"$f":"SUM(E107:E108)","v":0},null,{"$f":"SUM(G107:G108)","v":0},null,{"$f":"SUM(I107:I108)","v":0},null,{"$f":"SUM(K107:K108)","v":0},null,{"$f":"SUM(M107:M108)","v":0},null,{"$f":"SUM(O107:O108)","v":0},null,{"$f":"SUM(Q107:Q108)","v":0},null,{"$f":"SUM(S107:S108)","v":0},null,{"$f":"SUM(U107:U108)","v":0},null,{"$f":"SUM(W107:W108)","v":0},null,{"$f":"SUM(Y107:Y108)","v":0},null,{"$f":"SUM(AA107:AA108)","v":0},null,{"$f":"SUM(AC107:AC108)","v":0},null,{"$f":"SUM(AE107:AE108)","v":0},null,{"$f":"SUM(AG107:AG108)","v":0},null,{"$f":"SUM(AI107:AI108)","v":0},null,{"$f":"SUM(AK107:AK108)","v":0},null,{"$f":"SUM(AM107:AM108)","v":0},null,{"$f":"SUM(AO107:AO108)","v":0},null,{"$f":"SUM(AQ107:AQ108)","v":0},null,{"$f":"SUM(AS107:AS108)","v":0},null,{"$f":"SUM(AU107:AU108)","v":0},null,{"$f":"SUM(AW107:AW108)","v":0},null,{"$f":"SUM(AY107:AY108)","v":0},null,{"$f":"SUM(BA107:BA108)","v":0},null,{"$f":"SUM(BC107:BC108)","v":0},null,{"$f":"SUM(BE107:BE108)","v":0},null,{"$f":"SUM(BG107:BG108)","v":0},null,{"$f":"SUM(BI107:BI108)","v":0},null,{"$f":"SUM(BK107:BK108)","v":0},null,{"$f":"SUM(BM107:BM108)","v":0},null,{"$f":"SUM(BO107:BO108)","v":0},null,{"$f":"SUM(BQ107:BQ108)","v":0},null,{"$f":"SUM(BS107:BS108)","v":0},null,{"$f":"SUM(BU107:BU108)","v":0},null,{"$f":"SUM(BW107:BW108)","v":0},null,{"$f":"SUM(BY107:BY108)","v":0},null,{"$f":"SUM(CA107:CA108)","v":0},null,{"$f":"SUM(CC107:CC108)","v":0}]
[]
["tot score",{"$f":"B98+B104+B109","v":0}]
[]
["Linge sale"]
["Evacuation",{"$f":"Score1!B74+Score2!B74+Score3!B74+Score4!B74+Score5!B74+Score6!B74+Score7!B74+Score8!B74+Score9!B74+Score10!B74","v":0}]
["Protection",{"$f":"Score1!B75+Score2!B75+Score3!B75+Score4!B75+Score5!B75+Score6!B75+Score7!B75+Score8!B75+Score9!B75+Score10!B75","v":0}]
["Transport",{"$f":"Score1!B76+Score2!B76+Score3!B76+Score4!B76+Score5!B76+Score6!B76+Score7!B76+Score8!B76+Score9!B76+Score10!B76","v":0}]
["Tot linge sale",{"$f":"Score1!B77+Score2!B77+Score3!B77+Score4!B77+Score5!B77+Score6!B77+Score7!B77+Score8!B77+Score9!B77+Score10!B77","v":0}]
[]
["Linge propre"]
["Hygiène",{"$f":"Score1!B80+Score2!B80+Score3!B80+Score4!B80+Score5!B80+Score6!B80+Score7!B80+Score8!B80+Score9!B80+Score10!B80","v":0}]
["Utilisation",{"$f":"Score1!B81+Score2!B81+Score3!B81+Score4!B81+Score5!B81+Score6!B81+Score7!B81+Score8!B81+Score9!B81+Score10!B81","v":0}]
["Tot linge prop",{"$f":"Score1!B82+Score2!B82+Score3!B82+Score4!B82+Score5!B82+Score6!B82+Score7!B82+Score8!B82+Score9!B82+Score10!B82","v":0}]
[]
["tot score",{"$f":"B122+B117","v":0}]

{"sheet":"Fiches_Utilisateurs_Service#1","index":7,"n_rows":47,"n_cols":82,"rows_kept":47,"cut":false,"hidden":false,"merged":[[0,0,0,2],[1,0,1,2]]}
["FICHE N° 2"]
["UTILISATEURS SERVICE #1"]
[null,null,"Utilisateur #1",null,"Utilisateur #2",null,"Utilisateur #3",null,"Utilisateur #4",null,"Utilisateur #5",null,"Utilisateur #6",null,"Utilisateur #7",null,"Utilisateur #8",null,"Utilisateur #9",null,"Utilisateur #10",null,"Utilisateur #11",null,"Utilisateur #12",null,"Utilisateur #13",null,"Utilisateur #14",null,"Utilisateur #15",null,"Utilisateur #16",null,"Utilisateur #17",null,"Utilisateur #18",null,"Utilisateur #19",null,"Utilisateur #20",null,"Utilisateur #21",null,"Utilisateur #22",null,"Utilisateur #23",null,"Utilisateur #24",null,"Utilisateur #25",null,"Utilisateur #26",null,"Utilisateur #27",null,"Utilisateur #28",null,"Utilisateur #29",null,"Utilisateur #30",null,"Utilisateur #31",null,"Utilisateur #32",null,"Utilisateur #33",null,"Utilisateur #34",null,"Utilisateur #35",null,"Utilisateur #36",null,"Utilisateur #37",null,"Utilisateur #38",null,"Utilisateur #39",null,"Utilisateur #40"]
[]
[null,"VERIFICATION DONNEES NON SAISIES/N° DE SAISIE DE FICHE",{"$f":"C45","v":"non saisies"},null,{"$f":"E45","v":"non saisies"},null,{"$f":"G45","v":"non saisies"},null,{"$f":"I45","v":"non saisies"},null,{"$f":"K45","v":"non saisies"},null,{"$f":"M45","v":"non saisies"},null,{"$f":"O45","v":"non saisies"},null,{"$f":"Q45","v":"non saisies"},null,{"$f":"S45","v":"non saisies"},null,{"$f":"U45","v":"non saisies"},null,{"$f":"W45","v":"non saisies"},null,{"$f":"Y45","v":"non saisies"},null,{"$f":"AA45","v":"non saisies"},null,{"$f":"AC45","v":"non saisies"},null,{"$f":"AE45","v":"non saisies"},null,{"$f":"AG45","v":"non saisies"},null,{"$f":"AI45","v":"non saisies"},null,{"$f":"AK45","v":"non saisies"},null,{"$f":"AM45","v":"non saisies"},null,{"$f":"AO45","v":"non saisies"},null,{"$f":"AQ45","v":"non saisies"},null,{"$f":"AS45","v":"non saisies"},null,{"$f":"AU45","v":"non saisies"},null,{"$f":"AW45","v":"non saisies"},null,{"$f":"AY45","v":"non saisies"},null,{"$f":"BA45","v":"non saisies"},null,{"$f":"BC45","v":"non saisies"},null,{"$f":"BE45","v":"non saisies"},null,{"$f":"BG45","v":"non saisies"},null,{"$f":"BI45","v":"non saisies"},null,{"$f":"BK45","v":"non saisies"},null,{"$f":"BM45","v":"non saisies"},null,{"$f":"BO45","v":"non saisies"},null,{"$f":"BQ45","v":"non saisies"},null,{"$f":"BS45","v":"non saisies"},null,{"$f":"BU45","v":"non saisies"},null,{"$f":"BW45","v":"non saisies"},null,{"$f":"BY45","v":"non saisies"},null,{"$f":"CA45","v":"non saisies"},null,{"$f":"CC45","v":"non saisies"}]
[]
[null,"Date"]
[]
[null,"Nom du service",{"$f":"IF(SERVICE1=\"\",\"non saisi\",SERVICE1)","v":"non saisi"},null,{"$f":"IF(SERVICE1=\"\",\"non saisi\",SERVICE1)","v":"non saisi"},null,{"$f":"IF(SERVICE1=\"\",\"non saisi\",SERVICE1)","v":"non saisi"},null,{"$f":"IF(SERVICE1=\"\",\"non saisi\",SERVICE1)","v":"non saisi"},null,{"$f":"IF(SERVICE1=\"\",\"non saisi\",SERVICE1)","v":"non saisi"},null,{"$f":"IF(SERVICE1=\"\",\"non saisi\",SERVICE1)","v":"non saisi"},null,{"$f":"IF(SERVICE1=\"\",\"non saisi\",SERVICE1)","v":"non saisi"},null,{"$f":"IF(SERVICE1=\"\",\"non saisi\",SERVICE1)","v":"non saisi"},null,{"$f":"IF(SERVICE1=\"\",\"non saisi\",SERVICE1)","v":"non saisi"},null,{"$f":"IF(SERVICE1=\"\",\"non saisi\",SERVICE1)","v":"non saisi"},null,{"$f":"IF(SERVICE1=\"\",\"non saisi\",SERVICE1)","v":"non saisi"},null,{"$f":"IF(SERVICE1=\"\",\"non saisi\",SERVICE1)","v":"non saisi"},null,{"$f":"IF(SERVICE1=\"\",\"non saisi\",SERVICE1)","v":"non saisi"},null,{"$f":"IF(SERVICE1=\"\",\"non saisi\",SERVICE1)","v":"non saisi"},null,{"$f":"IF(SERVICE1=\"\",\"non saisi\",SERVICE1)","v":"non saisi"},null,{"$f":"IF(SERVICE1=\"\",\"non saisi\",SERVICE1)","v":"non saisi"},null,{"$f":"IF(SERVICE1=\"\",\"non saisi\",SERVICE1)","v":"non saisi"},null,{"$f":"IF(SERVICE1=\"\",\"non saisi\",SERVICE1)","v":"non saisi"},null,{"$f":"IF(SERVICE1=\"\",\"non saisi\",SERVICE1)","v":"non saisi"},null,{"$f":"IF(SERVICE1=\"\",\"non saisi\",SERVICE1)","v":"non saisi"},null,{"$f":"IF(SERVICE1=\"\",\"non saisi\",SERVICE1)","v":"non saisi"},null,{"$f":"IF(SERVICE1=\"\",\"non saisi\",SERVICE1)","v":"non saisi"},null,{"$f":"IF(SERVICE1=\"\",\"non saisi\",SERVICE1)","v":"non saisi"},null,{"$f":"IF(SERVICE1=\"\",\"non saisi\",SERVICE1)","v":"non saisi"},null,{"$f":"IF(SERVICE1=\"\",\"non saisi\",SERVICE1)","v":"non saisi"},null,{"$f":"IF(SERVICE1=\"\",\"non saisi\",SERVICE1)","v":"non saisi"},null,{"$f":"IF(SERVICE1=\"\",\"non saisi\",SERVICE1)","v":"non saisi"},null,{"$f":"IF(SERVICE1=\"\",\"non saisi\",SERVICE1)","v":"non saisi"},null,{"$f":"IF(SERVICE1=\"\",\"non saisi\",SERVICE1)","v":"non saisi"},null,{"$f":"IF(SERVICE1=\"\",\"non saisi\",SERVICE1)","v":"non saisi"},null,{"$f":"IF(SERVICE1=\"\",\"non saisi\",SERVICE1)","v":"non saisi"},null,{"$f":"IF(SERVICE1=\"\",\"non saisi\",SERVICE1)","v":"non saisi"},null,{"$f":"IF(SERVICE1=\"\",\"non saisi\",SERVICE1)","v":"non saisi"},null,{"$f":"IF(SERVICE1=\"\",\"non saisi\",SERVICE1)","v":"non saisi"},null,{"$f":"IF(SERVICE1=\"\",\"non saisi\",SERVICE1)","v":"non saisi"},null,{"$f":"IF(SERVICE1=\"\",\"non saisi\",SERVICE1)","v":"non saisi"},null,{"$f":"IF(SERVICE1=\"\",\"non saisi\",SERVICE1)","v":"non saisi"},null,{"$f":"IF(SERVICE1=\"\",\"non saisi\",SERVICE1)","v":"non saisi"},null,{"$f":"IF(SERVICE1=\"\",\"non saisi\",SERVICE1)","v":"non saisi"},null,{"$f":"IF(SERVICE1=\"\",\"non saisi\",SERVICE1)","v":"non saisi"}]
[]
[null,"Fonction du personnel",null,null,null,null,null,null,null,null,null,null,null,null,null,null,null,null,null,null,null,null,null,null,null,null,null,null,null,null,null,null,null,null,null,null,null,null,null,null,null,null,null,null,null,null,null,null,null,null,null,null,null,null,null,null,null,null,null,null,null,null,null,null,null,null,null,null,null,null,null,null,null,null,null,null,null,null,null,null,null,"1 Infirmière et IDE spécialisée"]
[null,null,null,null,null,null,null,null,null,null,null,null,null,null,null,null,null,null,null,null,null,null,null,null,null,null,null,null,null,null,null,null,null,null,null,null,null,null,null,null,null,null,null,null,null,null,null,null,null,null,null,null,null,null,null,null,null,null,null,null,null,null,null,null,null,null,null,null,null,null,null,null,null,null,null,null,null,null,null,null,null,"2 Sage Femme"]
["Linge sale",null,"1 Oui - 2 Non",null,"1 Oui - 2 Non",null,"1 Oui - 2 Non",null,"1 Oui - 2 Non",null,"1 Oui - 2 Non",null,"1 Oui - 2 Non",null,"1 Oui - 2 Non",null,"1 Oui - 2 Non",null,"1 Oui - 2 Non",null,"1 Oui - 2 Non",null,"1 Oui - 2 Non",null,"1 Oui - 2 Non",null,"1 Oui - 2 Non",null,"1 Oui - 2 Non",null,"1 Oui - 2 Non",null,"1 Oui - 2 Non",null,"1 Oui - 2 Non",null,"1 Oui - 2 Non",null,"1 Oui - 2 Non",null,"1 Oui - 2 Non",null,"1 Oui - 2 Non",null,"1 Oui - 2 Non",null,"1 Oui - 2 Non",null,"1 Oui - 2 Non",null,"1 Oui - 2 Non",null,"1 Oui - 2 Non",null,"1 Oui - 2 Non",null,"1 Oui - 2 Non",null,"1 Oui - 2 Non",null,"1 Oui - 2 Non",null,"1 Oui - 2 Non",null,"1 Oui - 2 Non",null,"1 Oui - 2 Non",null,"1 Oui - 2 Non",null,"1 Oui - 2 Non",null,"1 Oui - 2 Non",null,"1 Oui - 2 Non",null,"1 Oui - 2 Non",null,"1 Oui - 2 Non",null,"1 Oui - 2 Non","3 Kinésithérapeute"]
[null,null,null,null,null,null,null,null,null,null,null,null,null,null,null,null,null,null,null,null,null,null,null,null,null,null,null,null,null,null,null,null,null,null,null,null,null,null,null,null,null,null,null,null,null,null,null,null,null,null,null,null,null,null,null,null,null,null,null,null,null,null,null,null,null,null,null,null,null,null,null,null,null,null,null,null,null,null,null,null,null,"4 Manipulateur Radio"]
[1,"Le linge sale est évacué à la fin du soin, sans dépose sur le sol",null,null,null,null,null,null,null,null,null,null,null,null,null,null,null,null,null,null,null,null,null,null,null,null,null,null,null,null,null,null,null,null,null,null,null,null,null,null,null,null,null,null,null,null,null,null,null,null,null,null,null,null,null,null,null,null,null,null,null,null,null,null,null,null,null,null,null,null,null,null,null,null,null,null,null,null,null,null,null,"5 Aide soignante/aux. de puériculture"]
[null,null,null,null,null,null,null,null,null,null,null,null,null,null,null,null,null,null,null,null,null,null,null,null,null,null,null,null,null,null,null,null,null,null,null,null,null,null,null,null,null,null,null,null,null,null,null,null,null,null,null,null,null,null,null,null,null,null,null,null,null,null,null,null,null,null,null,null,null,null,null,null,null,null,null,null,null,null,null,null,null,"6 Agent Hospitalier"]
[2,"Le professionnel vérifie l’absence d’objet étranger",null,null,null,null,null,null,null,null,null,null,null,null,null,null,null,null,null,null,null,null,null,null,null,null,null,null,null,null,null,null,null,null,null,null,null,null,null,null,null,null,null,null,null,null,null,null,null,null,null,null,null,null,null,null,null,null,null,null,null,null,null,null,null,null,null,null,null,null,null,null,null,null,null,null,null,null,null,null,null,"7 Ambulancier"]
[null,null,null,null,null,null,null,null,null,null,null,null,null,null,null,null,null,null,null,null,null,null,null,null,null,null,null,null,null,null,null,null,null,null,null,null,null,null,null,null,null,null,null,null,null,null,null,null,null,null,null,null,null,null,null,null,null,null,null,null,null,null,null,null,null,null,null,null,null,null,null,null,null,null,null,null,null,null,null,null,null,"8 Brancardier"]
[3,"Le professionnel porte des gants lors de la manipulation de linge souillé par des liquides biologiques",null,null,null,null,null,null,null,null,null,null,null,null,null,null,null,null,null,null,null,null,null,null,null,null,null,null,null,null,null,null,null,null,null,null,null,null,null,null,null,null,null,null,null,null,null,null,null,null,null,null,null,null,null,null,null,null,null,null,null,null,null,null,null,null,null,null,null,null,null,null,null,null,null,null,null,null,null,null,null,"9 Etudiant"]
[null,null,null,null,null,null,null,null,null,null,null,null,null,null,null,null,null,null,null,null,null,null,null,null,null,null,null,null,null,null,null,null,null,null,null,null,null,null,null,null,null,null,null,null,null,null,null,null,null,null,null,null,null,null,null,null,null,null,null,null,null,null,null,null,null,null,null,null,null,null,null,null,null,null,null,null,null,null,null,null,null,"10 Autre"]
[4,"Le professionnel manipule le linge sale avec des gestes mesurés pour limiter la contamination de l'environnement",null,null,null,null,null,null,null,null,null,null,null,null,null,null,null,null,null,null,null,null,null,null,null,null,null,null,null,null,null,null,null,null,null,null,null,null,null,null,null,null,null,null,null,null,null,null,null,null,null,null,null,null,null,null,null,null,null,null,null,null,null,null,null,null,null,null,null,null,null,null,null,null,null,null,null,null,null,null,null,1]
[null,null,null,null,null,null,null,null,null,null,null,null,null,null,null,null,null,null,null,null,null,null,null,null,null,null,null,null,null,null,null,null,null,null,null,null,null,null,null,null,null,null,null,null,null,null,null,null,null,null,null,null,null,null,null,null,null,null,null,null,null,null,null,null,null,null,null,null,null,null,null,null,null,null,null,null,null,null,null,null,null,2]
[5,"Les articles sont répartis selon la procédure de tri de l'établissement",null,null,null,null,null,null,null,null,null,null,null,null,null,null,null,null,null,null,null,null,null,null,null,null,null,null,null,null,null,null,null,null,null,null,null,null,null,null,null,null,null,null,null,null,null,null,null,null,null,null,null,null,null,null,null,null,null,null,null,null,null,null,null,null,null,null,null,null,null,null,null,null,null,null,null,null,null,null,null,3]
[null,null,null,null,null,null,null,null,null,null,null,null,null,null,null,null,null,null,null,null,null,null,null,null,null,null,null,null,null,null,null,null,null,null,null,null,null,null,null,null,null,null,null,null,null,null,null,null,null,null,null,null,null,null,null,null,null,null,null,null,null,null,null,null,null,null,null,null,null,null,null,null,null,null,null,null,null,null,null,null,null,4]
[6,"Le linge est tenu à distance de la tenue professionnelle",null,null,null,null,null,null,null,null,null,null,null,null,null,null,null,null,null,null,null,null,null,null,null,null,null,null,null,null,null,null,null,null,null,null,null,null,null,null,null,null,null,null,null,null,null,null,null,null,null,null,null,null,null,null,null,null,null,null,null,null,null,null,null,null,null,null,null,null,null,null,null,null,null,null,null,null,null,null,null,5]
[null,null,null,null,null,null,null,null,null,null,null,null,null,null,null,null,null,null,null,null,null,null,null,null,null,null,null,null,null,null,null,null,null,null,null,null,null,null,null,null,null,null,null,null,null,null,null,null,null,null,null,null,null,null,null,null,null,null,null,null,null,null,null,null,null,null,null,null,null,null,null,null,null,null,null,null,null,null,null,null,null,6]
[7,"Le système d'ouverture du chariot des sacs collecteurs de linge sale est manipulé sans les mains",null,null,null,null,null,null,null,null,null,null,null,null,null,null,null,null,null,null,null,null,null,null,null,null,null,null,null,null,null,null,null,null,null,null,null,null,null,null,null,null,null,null,null,null,null,null,null,null,null,null,null,null,null,null,null,null,null,null,null,null,null,null,null,null,null,null,null,null,null,null,null,null,null,null,null,null,null,null,null,7]
[null,null,null,null,null,null,null,null,null,null,null,null,null,null,null,null,null,null,null,null,null,null,null,null,null,null,null,null,null,null,null,null,null,null,null,null,null,null,null,null,null,null,null,null,null,null,null,null,null,null,null,null,null,null,null,null,null,null,null,null,null,null,null,null,null,null,null,null,null,null,null,null,null,null,null,null,null,null,null,null,null,8]
[8,"Le professionnel réalise une hygiène des mains après avoir manipulé le linge sale",null,null,null,null,null,null,null,null,null,null,null,null,null,null,null,null,null,null,null,null,null,null,null,null,null,null,null,null,null,null,null,null,null,null,null,null,null,null,null,null,null,null,null,null,null,null,null,null,null,null,null,null,null,null,null,null,null,null,null,null,null,null,null,null,null,null,null,null,null,null,null,null,null,null,null,null,null,null,null,9]
[null,null,null,null,null,null,null,null,null,null,null,null,null,null,null,null,null,null,null,null,null,null,null,null,null,null,null,null,null,null,null,null,null,null,null,null,null,null,null,null,null,null,null,null,null,null,null,null,null,null,null,null,null,null,null,null,null,null,null,null,null,null,null,null,null,null,null,null,null,null,null,null,null,null,null,null,null,null,null,null,null,10]
[9,"Dès la fin de l'activité, les sacs de linge sale sont évacués vers un local de stockage réservé"]
[null,"Si Non Observé (NO) coder 3"]
[10,"Les sacs de linge sale sont transportés sans être traînés par terre lors de transport"]
[null,"Si Non Observé (NO) coder 3"]
[11,"Le professionnel réalise une hygiène des mains après avoir manipulé les sacs de linge"]
[null,"Si Non Observé (NO) coder 3"]
["Linge propre",null,"1 Oui - 2 Non",null,"1 Oui - 2 Non",null,"1 Oui - 2 Non",null,"1 Oui - 2 Non",null,"1 Oui - 2 Non",null,"1 Oui - 2 Non",null,"1 Oui - 2 Non",null,"1 Oui - 2 Non",null,"1 Oui - 2 Non",null,"1 Oui - 2 Non",null,"1 Oui - 2 Non",null,"1 Oui - 2 Non",null,"1 Oui - 2 Non",null,"1 Oui - 2 Non",null,"1 Oui - 2 Non",null,"1 Oui - 2 Non",null,"1 Oui - 2 Non",null,"1 Oui - 2 Non",null,"1 Oui - 2 Non",null,"1 Oui - 2 Non",null,"1 Oui - 2 Non",null,"1 Oui - 2 Non",null,"1 Oui - 2 Non",null,"1 Oui - 2 Non",null,"1 Oui - 2 Non",null,"1 Oui - 2 Non",null,"1 Oui - 2 Non",null,"1 Oui - 2 Non",null,"1 Oui - 2 Non",null,"1 Oui - 2 Non",null,"1 Oui - 2 Non",null,"1 Oui - 2 Non",null,"1 Oui - 2 Non",null,"1 Oui - 2 Non",null,"1 Oui - 2 Non",null,"1 Oui - 2 Non",null,"1 Oui - 2 Non",null,"1 Oui - 2 Non",null,"1 Oui - 2 Non",null,"1 Oui - 2 Non"]
[]
[12,"Le professionnel réalise une hygiène des mains avant de manipuler le linge propre "]
[]
[13,"Le linge est déconditionné au fur et à mesure des besoins"]
[]
[14,"Le linge entré dans la chambre et non utilisé est évacué (considéré comme sale)"]
[]
[null,"VERIFICATION DONNEES NON SAISIES/N° DE SAISIE DE FICHE",{"$f":"IF(OR(C7=\"\",C9=\"non saisi\",C11=\"\",C15=\"\",C17=\"\",C19=\"\",C21=\"\",C23=\"\",C25=\"\",C27=\"\",C29=\"\",C31=\"\",C33=\"\",C35=\"\",C39=\"\",C41=\"\",C43=\"\"),\"non saisies\",(SERVICES+1))","v":"non saisies"},null,{"$f":"IF(OR(E7=\"\",E9=\"non saisi\",E11=\"\",E15=\"\",E17=\"\",E19=\"\",E21=\"\",E23=\"\",E25=\"\",E27=\"\",E29=\"\",E31=\"\",E33=\"\",E35=\"\",E39=\"\",E41=\"\",E43=\"\"),\"non saisies\",(SERVICES+2))","v":"non saisies"},null,{"$f":"IF(OR(G7=\"\",G9=\"non saisi\",G11=\"\",G15=\"\",G17=\"\",G19=\"\",G21=\"\",G23=\"\",G25=\"\",G27=\"\",G29=\"\",G31=\"\",G33=\"\",G35=\"\",G39=\"\",G41=\"\",G43=\"\"),\"non saisies\",(SERVICES+3))","v":"non saisies"},null,{"$f":"IF(OR(I7=\"\",I9=\"non saisi\",I11=\"\",I15=\"\",I17=\"\",I19=\"\",I21=\"\",I23=\"\",I25=\"\",I27=\"\",I29=\"\",I31=\"\",I33=\"\",I35=\"\",I39=\"\",I41=\"\",I43=\"\"),\"non saisies\",(SERVICES+4))","v":"non saisies"},null,{"$f":"IF(OR(K7=\"\",K9=\"non saisi\",K11=\"\",K15=\"\",K17=\"\",K19=\"\",K21=\"\",K23=\"\",K25=\"\",K27=\"\",K29=\"\",K31=\"\",K33=\"\",K35=\"\",K39=\"\",K41=\"\",K43=\"\"),\"non saisies\",(SERVICES+5))","v":"non saisies"},null,{"$f":"IF(OR(M7=\"\",M9=\"non saisi\",M11=\"\",M15=\"\",M17=\"\",M19=\"\",M21=\"\",M23=\"\",M25=\"\",M27=\"\",M29=\"\",M31=\"\",M33=\"\",M35=\"\",M39=\"\",M41=\"\",M43=\"\"),\"non saisies\",(SERVICES+6))","v":"non saisies"},null,{"$f":"IF(OR(O7=\"\",O9=\"non saisi\",O11=\"\",O15=\"\",O17=\"\",O19=\"\",O21=\"\",O23=\"\",O25=\"\",O27=\"\",O29=\"\",O31=\"\",O33=\"\",O35=\"\",O39=\"\",O41=\"\",O43=\"\"),\"non saisies\",(SERVICES+7))","v":"non saisies"},null,{"$f":"IF(OR(Q7=\"\",Q9=\"non saisi\",Q11=\"\",Q15=\"\",Q17=\"\",Q19=\"\",Q21=\"\",Q23=\"\",Q25=\"\",Q27=\"\",Q29=\"\",Q31=\"\",Q33=\"\",Q35=\"\",Q39=\"\",Q41=\"\",Q43=\"\"),\"non saisies\",(SERVICES+8))","v":"non saisies"},null,{"$f":"IF(OR(S7=\"\",S9=\"non saisi\",S11=\"\",S15=\"\",S17=\"\",S19=\"\",S21=\"\",S23=\"\",S25=\"\",S27=\"\",S29=\"\",S31=\"\",S33=\"\",S35=\"\",S39=\"\",S41=\"\",S43=\"\"),\"non saisies\",(SERVICES+9))","v":"non saisies"},null,{"$f":"IF(OR(U7=\"\",U9=\"non saisi\",U11=\"\",U15=\"\",U17=\"\",U19=\"\",U21=\"\",U23=\"\",U25=\"\",U27=\"\",U29=\"\",U31=\"\",U33=\"\",U35=\"\",U39=\"\",U41=\"\",U43=\"\"),\"non saisies\",(SERVICES+10))","v":"non saisies"},null,{"$f":"IF(OR(W7=\"\",W9=\"non saisi\",W11=\"\",W15=\"\",W17=\"\",W19=\"\",W21=\"\",W23=\"\",W25=\"\",W27=\"\",W29=\"\",W31=\"\",W33=\"\",W35=\"\",W39=\"\",W41=\"\",W43=\"\"),\"non saisies\",(SERVICES+11))","v":"non saisies"},null,{"$f":"IF(OR(Y7=\"\",Y9=\"non saisi\",Y11=\"\",Y15=\"\",Y17=\"\",Y19=\"\",Y21=\"\",Y23=\"\",Y25=\"\",Y27=\"\",Y29=\"\",Y31=\"\",Y33=\"\",Y35=\"\",Y39=\"\",Y41=\"\",Y43=\"\"),\"non saisies\",(SERVICES+12))","v":"non saisies"},null,{"$f":"IF(OR(AA7=\"\",AA9=\"non saisi\",AA11=\"\",AA15=\"\",AA17=\"\",AA19=\"\",AA21=\"\",AA23=\"\",AA25=\"\",AA27=\"\",AA29=\"\",AA31=\"\",AA33=\"\",AA35=\"\",AA39=\"\",AA41=\"\",AA43=\"\"),\"non saisies\",(SERVICES+13))","v":"non saisies"},null,{"$f":"IF(OR(AC7=\"\",AC9=\"non saisi\",AC11=\"\",AC15=\"\",AC17=\"\",AC19=\"\",AC21=\"\",AC23=\"\",AC25=\"\",AC27=\"\",AC29=\"\",AC31=\"\",AC33=\"\",AC35=\"\",AC39=\"\",AC41=\"\",AC43=\"\"),\"non saisies\",(SERVICES+14))","v":"non saisies"},null,{"$f":"IF(OR(AE7=\"\",AE9=\"non saisi\",AE11=\"\",AE15=\"\",AE17=\"\",AE19=\"\",AE21=\"\",AE23=\"\",AE25=\"\",AE27=\"\",AE29=\"\",AE31=\"\",AE33=\"\",AE35=\"\",AE39=\"\",AE41=\"\",AE43=\"\"),\"non saisies\",(SERVICES+15))","v":"non saisies"},null,{"$f":"IF(OR(AG7=\"\",AG9=\"non saisi\",AG11=\"\",AG15=\"\",AG17=\"\",AG19=\"\",AG21=\"\",AG23=\"\",AG25=\"\",AG27=\"\",AG29=\"\",AG31=\"\",AG33=\"\",AG35=\"\",AG39=\"\",AG41=\"\",AG43=\"\"),\"non saisies\",(SERVICES+16))","v":"non saisies"},null,{"$f":"IF(OR(AI7=\"\",AI9=\"non saisi\",AI11=\"\",AI15=\"\",AI17=\"\",AI19=\"\",AI21=\"\",AI23=\"\",AI25=\"\",AI27=\"\",AI29=\"\",AI31=\"\",AI33=\"\",AI35=\"\",AI39=\"\",AI41=\"\",AI43=\"\"),\"non saisies\",(SERVICES+17))","v":"non saisies"},null,{"$f":"IF(OR(AK7=\"\",AK9=\"non saisi\",AK11=\"\",AK15=\"\",AK17=\"\",AK19=\"\",AK21=\"\",AK23=\"\",AK25=\"\",AK27=\"\",AK29=\"\",AK31=\"\",AK33=\"\",AK35=\"\",AK39=\"\",AK41=\"\",AK43=\"\"),\"non saisies\",(SERVICES+18))","v":"non saisies"},null,{"$f":"IF(OR(AM7=\"\",AM9=\"non saisi\",AM11=\"\",AM15=\"\",AM17=\"\",AM19=\"\",AM21=\"\",AM23=\"\",AM25=\"\",AM27=\"\",AM29=\"\",AM31=\"\",AM33=\"\",AM35=\"\",AM39=\"\",AM41=\"\",AM43=\"\"),\"non saisies\",(SERVICES+19))","v":"non saisies"},null,{"$f":"IF(OR(AO7=\"\",AO9=\"non saisi\",AO11=\"\",AO15=\"\",AO17=\"\",AO19=\"\",AO21=\"\",AO23=\"\",AO25=\"\",AO27=\"\",AO29=\"\",AO31=\"\",AO33=\"\",AO35=\"\",AO39=\"\",AO41=\"\",AO43=\"\"),\"non saisies\",(SERVICES+20))","v":"non saisies"},null,{"$f":"IF(OR(AQ7=\"\",AQ9=\"non saisi\",AQ11=\"\",AQ15=\"\",AQ17=\"\",AQ19=\"\",AQ21=\"\",AQ23=\"\",AQ25=\"\",AQ27=\"\",AQ29=\"\",AQ31=\"\",AQ33=\"\",AQ35=\"\",AQ39=\"\",AQ41=\"\",AQ43=\"\"),\"non saisies\",(SERVICES+21))","v":"non saisies"},null,{"$f":"IF(OR(AS7=\"\",AS9=\"non saisi\",AS11=\"\",AS15=\"\",AS17=\"\",AS19=\"\",AS21=\"\",AS23=\"\",AS25=\"\",AS27=\"\",AS29=\"\",AS31=\"\",AS33=\"\",AS35=\"\",AS39=\"\",AS41=\"\",AS43=\"\"),\"non saisies\",(SERVICES+22))","v":"non saisies"},null,{"$f":"IF(OR(AU7=\"\",AU9=\"non saisi\",AU11=\"\",AU15=\"\",AU17=\"\",AU19=\"\",AU21=\"\",AU23=\"\",AU25=\"\",AU27=\"\",AU29=\"\",AU31=\"\",AU33=\"\",AU35=\"\",AU39=\"\",AU41=\"\",AU43=\"\"),\"non saisies\",(SERVICES+23))","v":"non saisies"},null,{"$f":"IF(OR(AW7=\"\",AW9=\"non saisi\",AW11=\"\",AW15=\"\",AW17=\"\",AW19=\"\",AW21=\"\",AW23=\"\",AW25=\"\",AW27=\"\",AW29=\"\",AW31=\"\",AW33=\"\",AW35=\"\",AW39=\"\",AW41=\"\",AW43=\"\"),\"non saisies\",(SERVICES+24))","v":"non saisies"},null,{"$f":"IF(OR(AY7=\"\",AY9=\"non saisi\",AY11=\"\",AY15=\"\",AY17=\"\",AY19=\"\",AY21=\"\",AY23=\"\",AY25=\"\",AY27=\"\",AY29=\"\",AY31=\"\",AY33=\"\",AY35=\"\",AY39=\"\",AY41=\"\",AY43=\"\"),\"non saisies\",(SERVICES+25))","v":"non saisies"},null,{"$f":"IF(OR(BA7=\"\",BA9=\"non saisi\",BA11=\"\",BA15=\"\",BA17=\"\",BA19=\"\",BA21=\"\",BA23=\"\",BA25=\"\",BA27=\"\",BA29=\"\",BA31=\"\",BA33=\"\",BA35=\"\",BA39=\"\",BA41=\"\",BA43=\"\"),\"non saisies\",(SERVICES+26))","v":"non saisies"},null,{"$f":"IF(OR(BC7=\"\",BC9=\"non saisi\",BC11=\"\",BC15=\"\",BC17=\"\",BC19=\"\",BC21=\"\",BC23=\"\",BC25=\"\",BC27=\"\",BC29=\"\",BC31=\"\",BC33=\"\",BC35=\"\",BC39=\"\",BC41=\"\",BC43=\"\"),\"non saisies\",(SERVICES+27))","v":"non saisies"},null,{"$f":"IF(OR(BE7=\"\",BE9=\"non saisi\",BE11=\"\",BE15=\"\",BE17=\"\",BE19=\"\",BE21=\"\",BE23=\"\",BE25=\"\",BE27=\"\",BE29=\"\",BE31=\"\",BE33=\"\",BE35=\"\",BE39=\"\",BE41=\"\",BE43=\"\"),\"non saisies\",(SERVICES+28))","v":"non saisies"},null,{"$f":"IF(OR(BG7=\"\",BG9=\"non saisi\",BG11=\"\",BG15=\"\",BG17=\"\",BG19=\"\",BG21=\"\",BG23=\"\",BG25=\"\",BG27=\"\",BG29=\"\",BG31=\"\",BG33=\"\",BG35=\"\",BG39=\"\",BG41=\"\",BG43=\"\"),\"non saisies\",(SERVICES+29))","v":"non saisies"},null,{"$f":"IF(OR(BI7=\"\",BI9=\"non saisi\",BI11=\"\",BI15=\"\",BI17=\"\",BI19=\"\",BI21=\"\",BI23=\"\",BI25=\"\",BI27=\"\",BI29=\"\",BI31=\"\",BI33=\"\",BI35=\"\",BI39=\"\",BI41=\"\",BI43=\"\"),\"non saisies\",(SERVICES+30))","v":"non saisies"},null,{"$f":"IF(OR(BK7=\"\",BK9=\"non saisi\",BK11=\"\",BK15=\"\",BK17=\"\",BK19=\"\",BK21=\"\",BK23=\"\",BK25=\"\",BK27=\"\",BK29=\"\",BK31=\"\",BK33=\"\",BK35=\"\",BK39=\"\",BK41=\"\",BK43=\"\"),\"non saisies\",(SERVICES+31))","v":"non saisies"},null,{"$f":"IF(OR(BM7=\"\",BM9=\"non saisi\",BM11=\"\",BM15=\"\",BM17=\"\",BM19=\"\",BM21=\"\",BM23=\"\",BM25=\"\",BM27=\"\",BM29=\"\",BM31=\"\",BM33=\"\",BM35=\"\",BM39=\"\",BM41=\"\",BM43=\"\"),\"non saisies\",(SERVICES+32))","v":"non saisies"},null,{"$f":"IF(OR(BO7=\"\",BO9=\"non saisi\",BO11=\"\",BO15=\"\",BO17=\"\",BO19=\"\",BO21=\"\",BO23=\"\",BO25=\"\",BO27=\"\",BO29=\"\",BO31=\"\",BO33=\"\",BO35=\"\",BO39=\"\",BO41=\"\",BO43=\"\"),\"non saisies\",(SERVICES+33))","v":"non saisies"},null,{"$f":"IF(OR(BQ7=\"\",BQ9=\"non saisi\",BQ11=\"\",BQ15=\"\",BQ17=\"\",BQ19=\"\",BQ21=\"\",BQ23=\"\",BQ25=\"\",BQ27=\"\",BQ29=\"\",BQ31=\"\",BQ33=\"\",BQ35=\"\",BQ39=\"\",BQ41=\"\",BQ43=\"\"),\"non saisies\",(SERVICES+34))","v":"non saisies"},null,{"$f":"IF(OR(BS7=\"\",BS9=\"non saisi\",BS11=\"\",BS15=\"\",BS17=\"\",BS19=\"\",BS21=\"\",BS23=\"\",BS25=\"\",BS27=\"\",BS29=\"\",BS31=\"\",BS33=\"\",BS35=\"\",BS39=\"\",BS41=\"\",BS43=\"\"),\"non saisies\",(SERVICES+35))","v":"non saisies"},null,{"$f":"IF(OR(BU7=\"\",BU9=\"non saisi\",BU11=\"\",BU15=\"\",BU17=\"\",BU19=\"\",BU21=\"\",BU23=\"\",BU25=\"\",BU27=\"\",BU29=\"\",BU31=\"\",BU33=\"\",BU35=\"\",BU39=\"\",BU41=\"\",BU43=\"\"),\"non saisies\",(SERVICES+36))","v":"non saisies"},null,{"$f":"IF(OR(BW7=\"\",BW9=\"non saisi\",BW11=\"\",BW15=\"\",BW17=\"\",BW19=\"\",BW21=\"\",BW23=\"\",BW25=\"\",BW27=\"\",BW29=\"\",BW31=\"\",BW33=\"\",BW35=\"\",BW39=\"\",BW41=\"\",BW43=\"\"),\"non saisies\",(SERVICES+37))","v":"non saisies"},null,{"$f":"IF(OR(BY7=\"\",BY9=\"non saisi\",BY11=\"\",BY15=\"\",BY17=\"\",BY19=\"\",BY21=\"\",BY23=\"\",BY25=\"\",BY27=\"\",BY29=\"\",BY31=\"\",BY33=\"\",BY35=\"\",BY39=\"\",BY41=\"\",BY43=\"\"),\"non saisies\",(SERVICES+38))","v":"non saisies"},null,{"$f":"IF(OR(CA7=\"\",CA9=\"non saisi\",CA11=\"\",CA15=\"\",CA17=\"\",CA19=\"\",CA21=\"\",CA23=\"\",CA25=\"\",CA27=\"\",CA29=\"\",CA31=\"\",CA33=\"\",CA35=\"\",CA39=\"\",CA41=\"\",CA43=\"\"),\"non saisies\",(SERVICES+39))","v":"non saisies"},null,{"$f":"IF(OR(CC7=\"\",CC9=\"non saisi\",CC11=\"\",CC15=\"\",CC17=\"\",CC19=\"\",CC21=\"\",CC23=\"\",CC25=\"\",CC27=\"\",CC29=\"\",CC31=\"\",CC33=\"\",CC35=\"\",CC39=\"\",CC41=\"\",CC43=\"\"),\"non saisies\",(SERVICES+40))","v":"non saisies"}]
[]
[null,"MENU"]

{"sheet":"Score1","index":8,"n_rows":82,"n_cols":81,"rows_kept":82,"cut":false,"hidden":true,"merged":[]}
[]
[]
[]
[]
[]
[]
[null,null,{"$f":"IF('Fiches_Utilisateurs_Service#1'!C7=\"\",0,1)","v":0},null,{"$f":"IF('Fiches_Utilisateurs_Service#1'!E7=\"\",0,1)","v":0},null,{"$f":"IF('Fiches_Utilisateurs_Service#1'!G7=\"\",0,1)","v":0},null,{"$f":"IF('Fiches_Utilisateurs_Service#1'!I7=\"\",0,1)","v":0},null,{"$f":"IF('Fiches_Utilisateurs_Service#1'!K7=\"\",0,1)","v":0},null,{"$f":"IF('Fiches_Utilisateurs_Service#1'!M7=\"\",0,1)","v":0},null,{"$f":"IF('Fiches_Utilisateurs_Service#1'!O7=\"\",0,1)","v":0},null,{"$f":"IF('Fiches_Utilisateurs_Service#1'!Q7=\"\",0,1)","v":0},null,{"$f":"IF('Fiches_Utilisateurs_Service#1'!S7=\"\",0,1)","v":0},null,{"$f":"IF('Fiches_Utilisateurs_Service#1'!U7=\"\",0,1)","v":0},null,{"$f":"IF('Fiches_Utilisateurs_Service#1'!W7=\"\",0,1)","v":0},null,{"$f":"IF('Fiches_Utilisateurs_Service#1'!Y7=\"\",0,1)","v":0},null,{"$f":"IF('Fiches_Utilisateurs_Service#1'!AA7=\"\",0,1)","v":0},null,{"$f":"IF('Fiches_Utilisateurs_Service#1'!AC7=\"\",0,1)","v":0},null,{"$f":"IF('Fiches_Utilisateurs_Service#1'!AE7=\"\",0,1)","v":0},null,{"$f":"IF('Fiches_Utilisateurs_Service#1'!AG7=\"\",0,1)","v":0},null,{"$f":"IF('Fiches_Utilisateurs_Service#1'!AI7=\"\",0,1)","v":0},null,{"$f":"IF('Fiches_Utilisateurs_Service#1'!AK7=\"\",0,1)","v":0},null,{"$f":"IF('Fiches_Utilisateurs_Service#1'!AM7=\"\",0,1)","v":0},null,{"$f":"IF('Fiches_Utilisateurs_Service#1'!AO7=\"\",0,1)","v":0},null,{"$f":"IF('Fiches_Utilisateurs_Service#1'!AQ7=\"\",0,1)","v":0},null,{"$f":"IF('Fiches_Utilisateurs_Service#1'!AS7=\"\",0,1)","v":0},null,{"$f":"IF('Fiches_Utilisateurs_Service#1'!AU7=\"\",0,1)","v":0},null,{"$f":"IF('Fiches_Utilisateurs_Service#1'!AW7=\"\",0,1)","v":0},null,{"$f":"IF('Fiches_Utilisateurs_Service#1'!AY7=\"\",0,1)","v":0},null,{"$f":"IF('Fiches_Utilisateurs_Service#1'!BA7=\"\",0,1)","v":0},null,{"$f":"IF('Fiches_Utilisateurs_Service#1'!BC7=\"\",0,1)","v":0},null,{"$f":"IF('Fiches_Utilisateurs_Service#1'!BE7=\"\",0,1)","v":0},null,{"$f":"IF('Fiches_Utilisateurs_Service#1'!BG7=\"\",0,1)","v":0},null,{"$f":"IF('Fiches_Utilisateurs_Service#1'!BI7=\"\",0,1)","v":0},null,{"$f":"IF('Fiches_Utilisateurs_Service#1'!BK7=\"\",0,1)","v":0},null,{"$f":"IF('Fiches_Utilisateurs_Service#1'!BM7=\"\",0,1)","v":0},null,{"$f":"IF('Fiches_Utilisateurs_Service#1'!BO7=\"\",0,1)","v":0},null,{"$f":"IF('Fiches_Utilisateurs_Service#1'!BQ7=\"\",0,1)","v":0},null,{"$f":"IF('Fiches_Utilisateurs_Service#1'!BS7=\"\",0,1)","v":0},null,{"$f":"IF('Fiches_Utilisateurs_Service#1'!BU7=\"\",0,1)","v":0},null,{"$f":"IF('Fiches_Utilisateurs_Service#1'!BW7=\"\",0,1)","v":0},null,{"$f":"IF('Fiches_Utilisateurs_Service#1'!BY7=\"\",0,1)","v":0},null,{"$f":"IF('Fiches_Utilisateurs_Service#1'!CA7=\"\",0,1)","v":0},null,{"$f":"IF('Fiches_Utilisateurs_Service#1'!CC7=\"\",0,1)","v":0}]
[]
[]
[]
[null,null,{"$f":"IF(LEFT('Fiches_Utilisateurs_Service#1'!C11,2)=\"10\",\"10\",(IF('Fiches_Utilisateurs_Service#1'!C11=\"\",\"0\",LEFT('Fiches_Utilisateurs_Service#1'!C11,1))))","v":"0"},null,{"$f":"IF(LEFT('Fiches_Utilisateurs_Service#1'!E11,2)=\"10\",\"10\",(IF('Fiches_Utilisateurs_Service#1'!E11=\"\",\"0\",LEFT('Fiches_Utilisateurs_Service#1'!E11,1))))","v":"0"},null,{"$f":"IF(LEFT('Fiches_Utilisateurs_Service#1'!G11,2)=\"10\",\"10\",(IF('Fiches_Utilisateurs_Service#1'!G11=\"\",\"0\",LEFT('Fiches_Utilisateurs_Service#1'!G11,1))))","v":"0"},null,{"$f":"IF(LEFT('Fiches_Utilisateurs_Service#1'!I11,2)=\"10\",\"10\",(IF('Fiches_Utilisateurs_Service#1'!I11=\"\",\"0\",LEFT('Fiches_Utilisateurs_Service#1'!I11,1))))","v":"0"},null,{"$f":"IF(LEFT('Fiches_Utilisateurs_Service#1'!K11,2)=\"10\",\"10\",(IF('Fiches_Utilisateurs_Service#1'!K11=\"\",\"0\",LEFT('Fiches_Utilisateurs_Service#1'!K11,1))))","v":"0"},null,{"$f":"IF(LEFT('Fiches_Utilisateurs_Service#1'!M11,2)=\"10\",\"10\",(IF('Fiches_Utilisateurs_Service#1'!M11=\"\",\"0\",LEFT('Fiches_Utilisateurs_Service#1'!M11,1))))","v":"0"},null,{"$f":"IF(LEFT('Fiches_Utilisateurs_Service#1'!O11,2)=\"10\",\"10\",(IF('Fiches_Utilisateurs_Service#1'!O11=\"\",\"0\",LEFT('Fiches_Utilisateurs_Service#1'!O11,1))))","v":"0"},null,{"$f":"IF(LEFT('Fiches_Utilisateurs_Service#1'!Q11,2)=\"10\",\"10\",(IF('Fiches_Utilisateurs_Service#1'!Q11=\"\",\"0\",LEFT('Fiches_Utilisateurs_Service#1'!Q11,1))))","v":"0"},null,{"$f":"IF(LEFT('Fiches_Utilisateurs_Service#1'!S11,2)=\"10\",\"10\",(IF('Fiches_Utilisateurs_Service#1'!S11=\"\",\"0\",LEFT('Fiches_Utilisateurs_Service#1'!S11,1))))","v":"0"},null,{"$f":"IF(LEFT('Fiches_Utilisateurs_Service#1'!U11,2)=\"10\",\"10\",(IF('Fiches_Utilisateurs_Service#1'!U11=\"\",\"0\",LEFT('Fiches_Utilisateurs_Service#1'!U11,1))))","v":"0"},null,{"$f":"IF(LEFT('Fiches_Utilisateurs_Service#1'!W11,2)=\"10\",\"10\",(IF('Fiches_Utilisateurs_Service#1'!W11=\"\",\"0\",LEFT('Fiches_Utilisateurs_Service#1'!W11,1))))","v":"0"},null,{"$f":"IF(LEFT('Fiches_Utilisateurs_Service#1'!Y11,2)=\"10\",\"10\",(IF('Fiches_Utilisateurs_Service#1'!Y11=\"\",\"0\",LEFT('Fiches_Utilisateurs_Service#1'!Y11,1))))","v":"0"},null,{"$f":"IF(LEFT('Fiches_Utilisateurs_Service#1'!AA11,2)=\"10\",\"10\",(IF('Fiches_Utilisateurs_Service#1'!AA11=\"\",\"0\",LEFT('Fiches_Utilisateurs_Service#1'!AA11,1))))","v":"0"},null,{"$f":"IF(LEFT('Fiches_Utilisateurs_Service#1'!AC11,2)=\"10\",\"10\",(IF('Fiches_Utilisateurs_Service#1'!AC11=\"\",\"0\",LEFT('Fiches_Utilisateurs_Service#1'!AC11,1))))","v":"0"},null,{"$f":"IF(LEFT('Fiches_Utilisateurs_Service#1'!AE11,2)=\"10\",\"10\",(IF('Fiches_Utilisateurs_Service#1'!AE11=\"\",\"0\",LEFT('Fiches_Utilisateurs_Service#1'!AE11,1))))","v":"0"},null,{"$f":"IF(LEFT('Fiches_Utilisateurs_Service#1'!AG11,2)=\"10\",\"10\",(IF('Fiches_Utilisateurs_Service#1'!AG11=\"\",\"0\",LEFT('Fiches_Utilisateurs_Service#1'!AG11,1))))","v":"0"},null,{"$f":"IF(LEFT('Fiches_Utilisateurs_Service#1'!AI11,2)=\"10\",\"10\",(IF('Fiches_Utilisateurs_Service#1'!AI11=\"\",\"0\",LEFT('Fiches_Utilisateurs_Service#1'!AI11,1))))","v":"0"},null,{"$f":"IF(LEFT('Fiches_Utilisateurs_Service#1'!AK11,2)=\"10\",\"10\",(IF('Fiches_Utilisateurs_Service#1'!AK11=\"\",\"0\",LEFT('Fiches_Utilisateurs_Service#1'!AK11,1))))","v":"0"},null,{"$f":"IF(LEFT('Fiches_Utilisateurs_Service#1'!AM11,2)=\"10\",\"10\",(IF('Fiches_Utilisateurs_Service#1'!AM11=\"\",\"0\",LEFT('Fiches_Utilisateurs_Service#1'!AM11,1))))","v":"0"},null,{"$f":"IF(LEFT('Fiches_Utilisateurs_Service#1'!AO11,2)=\"10\",\"10\",(IF('Fiches_Utilisateurs_Service#1'!AO11=\"\",\"0\",LEFT('Fiches_Utilisateurs_Service#1'!AO11,1))))","v":"0"},null,{"$f":"IF(LEFT('Fiches_Utilisateurs_Service#1'!AQ11,2)=\"10\",\"10\",(IF('Fiches_Utilisateurs_Service#1'!AQ11=\"\",\"0\",LEFT('Fiches_Utilisateurs_Service#1'!AQ11,1))))","v":"0"},null,{"$f":"IF(LEFT('Fiches_Utilisateurs_Service#1'!AS11,2)=\"10\",\"10\",(IF('Fiches_Utilisateurs_Service#1'!AS11=\"\",\"0\",LEFT('Fiches_Utilisateurs_Service#1'!AS11,1))))","v":"0"},null,{"$f":"IF(LEFT('Fiches_Utilisateurs_Service#1'!AU11,2)=\"10\",\"10\",(IF('Fiches_Utilisateurs_Service#1'!AU11=\"\",\"0\",LEFT('Fiches_Utilisateurs_Service#1'!AU11,1))))","v":"0"},null,{"$f":"IF(LEFT('Fiches_Utilisateurs_Service#1'!AW11,2)=\"10\",\"10\",(IF('Fiches_Utilisateurs_Service#1'!AW11=\"\",\"0\",LEFT('Fiches_Utilisateurs_Service#1'!AW11,1))))","v":"0"},null,{"$f":"IF(LEFT('Fiches_Utilisateurs_Service#1'!AY11,2)=\"10\",\"10\",(IF('Fiches_Utilisateurs_Service#1'!AY11=\"\",\"0\",LEFT('Fiches_Utilisateurs_Service#1'!AY11,1))))","v":"0"},null,{"$f":"IF(LEFT('Fiches_Utilisateurs_Service#1'!BA11,2)=\"10\",\"10\",(IF('Fiches_Utilisateurs_Service#1'!BA11=\"\",\"0\",LEFT('Fiches_Utilisateurs_Service#1'!BA11,1))))","v":"0"},null,{"$f":"IF(LEFT('Fiches_Utilisateurs_Service#1'!BC11,2)=\"10\",\"10\",(IF('Fiches_Utilisateurs_Service#1'!BC11=\"\",\"0\",LEFT('Fiches_Utilisateurs_Service#1'!BC11,1))))","v":"0"},null,{"$f":"IF(LEFT('Fiches_Utilisateurs_Service#1'!BE11,2)=\"10\",\"10\",(IF('Fiches_Utilisateurs_Service#1'!BE11=\"\",\"0\",LEFT('Fiches_Utilisateurs_Service#1'!BE11,1))))","v":"0"},null,{"$f":"IF(LEFT('Fiches_Utilisateurs_Service#1'!BG11,2)=\"10\",\"10\",(IF('Fiches_Utilisateurs_Service#1'!BG11=\"\",\"0\",LEFT('Fiches_Utilisateurs_Service#1'!BG11,1))))","v":"0"},null,{"$f":"IF(LEFT('Fiches_Utilisateurs_Service#1'!BI11,2)=\"10\",\"10\",(IF('Fiches_Utilisateurs_Service#1'!BI11=\"\",\"0\",LEFT('Fiches_Utilisateurs_Service#1'!BI11,1))))","v":"0"},null,{"$f":"IF(LEFT('Fiches_Utilisateurs_Service#1'!BK11,2)=\"10\",\"10\",(IF('Fiches_Utilisateurs_Service#1'!BK11=\"\",\"0\",LEFT('Fiches_Utilisateurs_Service#1'!BK11,1))))","v":"0"},null,{"$f":"IF(LEFT('Fiches_Utilisateurs_Service#1'!BM11,2)=\"10\",\"10\",(IF('Fiches_Utilisateurs_Service#1'!BM11=\"\",\"0\",LEFT('Fiches_Utilisateurs_Service#1'!BM11,1))))","v":"0"},null,{"$f":"IF(LEFT('Fiches_Utilisateurs_Service#1'!BO11,2)=\"10\",\"10\",(IF('Fiches_Utilisateurs_Service#1'!BO11=\"\",\"0\",LEFT('Fiches_Utilisateurs_Service#1'!BO11,1))))","v":"0"},null,{"$f":"IF(LEFT('Fiches_Utilisateurs_Service#1'!BQ11,2)=\"10\",\"10\",(IF('Fiches_Utilisateurs_Service#1'!BQ11=\"\",\"0\",LEFT('Fiches_Utilisateurs_Service#1'!BQ11,1))))","v":"0"},null,{"$f":"IF(LEFT('Fiches_Utilisateurs_Service#1'!BS11,2)=\"10\",\"10\",(IF('Fiches_Utilisateurs_Service#1'!BS11=\"\",\"0\",LEFT('Fiches_Utilisateurs_Service#1'!BS11,1))))","v":"0"},null,{"$f":"IF(LEFT('Fiches_Utilisateurs_Service#1'!BU11,2)=\"10\",\"10\",(IF('Fiches_Utilisateurs_Service#1'!BU11=\"\",\"0\",LEFT('Fiches_Utilisateurs_Service#1'!BU11,1))))","v":"0"},null,{"$f":"IF(LEFT('Fiches_Utilisateurs_Service#1'!BW11,2)=\"10\",\"10\",(IF('Fiches_Utilisateurs_Service#1'!BW11=\"\",\"0\",LEFT('Fiches_Utilisateurs_Service#1'!BW11,1))))","v":"0"},null,{"$f":"IF(LEFT('Fiches_Utilisateurs_Service#1'!BY11,2)=\"10\",\"10\",(IF('Fiches_Utilisateurs_Service#1'!BY11=\"\",\"0\",LEFT('Fiches_Utilisateurs_Service#1'!BY11,1))))","v":"0"},null,{"$f":"IF(LEFT('Fiches_Utilisateurs_Service#1'!CA11,2)=\"10\",\"10\",(IF('Fiches_Utilisateurs_Service#1'!CA11=\"\",\"0\",LEFT('Fiches_Utilisateurs_Service#1'!CA11,1))))","v":"0"},null,{"$f":"IF(LEFT('Fiches_Utilisateurs_Service#1'!CC11,2)=\"10\",\"10\",(IF('Fiches_Utilisateurs_Service#1'!CC11=\"\",\"0\",LEFT('Fiches_Utilisateurs_Service#1'!CC11,1))))","v":"0"}]
[]
[]
[null,"glob tots"]
[1,null,{"$f":"IF('Fiches_Utilisateurs_Service#1'!C15=1,1,0)","v":0},null,{"$f":"IF('Fiches_Utilisateurs_Service#1'!E15=1,1,0)","v":0},null,{"$f":"IF('Fiches_Utilisateurs_Service#1'!G15=1,1,0)","v":0},null,{"$f":"IF('Fiches_Utilisateurs_Service#1'!I15=1,1,0)","v":0},null,{"$f":"IF('Fiches_Utilisateurs_Service#1'!K15=1,1,0)","v":0},null,{"$f":"IF('Fiches_Utilisateurs_Service#1'!M15=1,1,0)","v":0},null,{"$f":"IF('Fiches_Utilisateurs_Service#1'!O15=1,1,0)","v":0},null,{"$f":"IF('Fiches_Utilisateurs_Service#1'!Q15=1,1,0)","v":0},null,{"$f":"IF('Fiches_Utilisateurs_Service#1'!S15=1,1,0)","v":0},null,{"$f":"IF('Fiches_Utilisateurs_Service#1'!U15=1,1,0)","v":0},null,{"$f":"IF('Fiches_Utilisateurs_Service#1'!W15=1,1,0)","v":0},null,{"$f":"IF('Fiches_Utilisateurs_Service#1'!Y15=1,1,0)","v":0},null,{"$f":"IF('Fiches_Utilisateurs_Service#1'!AA15=1,1,0)","v":0},null,{"$f":"IF('Fiches_Utilisateurs_Service#1'!AC15=1,1,0)","v":0},null,{"$f":"IF('Fiches_Utilisateurs_Service#1'!AE15=1,1,0)","v":0},null,{"$f":"IF('Fiches_Utilisateurs_Service#1'!AG15=1,1,0)","v":0},null,{"$f":"IF('Fiches_Utilisateurs_Service#1'!AI15=1,1,0)","v":0},null,{"$f":"IF('Fiches_Utilisateurs_Service#1'!AK15=1,1,0)","v":0},null,{"$f":"IF('Fiches_Utilisateurs_Service#1'!AM15=1,1,0)","v":0},null,{"$f":"IF('Fiches_Utilisateurs_Service#1'!AO15=1,1,0)","v":0},null,{"$f":"IF('Fiches_Utilisateurs_Service#1'!AQ15=1,1,0)","v":0},null,{"$f":"IF('Fiches_Utilisateurs_Service#1'!AS15=1,1,0)","v":0},null,{"$f":"IF('Fiches_Utilisateurs_Service#1'!AU15=1,1,0)","v":0},null,{"$f":"IF('Fiches_Utilisateurs_Service#1'!AW15=1,1,0)","v":0},null,{"$f":"IF('Fiches_Utilisateurs_Service#1'!AY15=1,1,0)","v":0},null,{"$f":"IF('Fiches_Utilisateurs_Service#1'!BA15=1,1,0)","v":0},null,{"$f":"IF('Fiches_Utilisateurs_Service#1'!BC15=1,1,0)","v":0},null,{"$f":"IF('Fiches_Utilisateurs_Service#1'!BE15=1,1,0)","v":0},null,{"$f":"IF('Fiches_Utilisateurs_Service#1'!BG15=1,1,0)","v":0},null,{"$f":"IF('Fiches_Utilisateurs_Service#1'!BI15=1,1,0)","v":0},null,{"$f":"IF('Fiches_Utilisateurs_Service#1'!BK15=1,1,0)","v":0},null,{"$f":"IF('Fiches_Utilisateurs_Service#1'!BM15=1,1,0)","v":0},null,{"$f":"IF('Fiches_Utilisateurs_Service#1'!BO15=1,1,0)","v":0},null,{"$f":"IF('Fiches_Utilisateurs_Service#1'!BQ15=1,1,0)","v":0},null,{"$f":"IF('Fiches_Utilisateurs_Service#1'!BS15=1,1,0)","v":0},null,{"$f":"IF('Fiches_Utilisateurs_Service#1'!BU15=1,1,0)","v":0},null,{"$f":"IF('Fiches_Utilisateurs_Service#1'!BW15=1,1,0)","v":0},null,{"$f":"IF('Fiches_Utilisateurs_Service#1'!BY15=1,1,0)","v":0},null,{"$f":"IF('Fiches_Utilisateurs_Service#1'!CA15=1,1,0)","v":0},null,{"$f":"IF('Fiches_Utilisateurs_Service#1'!CC15=1,1,0)","v":0}]
[]
[2,null,{"$f":"IF('Fiches_Utilisateurs_Service#1'!C17=1,1,0)","v":0},null,{"$f":"IF('Fiches_Utilisateurs_Service#1'!E17=1,1,0)","v":0},null,{"$f":"IF('Fiches_Utilisateurs_Service#1'!G17=1,1,0)","v":0},null,{"$f":"IF('Fiches_Utilisateurs_Service#1'!I17=1,1,0)","v":0},null,{"$f":"IF('Fiches_Utilisateurs_Service#1'!K17=1,1,0)","v":0},null,{"$f":"IF('Fiches_Utilisateurs_Service#1'!M17=1,1,0)","v":0},null,{"$f":"IF('Fiches_Utilisateurs_Service#1'!O17=1,1,0)","v":0},null,{"$f":"IF('Fiches_Utilisateurs_Service#1'!Q17=1,1,0)","v":0},null,{"$f":"IF('Fiches_Utilisateurs_Service#1'!S17=1,1,0)","v":0},null,{"$f":"IF('Fiches_Utilisateurs_Service#1'!U17=1,1,0)","v":0},null,{"$f":"IF('Fiches_Utilisateurs_Service#1'!W17=1,1,0)","v":0},null,{"$f":"IF('Fiches_Utilisateurs_Service#1'!Y17=1,1,0)","v":0},null,{"$f":"IF('Fiches_Utilisateurs_Service#1'!AA17=1,1,0)","v":0},null,{"$f":"IF('Fiches_Utilisateurs_Service#1'!AC17=1,1,0)","v":0},null,{"$f":"IF('Fiches_Utilisateurs_Service#1'!AE17=1,1,0)","v":0},null,{"$f":"IF('Fiches_Utilisateurs_Service#1'!AG17=1,1,0)","v":0},null,{"$f":"IF('Fiches_Utilisateurs_Service#1'!AI17=1,1,0)","v":0},null,{"$f":"IF('Fiches_Utilisateurs_Service#1'!AK17=1,1,0)","v":0},null,{"$f":"IF('Fiches_Utilisateurs_Service#1'!AM17=1,1,0)","v":0},null,{"$f":"IF('Fiches_Utilisateurs_Service#1'!AO17=1,1,0)","v":0},null,{"$f":"IF('Fiches_Utilisateurs_Service#1'!AQ17=1,1,0)","v":0},null,{"$f":"IF('Fiches_Utilisateurs_Service#1'!AS17=1,1,0)","v":0},null,{"$f":"IF('Fiches_Utilisateurs_Service#1'!AU17=1,1,0)","v":0},null,{"$f":"IF('Fiches_Utilisateurs_Service#1'!AW17=1,1,0)","v":0},null,{"$f":"IF('Fiches_Utilisateurs_Service#1'!AY17=1,1,0)","v":0},null,{"$f":"IF('Fiches_Utilisateurs_Service#1'!BA17=1,1,0)","v":0},null,{"$f":"IF('Fiches_Utilisateurs_Service#1'!BC17=1,1,0)","v":0},null,{"$f":"IF('Fiches_Utilisateurs_Service#1'!BE17=1,1,0)","v":0},null,{"$f":"IF('Fiches_Utilisateurs_Service#1'!BG17=1,1,0)","v":0},null,{"$f":"IF('Fiches_Utilisateurs_Service#1'!BI17=1,1,0)","v":0},null,{"$f":"IF('Fiches_Utilisateurs_Service#1'!BK17=1,1,0)","v":0},null,{"$f":"IF('Fiches_Utilisateurs_Service#1'!BM17=1,1,0)","v":0},null,{"$f":"IF('Fiches_Utilisateurs_Service#1'!BO17=1,1,0)","v":0},null,{"$f":"IF('Fiches_Utilisateurs_Service#1'!BQ17=1,1,0)","v":0},null,{"$f":"IF('Fiches_Utilisateurs_Service#1'!BS17=1,1,0)","v":0},null,{"$f":"IF('Fiches_Utilisateurs_Service#1'!BU17=1,1,0)","v":0},null,{"$f":"IF('Fiches_Utilisateurs_Service#1'!BW17=1,1,0)","v":0},null,{"$f":"IF('Fiches_Utilisateurs_Service#1'!BY17=1,1,0)","v":0},null,{"$f":"IF('Fiches_Utilisateurs_Service#1'!CA17=1,1,0)","v":0},null,{"$f":"IF('Fiches_Utilisateurs_Service#1'!CC17=1,1,0)","v":0}]
[]
[3,null,{"$f":"IF('Fiches_Utilisateurs_Service#1'!C19=1,1,0)","v":0},null,{"$f":"IF('Fiches_Utilisateurs_Service#1'!E19=1,1,0)","v":0},null,{"$f":"IF('Fiches_Utilisateurs_Service#1'!G19=1,1,0)","v":0},null,{"$f":"IF('Fiches_Utilisateurs_Service#1'!I19=1,1,0)","v":0},null,{"$f":"IF('Fiches_Utilisateurs_Service#1'!K19=1,1,0)","v":0},null,{"$f":"IF('Fiches_Utilisateurs_Service#1'!M19=1,1,0)","v":0},null,{"$f":"IF('Fiches_Utilisateurs_Service#1'!O19=1,1,0)","v":0},null,{"$f":"IF('Fiches_Utilisateurs_Service#1'!Q19=1,1,0)","v":0},null,{"$f":"IF('Fiches_Utilisateurs_Service#1'!S19=1,1,0)","v":0},null,{"$f":"IF('Fiches_Utilisateurs_Service#1'!U19=1,1,0)","v":0},null,{"$f":"IF('Fiches_Utilisateurs_Service#1'!W19=1,1,0)","v":0},null,{"$f":"IF('Fiches_Utilisateurs_Service#1'!Y19=1,1,0)","v":0},null,{"$f":"IF('Fiches_Utilisateurs_Service#1'!AA19=1,1,0)","v":0},null,{"$f":"IF('Fiches_Utilisateurs_Service#1'!AC19=1,1,0)","v":0},null,{"$f":"IF('Fiches_Utilisateurs_Service#1'!AE19=1,1,0)","v":0},null,{"$f":"IF('Fiches_Utilisateurs_Service#1'!AG19=1,1,0)","v":0},null,{"$f":"IF('Fiches_Utilisateurs_Service#1'!AI19=1,1,0)","v":0},null,{"$f":"IF('Fiches_Utilisateurs_Service#1'!AK19=1,1,0)","v":0},null,{"$f":"IF('Fiches_Utilisateurs_Service#1'!AM19=1,1,0)","v":0},null,{"$f":"IF('Fiches_Utilisateurs_Service#1'!AO19=1,1,0)","v":0},null,{"$f":"IF('Fiches_Utilisateurs_Service#1'!AQ19=1,1,0)","v":0},null,{"$f":"IF('Fiches_Utilisateurs_Service#1'!AS19=1,1,0)","v":0},null,{"$f":"IF('Fiches_Utilisateurs_Service#1'!AU19=1,1,0)","v":0},null,{"$f":"IF('Fiches_Utilisateurs_Service#1'!AW19=1,1,0)","v":0},null,{"$f":"IF('Fiches_Utilisateurs_Service#1'!AY19=1,1,0)","v":0},null,{"$f":"IF('Fiches_Utilisateurs_Service#1'!BA19=1,1,0)","v":0},null,{"$f":"IF('Fiches_Utilisateurs_Service#1'!BC19=1,1,0)","v":0},null,{"$f":"IF('Fiches_Utilisateurs_Service#1'!BE19=1,1,0)","v":0},null,{"$f":"IF('Fiches_Utilisateurs_Service#1'!BG19=1,1,0)","v":0},null,{"$f":"IF('Fiches_Utilisateurs_Service#1'!BI19=1,1,0)","v":0},null,{"$f":"IF('Fiches_Utilisateurs_Service#1'!BK19=1,1,0)","v":0},null,{"$f":"IF('Fiches_Utilisateurs_Service#1'!BM19=1,1,0)","v":0},null,{"$f":"IF('Fiches_Utilisateurs_Service#1'!BO19=1,1,0)","v":0},null,{"$f":"IF('Fiches_Utilisateurs_Service#1'!BQ19=1,1,0)","v":0},null,{"$f":"IF('Fiches_Utilisateurs_Service#1'!BS19=1,1,0)","v":0},null,{"$f":"IF('Fiches_Utilisateurs_Service#1'!BU19=1,1,0)","v":0},null,{"$f":"IF('Fiches_Utilisateurs_Service#1'!BW19=1,1,0)","v":0},null,{"$f":"IF('Fiches_Utilisateurs_Service#1'!BY19=1,1,0)","v":0},null,{"$f":"IF('Fiches_Utilisateurs_Service#1'!CA19=1,1,0)","v":0},null,{"$f":"IF('Fiches_Utilisateurs_Service#1'!CC19=1,1,0)","v":0}]
[]
[4,null,{"$f":"IF('Fiches_Utilisateurs_Service#1'!C21=1,1,0)","v":0},null,{"$f":"IF('Fiches_Utilisateurs_Service#1'!E21=1,1,0)","v":0},null,{"$f":"IF('Fiches_Utilisateurs_Service#1'!G21=1,1,0)","v":0},null,{"$f":"IF('Fiches_Utilisateurs_Service#1'!I21=1,1,0)","v":0},null,{"$f":"IF('Fiches_Utilisateurs_Service#1'!K21=1,1,0)","v":0},null,{"$f":"IF('Fiches_Utilisateurs_Service#1'!M21=1,1,0)","v":0},null,{"$f":"IF('Fiches_Utilisateurs_Service#1'!O21=1,1,0)","v":0},null,{"$f":"IF('Fiches_Utilisateurs_Service#1'!Q21=1,1,0)","v":0},null,{"$f":"IF('Fiches_Utilisateurs_Service#1'!S21=1,1,0)","v":0},null,{"$f":"IF('Fiches_Utilisateurs_Service#1'!U21=1,1,0)","v":0},null,{"$f":"IF('Fiches_Utilisateurs_Service#1'!W21=1,1,0)","v":0},null,{"$f":"IF('Fiches_Utilisateurs_Service#1'!Y21=1,1,0)","v":0},null,{"$f":"IF('Fiches_Utilisateurs_Service#1'!AA21=1,1,0)","v":0},null,{"$f":"IF('Fiches_Utilisateurs_Service#1'!AC21=1,1,0)","v":0},null,{"$f":"IF('Fiches_Utilisateurs_Service#1'!AE21=1,1,0)","v":0},null,{"$f":"IF('Fiches_Utilisateurs_Service#1'!AG21=1,1,0)","v":0},null,{"$f":"IF('Fiches_Utilisateurs_Service#1'!AI21=1,1,0)","v":0},null,{"$f":"IF('Fiches_Utilisateurs_Service#1'!AK21=1,1,0)","v":0},null,{"$f":"IF('Fiches_Utilisateurs_Service#1'!AM21=1,1,0)","v":0},null,{"$f":"IF('Fiches_Utilisateurs_Service#1'!AO21=1,1,0)","v":0},null,{"$f":"IF('Fiches_Utilisateurs_Service#1'!AQ21=1,1,0)","v":0},null,{"$f":"IF('Fiches_Utilisateurs_Service#1'!AS21=1,1,0)","v":0},null,{"$f":"IF('Fiches_Utilisateurs_Service#1'!AU21=1,1,0)","v":0},null,{"$f":"IF('Fiches_Utilisateurs_Service#1'!AW21=1,1,0)","v":0},null,{"$f":"IF('Fiches_Utilisateurs_Service#1'!AY21=1,1,0)","v":0},null,{"$f":"IF('Fiches_Utilisateurs_Service#1'!BA21=1,1,0)","v":0},null,{"$f":"IF('Fiches_Utilisateurs_Service#1'!BC21=1,1,0)","v":0},null,{"$f":"IF('Fiches_Utilisateurs_Service#1'!BE21=1,1,0)","v":0},null,{"$f":"IF('Fiches_Utilisateurs_Service#1'!BG21=1,1,0)","v":0},null,{"$f":"IF('Fiches_Utilisateurs_Service#1'!BI21=1,1,0)","v":0},null,{"$f":"IF('Fiches_Utilisateurs_Service#1'!BK21=1,1,0)","v":0},null,{"$f":"IF('Fiches_Utilisateurs_Service#1'!BM21=1,1,0)","v":0},null,{"$f":"IF('Fiches_Utilisateurs_Service#1'!BO21=1,1,0)","v":0},null,{"$f":"IF('Fiches_Utilisateurs_Service#1'!BQ21=1,1,0)","v":0},null,{"$f":"IF('Fiches_Utilisateurs_Service#1'!BS21=1,1,0)","v":0},null,{"$f":"IF('Fiches_Utilisateurs_Service#1'!BU21=1,1,0)","v":0},null,{"$f":"IF('Fiches_Utilisateurs_Service#1'!BW21=1,1,0)","v":0},null,{"$f":"IF('Fiches_Utilisateurs_Service#1'!BY21=1,1,0)","v":0},null,{"$f":"IF('Fiches_Utilisateurs_Service#1'!CA21=1,1,0)","v":0},null,{"$f":"IF('Fiches_Utilisateurs_Service#1'!CC21=1,1,0)","v":0}]
[]
[5,null,{"$f":"IF('Fiches_Utilisateurs_Service#1'!C23=1,1,0)","v":0},null,{"$f":"IF('Fiches_Utilisateurs_Service#1'!E23=1,1,0)","v":0},null,{"$f":"IF('Fiches_Utilisateurs_Service#1'!G23=1,1,0)","v":0},null,{"$f":"IF('Fiches_Utilisateurs_Service#1'!I23=1,1,0)","v":0},null,{"$f":"IF('Fiches_Utilisateurs_Service#1'!K23=1,1,0)","v":0},null,{"$f":"IF('Fiches_Utilisateurs_Service#1'!M23=1,1,0)","v":0},null,{"$f":"IF('Fiches_Utilisateurs_Service#1'!O23=1,1,0)","v":0},null,{"$f":"IF('Fiches_Utilisateurs_Service#1'!Q23=1,1,0)","v":0},null,{"$f":"IF('Fiches_Utilisateurs_Service#1'!S23=1,1,0)","v":0},null,{"$f":"IF('Fiches_Utilisateurs_Service#1'!U23=1,1,0)","v":0},null,{"$f":"IF('Fiches_Utilisateurs_Service#1'!W23=1,1,0)","v":0},null,{"$f":"IF('Fiches_Utilisateurs_Service#1'!Y23=1,1,0)","v":0},null,{"$f":"IF('Fiches_Utilisateurs_Service#1'!AA23=1,1,0)","v":0},null,{"$f":"IF('Fiches_Utilisateurs_Service#1'!AC23=1,1,0)","v":0},null,{"$f":"IF('Fiches_Utilisateurs_Service#1'!AE23=1,1,0)","v":0},null,{"$f":"IF('Fiches_Utilisateurs_Service#1'!AG23=1,1,0)","v":0},null,{"$f":"IF('Fiches_Utilisateurs_Service#1'!AI23=1,1,0)","v":0},null,{"$f":"IF('Fiches_Utilisateurs_Service#1'!AK23=1,1,0)","v":0},null,{"$f":"IF('Fiches_Utilisateurs_Service#1'!AM23=1,1,0)","v":0},null,{"$f":"IF('Fiches_Utilisateurs_Service#1'!AO23=1,1,0)","v":0},null,{"$f":"IF('Fiches_Utilisateurs_Service#1'!AQ23=1,1,0)","v":0},null,{"$f":"IF('Fiches_Utilisateurs_Service#1'!AS23=1,1,0)","v":0},null,{"$f":"IF('Fiches_Utilisateurs_Service#1'!AU23=1,1,0)","v":0},null,{"$f":"IF('Fiches_Utilisateurs_Service#1'!AW23=1,1,0)","v":0},null,{"$f":"IF('Fiches_Utilisateurs_Service#1'!AY23=1,1,0)","v":0},null,{"$f":"IF('Fiches_Utilisateurs_Service#1'!BA23=1,1,0)","v":0},null,{"$f":"IF('Fiches_Utilisateurs_Service#1'!BC23=1,1,0)","v":0},null,{"$f":"IF('Fiches_Utilisateurs_Service#1'!BE23=1,1,0)","v":0},null,{"$f":"IF('Fiches_Utilisateurs_Service#1'!BG23=1,1,0)","v":0},null,{"$f":"IF('Fiches_Utilisateurs_Service#1'!BI23=1,1,0)","v":0},null,{"$f":"IF('Fiches_Utilisateurs_Service#1'!BK23=1,1,0)","v":0},null,{"$f":"IF('Fiches_Utilisateurs_Service#1'!BM23=1,1,0)","v":0},null,{"$f":"IF('Fiches_Utilisateurs_Service#1'!BO23=1,1,0)","v":0},null,{"$f":"IF('Fiches_Utilisateurs_Service#1'!BQ23=1,1,0)","v":0},null,{"$f":"IF('Fiches_Utilisateurs_Service#1'!BS23=1,1,0)","v":0},null,{"$f":"IF('Fiches_Utilisateurs_Service#1'!BU23=1,1,0)","v":0},null,{"$f":"IF('Fiches_Utilisateurs_Service#1'!BW23=1,1,0)","v":0},null,{"$f":"IF('Fiches_Utilisateurs_Service#1'!BY23=1,1,0)","v":0},null,{"$f":"IF('Fiches_Utilisateurs_Service#1'!CA23=1,1,0)","v":0},null,{"$f":"IF('Fiches_Utilisateurs_Service#1'!CC23=1,1,0)","v":0}]
[]
[6,null,{"$f":"IF('Fiches_Utilisateurs_Service#1'!C25=1,1,0)","v":0},null,{"$f":"IF('Fiches_Utilisateurs_Service#1'!E25=1,1,0)","v":0},null,{"$f":"IF('Fiches_Utilisateurs_Service#1'!G25=1,1,0)","v":0},null,{"$f":"IF('Fiches_Utilisateurs_Service#1'!I25=1,1,0)","v":0},null,{"$f":"IF('Fiches_Utilisateurs_Service#1'!K25=1,1,0)","v":0},null,{"$f":"IF('Fiches_Utilisateurs_Service#1'!M25=1,1,0)","v":0},null,{"$f":"IF('Fiches_Utilisateurs_Service#1'!O25=1,1,0)","v":0},null,{"$f":"IF('Fiches_Utilisateurs_Service#1'!Q25=1,1,0)","v":0},null,{"$f":"IF('Fiches_Utilisateurs_Service#1'!S25=1,1,0)","v":0},null,{"$f":"IF('Fiches_Utilisateurs_Service#1'!U25=1,1,0)","v":0},null,{"$f":"IF('Fiches_Utilisateurs_Service#1'!W25=1,1,0)","v":0},null,{"$f":"IF('Fiches_Utilisateurs_Service#1'!Y25=1,1,0)","v":0},null,{"$f":"IF('Fiches_Utilisateurs_Service#1'!AA25=1,1,0)","v":0},null,{"$f":"IF('Fiches_Utilisateurs_Service#1'!AC25=1,1,0)","v":0},null,{"$f":"IF('Fiches_Utilisateurs_Service#1'!AE25=1,1,0)","v":0},null,{"$f":"IF('Fiches_Utilisateurs_Service#1'!AG25=1,1,0)","v":0},null,{"$f":"IF('Fiches_Utilisateurs_Service#1'!AI25=1,1,0)","v":0},null,{"$f":"IF('Fiches_Utilisateurs_Service#1'!AK25=1,1,0)","v":0},null,{"$f":"IF('Fiches_Utilisateurs_Service#1'!AM25=1,1,0)","v":0},null,{"$f":"IF('Fiches_Utilisateurs_Service#1'!AO25=1,1,0)","v":0},null,{"$f":"IF('Fiches_Utilisateurs_Service#1'!AQ25=1,1,0)","v":0},null,{"$f":"IF('Fiches_Utilisateurs_Service#1'!AS25=1,1,0)","v":0},null,{"$f":"IF('Fiches_Utilisateurs_Service#1'!AU25=1,1,0)","v":0},null,{"$f":"IF('Fiches_Utilisateurs_Service#1'!AW25=1,1,0)","v":0},null,{"$f":"IF('Fiches_Utilisateurs_Service#1'!AY25=1,1,0)","v":0},null,{"$f":"IF('Fiches_Utilisateurs_Service#1'!BA25=1,1,0)","v":0},null,{"$f":"IF('Fiches_Utilisateurs_Service#1'!BC25=1,1,0)","v":0},null,{"$f":"IF('Fiches_Utilisateurs_Service#1'!BE25=1,1,0)","v":0},null,{"$f":"IF('Fiches_Utilisateurs_Service#1'!BG25=1,1,0)","v":0},null,{"$f":"IF('Fiches_Utilisateurs_Service#1'!BI25=1,1,0)","v":0},null,{"$f":"IF('Fiches_Utilisateurs_Service#1'!BK25=1,1,0)","v":0},null,{"$f":"IF('Fiches_Utilisateurs_Service#1'!BM25=1,1,0)","v":0},null,{"$f":"IF('Fiches_Utilisateurs_Service#1'!BO25=1,1,0)","v":0},null,{"$f":"IF('Fiches_Utilisateurs_Service#1'!BQ25=1,1,0)","v":0},null,{"$f":"IF('Fiches_Utilisateurs_Service#1'!BS25=1,1,0)","v":0},null,{"$f":"IF('Fiches_Utilisateurs_Service#1'!BU25=1,1,0)","v":0},null,{"$f":"IF('Fiches_Utilisateurs_Service#1'!BW25=1,1,0)","v":0},null,{"$f":"IF('Fiches_Utilisateurs_Service#1'!BY25=1,1,0)","v":0},null,{"$f":"IF('Fiches_Utilisateurs_Service#1'!CA25=1,1,0)","v":0},null,{"$f":"IF('Fiches_Utilisateurs_Service#1'!CC25=1,1,0)","v":0}]
[]
[7,null,{"$f":"IF('Fiches_Utilisateurs_Service#1'!C27=1,1,0)","v":0},null,{"$f":"IF('Fiches_Utilisateurs_Service#1'!E27=1,1,0)","v":0},null,{"$f":"IF('Fiches_Utilisateurs_Service#1'!G27=1,1,0)","v":0},null,{"$f":"IF('Fiches_Utilisateurs_Service#1'!I27=1,1,0)","v":0},null,{"$f":"IF('Fiches_Utilisateurs_Service#1'!K27=1,1,0)","v":0},null,{"$f":"IF('Fiches_Utilisateurs_Service#1'!M27=1,1,0)","v":0},null,{"$f":"IF('Fiches_Utilisateurs_Service#1'!O27=1,1,0)","v":0},null,{"$f":"IF('Fiches_Utilisateurs_Service#1'!Q27=1,1,0)","v":0},null,{"$f":"IF('Fiches_Utilisateurs_Service#1'!S27=1,1,0)","v":0},null,{"$f":"IF('Fiches_Utilisateurs_Service#1'!U27=1,1,0)","v":0},null,{"$f":"IF('Fiches_Utilisateurs_Service#1'!W27=1,1,0)","v":0},null,{"$f":"IF('Fiches_Utilisateurs_Service#1'!Y27=1,1,0)","v":0},null,{"$f":"IF('Fiches_Utilisateurs_Service#1'!AA27=1,1,0)","v":0},null,{"$f":"IF('Fiches_Utilisateurs_Service#1'!AC27=1,1,0)","v":0},null,{"$f":"IF('Fiches_Utilisateurs_Service#1'!AE27=1,1,0)","v":0},null,{"$f":"IF('Fiches_Utilisateurs_Service#1'!AG27=1,1,0)","v":0},null,{"$f":"IF('Fiches_Utilisateurs_Service#1'!AI27=1,1,0)","v":0},null,{"$f":"IF('Fiches_Utilisateurs_Service#1'!AK27=1,1,0)","v":0},null,{"$f":"IF('Fiches_Utilisateurs_Service#1'!AM27=1,1,0)","v":0},null,{"$f":"IF('Fiches_Utilisateurs_Service#1'!AO27=1,1,0)","v":0},null,{"$f":"IF('Fiches_Utilisateurs_Service#1'!AQ27=1,1,0)","v":0},null,{"$f":"IF('Fiches_Utilisateurs_Service#1'!AS27=1,1,0)","v":0},null,{"$f":"IF('Fiches_Utilisateurs_Service#1'!AU27=1,1,0)","v":0},null,{"$f":"IF('Fiches_Utilisateurs_Service#1'!AW27=1,1,0)","v":0},null,{"$f":"IF('Fiches_Utilisateurs_Service#1'!AY27=1,1,0)","v":0},null,{"$f":"IF('Fiches_Utilisateurs_Service#1'!BA27=1,1,0)","v":0},null,{"$f":"IF('Fiches_Utilisateurs_Service#1'!BC27=1,1,0)","v":0},null,{"$f":"IF('Fiches_Utilisateurs_Service#1'!BE27=1,1,0)","v":0},null,{"$f":"IF('Fiches_Utilisateurs_Service#1'!BG27=1,1,0)","v":0},null,{"$f":"IF('Fiches_Utilisateurs_Service#1'!BI27=1,1,0)","v":0},null,{"$f":"IF('Fiches_Utilisateurs_Service#1'!BK27=1,1,0)","v":0},null,{"$f":"IF('Fiches_Utilisateurs_Service#1'!BM27=1,1,0)","v":0},null,{"$f":"IF('Fiches_Utilisateurs_Service#1'!BO27=1,1,0)","v":0},null,{"$f":"IF('Fiches_Utilisateurs_Service#1'!BQ27=1,1,0)","v":0},null,{"$f":"IF('Fiches_Utilisateurs_Service#1'!BS27=1,1,0)","v":0},null,{"$f":"IF('Fiches_Utilisateurs_Service#1'!BU27=1,1,0)","v":0},null,{"$f":"IF('Fiches_Utilisateurs_Service#1'!BW27=1,1,0)","v":0},null,{"$f":"IF('Fiches_Utilisateurs_Service#1'!BY27=1,1,0)","v":0},null,{"$f":"IF('Fiches_Utilisateurs_Service#1'!CA27=1,1,0)","v":0},null,{"$f":"IF('Fiches_Utilisateurs_Service#1'!CC27=1,1,0)","v":0}]
[]
[8,null,{"$f":"IF('Fiches_Utilisateurs_Service#1'!C29=1,1,0)","v":0},null,{"$f":"IF('Fiches_Utilisateurs_Service#1'!E29=1,1,0)","v":0},null,{"$f":"IF('Fiches_Utilisateurs_Service#1'!G29=1,1,0)","v":0},null,{"$f":"IF('Fiches_Utilisateurs_Service#1'!I29=1,1,0)","v":0},null,{"$f":"IF('Fiches_Utilisateurs_Service#1'!K29=1,1,0)","v":0},null,{"$f":"IF('Fiches_Utilisateurs_Service#1'!M29=1,1,0)","v":0},null,{"$f":"IF('Fiches_Utilisateurs_Service#1'!O29=1,1,0)","v":0},null,{"$f":"IF('Fiches_Utilisateurs_Service#1'!Q29=1,1,0)","v":0},null,{"$f":"IF('Fiches_Utilisateurs_Service#1'!S29=1,1,0)","v":0},null,{"$f":"IF('Fiches_Utilisateurs_Service#1'!U29=1,1,0)","v":0},null,{"$f":"IF('Fiches_Utilisateurs_Service#1'!W29=1,1,0)","v":0},null,{"$f":"IF('Fiches_Utilisateurs_Service#1'!Y29=1,1,0)","v":0},null,{"$f":"IF('Fiches_Utilisateurs_Service#1'!AA29=1,1,0)","v":0},null,{"$f":"IF('Fiches_Utilisateurs_Service#1'!AC29=1,1,0)","v":0},null,{"$f":"IF('Fiches_Utilisateurs_Service#1'!AE29=1,1,0)","v":0},null,{"$f":"IF('Fiches_Utilisateurs_Service#1'!AG29=1,1,0)","v":0},null,{"$f":"IF('Fiches_Utilisateurs_Service#1'!AI29=1,1,0)","v":0},null,{"$f":"IF('Fiches_Utilisateurs_Service#1'!AK29=1,1,0)","v":0},null,{"$f":"IF('Fiches_Utilisateurs_Service#1'!AM29=1,1,0)","v":0},null,{"$f":"IF('Fiches_Utilisateurs_Service#1'!AO29=1,1,0)","v":0},null,{"$f":"IF('Fiches_Utilisateurs_Service#1'!AQ29=1,1,0)","v":0},null,{"$f":"IF('Fiches_Utilisateurs_Service#1'!AS29=1,1,0)","v":0},null,{"$f":"IF('Fiches_Utilisateurs_Service#1'!AU29=1,1,0)","v":0},null,{"$f":"IF('Fiches_Utilisateurs_Service#1'!AW29=1,1,0)","v":0},null,{"$f":"IF('Fiches_Utilisateurs_Service#1'!AY29=1,1,0)","v":0},null,{"$f":"IF('Fiches_Utilisateurs_Service#1'!BA29=1,1,0)","v":0},null,{"$f":"IF('Fiches_Utilisateurs_Service#1'!BC29=1,1,0)","v":0},null,{"$f":"IF('Fiches_Utilisateurs_Service#1'!BE29=1,1,0)","v":0},null,{"$f":"IF('Fiches_Utilisateurs_Service#1'!BG29=1,1,0)","v":0},null,{"$f":"IF('Fiches_Utilisateurs_Service#1'!BI29=1,1,0)","v":0},null,{"$f":"IF('Fiches_Utilisateurs_Service#1'!BK29=1,1,0)","v":0},null,{"$f":"IF('Fiches_Utilisateurs_Service#1'!BM29=1,1,0)","v":0},null,{"$f":"IF('Fiches_Utilisateurs_Service#1'!BO29=1,1,0)","v":0},null,{"$f":"IF('Fiches_Utilisateurs_Service#1'!BQ29=1,1,0)","v":0},null,{"$f":"IF('Fiches_Utilisateurs_Service#1'!BS29=1,1,0)","v":0},null,{"$f":"IF('Fiches_Utilisateurs_Service#1'!BU29=1,1,0)","v":0},null,{"$f":"IF('Fiches_Utilisateurs_Service#1'!BW29=1,1,0)","v":0},null,{"$f":"IF('Fiches_Utilisateurs_Service#1'!BY29=1,1,0)","v":0},null,{"$f":"IF('Fiches_Utilisateurs_Service#1'!CA29=1,1,0)","v":0},null,{"$f":"IF('Fiches_Utilisateurs_Service#1'!CC29=1,1,0)","v":0}]
[]
[9,null,{"$f":"IF('Fiches_Utilisateurs_Service#1'!C31=1,1,0)","v":0},null,{"$f":"IF('Fiches_Utilisateurs_Service#1'!E31=1,1,0)","v":0},null,{"$f":"IF('Fiches_Utilisateurs_Service#1'!G31=1,1,0)","v":0},null,{"$f":"IF('Fiches_Utilisateurs_Service#1'!I31=1,1,0)","v":0},null,{"$f":"IF('Fiches_Utilisateurs_Service#1'!K31=1,1,0)","v":0},null,{"$f":"IF('Fiches_Utilisateurs_Service#1'!M31=1,1,0)","v":0},null,{"$f":"IF('Fiches_Utilisateurs_Service#1'!O31=1,1,0)","v":0},null,{"$f":"IF('Fiches_Utilisateurs_Service#1'!Q31=1,1,0)","v":0},null,{"$f":"IF('Fiches_Utilisateurs_Service#1'!S31=1,1,0)","v":0},null,{"$f":"IF('Fiches_Utilisateurs_Service#1'!U31=1,1,0)","v":0},null,{"$f":"IF('Fiches_Utilisateurs_Service#1'!W31=1,1,0)","v":0},null,{"$f":"IF('Fiches_Utilisateurs_Service#1'!Y31=1,1,0)","v":0},null,{"$f":"IF('Fiches_Utilisateurs_Service#1'!AA31=1,1,0)","v":0},null,{"$f":"IF('Fiches_Utilisateurs_Service#1'!AC31=1,1,0)","v":0},null,{"$f":"IF('Fiches_Utilisateurs_Service#1'!AE31=1,1,0)","v":0},null,{"$f":"IF('Fiches_Utilisateurs_Service#1'!AG31=1,1,0)","v":0},null,{"$f":"IF('Fiches_Utilisateurs_Service#1'!AI31=1,1,0)","v":0},null,{"$f":"IF('Fiches_Utilisateurs_Service#1'!AK31=1,1,0)","v":0},null,{"$f":"IF('Fiches_Utilisateurs_Service#1'!AM31=1,1,0)","v":0},null,{"$f":"IF('Fiches_Utilisateurs_Service#1'!AO31=1,1,0)","v":0},null,{"$f":"IF('Fiches_Utilisateurs_Service#1'!AQ31=1,1,0)","v":0},null,{"$f":"IF('Fiches_Utilisateurs_Service#1'!AS31=1,1,0)","v":0},null,{"$f":"IF('Fiches_Utilisateurs_Service#1'!AU31=1,1,0)","v":0},null,{"$f":"IF('Fiches_Utilisateurs_Service#1'!AW31=1,1,0)","v":0},null,{"$f":"IF('Fiches_Utilisateurs_Service#1'!AY31=1,1,0)","v":0},null,{"$f":"IF('Fiches_Utilisateurs_Service#1'!BA31=1,1,0)","v":0},null,{"$f":"IF('Fiches_Utilisateurs_Service#1'!BC31=1,1,0)","v":0},null,{"$f":"IF('Fiches_Utilisateurs_Service#1'!BE31=1,1,0)","v":0},null,{"$f":"IF('Fiches_Utilisateurs_Service#1'!BG31=1,1,0)","v":0},null,{"$f":"IF('Fiches_Utilisateurs_Service#1'!BI31=1,1,0)","v":0},null,{"$f":"IF('Fiches_Utilisateurs_Service#1'!BK31=1,1,0)","v":0},null,{"$f":"IF('Fiches_Utilisateurs_Service#1'!BM31=1,1,0)","v":0},null,{"$f":"IF('Fiches_Utilisateurs_Service#1'!BO31=1,1,0)","v":0},null,{"$f":"IF('Fiches_Utilisateurs_Service#1'!BQ31=1,1,0)","v":0},null,{"$f":"IF('Fiches_Utilisateurs_Service#1'!BS31=1,1,0)","v":0},null,{"$f":"IF('Fiches_Utilisateurs_Service#1'!BU31=1,1,0)","v":0},null,{"$f":"IF('Fiches_Utilisateurs_Service#1'!BW31=1,1,0)","v":0},null,{"$f":"IF('Fiches_Utilisateurs_Service#1'!BY31=1,1,0)","v":0},null,{"$f":"IF('Fiches_Utilisateurs_Service#1'!CA31=1,1,0)","v":0},null,{"$f":"IF('Fiches_Utilisateurs_Service#1'!CC31=1,1,0)","v":0}]
[]
[10,null,{"$f":"IF('Fiches_Utilisateurs_Service#1'!C33=1,1,0)","v":0},null,{"$f":"IF('Fiches_Utilisateurs_Service#1'!E33=1,1,0)","v":0},null,{"$f":"IF('Fiches_Utilisateurs_Service#1'!G33=1,1,0)","v":0},null,{"$f":"IF('Fiches_Utilisateurs_Service#1'!I33=1,1,0)","v":0},null,{"$f":"IF('Fiches_Utilisateurs_Service#1'!K33=1,1,0)","v":0},null,{"$f":"IF('Fiches_Utilisateurs_Service#1'!M33=1,1,0)","v":0},null,{"$f":"IF('Fiches_Utilisateurs_Service#1'!O33=1,1,0)","v":0},null,{"$f":"IF('Fiches_Utilisateurs_Service#1'!Q33=1,1,0)","v":0},null,{"$f":"IF('Fiches_Utilisateurs_Service#1'!S33=1,1,0)","v":0},null,{"$f":"IF('Fiches_Utilisateurs_Service#1'!U33=1,1,0)","v":0},null,{"$f":"IF('Fiches_Utilisateurs_Service#1'!W33=1,1,0)","v":0},null,{"$f":"IF('Fiches_Utilisateurs_Service#1'!Y33=1,1,0)","v":0},null,{"$f":"IF('Fiches_Utilisateurs_Service#1'!AA33=1,1,0)","v":0},null,{"$f":"IF('Fiches_Utilisateurs_Service#1'!AC33=1,1,0)","v":0},null,{"$f":"IF('Fiches_Utilisateurs_Service#1'!AE33=1,1,0)","v":0},null,{"$f":"IF('Fiches_Utilisateurs_Service#1'!AG33=1,1,0)","v":0},null,{"$f":"IF('Fiches_Utilisateurs_Service#1'!AI33=1,1,0)","v":0},null,{"$f":"IF('Fiches_Utilisateurs_Service#1'!AK33=1,1,0)","v":0},null,{"$f":"IF('Fiches_Utilisateurs_Service#1'!AM33=1,1,0)","v":0},null,{"$f":"IF('Fiches_Utilisateurs_Service#1'!AO33=1,1,0)","v":0},null,{"$f":"IF('Fiches_Utilisateurs_Service#1'!AQ33=1,1,0)","v":0},null,{"$f":"IF('Fiches_Utilisateurs_Service#1'!AS33=1,1,0)","v":0},null,{"$f":"IF('Fiches_Utilisateurs_Service#1'!AU33=1,1,0)","v":0},null,{"$f":"IF('Fiches_Utilisateurs_Service#1'!AW33=1,1,0)","v":0},null,{"$f":"IF('Fiches_Utilisateurs_Service#1'!AY33=1,1,0)","v":0},null,{"$f":"IF('Fiches_Utilisateurs_Service#1'!BA33=1,1,0)","v":0},null,{"$f":"IF('Fiches_Utilisateurs_Service#1'!BC33=1,1,0)","v":0},null,{"$f":"IF('Fiches_Utilisateurs_Service#1'!BE33=1,1,0)","v":0},null,{"$f":"IF('Fiches_Utilisateurs_Service#1'!BG33=1,1,0)","v":0},null,{"$f":"IF('Fiches_Utilisateurs_Service#1'!BI33=1,1,0)","v":0},null,{"$f":"IF('Fiches_Utilisateurs_Service#1'!BK33=1,1,0)","v":0},null,{"$f":"IF('Fiches_Utilisateurs_Service#1'!BM33=1,1,0)","v":0},null,{"$f":"IF('Fiches_Utilisateurs_Service#1'!BO33=1,1,0)","v":0},null,{"$f":"IF('Fiches_Utilisateurs_Service#1'!BQ33=1,1,0)","v":0},null,{"$f":"IF('Fiches_Utilisateurs_Service#1'!BS33=1,1,0)","v":0},null,{"$f":"IF('Fiches_Utilisateurs_Service#1'!BU33=1,1,0)","v":0},null,{"$f":"IF('Fiches_Utilisateurs_Service#1'!BW33=1,1,0)","v":0},null,{"$f":"IF('Fiches_Utilisateurs_Service#1'!BY33=1,1,0)","v":0},null,{"$f":"IF('Fiches_Utilisateurs_Service#1'!CA33=1,1,0)","v":0},null,{"$f":"IF('Fiches_Utilisateurs_Service#1'!CC33=1,1,0)","v":0}]
[]
[11,null,{"$f":"IF('Fiches_Utilisateurs_Service#1'!C35=1,1,0)","v":0},null,{"$f":"IF('Fiches_Utilisateurs_Service#1'!E35=1,1,0)","v":0},null,{"$f":"IF('Fiches_Utilisateurs_Service#1'!G35=1,1,0)","v":0},null,{"$f":"IF('Fiches_Utilisateurs_Service#1'!I35=1,1,0)","v":0},null,{"$f":"IF('Fiches_Utilisateurs_Service#1'!K35=1,1,0)","v":0},null,{"$f":"IF('Fiches_Utilisateurs_Service#1'!M35=1,1,0)","v":0},null,{"$f":"IF('Fiches_Utilisateurs_Service#1'!O35=1,1,0)","v":0},null,{"$f":"IF('Fiches_Utilisateurs_Service#1'!Q35=1,1,0)","v":0},null,{"$f":"IF('Fiches_Utilisateurs_Service#1'!S35=1,1,0)","v":0},null,{"$f":"IF('Fiches_Utilisateurs_Service#1'!U35=1,1,0)","v":0},null,{"$f":"IF('Fiches_Utilisateurs_Service#1'!W35=1,1,0)","v":0},null,{"$f":"IF('Fiches_Utilisateurs_Service#1'!Y35=1,1,0)","v":0},null,{"$f":"IF('Fiches_Utilisateurs_Service#1'!AA35=1,1,0)","v":0},null,{"$f":"IF('Fiches_Utilisateurs_Service#1'!AC35=1,1,0)","v":0},null,{"$f":"IF('Fiches_Utilisateurs_Service#1'!AE35=1,1,0)","v":0},null,{"$f":"IF('Fiches_Utilisateurs_Service#1'!AG35=1,1,0)","v":0},null,{"$f":"IF('Fiches_Utilisateurs_Service#1'!AI35=1,1,0)","v":0},null,{"$f":"IF('Fiches_Utilisateurs_Service#1'!AK35=1,1,0)","v":0},null,{"$f":"IF('Fiches_Utilisateurs_Service#1'!AM35=1,1,0)","v":0},null,{"$f":"IF('Fiches_Utilisateurs_Service#1'!AO35=1,1,0)","v":0},null,{"$f":"IF('Fiches_Utilisateurs_Service#1'!AQ35=1,1,0)","v":0},null,{"$f":"IF('Fiches_Utilisateurs_Service#1'!AS35=1,1,0)","v":0},null,{"$f":"IF('Fiches_Utilisateurs_Service#1'!AU35=1,1,0)","v":0},null,{"$f":"IF('Fiches_Utilisateurs_Service#1'!AW35=1,1,0)","v":0},null,{"$f":"IF('Fiches_Utilisateurs_Service#1'!AY35=1,1,0)","v":0},null,{"$f":"IF('Fiches_Utilisateurs_Service#1'!BA35=1,1,0)","v":0},null,{"$f":"IF('Fiches_Utilisateurs_Service#1'!BC35=1,1,0)","v":0},null,{"$f":"IF('Fiches_Utilisateurs_Service#1'!BE35=1,1,0)","v":0},null,{"$f":"IF('Fiches_Utilisateurs_Service#1'!BG35=1,1,0)","v":0},null,{"$f":"IF('Fiches_Utilisateurs_Service#1'!BI35=1,1,0)","v":0},null,{"$f":"IF('Fiches_Utilisateurs_Service#1'!BK35=1,1,0)","v":0},null,{"$f":"IF('Fiches_Utilisateurs_Service#1'!BM35=1,1,0)","v":0},null,{"$f":"IF('Fiches_Utilisateurs_Service#1'!BO35=1,1,0)","v":0},null,{"$f":"IF('Fiches_Utilisateurs_Service#1'!BQ35=1,1,0)","v":0},null,{"$f":"IF('Fiches_Utilisateurs_Service#1'!BS35=1,1,0)","v":0},null,{"$f":"IF('Fiches_Utilisateurs_Service#1'!BU35=1,1,0)","v":0},null,{"$f":"IF('Fiches_Utilisateurs_Service#1'!BW35=1,1,0)","v":0},null,{"$f":"IF('Fiches_Utilisateurs_Service#1'!BY35=1,1,0)","v":0},null,{"$f":"IF('Fiches_Utilisateurs_Service#1'!CA35=1,1,0)","v":0},null,{"$f":"IF('Fiches_Utilisateurs_Service#1'!CC35=1,1,0)","v":0}]
[]
["tot sale",{"$f":"SUM(C37:CC37)","v":0},{"$f":"SUM(C15:C35)","v":0},null,{"$f":"SUM(E15:E35)","v":0},null,{"$f":"SUM(G15:G35)","v":0},null,{"$f":"SUM(I15:I35)","v":0},null,{"$f":"SUM(K15:K35)","v":0},null,{"$f":"SUM(M15:M35)","v":0},null,{"$f":"SUM(O15:O35)","v":0},null,{"$f":"SUM(Q15:Q35)","v":0},null,{"$f":"SUM(S15:S35)","v":0},null,{"$f":"SUM(U15:U35)","v":0},null,{"$f":"SUM(W15:W35)","v":0},null,{"$f":"SUM(Y15:Y35)","v":0},null,{"$f":"SUM(AA15:AA35)","v":0},null,{"$f":"SUM(AC15:AC35)","v":0},null,{"$f":"SUM(AE15:AE35)","v":0},null,{"$f":"SUM(AG15:AG35)","v":0},null,{"$f":"SUM(AI15:AI35)","v":0},null,{"$f":"SUM(AK15:AK35)","v":0},null,{"$f":"SUM(AM15:AM35)","v":0},null,{"$f":"SUM(AO15:AO35)","v":0},null,{"$f":"SUM(AQ15:AQ35)","v":0},null,{"$f":"SUM(AS15:AS35)","v":0},null,{"$f":"SUM(AU15:AU35)","v":0},null,{"$f":"SUM(AW15:AW35)","v":0},null,{"$f":"SUM(AY15:AY35)","v":0},null,{"$f":"SUM(BA15:BA35)","v":0},null,{"$f":"SUM(BC15:BC35)","v":0},null,{"$f":"SUM(BE15:BE35)","v":0},null,{"$f":"SUM(BG15:BG35)","v":0},null,{"$f":"SUM(BI15:BI35)","v":0},null,{"$f":"SUM(BK15:BK35)","v":0},null,{"$f":"SUM(BM15:BM35)","v":0},null,{"$f":"SUM(BO15:BO35)","v":0},null,{"$f":"SUM(BQ15:BQ35)","v":0},null,{"$f":"SUM(BS15:BS35)","v":0},null,{"$f":"SUM(BU15:BU35)","v":0},null,{"$f":"SUM(BW15:BW35)","v":0},null,{"$f":"SUM(BY15:BY35)","v":0},null,{"$f":"SUM(CA15:CA35)","v":0},null,{"$f":"SUM(CC15:CC35)","v":0}]
[]
[12,null,{"$f":"IF('Fiches_Utilisateurs_Service#1'!C39=1,1,0)","v":0},null,{"$f":"IF('Fiches_Utilisateurs_Service#1'!E39=1,1,0)","v":0},null,{"$f":"IF('Fiches_Utilisateurs_Service#1'!G39=1,1,0)","v":0},null,{"$f":"IF('Fiches_Utilisateurs_Service#1'!I39=1,1,0)","v":0},null,{"$f":"IF('Fiches_Utilisateurs_Service#1'!K39=1,1,0)","v":0},null,{"$f":"IF('Fiches_Utilisateurs_Service#1'!M39=1,1,0)","v":0},null,{"$f":"IF('Fiches_Utilisateurs_Service#1'!O39=1,1,0)","v":0},null,{"$f":"IF('Fiches_Utilisateurs_Service#1'!Q39=1,1,0)","v":0},null,{"$f":"IF('Fiches_Utilisateurs_Service#1'!S39=1,1,0)","v":0},null,{"$f":"IF('Fiches_Utilisateurs_Service#1'!U39=1,1,0)","v":0},null,{"$f":"IF('Fiches_Utilisateurs_Service#1'!W39=1,1,0)","v":0},null,{"$f":"IF('Fiches_Utilisateurs_Service#1'!Y39=1,1,0)","v":0},null,{"$f":"IF('Fiches_Utilisateurs_Service#1'!AA39=1,1,0)","v":0},null,{"$f":"IF('Fiches_Utilisateurs_Service#1'!AC39=1,1,0)","v":0},null,{"$f":"IF('Fiches_Utilisateurs_Service#1'!AE39=1,1,0)","v":0},null,{"$f":"IF('Fiches_Utilisateurs_Service#1'!AG39=1,1,0)","v":0},null,{"$f":"IF('Fiches_Utilisateurs_Service#1'!AI39=1,1,0)","v":0},null,{"$f":"IF('Fiches_Utilisateurs_Service#1'!AK39=1,1,0)","v":0},null,{"$f":"IF('Fiches_Utilisateurs_Service#1'!AM39=1,1,0)","v":0},null,{"$f":"IF('Fiches_Utilisateurs_Service#1'!AO39=1,1,0)","v":0},null,{"$f":"IF('Fiches_Utilisateurs_Service#1'!AQ39=1,1,0)","v":0},null,{"$f":"IF('Fiches_Utilisateurs_Service#1'!AS39=1,1,0)","v":0},null,{"$f":"IF('Fiches_Utilisateurs_Service#1'!AU39=1,1,0)","v":0},null,{"$f":"IF('Fiches_Utilisateurs_Service#1'!AW39=1,1,0)","v":0},null,{"$f":"IF('Fiches_Utilisateurs_Service#1'!AY39=1,1,0)","v":0},null,{"$f":"IF('Fiches_Utilisateurs_Service#1'!BA39=1,1,0)","v":0},null,{"$f":"IF('Fiches_Utilisateurs_Service#1'!BC39=1,1,0)","v":0},null,{"$f":"IF('Fiches_Utilisateurs_Service#1'!BE39=1,1,0)","v":0},null,{"$f":"IF('Fiches_Utilisateurs_Service#1'!BG39=1,1,0)","v":0},null,{"$f":"IF('Fiches_Utilisateurs_Service#1'!BI39=1,1,0)","v":0},null,{"$f":"IF('Fiches_Utilisateurs_Service#1'!BK39=1,1,0)","v":0},null,{"$f":"IF('Fiches_Utilisateurs_Service#1'!BM39=1,1,0)","v":0},null,{"$f":"IF('Fiches_Utilisateurs_Service#1'!BO39=1,1,0)","v":0},null,{"$f":"IF('Fiches_Utilisateurs_Service#1'!BQ39=1,1,0)","v":0},null,{"$f":"IF('Fiches_Utilisateurs_Service#1'!BS39=1,1,0)","v":0},null,{"$f":"IF('Fiches_Utilisateurs_Service#1'!BU39=1,1,0)","v":0},null,{"$f":"IF('Fiches_Utilisateurs_Service#1'!BW39=1,1,0)","v":0},null,{"$f":"IF('Fiches_Utilisateurs_Service#1'!BY39=1,1,0)","v":0},null,{"$f":"IF('Fiches_Utilisateurs_Service#1'!CA39=1,1,0)","v":0},null,{"$f":"IF('Fiches_Utilisateurs_Service#1'!CC39=1,1,0)","v":0}]
[]
[13,null,{"$f":"IF('Fiches_Utilisateurs_Service#1'!C41=1,1,0)","v":0},null,{"$f":"IF('Fiches_Utilisateurs_Service#1'!E41=1,1,0)","v":0},null,{"$f":"IF('Fiches_Utilisateurs_Service#1'!G41=1,1,0)","v":0},null,{"$f":"IF('Fiches_Utilisateurs_Service#1'!I41=1,1,0)","v":0},null,{"$f":"IF('Fiches_Utilisateurs_Service#1'!K41=1,1,0)","v":0},null,{"$f":"IF('Fiches_Utilisateurs_Service#1'!M41=1,1,0)","v":0},null,{"$f":"IF('Fiches_Utilisateurs_Service#1'!O41=1,1,0)","v":0},null,{"$f":"IF('Fiches_Utilisateurs_Service#1'!Q41=1,1,0)","v":0},null,{"$f":"IF('Fiches_Utilisateurs_Service#1'!S41=1,1,0)","v":0},null,{"$f":"IF('Fiches_Utilisateurs_Service#1'!U41=1,1,0)","v":0},null,{"$f":"IF('Fiches_Utilisateurs_Service#1'!W41=1,1,0)","v":0},null,{"$f":"IF('Fiches_Utilisateurs_Service#1'!Y41=1,1,0)","v":0},null,{"$f":"IF('Fiches_Utilisateurs_Service#1'!AA41=1,1,0)","v":0},null,{"$f":"IF('Fiches_Utilisateurs_Service#1'!AC41=1,1,0)","v":0},null,{"$f":"IF('Fiches_Utilisateurs_Service#1'!AE41=1,1,0)","v":0},null,{"$f":"IF('Fiches_Utilisateurs_Service#1'!AG41=1,1,0)","v":0},null,{"$f":"IF('Fiches_Utilisateurs_Service#1'!AI41=1,1,0)","v":0},null,{"$f":"IF('Fiches_Utilisateurs_Service#1'!AK41=1,1,0)","v":0},null,{"$f":"IF('Fiches_Utilisateurs_Service#1'!AM41=1,1,0)","v":0},null,{"$f":"IF('Fiches_Utilisateurs_Service#1'!AO41=1,1,0)","v":0},null,{"$f":"IF('Fiches_Utilisateurs_Service#1'!AQ41=1,1,0)","v":0},null,{"$f":"IF('Fiches_Utilisateurs_Service#1'!AS41=1,1,0)","v":0},null,{"$f":"IF('Fiches_Utilisateurs_Service#1'!AU41=1,1,0)","v":0},null,{"$f":"IF('Fiches_Utilisateurs_Service#1'!AW41=1,1,0)","v":0},null,{"$f":"IF('Fiches_Utilisateurs_Service#1'!AY41=1,1,0)","v":0},null,{"$f":"IF('Fiches_Utilisateurs_Service#1'!BA41=1,1,0)","v":0},null,{"$f":"IF('Fiches_Utilisateurs_Service#1'!BC41=1,1,0)","v":0},null,{"$f":"IF('Fiches_Utilisateurs_Service#1'!BE41=1,1,0)","v":0},null,{"$f":"IF('Fiches_Utilisateurs_Service#1'!BG41=1,1,0)","v":0},null,{"$f":"IF('Fiches_Utilisateurs_Service#1'!BI41=1,1,0)","v":0},null,{"$f":"IF('Fiches_Utilisateurs_Service#1'!BK41=1,1,0)","v":0},null,{"$f":"IF('Fiches_Utilisateurs_Service#1'!BM41=1,1,0)","v":0},null,{"$f":"IF('Fiches_Utilisateurs_Service#1'!BO41=1,1,0)","v":0},null,{"$f":"IF('Fiches_Utilisateurs_Service#1'!BQ41=1,1,0)","v":0},null,{"$f":"IF('Fiches_Utilisateurs_Service#1'!BS41=1,1,0)","v":0},null,{"$f":"IF('Fiches_Utilisateurs_Service#1'!BU41=1,1,0)","v":0},null,{"$f":"IF('Fiches_Utilisateurs_Service#1'!BW41=1,1,0)","v":0},null,{"$f":"IF('Fiches_Utilisateurs_Service#1'!BY41=1,1,0)","v":0},null,{"$f":"IF('Fiches_Utilisateurs_Service#1'!CA41=1,1,0)","v":0},null,{"$f":"IF('Fiches_Utilisateurs_Service#1'!CC41=1,1,0)","v":0}]
[]
[14,null,{"$f":"IF('Fiches_Utilisateurs_Service#1'!C43=1,1,0)","v":0},null,{"$f":"IF('Fiches_Utilisateurs_Service#1'!E43=1,1,0)","v":0},null,{"$f":"IF('Fiches_Utilisateurs_Service#1'!G43=1,1,0)","v":0},null,{"$f":"IF('Fiches_Utilisateurs_Service#1'!I43=1,1,0)","v":0},null,{"$f":"IF('Fiches_Utilisateurs_Service#1'!K43=1,1,0)","v":0},null,{"$f":"IF('Fiches_Utilisateurs_Service#1'!M43=1,1,0)","v":0},null,{"$f":"IF('Fiches_Utilisateurs_Service#1'!O43=1,1,0)","v":0},null,{"$f":"IF('Fiches_Utilisateurs_Service#1'!Q43=1,1,0)","v":0},null,{"$f":"IF('Fiches_Utilisateurs_Service#1'!S43=1,1,0)","v":0},null,{"$f":"IF('Fiches_Utilisateurs_Service#1'!U43=1,1,0)","v":0},null,{"$f":"IF('Fiches_Utilisateurs_Service#1'!W43=1,1,0)","v":0},null,{"$f":"IF('Fiches_Utilisateurs_Service#1'!Y43=1,1,0)","v":0},null,{"$f":"IF('Fiches_Utilisateurs_Service#1'!AA43=1,1,0)","v":0},null,{"$f":"IF('Fiches_Utilisateurs_Service#1'!AC43=1,1,0)","v":0},null,{"$f":"IF('Fiches_Utilisateurs_Service#1'!AE43=1,1,0)","v":0},null,{"$f":"IF('Fiches_Utilisateurs_Service#1'!AG43=1,1,0)","v":0},null,{"$f":"IF('Fiches_Utilisateurs_Service#1'!AI43=1,1,0)","v":0},null,{"$f":"IF('Fiches_Utilisateurs_Service#1'!AK43=1,1,0)","v":0},null,{"$f":"IF('Fiches_Utilisateurs_Service#1'!AM43=1,1,0)","v":0},null,{"$f":"IF('Fiches_Utilisateurs_Service#1'!AO43=1,1,0)","v":0},null,{"$f":"IF('Fiches_Utilisateurs_Service#1'!AQ43=1,1,0)","v":0},null,{"$f":"IF('Fiches_Utilisateurs_Service#1'!AS43=1,1,0)","v":0},null,{"$f":"IF('Fiches_Utilisateurs_Service#1'!AU43=1,1,0)","v":0},null,{"$f":"IF('Fiches_Utilisateurs_Service#1'!AW43=1,1,0)","v":0},null,{"$f":"IF('Fiches_Utilisateurs_Service#1'!AY43=1,1,0)","v":0},null,{"$f":"IF('Fiches_Utilisateurs_Service#1'!BA43=1,1,0)","v":0},null,{"$f":"IF('Fiches_Utilisateurs_Service#1'!BC43=1,1,0)","v":0},null,{"$f":"IF('Fiches_Utilisateurs_Service#1'!BE43=1,1,0)","v":0},null,{"$f":"IF('Fiches_Utilisateurs_Service#1'!BG43=1,1,0)","v":0},null,{"$f":"IF('Fiches_Utilisateurs_Service#1'!BI43=1,1,0)","v":0},null,{"$f":"IF('Fiches_Utilisateurs_Service#1'!BK43=1,1,0)","v":0},null,{"$f":"IF('Fiches_Utilisateurs_Service#1'!BM43=1,1,0)","v":0},null,{"$f":"IF('Fiches_Utilisateurs_Service#1'!BO43=1,1,0)","v":0},null,{"$f":"IF('Fiches_Utilisateurs_Service#1'!BQ43=1,1,0)","v":0},null,{"$f":"IF('Fiches_Utilisateurs_Service#1'!BS43=1,1,0)","v":0},null,{"$f":"IF('Fiches_Utilisateurs_Service#1'!BU43=1,1,0)","v":0},null,{"$f":"IF('Fiches_Utilisateurs_Service#1'!BW43=1,1,0)","v":0},null,{"$f":"IF('Fiches_Utilisateurs_Service#1'!BY43=1,1,0)","v":0},null,{"$f":"IF('Fiches_Utilisateurs_Service#1'!CA43=1,1,0)","v":0},null,{"$f":"IF('Fiches_Utilisateurs_Service#1'!CC43=1,1,0)","v":0}]
[]
["tot propre",{"$f":"SUM(C45:CC45)","v":0},{"$f":"SUM(C39:C43)","v":0},null,{"$f":"SUM(E39:E43)","v":0},null,{"$f":"SUM(G39:G43)","v":0},null,{"$f":"SUM(I39:I43)","v":0},null,{"$f":"SUM(K39:K43)","v":0},null,{"$f":"SUM(M39:M43)","v":0},null,{"$f":"SUM(O39:O43)","v":0},null,{"$f":"SUM(Q39:Q43)","v":0},null,{"$f":"SUM(S39:S43)","v":0},null,{"$f":"SUM(U39:U43)","v":0},null,{"$f":"SUM(W39:W43)","v":0},null,{"$f":"SUM(Y39:Y43)","v":0},null,{"$f":"SUM(AA39:AA43)","v":0},null,{"$f":"SUM(AC39:AC43)","v":0},null,{"$f":"SUM(AE39:AE43)","v":0},null,{"$f":"SUM(AG39:AG43)","v":0},null,{"$f":"SUM(AI39:AI43)","v":0},null,{"$f":"SUM(AK39:AK43)","v":0},null,{"$f":"SUM(AM39:AM43)","v":0},null,{"$f":"SUM(AO39:AO43)","v":0},null,{"$f":"SUM(AQ39:AQ43)","v":0},null,{"$f":"SUM(AS39:AS43)","v":0},null,{"$f":"SUM(AU39:AU43)","v":0},null,{"$f":"SUM(AW39:AW43)","v":0},null,{"$f":"SUM(AY39:AY43)","v":0},null,{"$f":"SUM(BA39:BA43)","v":0},null,{"$f":"SUM(BC39:BC43)","v":0},null,{"$f":"SUM(BE39:BE43)","v":0},null,{"$f":"SUM(BG39:BG43)","v":0},null,{"$f":"SUM(BI39:BI43)","v":0},null,{"$f":"SUM(BK39:BK43)","v":0},null,{"$f":"SUM(BM39:BM43)","v":0},null,{"$f":"SUM(BO39:BO43)","v":0},null,{"$f":"SUM(BQ39:BQ43)","v":0},null,{"$f":"SUM(BS39:BS43)","v":0},null,{"$f":"SUM(BU39:BU43)","v":0},null,{"$f":"SUM(BW39:BW43)","v":0},null,{"$f":"SUM(BY39:BY43)","v":0},null,{"$f":"SUM(CA39:CA43)","v":0},null,{"$f":"SUM(CC39:CC43)","v":0}]
[]
["tot tot",{"$f":"SUM(C47:CC47)","v":0},{"$f":"C45+C37","v":0},null,{"$f":"E45+E37","v":0},null,{"$f":"G45+G37","v":0},null,{"$f":"I45+I37","v":0},null,{"$f":"K45+K37","v":0},null,{"$f":"M45+M37","v":0},null,{"$f":"O45+O37","v":0},null,{"$f":"Q45+Q37","v":0},null,{"$f":"S45+S37","v":0},null,{"$f":"U45+U37","v":0},null,{"$f":"W45+W37","v":0},null,{"$f":"Y45+Y37","v":0},null,{"$f":"AA45+AA37","v":0},null,{"$f":"AC45+AC37","v":0},null,{"$f":"AE45+AE37","v":0},null,{"$f":"AG45+AG37","v":0},null,{"$f":"AI45+AI37","v":0},null,{"$f":"AK45+AK37","v":0},null,{"$f":"AM45+AM37","v":0},null,{"$f":"AO45+AO37","v":0},null,{"$f":"AQ45+AQ37","v":0},null,{"$f":"AS45+AS37","v":0},null,{"$f":"AU45+AU37","v":0},null,{"$f":"AW45+AW37","v":0},null,{"$f":"AY45+AY37","v":0},null,{"$f":"BA45+BA37","v":0},null,{"$f":"BC45+BC37","v":0},null,{"$f":"BE45+BE37","v":0},null,{"$f":"BG45+BG37","v":0},null,{"$f":"BI45+BI37","v":0},null,{"$f":"BK45+BK37","v":0},null,{"$f":"BM45+BM37","v":0},null,{"$f":"BO45+BO37","v":0},null,{"$f":"BQ45+BQ37","v":0},null,{"$f":"BS45+BS37","v":0},null,{"$f":"BU45+BU37","v":0},null,{"$f":"BW45+BW37","v":0},null,{"$f":"BY45+BY37","v":0},null,{"$f":"CA45+CA37","v":0},null,{"$f":"CC45+CC37","v":0}]
[]
[]
[]
[]
[1,{"$f":"SUM(C52:CC52)","v":0},{"$f":"IF(C11=\"1\",1,0)","v":0},null,{"$f":"IF(E11=\"1\",1,0)","v":0},null,0,null,0,null,0,null,0,null,0,null,0,null,0,null,0,null,0,null,0,null,0,null,0,null,0,null,0,null,0,null,0,null,0,null,0,null,0,null,0,null,0,null,0,null,0,null,0,null,0,null,0,null,0,null,0,null,0,null,0,null,0,null,{"$f":"IF(BQ11=\"1\",1,0)","v":0},null,0,null,0,null,0,null,0,null,0,null,0]
[null,{"$f":"SUM(C53:CC53)","v":0},{"$f":"IF(C52=1,(C77+C82),0)","v":0},null,{"$f":"IF(E52=1,(E77+E82),0)","v":0},null,{"$f":"IF(G52=1,(G77+G82),0)","v":0},null,{"$f":"IF(I52=1,(I77+I82),0)","v":0},null,{"$f":"IF(K52=1,(K77+K82),0)","v":0},null,{"$f":"IF(M52=1,(M77+M82),0)","v":0},null,{"$f":"IF(O52=1,(O77+O82),0)","v":0},null,{"$f":"IF(Q52=1,(Q77+Q82),0)","v":0},null,{"$f":"IF(S52=1,(S77+S82),0)","v":0},null,{"$f":"IF(U52=1,(U77+U82),0)","v":0},null,{"$f":"IF(W52=1,(W77+W82),0)","v":0},null,{"$f":"IF(Y52=1,(Y77+Y82),0)","v":0},null,{"$f":"IF(AA52=1,(AA77+AA82),0)","v":0},null,{"$f":"IF(AC52=1,(AC77+AC82),0)","v":0},null,{"$f":"IF(AE52=1,(AE77+AE82),0)","v":0},null,{"$f":"IF(AG52=1,(AG77+AG82),0)","v":0},null,{"$f":"IF(AI52=1,(AI77+AI82),0)","v":0},null,{"$f":"IF(AK52=1,(AK77+AK82),0)","v":0},null,{"$f":"IF(AM52=1,(AM77+AM82),0)","v":0},null,{"$f":"IF(AO52=1,(AO77+AO82),0)","v":0},null,{"$f":"IF(AQ52=1,(AQ77+AQ82),0)","v":0},null,{"$f":"IF(AS52=1,(AS77+AS82),0)","v":0},null,{"$f":"IF(AU52=1,(AU77+AU82),0)","v":0},null,{"$f":"IF(AW52=1,(AW77+AW82),0)","v":0},null,{"$f":"IF(AY52=1,(AY77+AY82),0)","v":0},null,{"$f":"IF(BA52=1,(BA77+BA82),0)","v":0},null,{"$f":"IF(BC52=1,(BC77+BC82),0)","v":0},null,{"$f":"IF(BE52=1,(BE77+BE82),0)","v":0},null,{"$f":"IF(BG52=1,(BG77+BG82),0)","v":0},null,{"$f":"IF(BI52=1,(BI77+BI82),0)","v":0},null,{"$f":"IF(BK52=1,(BK77+BK82),0)","v":0},null,{"$f":"IF(BM52=1,(BM77+BM82),0)","v":0},null,{"$f":"IF(BO52=1,(BO77+BO82),0)","v":0},null,{"$f":"IF(BQ52=1,(BQ77+BQ82),0)","v":0},null,{"$f":"IF(BS52=1,(BS77+BS82),0)","v":0},null,{"$f":"IF(BU52=1,(BU77+BU82),0)","v":0},null,{"$f":"IF(BW52=1,(BW77+BW82),0)","v":0},null,{"$f":"IF(BY52=1,(BY77+BY82),0)","v":0},null,{"$f":"IF(CA52=1,(CA77+CA82),0)","v":0},null,{"$f":"IF(CC52=1,(CC77+CC82),0)","v":0}]
[2,0,{"$f":"IF(C11=\"2\",1,0)","v":0},null,{"$f":"IF(E11=\"2\",1,0)","v":0},null,0,null,0,null,0,null,0,null,0,null,0,null,0,null,0,null,0,null,0,null,0,null,0,null,0,null,0,null,0,null,0,null,0,null,0,null,0,null,0,null,0,null,0,null,0,null,0,null,0,null,0,null,0,null,0,null,0,null,0,null,0,null,{"$f":"IF(BQ11=\"2\",1,0)","v":0},null,0,null,0,null,0,null,0,null,0,null,0]
[null,0,{"$f":"IF(C54=1,(C77+C82),0)","v":0},null,{"$f":"IF(E54=1,(E77+E82),0)","v":0},null,{"$f":"IF(G54=1,(G77+G82),0)","v":0},null,{"$f":"IF(I54=1,(I77+I82),0)","v":0},null,{"$f":"IF(K54=1,(K77+K82),0)","v":0},null,{"$f":"IF(M54=1,(M77+M82),0)","v":0},null,{"$f":"IF(O54=1,(O77+O82),0)","v":0},null,{"$f":"IF(Q54=1,(Q77+Q82),0)","v":0},null,{"$f":"IF(S54=1,(S77+S82),0)","v":0},null,{"$f":"IF(U54=1,(U77+U82),0)","v":0},null,{"$f":"IF(W54=1,(W77+W82),0)","v":0},null,{"$f":"IF(Y54=1,(Y77+Y82),0)","v":0},null,{"$f":"IF(AA54=1,(AA77+AA82),0)","v":0},null,{"$f":"IF(AC54=1,(AC77+AC82),0)","v":0},null,{"$f":"IF(AE54=1,(AE77+AE82),0)","v":0},null,{"$f":"IF(AG54=1,(AG77+AG82),0)","v":0},null,{"$f":"IF(AI54=1,(AI77+AI82),0)","v":0},null,{"$f":"IF(AK54=1,(AK77+AK82),0)","v":0},null,{"$f":"IF(AM54=1,(AM77+AM82),0)","v":0},null,{"$f":"IF(AO54=1,(AO77+AO82),0)","v":0},null,{"$f":"IF(AQ54=1,(AQ77+AQ82),0)","v":0},null,{"$f":"IF(AS54=1,(AS77+AS82),0)","v":0},null,{"$f":"IF(AU54=1,(AU77+AU82),0)","v":0},null,{"$f":"IF(AW54=1,(AW77+AW82),0)","v":0},null,{"$f":"IF(AY54=1,(AY77+AY82),0)","v":0},null,{"$f":"IF(BA54=1,(BA77+BA82),0)","v":0},null,{"$f":"IF(BC54=1,(BC77+BC82),0)","v":0},null,{"$f":"IF(BE54=1,(BE77+BE82),0)","v":0},null,{"$f":"IF(BG54=1,(BG77+BG82),0)","v":0},null,{"$f":"IF(BI54=1,(BI77+BI82),0)","v":0},null,{"$f":"IF(BK54=1,(BK77+BK82),0)","v":0},null,{"$f":"IF(BM54=1,(BM77+BM82),0)","v":0},null,{"$f":"IF(BO54=1,(BO77+BO82),0)","v":0},null,{"$f":"IF(BQ54=1,(BQ77+BQ82),0)","v":0},null,{"$f":"IF(BS54=1,(BS77+BS82),0)","v":0},null,{"$f":"IF(BU54=1,(BU77+BU82),0)","v":0},null,{"$f":"IF(BW54=1,(BW77+BW82),0)","v":0},null,{"$f":"IF(BY54=1,(BY77+BY82),0)","v":0},null,{"$f":"IF(CA54=1,(CA77+CA82),0)","v":0},null,{"$f":"IF(CC54=1,(CC77+CC82),0)","v":0}]
[3,0,{"$f":"IF(C11=\"3\",1,0)","v":0},null,{"$f":"IF(E11=\"3\",1,0)","v":0},null,0,null,0,null,0,null,0,null,0,null,0,null,0,null,0,null,0,null,0,null,0,null,0,null,0,null,0,null,0,null,0,null,0,null,0,null,0,null,0,null,0,null,0,null,0,null,0,null,0,null,0,null,0,null,0,null,0,null,0,null,0,null,{"$f":"IF(BQ11=\"3\",1,0)","v":0},null,0,null,0,null,0,null,0,null,0,null,0]
[null,0,{"$f":"IF(C56=1,(C77+C82),0)","v":0},null,{"$f":"IF(E56=1,(E77+E82),0)","v":0},null,{"$f":"IF(G56=1,(G77+G82),0)","v":0},null,{"$f":"IF(I56=1,(I77+I82),0)","v":0},null,{"$f":"IF(K56=1,(K77+K82),0)","v":0},null,{"$f":"IF(M56=1,(M77+M82),0)","v":0},null,{"$f":"IF(O56=1,(O77+O82),0)","v":0},null,{"$f":"IF(Q56=1,(Q77+Q82),0)","v":0},null,{"$f":"IF(S56=1,(S77+S82),0)","v":0},null,{"$f":"IF(U56=1,(U77+U82),0)","v":0},null,{"$f":"IF(W56=1,(W77+W82),0)","v":0},null,{"$f":"IF(Y56=1,(Y77+Y82),0)","v":0},null,{"$f":"IF(AA56=1,(AA77+AA82),0)","v":0},null,{"$f":"IF(AC56=1,(AC77+AC82),0)","v":0},null,{"$f":"IF(AE56=1,(AE77+AE82),0)","v":0},null,{"$f":"IF(AG56=1,(AG77+AG82),0)","v":0},null,{"$f":"IF(AI56=1,(AI77+AI82),0)","v":0},null,{"$f":"IF(AK56=1,(AK77+AK82),0)","v":0},null,{"$f":"IF(AM56=1,(AM77+AM82),0)","v":0},null,{"$f":"IF(AO56=1,(AO77+AO82),0)","v":0},null,{"$f":"IF(AQ56=1,(AQ77+AQ82),0)","v":0},null,{"$f":"IF(AS56=1,(AS77+AS82),0)","v":0},null,{"$f":"IF(AU56=1,(AU77+AU82),0)","v":0},null,{"$f":"IF(AW56=1,(AW77+AW82),0)","v":0},null,{"$f":"IF(AY56=1,(AY77+AY82),0)","v":0},null,{"$f":"IF(BA56=1,(BA77+BA82),0)","v":0},null,{"$f":"IF(BC56=1,(BC77+BC82),0)","v":0},null,{"$f":"IF(BE56=1,(BE77+BE82),0)","v":0},null,{"$f":"IF(BG56=1,(BG77+BG82),0)","v":0},null,{"$f":"IF(BI56=1,(BI77+BI82),0)","v":0},null,{"$f":"IF(BK56=1,(BK77+BK82),0)","v":0},null,{"$f":"IF(BM56=1,(BM77+BM82),0)","v":0},null,{"$f":"IF(BO56=1,(BO77+BO82),0)","v":0},null,{"$f":"IF(BQ56=1,(BQ77+BQ82),0)","v":0},null,{"$f":"IF(BS56=1,(BS77+BS82),0)","v":0},null,{"$f":"IF(BU56=1,(BU77+BU82),0)","v":0},null,{"$f":"IF(BW56=1,(BW77+BW82),0)","v":0},null,{"$f":"IF(BY56=1,(BY77+BY82),0)","v":0},null,{"$f":"IF(CA56=1,(CA77+CA82),0)","v":0},null,{"$f":"IF(CC56=1,(CC77+CC82),0)","v":0}]
[4,0,{"$f":"IF(C11=\"4\",1,0)","v":0},null,{"$f":"IF(E11=\"4\",1,0)","v":0},null,0,null,0,null,0,null,0,null,0,null,0,null,0,null,0,null,0,null,0,null,0,null,0,null,0,null,0,null,0,null,0,null,0,null,0,null,0,null,0,null,0,null,0,null,0,null,0,null,0,null,0,null,0,null,0,null,0,null,0,null,0,null,{"$f":"IF(BQ11=\"4\",1,0)","v":0},null,0,null,0,null,0,null,0,null,0,null,0]
[null,0,{"$f":"IF(C58=1,(C77+C82),0)","v":0},null,{"$f":"IF(E58=1,(E77+E82),0)","v":0},null,{"$f":"IF(G58=1,(G77+G82),0)","v":0},null,{"$f":"IF(I58=1,(I77+I82),0)","v":0},null,{"$f":"IF(K58=1,(K77+K82),0)","v":0},null,{"$f":"IF(M58=1,(M77+M82),0)","v":0},null,{"$f":"IF(O58=1,(O77+O82),0)","v":0},null,{"$f":"IF(Q58=1,(Q77+Q82),0)","v":0},null,{"$f":"IF(S58=1,(S77+S82),0)","v":0},null,{"$f":"IF(U58=1,(U77+U82),0)","v":0},null,{"$f":"IF(W58=1,(W77+W82),0)","v":0},null,{"$f":"IF(Y58=1,(Y77+Y82),0)","v":0},null,{"$f":"IF(AA58=1,(AA77+AA82),0)","v":0},null,{"$f":"IF(AC58=1,(AC77+AC82),0)","v":0},null,{"$f":"IF(AE58=1,(AE77+AE82),0)","v":0},null,{"$f":"IF(AG58=1,(AG77+AG82),0)","v":0},null,{"$f":"IF(AI58=1,(AI77+AI82),0)","v":0},null,{"$f":"IF(AK58=1,(AK77+AK82),0)","v":0},null,{"$f":"IF(AM58=1,(AM77+AM82),0)","v":0},null,{"$f":"IF(AO58=1,(AO77+AO82),0)","v":0},null,{"$f":"IF(AQ58=1,(AQ77+AQ82),0)","v":0},null,{"$f":"IF(AS58=1,(AS77+AS82),0)","v":0},null,{"$f":"IF(AU58=1,(AU77+AU82),0)","v":0},null,{"$f":"IF(AW58=1,(AW77+AW82),0)","v":0},null,{"$f":"IF(AY58=1,(AY77+AY82),0)","v":0},null,{"$f":"IF(BA58=1,(BA77+BA82),0)","v":0},null,{"$f":"IF(BC58=1,(BC77+BC82),0)","v":0},null,{"$f":"IF(BE58=1,(BE77+BE82),0)","v":0},null,{"$f":"IF(BG58=1,(BG77+BG82),0)","v":0},null,{"$f":"IF(BI58=1,(BI77+BI82),0)","v":0},null,{"$f":"IF(BK58=1,(BK77+BK82),0)","v":0},null,{"$f":"IF(BM58=1,(BM77+BM82),0)","v":0},null,{"$f":"IF(BO58=1,(BO77+BO82),0)","v":0},null,{"$f":"IF(BQ58=1,(BQ77+BQ82),0)","v":0},null,{"$f":"IF(BS58=1,(BS77+BS82),0)","v":0},null,{"$f":"IF(BU58=1,(BU77+BU82),0)","v":0},null,{"$f":"IF(BW58=1,(BW77+BW82),0)","v":0},null,{"$f":"IF(BY58=1,(BY77+BY82),0)","v":0},null,{"$f":"IF(CA58=1,(CA77+CA82),0)","v":0},null,{"$f":"IF(CC58=1,(CC77+CC82),0)","v":0}]
[5,0,{"$f":"IF(C11=\"5\",1,0)","v":0},null,{"$f":"IF(E11=\"5\",1,0)","v":0},null,0,null,0,null,0,null,0,null,0,null,0,null,0,null,0,null,0,null,0,null,0,null,0,null,0,null,0,null,0,null,0,null,0,null,0,null,0,null,0,null,0,null,0,null,0,null,0,null,0,null,0,null,0,null,0,null,0,null,0,null,0,null,{"$f":"IF(BQ11=\"5\",1,0)","v":0},null,0,null,0,null,0,null,0,null,0,null,0]
[null,0,{"$f":"IF(C60=1,(C77+C82),0)","v":0},null,{"$f":"IF(E60=1,(E77+E82),0)","v":0},null,{"$f":"IF(G60=1,(G77+G82),0)","v":0},null,{"$f":"IF(I60=1,(I77+I82),0)","v":0},null,{"$f":"IF(K60=1,(K77+K82),0)","v":0},null,{"$f":"IF(M60=1,(M77+M82),0)","v":0},null,{"$f":"IF(O60=1,(O77+O82),0)","v":0},null,{"$f":"IF(Q60=1,(Q77+Q82),0)","v":0},null,{"$f":"IF(S60=1,(S77+S82),0)","v":0},null,{"$f":"IF(U60=1,(U77+U82),0)","v":0},null,{"$f":"IF(W60=1,(W77+W82),0)","v":0},null,{"$f":"IF(Y60=1,(Y77+Y82),0)","v":0},null,{"$f":"IF(AA60=1,(AA77+AA82),0)","v":0},null,{"$f":"IF(AC60=1,(AC77+AC82),0)","v":0},null,{"$f":"IF(AE60=1,(AE77+AE82),0)","v":0},null,{"$f":"IF(AG60=1,(AG77+AG82),0)","v":0},null,{"$f":"IF(AI60=1,(AI77+AI82),0)","v":0},null,{"$f":"IF(AK60=1,(AK77+AK82),0)","v":0},null,{"$f":"IF(AM60=1,(AM77+AM82),0)","v":0},null,{"$f":"IF(AO60=1,(AO77+AO82),0)","v":0},null,{"$f":"IF(AQ60=1,(AQ77+AQ82),0)","v":0},null,{"$f":"IF(AS60=1,(AS77+AS82),0)","v":0},null,{"$f":"IF(AU60=1,(AU77+AU82),0)","v":0},null,{"$f":"IF(AW60=1,(AW77+AW82),0)","v":0},null,{"$f":"IF(AY60=1,(AY77+AY82),0)","v":0},null,{"$f":"IF(BA60=1,(BA77+BA82),0)","v":0},null,{"$f":"IF(BC60=1,(BC77+BC82),0)","v":0},null,{"$f":"IF(BE60=1,(BE77+BE82),0)","v":0},null,{"$f":"IF(BG60=1,(BG77+BG82),0)","v":0},null,{"$f":"IF(BI60=1,(BI77+BI82),0)","v":0},null,{"$f":"IF(BK60=1,(BK77+BK82),0)","v":0},null,{"$f":"IF(BM60=1,(BM77+BM82),0)","v":0},null,{"$f":"IF(BO60=1,(BO77+BO82),0)","v":0},null,{"$f":"IF(BQ60=1,(BQ77+BQ82),0)","v":0},null,{"$f":"IF(BS60=1,(BS77+BS82),0)","v":0},null,{"$f":"IF(BU60=1,(BU77+BU82),0)","v":0},null,{"$f":"IF(BW60=1,(BW77+BW82),0)","v":0},null,{"$f":"IF(BY60=1,(BY77+BY82),0)","v":0},null,{"$f":"IF(CA60=1,(CA77+CA82),0)","v":0},null,{"$f":"IF(CC60=1,(CC77+CC82),0)","v":0}]
[6,0,{"$f":"IF(C11=\"6\",1,0)","v":0},null,{"$f":"IF(E11=\"6\",1,0)","v":0},null,0,null,0,null,0,null,0,null,0,null,0,null,0,null,0,null,0,null,0,null,0,null,0,null,0,null,0,null,0,null,0,null,0,null,0,null,0,null,0,null,0,null,0,null,0,null,0,null,0,null,0,null,0,null,0,null,0,null,0,null,0,null,{"$f":"IF(BQ11=\"6\",1,0)","v":0},null,0,null,0,null,0,null,0,null,0,null,0]
[null,0,{"$f":"IF(C62=1,(C77+C82),0)","v":0},null,{"$f":"IF(E62=1,(E77+E82),0)","v":0},null,{"$f":"IF(G62=1,(G77+G82),0)","v":0},null,{"$f":"IF(I62=1,(I77+I82),0)","v":0},null,{"$f":"IF(K62=1,(K77+K82),0)","v":0},null,{"$f":"IF(M62=1,(M77+M82),0)","v":0},null,{"$f":"IF(O62=1,(O77+O82),0)","v":0},null,{"$f":"IF(Q62=1,(Q77+Q82),0)","v":0},null,{"$f":"IF(S62=1,(S77+S82),0)","v":0},null,{"$f":"IF(U62=1,(U77+U82),0)","v":0},null,{"$f":"IF(W62=1,(W77+W82),0)","v":0},null,{"$f":"IF(Y62=1,(Y77+Y82),0)","v":0},null,{"$f":"IF(AA62=1,(AA77+AA82),0)","v":0},null,{"$f":"IF(AC62=1,(AC77+AC82),0)","v":0},null,{"$f":"IF(AE62=1,(AE77+AE82),0)","v":0},null,{"$f":"IF(AG62=1,(AG77+AG82),0)","v":0},null,{"$f":"IF(AI62=1,(AI77+AI82),0)","v":0},null,{"$f":"IF(AK62=1,(AK77+AK82),0)","v":0},null,{"$f":"IF(AM62=1,(AM77+AM82),0)","v":0},null,{"$f":"IF(AO62=1,(AO77+AO82),0)","v":0},null,{"$f":"IF(AQ62=1,(AQ77+AQ82),0)","v":0},null,{"$f":"IF(AS62=1,(AS77+AS82),0)","v":0},null,{"$f":"IF(AU62=1,(AU77+AU82),0)","v":0},null,{"$f":"IF(AW62=1,(AW77+AW82),0)","v":0},null,{"$f":"IF(AY62=1,(AY77+AY82),0)","v":0},null,{"$f":"IF(BA62=1,(BA77+BA82),0)","v":0},null,{"$f":"IF(BC62=1,(BC77+BC82),0)","v":0},null,{"$f":"IF(BE62=1,(BE77+BE82),0)","v":0},null,{"$f":"IF(BG62=1,(BG77+BG82),0)","v":0},null,{"$f":"IF(BI62=1,(BI77+BI82),0)","v":0},null,{"$f":"IF(BK62=1,(BK77+BK82),0)","v":0},null,{"$f":"IF(BM62=1,(BM77+BM82),0)","v":0},null,{"$f":"IF(BO62=1,(BO77+BO82),0)","v":0},null,{"$f":"IF(BQ62=1,(BQ77+BQ82),0)","v":0},null,{"$f":"IF(BS62=1,(BS77+BS82),0)","v":0},null,{"$f":"IF(BU62=1,(BU77+BU82),0)","v":0},null,{"$f":"IF(BW62=1,(BW77+BW82),0)","v":0},null,{"$f":"IF(BY62=1,(BY77+BY82),0)","v":0},null,{"$f":"IF(CA62=1,(CA77+CA82),0)","v":0},null,{"$f":"IF(CC62=1,(CC77+CC82),0)","v":0}]
[7,0,{"$f":"IF(C11=\"7\",1,0)","v":0},null,{"$f":"IF(E11=\"7\",1,0)","v":0},null,0,null,0,null,0,null,0,null,0,null,0,null,0,null,0,null,0,null,0,null,0,null,0,null,0,null,0,null,0,null,0,null,0,null,0,null,0,null,0,null,0,null,0,null,0,null,0,null,0,null,0,null,0,null,0,null,0,null,0,null,0,null,{"$f":"IF(BQ11=\"7\",1,0)","v":0},null,0,null,0,null,0,null,0,null,0,null,0]
[null,0,{"$f":"IF(C64=1,(C77+C82),0)","v":0},null,{"$f":"IF(E64=1,(E77+E82),0)","v":0},null,{"$f":"IF(G64=1,(G77+G82),0)","v":0},null,{"$f":"IF(I64=1,(I77+I82),0)","v":0},null,{"$f":"IF(K64=1,(K77+K82),0)","v":0},null,{"$f":"IF(M64=1,(M77+M82),0)","v":0},null,{"$f":"IF(O64=1,(O77+O82),0)","v":0},null,{"$f":"IF(Q64=1,(Q77+Q82),0)","v":0},null,{"$f":"IF(S64=1,(S77+S82),0)","v":0},null,{"$f":"IF(U64=1,(U77+U82),0)","v":0},null,{"$f":"IF(W64=1,(W77+W82),0)","v":0},null,{"$f":"IF(Y64=1,(Y77+Y82),0)","v":0},null,{"$f":"IF(AA64=1,(AA77+AA82),0)","v":0},null,{"$f":"IF(AC64=1,(AC77+AC82),0)","v":0},null,{"$f":"IF(AE64=1,(AE77+AE82),0)","v":0},null,{"$f":"IF(AG64=1,(AG77+AG82),0)","v":0},null,{"$f":"IF(AI64=1,(AI77+AI82),0)","v":0},null,{"$f":"IF(AK64=1,(AK77+AK82),0)","v":0},null,{"$f":"IF(AM64=1,(AM77+AM82),0)","v":0},null,{"$f":"IF(AO64=1,(AO77+AO82),0)","v":0},null,{"$f":"IF(AQ64=1,(AQ77+AQ82),0)","v":0},null,{"$f":"IF(AS64=1,(AS77+AS82),0)","v":0},null,{"$f":"IF(AU64=1,(AU77+AU82),0)","v":0},null,{"$f":"IF(AW64=1,(AW77+AW82),0)","v":0},null,{"$f":"IF(AY64=1,(AY77+AY82),0)","v":0},null,{"$f":"IF(BA64=1,(BA77+BA82),0)","v":0},null,{"$f":"IF(BC64=1,(BC77+BC82),0)","v":0},null,{"$f":"IF(BE64=1,(BE77+BE82),0)","v":0},null,{"$f":"IF(BG64=1,(BG77+BG82),0)","v":0},null,{"$f":"IF(BI64=1,(BI77+BI82),0)","v":0},null,{"$f":"IF(BK64=1,(BK77+BK82),0)","v":0},null,{"$f":"IF(BM64=1,(BM77+BM82),0)","v":0},null,{"$f":"IF(BO64=1,(BO77+BO82),0)","v":0},null,{"$f":"IF(BQ64=1,(BQ77+BQ82),0)","v":0},null,{"$f":"IF(BS64=1,(BS77+BS82),0)","v":0},null,{"$f":"IF(BU64=1,(BU77+BU82),0)","v":0},null,{"$f":"IF(BW64=1,(BW77+BW82),0)","v":0},null,{"$f":"IF(BY64=1,(BY77+BY82),0)","v":0},null,{"$f":"IF(CA64=1,(CA77+CA82),0)","v":0},null,{"$f":"IF(CC64=1,(CC77+CC82),0)","v":0}]
[8,0,{"$f":"IF(C11=\"8\",1,0)","v":0},null,{"$f":"IF(E11=\"8\",1,0)","v":0},null,0,null,0,null,0,null,0,null,0,null,0,null,0,null,0,null,0,null,0,null,0,null,0,null,0,null,0,null,0,null,0,null,0,null,0,null,0,null,0,null,0,null,0,null,0,null,0,null,0,null,0,null,0,null,0,null,0,null,0,null,0,null,{"$f":"IF(BQ11=\"8\",1,0)","v":0},null,0,null,0,null,0,null,0,null,0,null,0]
[null,0,{"$f":"IF(C66=1,(C77+C82),0)","v":0},null,{"$f":"IF(E66=1,(E77+E82),0)","v":0},null,{"$f":"IF(G66=1,(G77+G82),0)","v":0},null,{"$f":"IF(I66=1,(I77+I82),0)","v":0},null,{"$f":"IF(K66=1,(K77+K82),0)","v":0},null,{"$f":"IF(M66=1,(M77+M82),0)","v":0},null,{"$f":"IF(O66=1,(O77+O82),0)","v":0},null,{"$f":"IF(Q66=1,(Q77+Q82),0)","v":0},null,{"$f":"IF(S66=1,(S77+S82),0)","v":0},null,{"$f":"IF(U66=1,(U77+U82),0)","v":0},null,{"$f":"IF(W66=1,(W77+W82),0)","v":0},null,{"$f":"IF(Y66=1,(Y77+Y82),0)","v":0},null,{"$f":"IF(AA66=1,(AA77+AA82),0)","v":0},null,{"$f":"IF(AC66=1,(AC77+AC82),0)","v":0},null,{"$f":"IF(AE66=1,(AE77+AE82),0)","v":0},null,{"$f":"IF(AG66=1,(AG77+AG82),0)","v":0},null,{"$f":"IF(AI66=1,(AI77+AI82),0)","v":0},null,{"$f":"IF(AK66=1,(AK77+AK82),0)","v":0},null,{"$f":"IF(AM66=1,(AM77+AM82),0)","v":0},null,{"$f":"IF(AO66=1,(AO77+AO82),0)","v":0},null,{"$f":"IF(AQ66=1,(AQ77+AQ82),0)","v":0},null,{"$f":"IF(AS66=1,(AS77+AS82),0)","v":0},null,{"$f":"IF(AU66=1,(AU77+AU82),0)","v":0},null,{"$f":"IF(AW66=1,(AW77+AW82),0)","v":0},null,{"$f":"IF(AY66=1,(AY77+AY82),0)","v":0},null,{"$f":"IF(BA66=1,(BA77+BA82),0)","v":0},null,{"$f":"IF(BC66=1,(BC77+BC82),0)","v":0},null,{"$f":"IF(BE66=1,(BE77+BE82),0)","v":0},null,{"$f":"IF(BG66=1,(BG77+BG82),0)","v":0},null,{"$f":"IF(BI66=1,(BI77+BI82),0)","v":0},null,{"$f":"IF(BK66=1,(BK77+BK82),0)","v":0},null,{"$f":"IF(BM66=1,(BM77+BM82),0)","v":0},null,{"$f":"IF(BO66=1,(BO77+BO82),0)","v":0},null,{"$f":"IF(BQ66=1,(BQ77+BQ82),0)","v":0},null,{"$f":"IF(BS66=1,(BS77+BS82),0)","v":0},null,{"$f":"IF(BU66=1,(BU77+BU82),0)","v":0},null,{"$f":"IF(BW66=1,(BW77+BW82),0)","v":0},null,{"$f":"IF(BY66=1,(BY77+BY82),0)","v":0},null,{"$f":"IF(CA66=1,(CA77+CA82),0)","v":0},null,{"$f":"IF(CC66=1,(CC77+CC82),0)","v":0}]
[9,0,{"$f":"IF(C11=\"9\",1,0)","v":0},null,{"$f":"IF(E11=\"9\",1,0)","v":0},null,0,null,0,null,0,null,0,null,0,null,0,null,0,null,0,null,0,null,0,null,0,null,0,null,0,null,0,null,0,null,0,null,0,null,0,null,0,null,0,null,0,null,0,null,0,null,0,null,0,null,0,null,0,null,0,null,0,null,0,null,0,null,{"$f":"IF(BQ11=\"9\",1,0)","v":0},null,0,null,0,null,0,null,0,null,0,null,0]
[null,0,{"$f":"IF(C68=1,(C77+C82),0)","v":0},null,{"$f":"IF(E68=1,(E77+E82),0)","v":0},null,{"$f":"IF(G68=1,(G77+G82),0)","v":0},null,{"$f":"IF(I68=1,(I77+I82),0)","v":0},null,{"$f":"IF(K68=1,(K77+K82),0)","v":0},null,{"$f":"IF(M68=1,(M77+M82),0)","v":0},null,{"$f":"IF(O68=1,(O77+O82),0)","v":0},null,{"$f":"IF(Q68=1,(Q77+Q82),0)","v":0},null,{"$f":"IF(S68=1,(S77+S82),0)","v":0},null,{"$f":"IF(U68=1,(U77+U82),0)","v":0},null,{"$f":"IF(W68=1,(W77+W82),0)","v":0},null,{"$f":"IF(Y68=1,(Y77+Y82),0)","v":0},null,{"$f":"IF(AA68=1,(AA77+AA82),0)","v":0},null,{"$f":"IF(AC68=1,(AC77+AC82),0)","v":0},null,{"$f":"IF(AE68=1,(AE77+AE82),0)","v":0},null,{"$f":"IF(AG68=1,(AG77+AG82),0)","v":0},null,{"$f":"IF(AI68=1,(AI77+AI82),0)","v":0},null,{"$f":"IF(AK68=1,(AK77+AK82),0)","v":0},null,{"$f":"IF(AM68=1,(AM77+AM82),0)","v":0},null,{"$f":"IF(AO68=1,(AO77+AO82),0)","v":0},null,{"$f":"IF(AQ68=1,(AQ77+AQ82),0)","v":0},null,{"$f":"IF(AS68=1,(AS77+AS82),0)","v":0},null,{"$f":"IF(AU68=1,(AU77+AU82),0)","v":0},null,{"$f":"IF(AW68=1,(AW77+AW82),0)","v":0},null,{"$f":"IF(AY68=1,(AY77+AY82),0)","v":0},null,{"$f":"IF(BA68=1,(BA77+BA82),0)","v":0},null,{"$f":"IF(BC68=1,(BC77+BC82),0)","v":0},null,{"$f":"IF(BE68=1,(BE77+BE82),0)","v":0},null,{"$f":"IF(BG68=1,(BG77+BG82),0)","v":0},null,{"$f":"IF(BI68=1,(BI77+BI82),0)","v":0},null,{"$f":"IF(BK68=1,(BK77+BK82),0)","v":0},null,{"$f":"IF(BM68=1,(BM77+BM82),0)","v":0},null,{"$f":"IF(BO68=1,(BO77+BO82),0)","v":0},null,{"$f":"IF(BQ68=1,(BQ77+BQ82),0)","v":0},null,{"$f":"IF(BS68=1,(BS77+BS82),0)","v":0},null,{"$f":"IF(BU68=1,(BU77+BU82),0)","v":0},null,{"$f":"IF(BW68=1,(BW77+BW82),0)","v":0},null,{"$f":"IF(BY68=1,(BY77+BY82),0)","v":0},null,{"$f":"IF(CA68=1,(CA77+CA82),0)","v":0},null,{"$f":"IF(CC68=1,(CC77+CC82),0)","v":0}]
[10,0,{"$f":"IF(C11=\"10\",1,0)","v":0},null,{"$f":"IF(E11=\"10\",1,0)","v":0},null,0,null,0,null,0,null,0,null,0,null,0,null,0,null,0,null,0,null,0,null,0,null,0,null,0,null,0,null,0,null,0,null,0,null,0,null,0,null,0,null,0,null,0,null,0,null,0,null,0,null,0,null,0,null,0,null,0,null,0,null,0,null,{"$f":"IF(BQ11=\"10\",1,0)","v":0},null,0,null,0,null,0,null,0,null,0,null,0]
[null,0,{"$f":"IF(C70=1,(C77+C82),0)","v":0},null,{"$f":"IF(E70=1,(E77+E82),0)","v":0},null,{"$f":"IF(G70=1,(G77+G82),0)","v":0},null,{"$f":"IF(I70=1,(I77+I82),0)","v":0},null,{"$f":"IF(K70=1,(K77+K82),0)","v":0},null,{"$f":"IF(M70=1,(M77+M82),0)","v":0},null,{"$f":"IF(O70=1,(O77+O82),0)","v":0},null,{"$f":"IF(Q70=1,(Q77+Q82),0)","v":0},null,{"$f":"IF(S70=1,(S77+S82),0)","v":0},null,{"$f":"IF(U70=1,(U77+U82),0)","v":0},null,{"$f":"IF(W70=1,(W77+W82),0)","v":0},null,{"$f":"IF(Y70=1,(Y77+Y82),0)","v":0},null,{"$f":"IF(AA70=1,(AA77+AA82),0)","v":0},null,{"$f":"IF(AC70=1,(AC77+AC82),0)","v":0},null,{"$f":"IF(AE70=1,(AE77+AE82),0)","v":0},null,{"$f":"IF(AG70=1,(AG77+AG82),0)","v":0},null,{"$f":"IF(AI70=1,(AI77+AI82),0)","v":0},null,{"$f":"IF(AK70=1,(AK77+AK82),0)","v":0},null,{"$f":"IF(AM70=1,(AM77+AM82),0)","v":0},null,{"$f":"IF(AO70=1,(AO77+AO82),0)","v":0},null,{"$f":"IF(AQ70=1,(AQ77+AQ82),0)","v":0},null,{"$f":"IF(AS70=1,(AS77+AS82),0)","v":0},null,{"$f":"IF(AU70=1,(AU77+AU82),0)","v":0},null,{"$f":"IF(AW70=1,(AW77+AW82),0)","v":0},null,{"$f":"IF(AY70=1,(AY77+AY82),0)","v":0},null,{"$f":"IF(BA70=1,(BA77+BA82),0)","v":0},null,{"$f":"IF(BC70=1,(BC77+BC82),0)","v":0},null,{"$f":"IF(BE70=1,(BE77+BE82),0)","v":0},null,{"$f":"IF(BG70=1,(BG77+BG82),0)","v":0},null,{"$f":"IF(BI70=1,(BI77+BI82),0)","v":0},null,{"$f":"IF(BK70=1,(BK77+BK82),0)","v":0},null,{"$f":"IF(BM70=1,(BM77+BM82),0)","v":0},null,{"$f":"IF(BO70=1,(BO77+BO82),0)","v":0},null,{"$f":"IF(BQ70=1,(BQ77+BQ82),0)","v":0},null,{"$f":"IF(BS70=1,(BS77+BS82),0)","v":0},null,{"$f":"IF(BU70=1,(BU77+BU82),0)","v":0},null,{"$f":"IF(BW70=1,(BW77+BW82),0)","v":0},null,{"$f":"IF(BY70=1,(BY77+BY82),0)","v":0},null,{"$f":"IF(CA70=1,(CA77+CA82),0)","v":0},null,{"$f":"IF(CC70=1,(CC77+CC82),0)","v":0}]
[]
["Linge sale"]
["Evacuation",{"$f":"SUM(C74:CC74)","v":0},{"$f":"(2*C15)+C17+C21+C23","v":0},null,{"$f":"(2*E15)+E17+E21+E23","v":0},null,{"$f":"(2*G15)+G17+G21+G23","v":0},null,{"$f":"(2*I15)+I17+I21+I23","v":0},null,{"$f":"(2*K15)+K17+K21+K23","v":0},null,{"$f":"(2*M15)+M17+M21+M23","v":0},null,{"$f":"(2*O15)+O17+O21+O23","v":0},null,{"$f":"(2*Q15)+Q17+Q21+Q23","v":0},null,{"$f":"(2*S15)+S17+S21+S23","v":0},null,{"$f":"(2*U15)+U17+U21+U23","v":0},null,{"$f":"(2*W15)+W17+W21+W23","v":0},null,{"$f":"(2*Y15)+Y17+Y21+Y23","v":0},null,{"$f":"(2*AA15)+AA17+AA21+AA23","v":0},null,{"$f":"(2*AC15)+AC17+AC21+AC23","v":0},null,{"$f":"(2*AE15)+AE17+AE21+AE23","v":0},null,{"$f":"(2*AG15)+AG17+AG21+AG23","v":0},null,{"$f":"(2*AI15)+AI17+AI21+AI23","v":0},null,{"$f":"(2*AK15)+AK17+AK21+AK23","v":0},null,{"$f":"(2*AM15)+AM17+AM21+AM23","v":0},null,{"$f":"(2*AO15)+AO17+AO21+AO23","v":0},null,{"$f":"(2*AQ15)+AQ17+AQ21+AQ23","v":0},null,{"$f":"(2*AS15)+AS17+AS21+AS23","v":0},null,{"$f":"(2*AU15)+AU17+AU21+AU23","v":0},null,{"$f":"(2*AW15)+AW17+AW21+AW23","v":0},null,{"$f":"(2*AY15)+AY17+AY21+AY23","v":0},null,{"$f":"(2*BA15)+BA17+BA21+BA23","v":0},null,{"$f":"(2*BC15)+BC17+BC21+BC23","v":0},null,{"$f":"(2*BE15)+BE17+BE21+BE23","v":0},null,{"$f":"(2*BG15)+BG17+BG21+BG23","v":0},null,{"$f":"(2*BI15)+BI17+BI21+BI23","v":0},null,{"$f":"(2*BK15)+BK17+BK21+BK23","v":0},null,{"$f":"(2*BM15)+BM17+BM21+BM23","v":0},null,{"$f":"(2*BO15)+BO17+BO21+BO23","v":0},null,{"$f":"(2*BQ15)+BQ17+BQ21+BQ23","v":0},null,{"$f":"(2*BS15)+BS17+BS21+BS23","v":0},null,{"$f":"(2*BU15)+BU17+BU21+BU23","v":0},null,{"$f":"(2*BW15)+BW17+BW21+BW23","v":0},null,{"$f":"(2*BY15)+BY17+BY21+BY23","v":0},null,{"$f":"(2*CA15)+CA17+CA21+CA23","v":0},null,{"$f":"(2*CC15)+CC17+CC21+CC23","v":0}]
["Protection",{"$f":"SUM(C75:CC75)","v":0},{"$f":"C19+(2*C25)+(2*C27)+(2*C29)+(2*C35)","v":0},null,{"$f":"E19+(2*E25)+(2*E27)+(2*E29)+(2*E35)","v":0},null,{"$f":"G19+(2*G25)+(2*G27)+(2*G29)+(2*G35)","v":0},null,{"$f":"I19+(2*I25)+(2*I27)+(2*I29)+(2*I35)","v":0},null,{"$f":"K19+(2*K25)+(2*K27)+(2*K29)+(2*K35)","v":0},null,{"$f":"M19+(2*M25)+(2*M27)+(2*M29)+(2*M35)","v":0},null,{"$f":"O19+(2*O25)+(2*O27)+(2*O29)+(2*O35)","v":0},null,{"$f":"Q19+(2*Q25)+(2*Q27)+(2*Q29)+(2*Q35)","v":0},null,{"$f":"S19+(2*S25)+(2*S27)+(2*S29)+(2*S35)","v":0},null,{"$f":"U19+(2*U25)+(2*U27)+(2*U29)+(2*U35)","v":0},null,{"$f":"W19+(2*W25)+(2*W27)+(2*W29)+(2*W35)","v":0},null,{"$f":"Y19+(2*Y25)+(2*Y27)+(2*Y29)+(2*Y35)","v":0},null,{"$f":"AA19+(2*AA25)+(2*AA27)+(2*AA29)+(2*AA35)","v":0},null,{"$f":"AC19+(2*AC25)+(2*AC27)+(2*AC29)+(2*AC35)","v":0},null,{"$f":"AE19+(2*AE25)+(2*AE27)+(2*AE29)+(2*AE35)","v":0},null,{"$f":"AG19+(2*AG25)+(2*AG27)+(2*AG29)+(2*AG35)","v":0},null,{"$f":"AI19+(2*AI25)+(2*AI27)+(2*AI29)+(2*AI35)","v":0},null,{"$f":"AK19+(2*AK25)+(2*AK27)+(2*AK29)+(2*AK35)","v":0},null,{"$f":"AM19+(2*AM25)+(2*AM27)+(2*AM29)+(2*AM35)","v":0},null,{"$f":"AO19+(2*AO25)+(2*AO27)+(2*AO29)+(2*AO35)","v":0},null,{"$f":"AQ19+(2*AQ25)+(2*AQ27)+(2*AQ29)+(2*AQ35)","v":0},null,{"$f":"AS19+(2*AS25)+(2*AS27)+(2*AS29)+(2*AS35)","v":0},null,{"$f":"AU19+(2*AU25)+(2*AU27)+(2*AU29)+(2*AU35)","v":0},null,{"$f":"AW19+(2*AW25)+(2*AW27)+(2*AW29)+(2*AW35)","v":0},null,{"$f":"AY19+(2*AY25)+(2*AY27)+(2*AY29)+(2*AY35)","v":0},null,{"$f":"BA19+(2*BA25)+(2*BA27)+(2*BA29)+(2*BA35)","v":0},null,{"$f":"BC19+(2*BC25)+(2*BC27)+(2*BC29)+(2*BC35)","v":0},null,{"$f":"BE19+(2*BE25)+(2*BE27)+(2*BE29)+(2*BE35)","v":0},null,{"$f":"BG19+(2*BG25)+(2*BG27)+(2*BG29)+(2*BG35)","v":0},null,{"$f":"BI19+(2*BI25)+(2*BI27)+(2*BI29)+(2*BI35)","v":0},null,{"$f":"BK19+(2*BK25)+(2*BK27)+(2*BK29)+(2*BK35)","v":0},null,{"$f":"BM19+(2*BM25)+(2*BM27)+(2*BM29)+(2*BM35)","v":0},null,{"$f":"BO19+(2*BO25)+(2*BO27)+(2*BO29)+(2*BO35)","v":0},null,{"$f":"BQ19+(2*BQ25)+(2*BQ27)+(2*BQ29)+(2*BQ35)","v":0},null,{"$f":"BS19+(2*BS25)+(2*BS27)+(2*BS29)+(2*BS35)","v":0},null,{"$f":"BU19+(2*BU25)+(2*BU27)+(2*BU29)+(2*BU35)","v":0},null,{"$f":"BW19+(2*BW25)+(2*BW27)+(2*BW29)+(2*BW35)","v":0},null,{"$f":"BY19+(2*BY25)+(2*BY27)+(2*BY29)+(2*BY35)","v":0},null,{"$f":"CA19+(2*CA25)+(2*CA27)+(2*CA29)+(2*CA35)","v":0},null,{"$f":"CC19+(2*CC25)+(2*CC27)+(2*CC29)+(2*CC35)","v":0}]
["Transport",{"$f":"SUM(C76:CC76)","v":0},{"$f":"C31+C33","v":0},null,{"$f":"E31+E33","v":0},null,{"$f":"G31+G33","v":0},null,{"$f":"I31+I33","v":0},null,{"$f":"K31+K33","v":0},null,{"$f":"M31+M33","v":0},null,{"$f":"O31+O33","v":0},null,{"$f":"Q31+Q33","v":0},null,{"$f":"S31+S33","v":0},null,{"$f":"U31+U33","v":0},null,{"$f":"W31+W33","v":0},null,{"$f":"Y31+Y33","v":0},null,{"$f":"AA31+AA33","v":0},null,{"$f":"AC31+AC33","v":0},null,{"$f":"AE31+AE33","v":0},null,{"$f":"AG31+AG33","v":0},null,{"$f":"AI31+AI33","v":0},null,{"$f":"AK31+AK33","v":0},null,{"$f":"AM31+AM33","v":0},null,{"$f":"AO31+AO33","v":0},null,{"$f":"AQ31+AQ33","v":0},null,{"$f":"AS31+AS33","v":0},null,{"$f":"AU31+AU33","v":0},null,{"$f":"AW31+AW33","v":0},null,{"$f":"AY31+AY33","v":0},null,{"$f":"BA31+BA33","v":0},null,{"$f":"BC31+BC33","v":0},null,{"$f":"BE31+BE33","v":0},null,{"$f":"BG31+BG33","v":0},null,{"$f":"BI31+BI33","v":0},null,{"$f":"BK31+BK33","v":0},null,{"$f":"BM31+BM33","v":0},null,{"$f":"BO31+BO33","v":0},null,{"$f":"BQ31+BQ33","v":0},null,{"$f":"BS31+BS33","v":0},null,{"$f":"BU31+BU33","v":0},null,{"$f":"BW31+BW33","v":0},null,{"$f":"BY31+BY33","v":0},null,{"$f":"CA31+CA33","v":0},null,{"$f":"CC31+CC33","v":0}]
["Tot linge sale",{"$f":"SUM(C77:CC77)","v":0},{"$f":"SUM(C74:C76)","v":0},null,{"$f":"SUM(E74:E76)","v":0},null,{"$f":"SUM(G74:G76)","v":0},null,{"$f":"SUM(I74:I76)","v":0},null,{"$f":"SUM(K74:K76)","v":0},null,{"$f":"SUM(M74:M76)","v":0},null,{"$f":"SUM(O74:O76)","v":0},null,{"$f":"SUM(Q74:Q76)","v":0},null,{"$f":"SUM(S74:S76)","v":0},null,{"$f":"SUM(U74:U76)","v":0},null,{"$f":"SUM(W74:W76)","v":0},null,{"$f":"SUM(Y74:Y76)","v":0},null,{"$f":"SUM(AA74:AA76)","v":0},null,{"$f":"SUM(AC74:AC76)","v":0},null,{"$f":"SUM(AE74:AE76)","v":0},null,{"$f":"SUM(AG74:AG76)","v":0},null,{"$f":"SUM(AI74:AI76)","v":0},null,{"$f":"SUM(AK74:AK76)","v":0},null,{"$f":"SUM(AM74:AM76)","v":0},null,{"$f":"SUM(AO74:AO76)","v":0},null,{"$f":"SUM(AQ74:AQ76)","v":0},null,{"$f":"SUM(AS74:AS76)","v":0},null,{"$f":"SUM(AU74:AU76)","v":0},null,{"$f":"SUM(AW74:AW76)","v":0},null,{"$f":"SUM(AY74:AY76)","v":0},null,{"$f":"SUM(BA74:BA76)","v":0},null,{"$f":"SUM(BC74:BC76)","v":0},null,{"$f":"SUM(BE74:BE76)","v":0},null,{"$f":"SUM(BG74:BG76)","v":0},null,{"$f":"SUM(BI74:BI76)","v":0},null,{"$f":"SUM(BK74:BK76)","v":0},null,{"$f":"SUM(BM74:BM76)","v":0},null,{"$f":"SUM(BO74:BO76)","v":0},null,{"$f":"SUM(BQ74:BQ76)","v":0},null,{"$f":"SUM(BS74:BS76)","v":0},null,{"$f":"SUM(BU74:BU76)","v":0},null,{"$f":"SUM(BW74:BW76)","v":0},null,{"$f":"SUM(BY74:BY76)","v":0},null,{"$f":"SUM(CA74:CA76)","v":0},null,{"$f":"SUM(CC74:CC76)","v":0}]
[]
["Linge propre"]
["Hygiène",{"$f":"SUM(C80:CC80)","v":0},{"$f":"(2*C39)","v":0},null,{"$f":"(2*E39)","v":0},null,{"$f":"(2*G39)","v":0},null,{"$f":"(2*I39)","v":0},null,{"$f":"(2*K39)","v":0},null,{"$f":"(2*M39)","v":0},null,{"$f":"(2*O39)","v":0},null,{"$f":"(2*Q39)","v":0},null,{"$f":"(2*S39)","v":0},null,{"$f":"(2*U39)","v":0},null,{"$f":"(2*W39)","v":0},null,{"$f":"(2*Y39)","v":0},null,{"$f":"(2*AA39)","v":0},null,{"$f":"(2*AC39)","v":0},null,{"$f":"(2*AE39)","v":0},null,{"$f":"(2*AG39)","v":0},null,{"$f":"(2*AI39)","v":0},null,{"$f":"(2*AK39)","v":0},null,{"$f":"(2*AM39)","v":0},null,{"$f":"(2*AO39)","v":0},null,{"$f":"(2*AQ39)","v":0},null,{"$f":"(2*AS39)","v":0},null,{"$f":"(2*AU39)","v":0},null,{"$f":"(2*AW39)","v":0},null,{"$f":"(2*AY39)","v":0},null,{"$f":"(2*BA39)","v":0},null,{"$f":"(2*BC39)","v":0},null,{"$f":"(2*BE39)","v":0},null,{"$f":"(2*BG39)","v":0},null,{"$f":"(2*BI39)","v":0},null,{"$f":"(2*BK39)","v":0},null,{"$f":"(2*BM39)","v":0},null,{"$f":"(2*BO39)","v":0},null,{"$f":"(2*BQ39)","v":0},null,{"$f":"(2*BS39)","v":0},null,{"$f":"(2*BU39)","v":0},null,{"$f":"(2*BW39)","v":0},null,{"$f":"(2*BY39)","v":0},null,{"$f":"(2*CA39)","v":0},null,{"$f":"(2*CC39)","v":0}]
["Utilisation",{"$f":"SUM(C81:CC81)","v":0},{"$f":"C41+C43","v":0},null,{"$f":"E41+E43","v":0},null,{"$f":"G41+G43","v":0},null,{"$f":"I41+I43","v":0},null,{"$f":"K41+K43","v":0},null,{"$f":"M41+M43","v":0},null,{"$f":"O41+O43","v":0},null,{"$f":"Q41+Q43","v":0},null,{"$f":"S41+S43","v":0},null,{"$f":"U41+U43","v":0},null,{"$f":"W41+W43","v":0},null,{"$f":"Y41+Y43","v":0},null,{"$f":"AA41+AA43","v":0},null,{"$f":"AC41+AC43","v":0},null,{"$f":"AE41+AE43","v":0},null,{"$f":"AG41+AG43","v":0},null,{"$f":"AI41+AI43","v":0},null,{"$f":"AK41+AK43","v":0},null,{"$f":"AM41+AM43","v":0},null,{"$f":"AO41+AO43","v":0},null,{"$f":"AQ41+AQ43","v":0},null,{"$f":"AS41+AS43","v":0},null,{"$f":"AU41+AU43","v":0},null,{"$f":"AW41+AW43","v":0},null,{"$f":"AY41+AY43","v":0},null,{"$f":"BA41+BA43","v":0},null,{"$f":"BC41+BC43","v":0},null,{"$f":"BE41+BE43","v":0},null,{"$f":"BG41+BG43","v":0},null,{"$f":"BI41+BI43","v":0},null,{"$f":"BK41+BK43","v":0},null,{"$f":"BM41+BM43","v":0},null,{"$f":"BO41+BO43","v":0},null,{"$f":"BQ41+BQ43","v":0},null,{"$f":"BS41+BS43","v":0},null,{"$f":"BU41+BU43","v":0},null,{"$f":"BW41+BW43","v":0},null,{"$f":"BY41+BY43","v":0},null,{"$f":"CA41+CA43","v":0},null,{"$f":"CC41+CC43","v":0}]
["Tot linge prop",{"$f":"SUM(C82:CC82)","v":0},{"$f":"SUM(C80:C81)","v":0},null,{"$f":"SUM(E80:E81)","v":0},null,{"$f":"SUM(G80:G81)","v":0},null,{"$f":"SUM(I80:I81)","v":0},null,{"$f":"SUM(K80:K81)","v":0},null,{"$f":"SUM(M80:M81)","v":0},null,{"$f":"SUM(O80:O81)","v":0},null,{"$f":"SUM(Q80:Q81)","v":0},null,{"$f":"SUM(S80:S81)","v":0},null,{"$f":"SUM(U80:U81)","v":0},null,{"$f":"SUM(W80:W81)","v":0},null,{"$f":"SUM(Y80:Y81)","v":0},null,{"$f":"SUM(AA80:AA81)","v":0},null,{"$f":"SUM(AC80:AC81)","v":0},null,{"$f":"SUM(AE80:AE81)","v":0},null,{"$f":"SUM(AG80:AG81)","v":0},null,{"$f":"SUM(AI80:AI81)","v":0},null,{"$f":"SUM(AK80:AK81)","v":0},null,{"$f":"SUM(AM80:AM81)","v":0},null,{"$f":"SUM(AO80:AO81)","v":0},null,{"$f":"SUM(AQ80:AQ81)","v":0},null,{"$f":"SUM(AS80:AS81)","v":0},null,{"$f":"SUM(AU80:AU81)","v":0},null,{"$f":"SUM(AW80:AW81)","v":0},null,{"$f":"SUM(AY80:AY81)","v":0},null,{"$f":"SUM(BA80:BA81)","v":0},null,{"$f":"SUM(BC80:BC81)","v":0},null,{"$f":"SUM(BE80:BE81)","v":0},null,{"$f":"SUM(BG80:BG81)","v":0},null,{"$f":"SUM(BI80:BI81)","v":0},null,{"$f":"SUM(BK80:BK81)","v":0},null,{"$f":"SUM(BM80:BM81)","v":0},null,{"$f":"SUM(BO80:BO81)","v":0},null,{"$f":"SUM(BQ80:BQ81)","v":0},null,{"$f":"SUM(BS80:BS81)","v":0},null,{"$f":"SUM(BU80:BU81)","v":0},null,{"$f":"SUM(BW80:BW81)","v":0},null,{"$f":"SUM(BY80:BY81)","v":0},null,{"$f":"SUM(CA80:CA81)","v":0},null,{"$f":"SUM(CC80:CC81)","v":0}]

{"sheet":"Poster_Service#1","index":9,"n_rows":46,"n_cols":16,"rows_kept":46,"cut":false,"hidden":true,"merged":[[23,5,23,6],[24,5,24,6],[28,0,33,13],[15,5,15,6],[15,2,15,4],[16,5,16,6],[22,5,22,6],[21,5,21,6],[21,2,21,4],[17,5,17,6],[19,5,19,6],[18,5,18,6],[0,1,0,13],[5,0,5,6],[11,0,11,6],[12,0,12,6],[1,12,1,13]]}
[null,"Audit de la fonction linge en établissement de santé et en EHPAD",null,null,null,null,null,null,null,null,null,null,null,null,"   Pour imprimer le poster:"]
[null,null,null,null,null,null,null,null,"ETABLISSEMENT :",{"$f":"IF(NOM=\"\",\"à préciser\",NOM)","v":"à préciser"},null,null,"Date de réalisation",null,"   Menu \"Fichier\" puis \"Imprimer\""]
[null,null,null,null,null,null,null,null,"SERVICE : ",{"$f":"IF(SERVICE1=\"\",\"à préciser\",SERVICE1)","v":"à préciser"},null,null,"de : ",{"$f":"IF(SERVICE1=\"\",\"à préciser\",(MIN(Fiches_Services!C9,'Fiches_Utilisateurs_Service#1'!C7:CC7)))","v":"à préciser"}]
[null,null,null,null,null,null,null,null,null,null,null,null,"au : ",{"$f":"IF(SERVICE1=\"\",\"à préciser\",(MAX(Fiches_Services!C9,'Fiches_Utilisateurs_Service#1'!C7:CC7)))","v":"à préciser"},"Vous ne pourrez imprimer le poster que"]
["Méthodologie",null,null,null,null,null,null,null,"Score \"utilisateur\" du service par catégories professionnelles",null,null,null,null,null,"si vous avez saisi vos axes d'amélioration"]
["Le recueil des données a été réalisé au niveau:",null,null,null,null,null,null,null,null,null,null,null,null,null,"et commentaires dans l'encadré jaune."]
["       Du service : ",null,null,null,null,null,"le recensement des locaux, du matériel et des procédures   "]
[null,null,null,null,null,null,"disponibles dans les services en lien avec la fonction linge.  "]
["De l'utilisateur : ",null,null,null,null,null,"l'observation des pratiques afin de vérifier l'adéquation avec"]
[null,null,null,null,null,null,"avec les recommandations de bonnes pratiques.                   "]
["Résultats"]
["Les pourcentages d'objectifs atteints sont présentés pour le service."]
[" Les résultats détaillés figurent dans le rapport d'analyse finale."]
[null,null,"Services évalués de l'établissement n =",{"$f":"(\" \"&SERVICES&\" services\")","v":" 0 services"}]
[]
["► Score \"service\"",null,"Service",null,null,"Etablissement"]
["Gestion du linge sale",null,{"$f":"IF(Rapport!F121=\"non saisi\",\"-\",Rapport!F121)","v":"-"},16,{"$f":"Rapport!H121","v":"non saisi"},{"$f":"IF(Rapport!H158=\"non saisi\",\"-\",Rapport!H158)","v":"-"}]
["Gestion du linge propre",null,{"$f":"IF(Rapport!F122=\"non saisi\",\"-\",Rapport!F122)","v":"-"},12,{"$f":"Rapport!H122","v":"non saisi"},{"$f":"IF(Rapport!H159=\"non saisi\",\"-\",Rapport!H159)","v":"-"}]
["Bionettoyage et traçabilité ",null,{"$f":"IF(Rapport!F123=\"non saisi\",\"-\",Rapport!F123)","v":"-"},12,{"$f":"Rapport!H123","v":"non saisi"},{"$f":"IF(Rapport!H160=\"non saisi\",\"-\",Rapport!H160)","v":"-"}]
["Score total",null,{"$f":"IF(Rapport!F124=\"non saisi\",\"-\",Rapport!F124)","v":"-"},40,{"$f":"Rapport!H124","v":"non saisi"},{"$f":"IF(Rapport!H161=\"non saisi\",\"-\",Rapport!H161)","v":"-"}]
[]
["► Score \"utilisateur\"",null,"Service",null,null,"Etablissement"]
["Evacuation du linge sale",null,{"$f":"IF(Rapport!F175=\"non saisi\",\"-\",Rapport!F175)","v":"-"},16,{"$f":"IF(Rapport!H175=\"non saisi\",\"-\",Rapport!H175)","v":"-"},{"$f":"IF(Rapport!H200=\"non saisi\",\"-\",Rapport!H200)","v":"-"}]
["Utilisation du linge propre",null,{"$f":"IF(Rapport!F176=\"non saisi\",\"-\",Rapport!F176)","v":"-"},4,{"$f":"IF(Rapport!H176=\"non saisi\",\"-\",Rapport!H176)","v":"-"},{"$f":"IF(Rapport!H201=\"non saisi\",\"-\",Rapport!H201)","v":"-"}]
["Score total",null,{"$f":"IF(Rapport!F177=\"non saisi\",\"-\",Rapport!F177)","v":"-"},20,{"$f":"IF(Rapport!H177=\"non saisi\",\"-\",Rapport!H177)","v":"-"},{"$f":"IF(Rapport!H202=\"non saisi\",\"-\",Rapport!H202)","v":"-"}]
[]
["Axes d'amélioration et commentaires"]
[]
[null,null,null,null,null,null,null,null,null,null,null,null,null,null,"◄ avant d'imprimer, veuillez"]
[null,null,null,null,null,null,null,null,null,null,null,null,null,null,"tapez vos axes d'amélioration"]
[null,null,null,null,null,null,null,null,null,null,null,null,null,null,"et commentaires dans le cadre"]
[null,null,null,null,null,null,null,null,null,null,null,null,null,null,"ci-contre."]
[]
[]
[]
[null,null,null,null,null,null,null,null,"La mise en œuvre d'actions d'amélioration avant une nouvelle évaluation contribue au processus d'amélioration continue de la qualité des soins"]
[null,null,null,null,null,null,null,null,null,null,null,null,null,null,"Autre",{"$f":"Rapport!H215","v":"non saisi"}]
[null,null,null,null,null,null,null,null,null,null,null,null,null,null,"Etudiant",{"$f":"Rapport!H214","v":"non saisi"}]
["L'établissement est en retard et doit assurer les meilleures conditions d’hygiène et de protection des patients et des personnels vis-à-vis du risque infectieux. ",null,null,null,null,null,null,null,null,null,null,null,null,null,"Brancardier",{"$f":"Rapport!H213","v":"non saisi"}]
[null,null,null,null,null,null,null,null,null,null,null,null,null,null,"Ambulancier",{"$f":"Rapport!H212","v":"non saisi"}]
["l'établissement a mis en place une politique qualité des activités et des prestations relatives aux articles de linge, il doit poursuivre ses actions",null,null,null,null,null,null,null,null,null,null,null,null,null,"Agent hospitalier",{"$f":"Rapport!H211","v":"non saisi"}]
["L'établissement est fortement engagé dans la qualité des activités relatives aux articles de linge, il doit poursuivre ses actions",null,null,null,null,null,null,null,null,null,null,null,null,null,"Aide-soignante/aux. puériculture",{"$f":"Rapport!H210","v":"non saisi"}]
[null,null,null,null,null,null,null,null,null,null,null,null,null,null,"Manipulateur radio",{"$f":"Rapport!H209","v":"non saisi"}]
[null,null,null,null,null,null,null,null,null,null,null,null,null,null,"Kinésithérapeute",{"$f":"Rapport!H208","v":"non saisi"}]
[null,null,null,null,null,null,null,null,null,null,null,null,null,null,"Sage-femme",{"$f":"Rapport!H207","v":"non saisi"}]
[null,null,null,null,null,null,null,null,null,null,null,null,null,null,"Infirmière et IDE spécialisée",{"$f":"Rapport!H206","v":"non saisi"}]

{"sheet":"Fiches_Utilisateurs_Service#2","index":10,"n_rows":47,"n_cols":82,"rows_kept":47,"cut":false,"hidden":false,"merged":[[0,0,0,2],[1,0,1,2]]}
["FICHE N° 2"]
["UTILISATEURS SERVICE #2"]
[null,null,"Utilisateur #1",null,"Utilisateur #2",null,"Utilisateur #3",null,"Utilisateur #4",null,"Utilisateur #5",null,"Utilisateur #6",null,"Utilisateur #7",null,"Utilisateur #8",null,"Utilisateur #9",null,"Utilisateur #10",null,"Utilisateur #11",null,"Utilisateur #12",null,"Utilisateur #13",null,"Utilisateur #14",null,"Utilisateur #15",null,"Utilisateur #16",null,"Utilisateur #17",null,"Utilisateur #18",null,"Utilisateur #19",null,"Utilisateur #20",null,"Utilisateur #21",null,"Utilisateur #22",null,"Utilisateur #23",null,"Utilisateur #24",null,"Utilisateur #25",null,"Utilisateur #26",null,"Utilisateur #27",null,"Utilisateur #28",null,"Utilisateur #29",null,"Utilisateur #30",null,"Utilisateur #31",null,"Utilisateur #32",null,"Utilisateur #33",null,"Utilisateur #34",null,"Utilisateur #35",null,"Utilisateur #36",null,"Utilisateur #37",null,"Utilisateur #38",null,"Utilisateur #39",null,"Utilisateur #40"]
[]
[null,"VERIFICATION DONNEES NON SAISIES/N° DE SAISIE DE FICHE",{"$f":"C45","v":"non saisies"},null,{"$f":"E45","v":"non saisies"},null,{"$f":"G45","v":"non saisies"},null,{"$f":"I45","v":"non saisies"},null,{"$f":"K45","v":"non saisies"},null,{"$f":"M45","v":"non saisies"},null,{"$f":"O45","v":"non saisies"},null,{"$f":"Q45","v":"non saisies"},null,{"$f":"S45","v":"non saisies"},null,{"$f":"U45","v":"non saisies"},null,{"$f":"W45","v":"non saisies"},null,{"$f":"Y45","v":"non saisies"},null,{"$f":"AA45","v":"non saisies"},null,{"$f":"AC45","v":"non saisies"},null,{"$f":"AE45","v":"non saisies"},null,{"$f":"AG45","v":"non saisies"},null,{"$f":"AI45","v":"non saisies"},null,{"$f":"AK45","v":"non saisies"},null,{"$f":"AM45","v":"non saisies"},null,{"$f":"AO45","v":"non saisies"},null,{"$f":"AQ45","v":"non saisies"},null,{"$f":"AS45","v":"non saisies"},null,{"$f":"AU45","v":"non saisies"},null,{"$f":"AW45","v":"non saisies"},null,{"$f":"AY45","v":"non saisies"},null,{"$f":"BA45","v":"non saisies"},null,{"$f":"BC45","v":"non saisies"},null,{"$f":"BE45","v":"non saisies"},null,{"$f":"BG45","v":"non saisies"},null,{"$f":"BI45","v":"non saisies"},null,{"$f":"BK45","v":"non saisies"},null,{"$f":"BM45","v":"non saisies"},null,{"$f":"BO45","v":"non saisies"},null,{"$f":"BQ45","v":"non saisies"},null,{"$f":"BS45","v":"non saisies"},null,{"$f":"BU45","v":"non saisies"},null,{"$f":"BW45","v":"non saisies"},null,{"$f":"BY45","v":"non saisies"},null,{"$f":"CA45","v":"non saisies"},null,{"$f":"CC45","v":"non saisies"}]
[]
[null,"Date"]
[]
[null,"Nom du service",{"$f":"IF(SERVICE2=\"\",\"non saisi\",SERVICE2)","v":"non saisi"},null,{"$f":"IF(SERVICE2=\"\",\"non saisi\",SERVICE2)","v":"non saisi"},null,{"$f":"IF(SERVICE2=\"\",\"non saisi\",SERVICE2)","v":"non saisi"},null,{"$f":"IF(SERVICE2=\"\",\"non saisi\",SERVICE2)","v":"non saisi"},null,{"$f":"IF(SERVICE2=\"\",\"non saisi\",SERVICE2)","v":"non saisi"},null,{"$f":"IF(SERVICE2=\"\",\"non saisi\",SERVICE2)","v":"non saisi"},null,{"$f":"IF(SERVICE2=\"\",\"non saisi\",SERVICE2)","v":"non saisi"},null,{"$f":"IF(SERVICE2=\"\",\"non saisi\",SERVICE2)","v":"non saisi"},null,{"$f":"IF(SERVICE2=\"\",\"non saisi\",SERVICE2)","v":"non saisi"},null,{"$f":"IF(SERVICE2=\"\",\"non saisi\",SERVICE2)","v":"non saisi"},null,{"$f":"IF(SERVICE2=\"\",\"non saisi\",SERVICE2)","v":"non saisi"},null,{"$f":"IF(SERVICE2=\"\",\"non saisi\",SERVICE2)","v":"non saisi"},null,{"$f":"IF(SERVICE2=\"\",\"non saisi\",SERVICE2)","v":"non saisi"},null,{"$f":"IF(SERVICE2=\"\",\"non saisi\",SERVICE2)","v":"non saisi"},null,{"$f":"IF(SERVICE2=\"\",\"non saisi\",SERVICE2)","v":"non saisi"},null,{"$f":"IF(SERVICE2=\"\",\"non saisi\",SERVICE2)","v":"non saisi"},null,{"$f":"IF(SERVICE2=\"\",\"non saisi\",SERVICE2)","v":"non saisi"},null,{"$f":"IF(SERVICE2=\"\",\"non saisi\",SERVICE2)","v":"non saisi"},null,{"$f":"IF(SERVICE2=\"\",\"non saisi\",SERVICE2)","v":"non saisi"},null,{"$f":"IF(SERVICE2=\"\",\"non saisi\",SERVICE2)","v":"non saisi"},null,{"$f":"IF(SERVICE2=\"\",\"non saisi\",SERVICE2)","v":"non saisi"},null,{"$f":"IF(SERVICE2=\"\",\"non saisi\",SERVICE2)","v":"non saisi"},null,{"$f":"IF(SERVICE2=\"\",\"non saisi\",SERVICE2)","v":"non saisi"},null,{"$f":"IF(SERVICE2=\"\",\"non saisi\",SERVICE2)","v":"non saisi"},null,{"$f":"IF(SERVICE2=\"\",\"non saisi\",SERVICE2)","v":"non saisi"},null,{"$f":"IF(SERVICE2=\"\",\"non saisi\",SERVICE2)","v":"non saisi"},null,{"$f":"IF(SERVICE2=\"\",\"non saisi\",SERVICE2)","v":"non saisi"},null,{"$f":"IF(SERVICE2=\"\",\"non saisi\",SERVICE2)","v":"non saisi"},null,{"$f":"IF(SERVICE2=\"\",\"non saisi\",SERVICE2)","v":"non saisi"},null,{"$f":"IF(SERVICE2=\"\",\"non saisi\",SERVICE2)","v":"non saisi"},null,{"$f":"IF(SERVICE2=\"\",\"non saisi\",SERVICE2)","v":"non saisi"},null,{"$f":"IF(SERVICE2=\"\",\"non saisi\",SERVICE2)","v":"non saisi"},null,{"$f":"IF(SERVICE2=\"\",\"non saisi\",SERVICE2)","v":"non saisi"},null,{"$f":"IF(SERVICE2=\"\",\"non saisi\",SERVICE2)","v":"non saisi"},null,{"$f":"IF(SERVICE2=\"\",\"non saisi\",SERVICE2)","v":"non saisi"},null,{"$f":"IF(SERVICE2=\"\",\"non saisi\",SERVICE2)","v":"non saisi"},null,{"$f":"IF(SERVICE2=\"\",\"non saisi\",SERVICE2)","v":"non saisi"},null,{"$f":"IF(SERVICE3=\"\",\"non saisi\",SERVICE3)","v":"non saisi"},null,{"$f":"IF(SERVICE2=\"\",\"non saisi\",SERVICE2)","v":"non saisi"},null,{"$f":"IF(SERVICE2=\"\",\"non saisi\",SERVICE2)","v":"non saisi"}]
[]
[null,"Fonction du personnel",null,null,null,null,null,null,null,null,null,null,null,null,null,null,null,null,null,null,null,null,null,null,null,null,null,null,null,null,null,null,null,null,null,null,null,null,null,null,null,null,null,null,null,null,null,null,null,null,null,null,null,null,null,null,null,null,null,null,null,null,null,null,null,null,null,null,null,null,null,null,null,null,null,null,null,null,null,null,null,"1 Infirmière et IDE spécialisée"]
[null,null,null,null,null,null,null,null,null,null,null,null,null,null,null,null,null,null,null,null,null,null,null,null,null,null,null,null,null,null,null,null,null,null,null,null,null,null,null,null,null,null,null,null,null,null,null,null,null,null,null,null,null,null,null,null,null,null,null,null,null,null,null,null,null,null,null,null,null,null,null,null,null,null,null,null,null,null,null,null,null,"2 Sage Femme"]
["Linge sale",null,"1 Oui - 2 Non",null,"1 Oui - 2 Non",null,"1 Oui - 2 Non",null,"1 Oui - 2 Non",null,"1 Oui - 2 Non",null,"1 Oui - 2 Non",null,"1 Oui - 2 Non",null,"1 Oui - 2 Non",null,"1 Oui - 2 Non",null,"1 Oui - 2 Non",null,"1 Oui - 2 Non",null,"1 Oui - 2 Non",null,"1 Oui - 2 Non",null,"1 Oui - 2 Non",null,"1 Oui - 2 Non",null,"1 Oui - 2 Non",null,"1 Oui - 2 Non",null,"1 Oui - 2 Non",null,"1 Oui - 2 Non",null,"1 Oui - 2 Non",null,"1 Oui - 2 Non",null,"1 Oui - 2 Non",null,"1 Oui - 2 Non",null,"1 Oui - 2 Non",null,"1 Oui - 2 Non",null,"1 Oui - 2 Non",null,"1 Oui - 2 Non",null,"1 Oui - 2 Non",null,"1 Oui - 2 Non",null,"1 Oui - 2 Non",null,"1 Oui - 2 Non",null,"1 Oui - 2 Non",null,"1 Oui - 2 Non",null,"1 Oui - 2 Non",null,"1 Oui - 2 Non",null,"1 Oui - 2 Non",null,"1 Oui - 2 Non",null,"1 Oui - 2 Non",null,"1 Oui - 2 Non",null,"1 Oui - 2 Non","3 Kinésithérapeute"]
[null,null,null,null,null,null,null,null,null,null,null,null,null,null,null,null,null,null,null,null,null,null,null,null,null,null,null,null,null,null,null,null,null,null,null,null,null,null,null,null,null,null,null,null,null,null,null,null,null,null,null,null,null,null,null,null,null,null,null,null,null,null,null,null,null,null,null,null,null,null,null,null,null,null,null,null,null,null,null,null,null,"4 Manipulateur Radio"]
[1,"Le linge sale est évacué à la fin du soin, sans dépose sur le sol",null,null,null,null,null,null,null,null,null,null,null,null,null,null,null,null,null,null,null,null,null,null,null,null,null,null,null,null,null,null,null,null,null,null,null,null,null,null,null,null,null,null,null,null,null,null,null,null,null,null,null,null,null,null,null,null,null,null,null,null,null,null,null,null,null,null,null,null,null,null,null,null,null,null,null,null,null,null,null,"5 Aide soignante/aux. de puériculture"]
[null,null,null,null,null,null,null,null,null,null,null,null,null,null,null,null,null,null,null,null,null,null,null,null,null,null,null,null,null,null,null,null,null,null,null,null,null,null,null,null,null,null,null,null,null,null,null,null,null,null,null,null,null,null,null,null,null,null,null,null,null,null,null,null,null,null,null,null,null,null,null,null,null,null,null,null,null,null,null,null,null,"6 Agent Hospitalier"]
[2,"Le professionnel vérifie l’absence d’objet étranger",null,null,null,null,null,null,null,null,null,null,null,null,null,null,null,null,null,null,null,null,null,null,null,null,null,null,null,null,null,null,null,null,null,null,null,null,null,null,null,null,null,null,null,null,null,null,null,null,null,null,null,null,null,null,null,null,null,null,null,null,null,null,null,null,null,null,null,null,null,null,null,null,null,null,null,null,null,null,null,"7 Ambulancier"]
[null,null,null,null,null,null,null,null,null,null,null,null,null,null,null,null,null,null,null,null,null,null,null,null,null,null,null,null,null,null,null,null,null,null,null,null,null,null,null,null,null,null,null,null,null,null,null,null,null,null,null,null,null,null,null,null,null,null,null,null,null,null,null,null,null,null,null,null,null,null,null,null,null,null,null,null,null,null,null,null,null,"8 Brancardier"]
[3,"Le professionnel porte des gants lors de la manipulation de linge souillé par des liquides biologiques",null,null,null,null,null,null,null,null,null,null,null,null,null,null,null,null,null,null,null,null,null,null,null,null,null,null,null,null,null,null,null,null,null,null,null,null,null,null,null,null,null,null,null,null,null,null,null,null,null,null,null,null,null,null,null,null,null,null,null,null,null,null,null,null,null,null,null,null,null,null,null,null,null,null,null,null,null,null,null,"9 Etudiant"]
[null,null,null,null,null,null,null,null,null,null,null,null,null,null,null,null,null,null,null,null,null,null,null,null,null,null,null,null,null,null,null,null,null,null,null,null,null,null,null,null,null,null,null,null,null,null,null,null,null,null,null,null,null,null,null,null,null,null,null,null,null,null,null,null,null,null,null,null,null,null,null,null,null,null,null,null,null,null,null,null,null,"10 Autre"]
[4,"Le professionnel manipule le linge sale avec des gestes mesurés pour limiter la contamination de l'environnement",null,null,null,null,null,null,null,null,null,null,null,null,null,null,null,null,null,null,null,null,null,null,null,null,null,null,null,null,null,null,null,null,null,null,null,null,null,null,null,null,null,null,null,null,null,null,null,null,null,null,null,null,null,null,null,null,null,null,null,null,null,null,null,null,null,null,null,null,null,null,null,null,null,null,null,null,null,null,null,1]
[null,null,null,null,null,null,null,null,null,null,null,null,null,null,null,null,null,null,null,null,null,null,null,null,null,null,null,null,null,null,null,null,null,null,null,null,null,null,null,null,null,null,null,null,null,null,null,null,null,null,null,null,null,null,null,null,null,null,null,null,null,null,null,null,null,null,null,null,null,null,null,null,null,null,null,null,null,null,null,null,null,2]
[5,"Les articles sont répartis selon la procédure de tri de l'établissement",null,null,null,null,null,null,null,null,null,null,null,null,null,null,null,null,null,null,null,null,null,null,null,null,null,null,null,null,null,null,null,null,null,null,null,null,null,null,null,null,null,null,null,null,null,null,null,null,null,null,null,null,null,null,null,null,null,null,null,null,null,null,null,null,null,null,null,null,null,null,null,null,null,null,null,null,null,null,null,3]
[null,null,null,null,null,null,null,null,null,null,null,null,null,null,null,null,null,null,null,null,null,null,null,null,null,null,null,null,null,null,null,null,null,null,null,null,null,null,null,null,null,null,null,null,null,null,null,null,null,null,null,null,null,null,null,null,null,null,null,null,null,null,null,null,null,null,null,null,null,null,null,null,null,null,null,null,null,null,null,null,null,4]
[6,"Le linge est tenu à distance de la tenue professionnelle",null,null,null,null,null,null,null,null,null,null,null,null,null,null,null,null,null,null,null,null,null,null,null,null,null,null,null,null,null,null,null,null,null,null,null,null,null,null,null,null,null,null,null,null,null,null,null,null,null,null,null,null,null,null,null,null,null,null,null,null,null,null,null,null,null,null,null,null,null,null,null,null,null,null,null,null,null,null,null,5]
[null,null,null,null,null,null,null,null,null,null,null,null,null,null,null,null,null,null,null,null,null,null,null,null,null,null,null,null,null,null,null,null,null,null,null,null,null,null,null,null,null,null,null,null,null,null,null,null,null,null,null,null,null,null,null,null,null,null,null,null,null,null,null,null,null,null,null,null,null,null,null,null,null,null,null,null,null,null,null,null,null,6]
[7,"Le système d'ouverture du chariot des sacs collecteurs de linge sale est manipulé sans les mains",null,null,null,null,null,null,null,null,null,null,null,null,null,null,null,null,null,null,null,null,null,null,null,null,null,null,null,null,null,null,null,null,null,null,null,null,null,null,null,null,null,null,null,null,null,null,null,null,null,null,null,null,null,null,null,null,null,null,null,null,null,null,null,null,null,null,null,null,null,null,null,null,null,null,null,null,null,null,null,7]
[null,null,null,null,null,null,null,null,null,null,null,null,null,null,null,null,null,null,null,null,null,null,null,null,null,null,null,null,null,null,null,null,null,null,null,null,null,null,null,null,null,null,null,null,null,null,null,null,null,null,null,null,null,null,null,null,null,null,null,null,null,null,null,null,null,null,null,null,null,null,null,null,null,null,null,null,null,null,null,null,null,8]
[8,"Le professionnel réalise une hygiène des mains après avoir manipulé le linge sale",null,null,null,null,null,null,null,null,null,null,null,null,null,null,null,null,null,null,null,null,null,null,null,null,null,null,null,null,null,null,null,null,null,null,null,null,null,null,null,null,null,null,null,null,null,null,null,null,null,null,null,null,null,null,null,null,null,null,null,null,null,null,null,null,null,null,null,null,null,null,null,null,null,null,null,null,null,null,null,9]
[null,null,null,null,null,null,null,null,null,null,null,null,null,null,null,null,null,null,null,null,null,null,null,null,null,null,null,null,null,null,null,null,null,null,null,null,null,null,null,null,null,null,null,null,null,null,null,null,null,null,null,null,null,null,null,null,null,null,null,null,null,null,null,null,null,null,null,null,null,null,null,null,null,null,null,null,null,null,null,null,null,10]
[9,"Dès la fin de l'activité, les sacs de linge sale sont évacués vers un local de stockage réservé"]
[null,"Si Non Observé (NO) coder 3"]
[10,"Les sacs de linge sale sont transportés sans être traînés par terre lors de transport"]
[null,"Si Non Observé (NO) coder 3"]
[11,"Le professionnel réalise une hygiène des mains après avoir manipulé les sacs de linge"]
[null,"Si Non Observé (NO) coder 3"]
["Linge propre",null,"1 Oui - 2 Non",null,"1 Oui - 2 Non",null,"1 Oui - 2 Non",null,"1 Oui - 2 Non",null,"1 Oui - 2 Non",null,"1 Oui - 2 Non",null,"1 Oui - 2 Non",null,"1 Oui - 2 Non",null,"1 Oui - 2 Non",null,"1 Oui - 2 Non",null,"1 Oui - 2 Non",null,"1 Oui - 2 Non",null,"1 Oui - 2 Non",null,"1 Oui - 2 Non",null,"1 Oui - 2 Non",null,"1 Oui - 2 Non",null,"1 Oui - 2 Non",null,"1 Oui - 2 Non",null,"1 Oui - 2 Non",null,"1 Oui - 2 Non",null,"1 Oui - 2 Non",null,"1 Oui - 2 Non",null,"1 Oui - 2 Non",null,"1 Oui - 2 Non",null,"1 Oui - 2 Non",null,"1 Oui - 2 Non",null,"1 Oui - 2 Non",null,"1 Oui - 2 Non",null,"1 Oui - 2 Non",null,"1 Oui - 2 Non",null,"1 Oui - 2 Non",null,"1 Oui - 2 Non",null,"1 Oui - 2 Non",null,"1 Oui - 2 Non",null,"1 Oui - 2 Non",null,"1 Oui - 2 Non",null,"1 Oui - 2 Non",null,"1 Oui - 2 Non",null,"1 Oui - 2 Non",null,"1 Oui - 2 Non"]
[]
[12,"Le professionnel réalise une hygiène des mains avant de manipuler le linge propre "]
[]
[13,"Le linge est déconditionné au fur et à mesure des besoins"]
[]
[14,"Le linge entré dans la chambre et non utilisé est évacué (considéré comme sale)"]
[]
[null,"VERIFICATION DONNEES NON SAISIES/N° DE SAISIE DE FICHE",{"$f":"IF(OR(C7=\"\",C9=\"non saisi\",C11=\"\",C15=\"\",C17=\"\",C19=\"\",C21=\"\",C23=\"\",C25=\"\",C27=\"\",C29=\"\",C31=\"\",C33=\"\",C35=\"\",C39=\"\",C41=\"\",C43=\"\"),\"non saisies\",(SERVICES+_OBS1+1))","v":"non saisies"},null,{"$f":"IF(OR(E7=\"\",E9=\"non saisi\",E11=\"\",E15=\"\",E17=\"\",E19=\"\",E21=\"\",E23=\"\",E25=\"\",E27=\"\",E29=\"\",E31=\"\",E33=\"\",E35=\"\",E39=\"\",E41=\"\",E43=\"\"),\"non saisies\",(SERVICES+_OBS1+2))","v":"non saisies"},null,{"$f":"IF(OR(G7=\"\",G9=\"non saisi\",G11=\"\",G15=\"\",G17=\"\",G19=\"\",G21=\"\",G23=\"\",G25=\"\",G27=\"\",G29=\"\",G31=\"\",G33=\"\",G35=\"\",G39=\"\",G41=\"\",G43=\"\"),\"non saisies\",(SERVICES+_OBS1+3))","v":"non saisies"},null,{"$f":"IF(OR(I7=\"\",I9=\"non saisi\",I11=\"\",I15=\"\",I17=\"\",I19=\"\",I21=\"\",I23=\"\",I25=\"\",I27=\"\",I29=\"\",I31=\"\",I33=\"\",I35=\"\",I39=\"\",I41=\"\",I43=\"\"),\"non saisies\",(SERVICES+_OBS1+4))","v":"non saisies"},null,{"$f":"IF(OR(K7=\"\",K9=\"non saisi\",K11=\"\",K15=\"\",K17=\"\",K19=\"\",K21=\"\",K23=\"\",K25=\"\",K27=\"\",K29=\"\",K31=\"\",K33=\"\",K35=\"\",K39=\"\",K41=\"\",K43=\"\"),\"non saisies\",(SERVICES+_OBS1+5))","v":"non saisies"},null,{"$f":"IF(OR(M7=\"\",M9=\"non saisi\",M11=\"\",M15=\"\",M17=\"\",M19=\"\",M21=\"\",M23=\"\",M25=\"\",M27=\"\",M29=\"\",M31=\"\",M33=\"\",M35=\"\",M39=\"\",M41=\"\",M43=\"\"),\"non saisies\",(SERVICES+_OBS1+6))","v":"non saisies"},null,{"$f":"IF(OR(O7=\"\",O9=\"non saisi\",O11=\"\",O15=\"\",O17=\"\",O19=\"\",O21=\"\",O23=\"\",O25=\"\",O27=\"\",O29=\"\",O31=\"\",O33=\"\",O35=\"\",O39=\"\",O41=\"\",O43=\"\"),\"non saisies\",(SERVICES+_OBS1+7))","v":"non saisies"},null,{"$f":"IF(OR(Q7=\"\",Q9=\"non saisi\",Q11=\"\",Q15=\"\",Q17=\"\",Q19=\"\",Q21=\"\",Q23=\"\",Q25=\"\",Q27=\"\",Q29=\"\",Q31=\"\",Q33=\"\",Q35=\"\",Q39=\"\",Q41=\"\",Q43=\"\"),\"non saisies\",(SERVICES+_OBS1+8))","v":"non saisies"},null,{"$f":"IF(OR(S7=\"\",S9=\"non saisi\",S11=\"\",S15=\"\",S17=\"\",S19=\"\",S21=\"\",S23=\"\",S25=\"\",S27=\"\",S29=\"\",S31=\"\",S33=\"\",S35=\"\",S39=\"\",S41=\"\",S43=\"\"),\"non saisies\",(SERVICES+_OBS1+9))","v":"non saisies"},null,{"$f":"IF(OR(U7=\"\",U9=\"non saisi\",U11=\"\",U15=\"\",U17=\"\",U19=\"\",U21=\"\",U23=\"\",U25=\"\",U27=\"\",U29=\"\",U31=\"\",U33=\"\",U35=\"\",U39=\"\",U41=\"\",U43=\"\"),\"non saisies\",(SERVICES+_OBS1+10))","v":"non saisies"},null,{"$f":"IF(OR(W7=\"\",W9=\"non saisi\",W11=\"\",W15=\"\",W17=\"\",W19=\"\",W21=\"\",W23=\"\",W25=\"\",W27=\"\",W29=\"\",W31=\"\",W33=\"\",W35=\"\",W39=\"\",W41=\"\",W43=\"\"),\"non saisies\",(SERVICES+_OBS1+11))","v":"non saisies"},null,{"$f":"IF(OR(Y7=\"\",Y9=\"non saisi\",Y11=\"\",Y15=\"\",Y17=\"\",Y19=\"\",Y21=\"\",Y23=\"\",Y25=\"\",Y27=\"\",Y29=\"\",Y31=\"\",Y33=\"\",Y35=\"\",Y39=\"\",Y41=\"\",Y43=\"\"),\"non saisies\",(SERVICES+_OBS1+12))","v":"non saisies"},null,{"$f":"IF(OR(AA7=\"\",AA9=\"non saisi\",AA11=\"\",AA15=\"\",AA17=\"\",AA19=\"\",AA21=\"\",AA23=\"\",AA25=\"\",AA27=\"\",AA29=\"\",AA31=\"\",AA33=\"\",AA35=\"\",AA39=\"\",AA41=\"\",AA43=\"\"),\"non saisies\",(SERVICES+_OBS1+13))","v":"non saisies"},null,{"$f":"IF(OR(AC7=\"\",AC9=\"non saisi\",AC11=\"\",AC15=\"\",AC17=\"\",AC19=\"\",AC21=\"\",AC23=\"\",AC25=\"\",AC27=\"\",AC29=\"\",AC31=\"\",AC33=\"\",AC35=\"\",AC39=\"\",AC41=\"\",AC43=\"\"),\"non saisies\",(SERVICES+_OBS1+14))","v":"non saisies"},null,{"$f":"IF(OR(AE7=\"\",AE9=\"non saisi\",AE11=\"\",AE15=\"\",AE17=\"\",AE19=\"\",AE21=\"\",AE23=\"\",AE25=\"\",AE27=\"\",AE29=\"\",AE31=\"\",AE33=\"\",AE35=\"\",AE39=\"\",AE41=\"\",AE43=\"\"),\"non saisies\",(SERVICES+_OBS1+15))","v":"non saisies"},null,{"$f":"IF(OR(AG7=\"\",AG9=\"non saisi\",AG11=\"\",AG15=\"\",AG17=\"\",AG19=\"\",AG21=\"\",AG23=\"\",AG25=\"\",AG27=\"\",AG29=\"\",AG31=\"\",AG33=\"\",AG35=\"\",AG39=\"\",AG41=\"\",AG43=\"\"),\"non saisies\",(SERVICES+_OBS1+16))","v":"non saisies"},null,{"$f":"IF(OR(AI7=\"\",AI9=\"non saisi\",AI11=\"\",AI15=\"\",AI17=\"\",AI19=\"\",AI21=\"\",AI23=\"\",AI25=\"\",AI27=\"\",AI29=\"\",AI31=\"\",AI33=\"\",AI35=\"\",AI39=\"\",AI41=\"\",AI43=\"\"),\"non saisies\",(SERVICES+_OBS1+17))","v":"non saisies"},null,{"$f":"IF(OR(AK7=\"\",AK9=\"non saisi\",AK11=\"\",AK15=\"\",AK17=\"\",AK19=\"\",AK21=\"\",AK23=\"\",AK25=\"\",AK27=\"\",AK29=\"\",AK31=\"\",AK33=\"\",AK35=\"\",AK39=\"\",AK41=\"\",AK43=\"\"),\"non saisies\",(SERVICES+_OBS1+18))","v":"non saisies"},null,{"$f":"IF(OR(AM7=\"\",AM9=\"non saisi\",AM11=\"\",AM15=\"\",AM17=\"\",AM19=\"\",AM21=\"\",AM23=\"\",AM25=\"\",AM27=\"\",AM29=\"\",AM31=\"\",AM33=\"\",AM35=\"\",AM39=\"\",AM41=\"\",AM43=\"\"),\"non saisies\",(SERVICES+_OBS1+19))","v":"non saisies"},null,{"$f":"IF(OR(AO7=\"\",AO9=\"non saisi\",AO11=\"\",AO15=\"\",AO17=\"\",AO19=\"\",AO21=\"\",AO23=\"\",AO25=\"\",AO27=\"\",AO29=\"\",AO31=\"\",AO33=\"\",AO35=\"\",AO39=\"\",AO41=\"\",AO43=\"\"),\"non saisies\",(SERVICES+_OBS1+20))","v":"non saisies"},null,{"$f":"IF(OR(AQ7=\"\",AQ9=\"non saisi\",AQ11=\"\",AQ15=\"\",AQ17=\"\",AQ19=\"\",AQ21=\"\",AQ23=\"\",AQ25=\"\",AQ27=\"\",AQ29=\"\",AQ31=\"\",AQ33=\"\",AQ35=\"\",AQ39=\"\",AQ41=\"\",AQ43=\"\"),\"non saisies\",(SERVICES+_OBS1+21))","v":"non saisies"},null,{"$f":"IF(OR(AS7=\"\",AS9=\"non saisi\",AS11=\"\",AS15=\"\",AS17=\"\",AS19=\"\",AS21=\"\",AS23=\"\",AS25=\"\",AS27=\"\",AS29=\"\",AS31=\"\",AS33=\"\",AS35=\"\",AS39=\"\",AS41=\"\",AS43=\"\"),\"non saisies\",(SERVICES+_OBS1+22))","v":"non saisies"},null,{"$f":"IF(OR(AU7=\"\",AU9=\"non saisi\",AU11=\"\",AU15=\"\",AU17=\"\",AU19=\"\",AU21=\"\",AU23=\"\",AU25=\"\",AU27=\"\",AU29=\"\",AU31=\"\",AU33=\"\",AU35=\"\",AU39=\"\",AU41=\"\",AU43=\"\"),\"non saisies\",(SERVICES+_OBS1+23))","v":"non saisies"},null,{"$f":"IF(OR(AW7=\"\",AW9=\"non saisi\",AW11=\"\",AW15=\"\",AW17=\"\",AW19=\"\",AW21=\"\",AW23=\"\",AW25=\"\",AW27=\"\",AW29=\"\",AW31=\"\",AW33=\"\",AW35=\"\",AW39=\"\",AW41=\"\",AW43=\"\"),\"non saisies\",(SERVICES+_OBS1+24))","v":"non saisies"},null,{"$f":"IF(OR(AY7=\"\",AY9=\"non saisi\",AY11=\"\",AY15=\"\",AY17=\"\",AY19=\"\",AY21=\"\",AY23=\"\",AY25=\"\",AY27=\"\",AY29=\"\",AY31=\"\",AY33=\"\",AY35=\"\",AY39=\"\",AY41=\"\",AY43=\"\"),\"non saisies\",(SERVICES+_OBS1+25))","v":"non saisies"},null,{"$f":"IF(OR(BA7=\"\",BA9=\"non saisi\",BA11=\"\",BA15=\"\",BA17=\"\",BA19=\"\",BA21=\"\",BA23=\"\",BA25=\"\",BA27=\"\",BA29=\"\",BA31=\"\",BA33=\"\",BA35=\"\",BA39=\"\",BA41=\"\",BA43=\"\"),\"non saisies\",(SERVICES+_OBS1+26))","v":"non saisies"},null,{"$f":"IF(OR(BC7=\"\",BC9=\"non saisi\",BC11=\"\",BC15=\"\",BC17=\"\",BC19=\"\",BC21=\"\",BC23=\"\",BC25=\"\",BC27=\"\",BC29=\"\",BC31=\"\",BC33=\"\",BC35=\"\",BC39=\"\",BC41=\"\",BC43=\"\"),\"non saisies\",(SERVICES+_OBS1+27))","v":"non saisies"},null,{"$f":"IF(OR(BE7=\"\",BE9=\"non saisi\",BE11=\"\",BE15=\"\",BE17=\"\",BE19=\"\",BE21=\"\",BE23=\"\",BE25=\"\",BE27=\"\",BE29=\"\",BE31=\"\",BE33=\"\",BE35=\"\",BE39=\"\",BE41=\"\",BE43=\"\"),\"non saisies\",(SERVICES+_OBS1+28))","v":"non saisies"},null,{"$f":"IF(OR(BG7=\"\",BG9=\"non saisi\",BG11=\"\",BG15=\"\",BG17=\"\",BG19=\"\",BG21=\"\",BG23=\"\",BG25=\"\",BG27=\"\",BG29=\"\",BG31=\"\",BG33=\"\",BG35=\"\",BG39=\"\",BG41=\"\",BG43=\"\"),\"non saisies\",(SERVICES+_OBS1+29))","v":"non saisies"},null,{"$f":"IF(OR(BI7=\"\",BI9=\"non saisi\",BI11=\"\",BI15=\"\",BI17=\"\",BI19=\"\",BI21=\"\",BI23=\"\",BI25=\"\",BI27=\"\",BI29=\"\",BI31=\"\",BI33=\"\",BI35=\"\",BI39=\"\",BI41=\"\",BI43=\"\"),\"non saisies\",(SERVICES+_OBS1+30))","v":"non saisies"},null,{"$f":"IF(OR(BK7=\"\",BK9=\"non saisi\",BK11=\"\",BK15=\"\",BK17=\"\",BK19=\"\",BK21=\"\",BK23=\"\",BK25=\"\",BK27=\"\",BK29=\"\",BK31=\"\",BK33=\"\",BK35=\"\",BK39=\"\",BK41=\"\",BK43=\"\"),\"non saisies\",(SERVICES+_OBS1+31))","v":"non saisies"},null,{"$f":"IF(OR(BM7=\"\",BM9=\"non saisi\",BM11=\"\",BM15=\"\",BM17=\"\",BM19=\"\",BM21=\"\",BM23=\"\",BM25=\"\",BM27=\"\",BM29=\"\",BM31=\"\",BM33=\"\",BM35=\"\",BM39=\"\",BM41=\"\",BM43=\"\"),\"non saisies\",(SERVICES+_OBS1+32))","v":"non saisies"},null,{"$f":"IF(OR(BO7=\"\",BO9=\"non saisi\",BO11=\"\",BO15=\"\",BO17=\"\",BO19=\"\",BO21=\"\",BO23=\"\",BO25=\"\",BO27=\"\",BO29=\"\",BO31=\"\",BO33=\"\",BO35=\"\",BO39=\"\",BO41=\"\",BO43=\"\"),\"non saisies\",(SERVICES+_OBS1+33))","v":"non saisies"},null,{"$f":"IF(OR(BQ7=\"\",BQ9=\"non saisi\",BQ11=\"\",BQ15=\"\",BQ17=\"\",BQ19=\"\",BQ21=\"\",BQ23=\"\",BQ25=\"\",BQ27=\"\",BQ29=\"\",BQ31=\"\",BQ33=\"\",BQ35=\"\",BQ39=\"\",BQ41=\"\",BQ43=\"\"),\"non saisies\",(SERVICES+_OBS1+34))","v":"non saisies"},null,{"$f":"IF(OR(BS7=\"\",BS9=\"non saisi\",BS11=\"\",BS15=\"\",BS17=\"\",BS19=\"\",BS21=\"\",BS23=\"\",BS25=\"\",BS27=\"\",BS29=\"\",BS31=\"\",BS33=\"\",BS35=\"\",BS39=\"\",BS41=\"\",BS43=\"\"),\"non saisies\",(SERVICES+_OBS1+35))","v":"non saisies"},null,{"$f":"IF(OR(BU7=\"\",BU9=\"non saisi\",BU11=\"\",BU15=\"\",BU17=\"\",BU19=\"\",BU21=\"\",BU23=\"\",BU25=\"\",BU27=\"\",BU29=\"\",BU31=\"\",BU33=\"\",BU35=\"\",BU39=\"\",BU41=\"\",BU43=\"\"),\"non saisies\",(SERVICES+_OBS1+36))","v":"non saisies"},null,{"$f":"IF(OR(BW7=\"\",BW9=\"non saisi\",BW11=\"\",BW15=\"\",BW17=\"\",BW19=\"\",BW21=\"\",BW23=\"\",BW25=\"\",BW27=\"\",BW29=\"\",BW31=\"\",BW33=\"\",BW35=\"\",BW39=\"\",BW41=\"\",BW43=\"\"),\"non saisies\",(SERVICES+_OBS1+37))","v":"non saisies"},null,{"$f":"IF(OR(BY7=\"\",BY9=\"non saisi\",BY11=\"\",BY15=\"\",BY17=\"\",BY19=\"\",BY21=\"\",BY23=\"\",BY25=\"\",BY27=\"\",BY29=\"\",BY31=\"\",BY33=\"\",BY35=\"\",BY39=\"\",BY41=\"\",BY43=\"\"),\"non saisies\",(SERVICES+_OBS1+38))","v":"non saisies"},null,{"$f":"IF(OR(CA7=\"\",CA9=\"non saisi\",CA11=\"\",CA15=\"\",CA17=\"\",CA19=\"\",CA21=\"\",CA23=\"\",CA25=\"\",CA27=\"\",CA29=\"\",CA31=\"\",CA33=\"\",CA35=\"\",CA39=\"\",CA41=\"\",CA43=\"\"),\"non saisies\",(SERVICES+_OBS1+39))","v":"non saisies"},null,{"$f":"IF(OR(CC7=\"\",CC9=\"non saisi\",CC11=\"\",CC15=\"\",CC17=\"\",CC19=\"\",CC21=\"\",CC23=\"\",CC25=\"\",CC27=\"\",CC29=\"\",CC31=\"\",CC33=\"\",CC35=\"\",CC39=\"\",CC41=\"\",CC43=\"\"),\"non saisies\",(SERVICES+_OBS1+40))","v":"non saisies"}]
[]
[null,"MENU"]

{"sheet":"Score2","index":11,"n_rows":82,"n_cols":81,"rows_kept":82,"cut":false,"hidden":true,"merged":[]}
[]
[]
[]
[]
[]
[]
[null,null,{"$f":"IF('Fiches_Utilisateurs_Service#2'!C7=\"\",0,1)","v":0},null,{"$f":"IF('Fiches_Utilisateurs_Service#2'!E7=\"\",0,1)","v":0},null,{"$f":"IF('Fiches_Utilisateurs_Service#2'!G7=\"\",0,1)","v":0},null,{"$f":"IF('Fiches_Utilisateurs_Service#2'!I7=\"\",0,1)","v":0},null,{"$f":"IF('Fiches_Utilisateurs_Service#2'!K7=\"\",0,1)","v":0},null,{"$f":"IF('Fiches_Utilisateurs_Service#2'!M7=\"\",0,1)","v":0},null,{"$f":"IF('Fiches_Utilisateurs_Service#2'!O7=\"\",0,1)","v":0},null,{"$f":"IF('Fiches_Utilisateurs_Service#2'!Q7=\"\",0,1)","v":0},null,{"$f":"IF('Fiches_Utilisateurs_Service#2'!S7=\"\",0,1)","v":0},null,{"$f":"IF('Fiches_Utilisateurs_Service#2'!U7=\"\",0,1)","v":0},null,{"$f":"IF('Fiches_Utilisateurs_Service#2'!W7=\"\",0,1)","v":0},null,{"$f":"IF('Fiches_Utilisateurs_Service#2'!Y7=\"\",0,1)","v":0},null,{"$f":"IF('Fiches_Utilisateurs_Service#2'!AA7=\"\",0,1)","v":0},null,{"$f":"IF('Fiches_Utilisateurs_Service#2'!AC7=\"\",0,1)","v":0},null,{"$f":"IF('Fiches_Utilisateurs_Service#2'!AE7=\"\",0,1)","v":0},null,{"$f":"IF('Fiches_Utilisateurs_Service#2'!AG7=\"\",0,1)","v":0},null,{"$f":"IF('Fiches_Utilisateurs_Service#2'!AI7=\"\",0,1)","v":0},null,{"$f":"IF('Fiches_Utilisateurs_Service#2'!AK7=\"\",0,1)","v":0},null,{"$f":"IF('Fiches_Utilisateurs_Service#2'!AM7=\"\",0,1)","v":0},null,{"$f":"IF('Fiches_Utilisateurs_Service#2'!AO7=\"\",0,1)","v":0},null,{"$f":"IF('Fiches_Utilisateurs_Service#2'!AQ7=\"\",0,1)","v":0},null,{"$f":"IF('Fiches_Utilisateurs_Service#2'!AS7=\"\",0,1)","v":0},null,{"$f":"IF('Fiches_Utilisateurs_Service#2'!AU7=\"\",0,1)","v":0},null,{"$f":"IF('Fiches_Utilisateurs_Service#2'!AW7=\"\",0,1)","v":0},null,{"$f":"IF('Fiches_Utilisateurs_Service#2'!AY7=\"\",0,1)","v":0},null,{"$f":"IF('Fiches_Utilisateurs_Service#2'!BA7=\"\",0,1)","v":0},null,{"$f":"IF('Fiches_Utilisateurs_Service#2'!BC7=\"\",0,1)","v":0},null,{"$f":"IF('Fiches_Utilisateurs_Service#2'!BE7=\"\",0,1)","v":0},null,{"$f":"IF('Fiches_Utilisateurs_Service#2'!BG7=\"\",0,1)","v":0},null,{"$f":"IF('Fiches_Utilisateurs_Service#2'!BI7=\"\",0,1)","v":0},null,{"$f":"IF('Fiches_Utilisateurs_Service#2'!BK7=\"\",0,1)","v":0},null,{"$f":"IF('Fiches_Utilisateurs_Service#2'!BM7=\"\",0,1)","v":0},null,{"$f":"IF('Fiches_Utilisateurs_Service#2'!BO7=\"\",0,1)","v":0},null,{"$f":"IF('Fiches_Utilisateurs_Service#2'!BQ7=\"\",0,1)","v":0},null,{"$f":"IF('Fiches_Utilisateurs_Service#2'!BS7=\"\",0,1)","v":0},null,{"$f":"IF('Fiches_Utilisateurs_Service#2'!BU7=\"\",0,1)","v":0},null,{"$f":"IF('Fiches_Utilisateurs_Service#2'!BW7=\"\",0,1)","v":0},null,{"$f":"IF('Fiches_Utilisateurs_Service#2'!BY7=\"\",0,1)","v":0},null,{"$f":"IF('Fiches_Utilisateurs_Service#2'!CA7=\"\",0,1)","v":0},null,{"$f":"IF('Fiches_Utilisateurs_Service#2'!CC7=\"\",0,1)","v":0}]
[]
[]
[]
[null,null,{"$f":"IF(LEFT('Fiches_Utilisateurs_Service#2'!C11,2)=\"10\",\"10\",(IF('Fiches_Utilisateurs_Service#2'!C11=\"\",\"0\",LEFT('Fiches_Utilisateurs_Service#2'!C11,1))))","v":"0"},null,{"$f":"IF(LEFT('Fiches_Utilisateurs_Service#2'!E11,2)=\"10\",\"10\",(IF('Fiches_Utilisateurs_Service#2'!E11=\"\",\"0\",LEFT('Fiches_Utilisateurs_Service#2'!E11,1))))","v":"0"},null,{"$f":"IF(LEFT('Fiches_Utilisateurs_Service#2'!G11,2)=\"10\",\"10\",(IF('Fiches_Utilisateurs_Service#2'!G11=\"\",\"0\",LEFT('Fiches_Utilisateurs_Service#2'!G11,1))))","v":"0"},null,{"$f":"IF(LEFT('Fiches_Utilisateurs_Service#2'!I11,2)=\"10\",\"10\",(IF('Fiches_Utilisateurs_Service#2'!I11=\"\",\"0\",LEFT('Fiches_Utilisateurs_Service#2'!I11,1))))","v":"0"},null,{"$f":"IF(LEFT('Fiches_Utilisateurs_Service#2'!K11,2)=\"10\",\"10\",(IF('Fiches_Utilisateurs_Service#2'!K11=\"\",\"0\",LEFT('Fiches_Utilisateurs_Service#2'!K11,1))))","v":"0"},null,{"$f":"IF(LEFT('Fiches_Utilisateurs_Service#2'!M11,2)=\"10\",\"10\",(IF('Fiches_Utilisateurs_Service#2'!M11=\"\",\"0\",LEFT('Fiches_Utilisateurs_Service#2'!M11,1))))","v":"0"},null,{"$f":"IF(LEFT('Fiches_Utilisateurs_Service#2'!O11,2)=\"10\",\"10\",(IF('Fiches_Utilisateurs_Service#2'!O11=\"\",\"0\",LEFT('Fiches_Utilisateurs_Service#2'!O11,1))))","v":"0"},null,{"$f":"IF(LEFT('Fiches_Utilisateurs_Service#2'!Q11,2)=\"10\",\"10\",(IF('Fiches_Utilisateurs_Service#2'!Q11=\"\",\"0\",LEFT('Fiches_Utilisateurs_Service#2'!Q11,1))))","v":"0"},null,{"$f":"IF(LEFT('Fiches_Utilisateurs_Service#2'!S11,2)=\"10\",\"10\",(IF('Fiches_Utilisateurs_Service#2'!S11=\"\",\"0\",LEFT('Fiches_Utilisateurs_Service#2'!S11,1))))","v":"0"},null,{"$f":"IF(LEFT('Fiches_Utilisateurs_Service#2'!U11,2)=\"10\",\"10\",(IF('Fiches_Utilisateurs_Service#2'!U11=\"\",\"0\",LEFT('Fiches_Utilisateurs_Service#2'!U11,1))))","v":"0"},null,{"$f":"IF(LEFT('Fiches_Utilisateurs_Service#2'!W11,2)=\"10\",\"10\",(IF('Fiches_Utilisateurs_Service#2'!W11=\"\",\"0\",LEFT('Fiches_Utilisateurs_Service#2'!W11,1))))","v":"0"},null,{"$f":"IF(LEFT('Fiches_Utilisateurs_Service#2'!Y11,2)=\"10\",\"10\",(IF('Fiches_Utilisateurs_Service#2'!Y11=\"\",\"0\",LEFT('Fiches_Utilisateurs_Service#2'!Y11,1))))","v":"0"},null,{"$f":"IF(LEFT('Fiches_Utilisateurs_Service#2'!AA11,2)=\"10\",\"10\",(IF('Fiches_Utilisateurs_Service#2'!AA11=\"\",\"0\",LEFT('Fiches_Utilisateurs_Service#2'!AA11,1))))","v":"0"},null,{"$f":"IF(LEFT('Fiches_Utilisateurs_Service#2'!AC11,2)=\"10\",\"10\",(IF('Fiches_Utilisateurs_Service#2'!AC11=\"\",\"0\",LEFT('Fiches_Utilisateurs_Service#2'!AC11,1))))","v":"0"},null,{"$f":"IF(LEFT('Fiches_Utilisateurs_Service#2'!AE11,2)=\"10\",\"10\",(IF('Fiches_Utilisateurs_Service#2'!AE11=\"\",\"0\",LEFT('Fiches_Utilisateurs_Service#2'!AE11,1))))","v":"0"},null,{"$f":"IF(LEFT('Fiches_Utilisateurs_Service#2'!AG11,2)=\"10\",\"10\",(IF('Fiches_Utilisateurs_Service#2'!AG11=\"\",\"0\",LEFT('Fiches_Utilisateurs_Service#2'!AG11,1))))","v":"0"},null,{"$f":"IF(LEFT('Fiches_Utilisateurs_Service#2'!AI11,2)=\"10\",\"10\",(IF('Fiches_Utilisateurs_Service#2'!AI11=\"\",\"0\",LEFT('Fiches_Utilisateurs_Service#2'!AI11,1))))","v":"0"},null,{"$f":"IF(LEFT('Fiches_Utilisateurs_Service#2'!AK11,2)=\"10\",\"10\",(IF('Fiches_Utilisateurs_Service#2'!AK11=\"\",\"0\",LEFT('Fiches_Utilisateurs_Service#2'!AK11,1))))","v":"0"},null,{"$f":"IF(LEFT('Fiches_Utilisateurs_Service#2'!AM11,2)=\"10\",\"10\",(IF('Fiches_Utilisateurs_Service#2'!AM11=\"\",\"0\",LEFT('Fiches_Utilisateurs_Service#2'!AM11,1))))","v":"0"},null,{"$f":"IF(LEFT('Fiches_Utilisateurs_Service#2'!AO11,2)=\"10\",\"10\",(IF('Fiches_Utilisateurs_Service#2'!AO11=\"\",\"0\",LEFT('Fiches_Utilisateurs_Service#2'!AO11,1))))","v":"0"},null,{"$f":"IF(LEFT('Fiches_Utilisateurs_Service#2'!AQ11,2)=\"10\",\"10\",(IF('Fiches_Utilisateurs_Service#2'!AQ11=\"\",\"0\",LEFT('Fiches_Utilisateurs_Service#2'!AQ11,1))))","v":"0"},null,{"$f":"IF(LEFT('Fiches_Utilisateurs_Service#2'!AS11,2)=\"10\",\"10\",(IF('Fiches_Utilisateurs_Service#2'!AS11=\"\",\"0\",LEFT('Fiches_Utilisateurs_Service#2'!AS11,1))))","v":"0"},null,{"$f":"IF(LEFT('Fiches_Utilisateurs_Service#2'!AU11,2)=\"10\",\"10\",(IF('Fiches_Utilisateurs_Service#2'!AU11=\"\",\"0\",LEFT('Fiches_Utilisateurs_Service#2'!AU11,1))))","v":"0"},null,{"$f":"IF(LEFT('Fiches_Utilisateurs_Service#2'!AW11,2)=\"10\",\"10\",(IF('Fiches_Utilisateurs_Service#2'!AW11=\"\",\"0\",LEFT('Fiches_Utilisateurs_Service#2'!AW11,1))))","v":"0"},null,{"$f":"IF(LEFT('Fiches_Utilisateurs_Service#2'!AY11,2)=\"10\",\"10\",(IF('Fiches_Utilisateurs_Service#2'!AY11=\"\",\"0\",LEFT('Fiches_Utilisateurs_Service#2'!AY11,1))))","v":"0"},null,{"$f":"IF(LEFT('Fiches_Utilisateurs_Service#2'!BA11,2)=\"10\",\"10\",(IF('Fiches_Utilisateurs_Service#2'!BA11=\"\",\"0\",LEFT('Fiches_Utilisateurs_Service#2'!BA11,1))))","v":"0"},null,{"$f":"IF(LEFT('Fiches_Utilisateurs_Service#2'!BC11,2)=\"10\",\"10\",(IF('Fiches_Utilisateurs_Service#2'!BC11=\"\",\"0\",LEFT('Fiches_Utilisateurs_Service#2'!BC11,1))))","v":"0"},null,{"$f":"IF(LEFT('Fiches_Utilisateurs_Service#2'!BE11,2)=\"10\",\"10\",(IF('Fiches_Utilisateurs_Service#2'!BE11=\"\",\"0\",LEFT('Fiches_Utilisateurs_Service#2'!BE11,1))))","v":"0"},null,{"$f":"IF(LEFT('Fiches_Utilisateurs_Service#2'!BG11,2)=\"10\",\"10\",(IF('Fiches_Utilisateurs_Service#2'!BG11=\"\",\"0\",LEFT('Fiches_Utilisateurs_Service#2'!BG11,1))))","v":"0"},null,{"$f":"IF(LEFT('Fiches_Utilisateurs_Service#2'!BI11,2)=\"10\",\"10\",(IF('Fiches_Utilisateurs_Service#2'!BI11=\"\",\"0\",LEFT('Fiches_Utilisateurs_Service#2'!BI11,1))))","v":"0"},null,{"$f":"IF(LEFT('Fiches_Utilisateurs_Service#2'!BK11,2)=\"10\",\"10\",(IF('Fiches_Utilisateurs_Service#2'!BK11=\"\",\"0\",LEFT('Fiches_Utilisateurs_Service#2'!BK11,1))))","v":"0"},null,{"$f":"IF(LEFT('Fiches_Utilisateurs_Service#2'!BM11,2)=\"10\",\"10\",(IF('Fiches_Utilisateurs_Service#2'!BM11=\"\",\"0\",LEFT('Fiches_Utilisateurs_Service#2'!BM11,1))))","v":"0"},null,{"$f":"IF(LEFT('Fiches_Utilisateurs_Service#2'!BO11,2)=\"10\",\"10\",(IF('Fiches_Utilisateurs_Service#2'!BO11=\"\",\"0\",LEFT('Fiches_Utilisateurs_Service#2'!BO11,1))))","v":"0"},null,{"$f":"IF(LEFT('Fiches_Utilisateurs_Service#2'!BQ11,2)=\"10\",\"10\",(IF('Fiches_Utilisateurs_Service#2'!BQ11=\"\",\"0\",LEFT('Fiches_Utilisateurs_Service#2'!BQ11,1))))","v":"0"},null,{"$f":"IF(LEFT('Fiches_Utilisateurs_Service#2'!BS11,2)=\"10\",\"10\",(IF('Fiches_Utilisateurs_Service#2'!BS11=\"\",\"0\",LEFT('Fiches_Utilisateurs_Service#2'!BS11,1))))","v":"0"},null,{"$f":"IF(LEFT('Fiches_Utilisateurs_Service#2'!BU11,2)=\"10\",\"10\",(IF('Fiches_Utilisateurs_Service#2'!BU11=\"\",\"0\",LEFT('Fiches_Utilisateurs_Service#2'!BU11,1))))","v":"0"},null,{"$f":"IF(LEFT('Fiches_Utilisateurs_Service#2'!BW11,2)=\"10\",\"10\",(IF('Fiches_Utilisateurs_Service#2'!BW11=\"\",\"0\",LEFT('Fiches_Utilisateurs_Service#2'!BW11,1))))","v":"0"},null,{"$f":"IF(LEFT('Fiches_Utilisateurs_Service#2'!BY11,2)=\"10\",\"10\",(IF('Fiches_Utilisateurs_Service#2'!BY11=\"\",\"0\",LEFT('Fiches_Utilisateurs_Service#2'!BY11,1))))","v":"0"},null,{"$f":"IF(LEFT('Fiches_Utilisateurs_Service#2'!CA11,2)=\"10\",\"10\",(IF('Fiches_Utilisateurs_Service#2'!CA11=\"\",\"0\",LEFT('Fiches_Utilisateurs_Service#2'!CA11,1))))","v":"0"},null,{"$f":"IF(LEFT('Fiches_Utilisateurs_Service#2'!CC11,2)=\"10\",\"10\",(IF('Fiches_Utilisateurs_Service#2'!CC11=\"\",\"0\",LEFT('Fiches_Utilisateurs_Service#2'!CC11,1))))","v":"0"}]
[]
[]
[null,"glob tots"]
[1,null,{"$f":"IF('Fiches_Utilisateurs_Service#2'!C15=1,1,0)","v":0},null,{"$f":"IF('Fiches_Utilisateurs_Service#2'!E15=1,1,0)","v":0},null,{"$f":"IF('Fiches_Utilisateurs_Service#2'!G15=1,1,0)","v":0},null,{"$f":"IF('Fiches_Utilisateurs_Service#2'!I15=1,1,0)","v":0},null,{"$f":"IF('Fiches_Utilisateurs_Service#2'!K15=1,1,0)","v":0},null,{"$f":"IF('Fiches_Utilisateurs_Service#2'!M15=1,1,0)","v":0},null,{"$f":"IF('Fiches_Utilisateurs_Service#2'!O15=1,1,0)","v":0},null,{"$f":"IF('Fiches_Utilisateurs_Service#2'!Q15=1,1,0)","v":0},null,{"$f":"IF('Fiches_Utilisateurs_Service#2'!S15=1,1,0)","v":0},null,{"$f":"IF('Fiches_Utilisateurs_Service#2'!U15=1,1,0)","v":0},null,{"$f":"IF('Fiches_Utilisateurs_Service#2'!W15=1,1,0)","v":0},null,{"$f":"IF('Fiches_Utilisateurs_Service#2'!Y15=1,1,0)","v":0},null,{"$f":"IF('Fiches_Utilisateurs_Service#2'!AA15=1,1,0)","v":0},null,{"$f":"IF('Fiches_Utilisateurs_Service#2'!AC15=1,1,0)","v":0},null,{"$f":"IF('Fiches_Utilisateurs_Service#2'!AE15=1,1,0)","v":0},null,{"$f":"IF('Fiches_Utilisateurs_Service#2'!AG15=1,1,0)","v":0},null,{"$f":"IF('Fiches_Utilisateurs_Service#2'!AI15=1,1,0)","v":0},null,{"$f":"IF('Fiches_Utilisateurs_Service#2'!AK15=1,1,0)","v":0},null,{"$f":"IF('Fiches_Utilisateurs_Service#2'!AM15=1,1,0)","v":0},null,{"$f":"IF('Fiches_Utilisateurs_Service#2'!AO15=1,1,0)","v":0},null,{"$f":"IF('Fiches_Utilisateurs_Service#2'!AQ15=1,1,0)","v":0},null,{"$f":"IF('Fiches_Utilisateurs_Service#2'!AS15=1,1,0)","v":0},null,{"$f":"IF('Fiches_Utilisateurs_Service#2'!AU15=1,1,0)","v":0},null,{"$f":"IF('Fiches_Utilisateurs_Service#2'!AW15=1,1,0)","v":0},null,{"$f":"IF('Fiches_Utilisateurs_Service#2'!AY15=1,1,0)","v":0},null,{"$f":"IF('Fiches_Utilisateurs_Service#2'!BA15=1,1,0)","v":0},null,{"$f":"IF('Fiches_Utilisateurs_Service#2'!BC15=1,1,0)","v":0},null,{"$f":"IF('Fiches_Utilisateurs_Service#2'!BE15=1,1,0)","v":0},null,{"$f":"IF('Fiches_Utilisateurs_Service#2'!BG15=1,1,0)","v":0},null,{"$f":"IF('Fiches_Utilisateurs_Service#2'!BI15=1,1,0)","v":0},null,{"$f":"IF('Fiches_Utilisateurs_Service#2'!BK15=1,1,0)","v":0},null,{"$f":"IF('Fiches_Utilisateurs_Service#2'!BM15=1,1,0)","v":0},null,{"$f":"IF('Fiches_Utilisateurs_Service#2'!BO15=1,1,0)","v":0},null,{"$f":"IF('Fiches_Utilisateurs_Service#2'!BQ15=1,1,0)","v":0},null,{"$f":"IF('Fiches_Utilisateurs_Service#2'!BS15=1,1,0)","v":0},null,{"$f":"IF('Fiches_Utilisateurs_Service#2'!BU15=1,1,0)","v":0},null,{"$f":"IF('Fiches_Utilisateurs_Service#2'!BW15=1,1,0)","v":0},null,{"$f":"IF('Fiches_Utilisateurs_Service#2'!BY15=1,1,0)","v":0},null,{"$f":"IF('Fiches_Utilisateurs_Service#2'!CA15=1,1,0)","v":0},null,{"$f":"IF('Fiches_Utilisateurs_Service#2'!CC15=1,1,0)","v":0}]
[]
[2,null,{"$f":"IF('Fiches_Utilisateurs_Service#2'!C17=1,1,0)","v":0},null,{"$f":"IF('Fiches_Utilisateurs_Service#2'!E17=1,1,0)","v":0},null,{"$f":"IF('Fiches_Utilisateurs_Service#2'!G17=1,1,0)","v":0},null,{"$f":"IF('Fiches_Utilisateurs_Service#2'!I17=1,1,0)","v":0},null,{"$f":"IF('Fiches_Utilisateurs_Service#2'!K17=1,1,0)","v":0},null,{"$f":"IF('Fiches_Utilisateurs_Service#2'!M17=1,1,0)","v":0},null,{"$f":"IF('Fiches_Utilisateurs_Service#2'!O17=1,1,0)","v":0},null,{"$f":"IF('Fiches_Utilisateurs_Service#2'!Q17=1,1,0)","v":0},null,{"$f":"IF('Fiches_Utilisateurs_Service#2'!S17=1,1,0)","v":0},null,{"$f":"IF('Fiches_Utilisateurs_Service#2'!U17=1,1,0)","v":0},null,{"$f":"IF('Fiches_Utilisateurs_Service#2'!W17=1,1,0)","v":0},null,{"$f":"IF('Fiches_Utilisateurs_Service#2'!Y17=1,1,0)","v":0},null,{"$f":"IF('Fiches_Utilisateurs_Service#2'!AA17=1,1,0)","v":0},null,{"$f":"IF('Fiches_Utilisateurs_Service#2'!AC17=1,1,0)","v":0},null,{"$f":"IF('Fiches_Utilisateurs_Service#2'!AE17=1,1,0)","v":0},null,{"$f":"IF('Fiches_Utilisateurs_Service#2'!AG17=1,1,0)","v":0},null,{"$f":"IF('Fiches_Utilisateurs_Service#2'!AI17=1,1,0)","v":0},null,{"$f":"IF('Fiches_Utilisateurs_Service#2'!AK17=1,1,0)","v":0},null,{"$f":"IF('Fiches_Utilisateurs_Service#2'!AM17=1,1,0)","v":0},null,{"$f":"IF('Fiches_Utilisateurs_Service#2'!AO17=1,1,0)","v":0},null,{"$f":"IF('Fiches_Utilisateurs_Service#2'!AQ17=1,1,0)","v":0},null,{"$f":"IF('Fiches_Utilisateurs_Service#2'!AS17=1,1,0)","v":0},null,{"$f":"IF('Fiches_Utilisateurs_Service#2'!AU17=1,1,0)","v":0},null,{"$f":"IF('Fiches_Utilisateurs_Service#2'!AW17=1,1,0)","v":0},null,{"$f":"IF('Fiches_Utilisateurs_Service#2'!AY17=1,1,0)","v":0},null,{"$f":"IF('Fiches_Utilisateurs_Service#2'!BA17=1,1,0)","v":0},null,{"$f":"IF('Fiches_Utilisateurs_Service#2'!BC17=1,1,0)","v":0},null,{"$f":"IF('Fiches_Utilisateurs_Service#2'!BE17=1,1,0)","v":0},null,{"$f":"IF('Fiches_Utilisateurs_Service#2'!BG17=1,1,0)","v":0},null,{"$f":"IF('Fiches_Utilisateurs_Service#2'!BI17=1,1,0)","v":0},null,{"$f":"IF('Fiches_Utilisateurs_Service#2'!BK17=1,1,0)","v":0},null,{"$f":"IF('Fiches_Utilisateurs_Service#2'!BM17=1,1,0)","v":0},null,{"$f":"IF('Fiches_Utilisateurs_Service#2'!BO17=1,1,0)","v":0},null,{"$f":"IF('Fiches_Utilisateurs_Service#2'!BQ17=1,1,0)","v":0},null,{"$f":"IF('Fiches_Utilisateurs_Service#2'!BS17=1,1,0)","v":0},null,{"$f":"IF('Fiches_Utilisateurs_Service#2'!BU17=1,1,0)","v":0},null,{"$f":"IF('Fiches_Utilisateurs_Service#2'!BW17=1,1,0)","v":0},null,{"$f":"IF('Fiches_Utilisateurs_Service#2'!BY17=1,1,0)","v":0},null,{"$f":"IF('Fiches_Utilisateurs_Service#2'!CA17=1,1,0)","v":0},null,{"$f":"IF('Fiches_Utilisateurs_Service#2'!CC17=1,1,0)","v":0}]
[]
[3,null,{"$f":"IF('Fiches_Utilisateurs_Service#2'!C19=1,1,0)","v":0},null,{"$f":"IF('Fiches_Utilisateurs_Service#2'!E19=1,1,0)","v":0},null,{"$f":"IF('Fiches_Utilisateurs_Service#2'!G19=1,1,0)","v":0},null,{"$f":"IF('Fiches_Utilisateurs_Service#2'!I19=1,1,0)","v":0},null,{"$f":"IF('Fiches_Utilisateurs_Service#2'!K19=1,1,0)","v":0},null,{"$f":"IF('Fiches_Utilisateurs_Service#2'!M19=1,1,0)","v":0},null,{"$f":"IF('Fiches_Utilisateurs_Service#2'!O19=1,1,0)","v":0},null,{"$f":"IF('Fiches_Utilisateurs_Service#2'!Q19=1,1,0)","v":0},null,{"$f":"IF('Fiches_Utilisateurs_Service#2'!S19=1,1,0)","v":0},null,{"$f":"IF('Fiches_Utilisateurs_Service#2'!U19=1,1,0)","v":0},null,{"$f":"IF('Fiches_Utilisateurs_Service#2'!W19=1,1,0)","v":0},null,{"$f":"IF('Fiches_Utilisateurs_Service#2'!Y19=1,1,0)","v":0},null,{"$f":"IF('Fiches_Utilisateurs_Service#2'!AA19=1,1,0)","v":0},null,{"$f":"IF('Fiches_Utilisateurs_Service#2'!AC19=1,1,0)","v":0},null,{"$f":"IF('Fiches_Utilisateurs_Service#2'!AE19=1,1,0)","v":0},null,{"$f":"IF('Fiches_Utilisateurs_Service#2'!AG19=1,1,0)","v":0},null,{"$f":"IF('Fiches_Utilisateurs_Service#2'!AI19=1,1,0)","v":0},null,{"$f":"IF('Fiches_Utilisateurs_Service#2'!AK19=1,1,0)","v":0},null,{"$f":"IF('Fiches_Utilisateurs_Service#2'!AM19=1,1,0)","v":0},null,{"$f":"IF('Fiches_Utilisateurs_Service#2'!AO19=1,1,0)","v":0},null,{"$f":"IF('Fiches_Utilisateurs_Service#2'!AQ19=1,1,0)","v":0},null,{"$f":"IF('Fiches_Utilisateurs_Service#2'!AS19=1,1,0)","v":0},null,{"$f":"IF('Fiches_Utilisateurs_Service#2'!AU19=1,1,0)","v":0},null,{"$f":"IF('Fiches_Utilisateurs_Service#2'!AW19=1,1,0)","v":0},null,{"$f":"IF('Fiches_Utilisateurs_Service#2'!AY19=1,1,0)","v":0},null,{"$f":"IF('Fiches_Utilisateurs_Service#2'!BA19=1,1,0)","v":0},null,{"$f":"IF('Fiches_Utilisateurs_Service#2'!BC19=1,1,0)","v":0},null,{"$f":"IF('Fiches_Utilisateurs_Service#2'!BE19=1,1,0)","v":0},null,{"$f":"IF('Fiches_Utilisateurs_Service#2'!BG19=1,1,0)","v":0},null,{"$f":"IF('Fiches_Utilisateurs_Service#2'!BI19=1,1,0)","v":0},null,{"$f":"IF('Fiches_Utilisateurs_Service#2'!BK19=1,1,0)","v":0},null,{"$f":"IF('Fiches_Utilisateurs_Service#2'!BM19=1,1,0)","v":0},null,{"$f":"IF('Fiches_Utilisateurs_Service#2'!BO19=1,1,0)","v":0},null,{"$f":"IF('Fiches_Utilisateurs_Service#2'!BQ19=1,1,0)","v":0},null,{"$f":"IF('Fiches_Utilisateurs_Service#2'!BS19=1,1,0)","v":0},null,{"$f":"IF('Fiches_Utilisateurs_Service#2'!BU19=1,1,0)","v":0},null,{"$f":"IF('Fiches_Utilisateurs_Service#2'!BW19=1,1,0)","v":0},null,{"$f":"IF('Fiches_Utilisateurs_Service#2'!BY19=1,1,0)","v":0},null,{"$f":"IF('Fiches_Utilisateurs_Service#2'!CA19=1,1,0)","v":0},null,{"$f":"IF('Fiches_Utilisateurs_Service#2'!CC19=1,1,0)","v":0}]
[]
[4,null,{"$f":"IF('Fiches_Utilisateurs_Service#2'!C21=1,1,0)","v":0},null,{"$f":"IF('Fiches_Utilisateurs_Service#2'!E21=1,1,0)","v":0},null,{"$f":"IF('Fiches_Utilisateurs_Service#2'!G21=1,1,0)","v":0},null,{"$f":"IF('Fiches_Utilisateurs_Service#2'!I21=1,1,0)","v":0},null,{"$f":"IF('Fiches_Utilisateurs_Service#2'!K21=1,1,0)","v":0},null,{"$f":"IF('Fiches_Utilisateurs_Service#2'!M21=1,1,0)","v":0},null,{"$f":"IF('Fiches_Utilisateurs_Service#2'!O21=1,1,0)","v":0},null,{"$f":"IF('Fiches_Utilisateurs_Service#2'!Q21=1,1,0)","v":0},null,{"$f":"IF('Fiches_Utilisateurs_Service#2'!S21=1,1,0)","v":0},null,{"$f":"IF('Fiches_Utilisateurs_Service#2'!U21=1,1,0)","v":0},null,{"$f":"IF('Fiches_Utilisateurs_Service#2'!W21=1,1,0)","v":0},null,{"$f":"IF('Fiches_Utilisateurs_Service#2'!Y21=1,1,0)","v":0},null,{"$f":"IF('Fiches_Utilisateurs_Service#2'!AA21=1,1,0)","v":0},null,{"$f":"IF('Fiches_Utilisateurs_Service#2'!AC21=1,1,0)","v":0},null,{"$f":"IF('Fiches_Utilisateurs_Service#2'!AE21=1,1,0)","v":0},null,{"$f":"IF('Fiches_Utilisateurs_Service#2'!AG21=1,1,0)","v":0},null,{"$f":"IF('Fiches_Utilisateurs_Service#2'!AI21=1,1,0)","v":0},null,{"$f":"IF('Fiches_Utilisateurs_Service#2'!AK21=1,1,0)","v":0},null,{"$f":"IF('Fiches_Utilisateurs_Service#2'!AM21=1,1,0)","v":0},null,{"$f":"IF('Fiches_Utilisateurs_Service#2'!AO21=1,1,0)","v":0},null,{"$f":"IF('Fiches_Utilisateurs_Service#2'!AQ21=1,1,0)","v":0},null,{"$f":"IF('Fiches_Utilisateurs_Service#2'!AS21=1,1,0)","v":0},null,{"$f":"IF('Fiches_Utilisateurs_Service#2'!AU21=1,1,0)","v":0},null,{"$f":"IF('Fiches_Utilisateurs_Service#2'!AW21=1,1,0)","v":0},null,{"$f":"IF('Fiches_Utilisateurs_Service#2'!AY21=1,1,0)","v":0},null,{"$f":"IF('Fiches_Utilisateurs_Service#2'!BA21=1,1,0)","v":0},null,{"$f":"IF('Fiches_Utilisateurs_Service#2'!BC21=1,1,0)","v":0},null,{"$f":"IF('Fiches_Utilisateurs_Service#2'!BE21=1,1,0)","v":0},null,{"$f":"IF('Fiches_Utilisateurs_Service#2'!BG21=1,1,0)","v":0},null,{"$f":"IF('Fiches_Utilisateurs_Service#2'!BI21=1,1,0)","v":0},null,{"$f":"IF('Fiches_Utilisateurs_Service#2'!BK21=1,1,0)","v":0},null,{"$f":"IF('Fiches_Utilisateurs_Service#2'!BM21=1,1,0)","v":0},null,{"$f":"IF('Fiches_Utilisateurs_Service#2'!BO21=1,1,0)","v":0},null,{"$f":"IF('Fiches_Utilisateurs_Service#2'!BQ21=1,1,0)","v":0},null,{"$f":"IF('Fiches_Utilisateurs_Service#2'!BS21=1,1,0)","v":0},null,{"$f":"IF('Fiches_Utilisateurs_Service#2'!BU21=1,1,0)","v":0},null,{"$f":"IF('Fiches_Utilisateurs_Service#2'!BW21=1,1,0)","v":0},null,{"$f":"IF('Fiches_Utilisateurs_Service#2'!BY21=1,1,0)","v":0},null,{"$f":"IF('Fiches_Utilisateurs_Service#2'!CA21=1,1,0)","v":0},null,{"$f":"IF('Fiches_Utilisateurs_Service#2'!CC21=1,1,0)","v":0}]
[]
[5,null,{"$f":"IF('Fiches_Utilisateurs_Service#2'!C23=1,1,0)","v":0},null,{"$f":"IF('Fiches_Utilisateurs_Service#2'!E23=1,1,0)","v":0},null,{"$f":"IF('Fiches_Utilisateurs_Service#2'!G23=1,1,0)","v":0},null,{"$f":"IF('Fiches_Utilisateurs_Service#2'!I23=1,1,0)","v":0},null,{"$f":"IF('Fiches_Utilisateurs_Service#2'!K23=1,1,0)","v":0},null,{"$f":"IF('Fiches_Utilisateurs_Service#2'!M23=1,1,0)","v":0},null,{"$f":"IF('Fiches_Utilisateurs_Service#2'!O23=1,1,0)","v":0},null,{"$f":"IF('Fiches_Utilisateurs_Service#2'!Q23=1,1,0)","v":0},null,{"$f":"IF('Fiches_Utilisateurs_Service#2'!S23=1,1,0)","v":0},null,{"$f":"IF('Fiches_Utilisateurs_Service#2'!U23=1,1,0)","v":0},null,{"$f":"IF('Fiches_Utilisateurs_Service#2'!W23=1,1,0)","v":0},null,{"$f":"IF('Fiches_Utilisateurs_Service#2'!Y23=1,1,0)","v":0},null,{"$f":"IF('Fiches_Utilisateurs_Service#2'!AA23=1,1,0)","v":0},null,{"$f":"IF('Fiches_Utilisateurs_Service#2'!AC23=1,1,0)","v":0},null,{"$f":"IF('Fiches_Utilisateurs_Service#2'!AE23=1,1,0)","v":0},null,{"$f":"IF('Fiches_Utilisateurs_Service#2'!AG23=1,1,0)","v":0},null,{"$f":"IF('Fiches_Utilisateurs_Service#2'!AI23=1,1,0)","v":0},null,{"$f":"IF('Fiches_Utilisateurs_Service#2'!AK23=1,1,0)","v":0},null,{"$f":"IF('Fiches_Utilisateurs_Service#2'!AM23=1,1,0)","v":0},null,{"$f":"IF('Fiches_Utilisateurs_Service#2'!AO23=1,1,0)","v":0},null,{"$f":"IF('Fiches_Utilisateurs_Service#2'!AQ23=1,1,0)","v":0},null,{"$f":"IF('Fiches_Utilisateurs_Service#2'!AS23=1,1,0)","v":0},null,{"$f":"IF('Fiches_Utilisateurs_Service#2'!AU23=1,1,0)","v":0},null,{"$f":"IF('Fiches_Utilisateurs_Service#2'!AW23=1,1,0)","v":0},null,{"$f":"IF('Fiches_Utilisateurs_Service#2'!AY23=1,1,0)","v":0},null,{"$f":"IF('Fiches_Utilisateurs_Service#2'!BA23=1,1,0)","v":0},null,{"$f":"IF('Fiches_Utilisateurs_Service#2'!BC23=1,1,0)","v":0},null,{"$f":"IF('Fiches_Utilisateurs_Service#2'!BE23=1,1,0)","v":0},null,{"$f":"IF('Fiches_Utilisateurs_Service#2'!BG23=1,1,0)","v":0},null,{"$f":"IF('Fiches_Utilisateurs_Service#2'!BI23=1,1,0)","v":0},null,{"$f":"IF('Fiches_Utilisateurs_Service#2'!BK23=1,1,0)","v":0},null,{"$f":"IF('Fiches_Utilisateurs_Service#2'!BM23=1,1,0)","v":0},null,{"$f":"IF('Fiches_Utilisateurs_Service#2'!BO23=1,1,0)","v":0},null,{"$f":"IF('Fiches_Utilisateurs_Service#2'!BQ23=1,1,0)","v":0},null,{"$f":"IF('Fiches_Utilisateurs_Service#2'!BS23=1,1,0)","v":0},null,{"$f":"IF('Fiches_Utilisateurs_Service#2'!BU23=1,1,0)","v":0},null,{"$f":"IF('Fiches_Utilisateurs_Service#2'!BW23=1,1,0)","v":0},null,{"$f":"IF('Fiches_Utilisateurs_Service#2'!BY23=1,1,0)","v":0},null,{"$f":"IF('Fiches_Utilisateurs_Service#2'!CA23=1,1,0)","v":0},null,{"$f":"IF('Fiches_Utilisateurs_Service#2'!CC23=1,1,0)","v":0}]
[]
[6,null,{"$f":"IF('Fiches_Utilisateurs_Service#2'!C25=1,1,0)","v":0},null,{"$f":"IF('Fiches_Utilisateurs_Service#2'!E25=1,1,0)","v":0},null,{"$f":"IF('Fiches_Utilisateurs_Service#2'!G25=1,1,0)","v":0},null,{"$f":"IF('Fiches_Utilisateurs_Service#2'!I25=1,1,0)","v":0},null,{"$f":"IF('Fiches_Utilisateurs_Service#2'!K25=1,1,0)","v":0},null,{"$f":"IF('Fiches_Utilisateurs_Service#2'!M25=1,1,0)","v":0},null,{"$f":"IF('Fiches_Utilisateurs_Service#2'!O25=1,1,0)","v":0},null,{"$f":"IF('Fiches_Utilisateurs_Service#2'!Q25=1,1,0)","v":0},null,{"$f":"IF('Fiches_Utilisateurs_Service#2'!S25=1,1,0)","v":0},null,{"$f":"IF('Fiches_Utilisateurs_Service#2'!U25=1,1,0)","v":0},null,{"$f":"IF('Fiches_Utilisateurs_Service#2'!W25=1,1,0)","v":0},null,{"$f":"IF('Fiches_Utilisateurs_Service#2'!Y25=1,1,0)","v":0},null,{"$f":"IF('Fiches_Utilisateurs_Service#2'!AA25=1,1,0)","v":0},null,{"$f":"IF('Fiches_Utilisateurs_Service#2'!AC25=1,1,0)","v":0},null,{"$f":"IF('Fiches_Utilisateurs_Service#2'!AE25=1,1,0)","v":0},null,{"$f":"IF('Fiches_Utilisateurs_Service#2'!AG25=1,1,0)","v":0},null,{"$f":"IF('Fiches_Utilisateurs_Service#2'!AI25=1,1,0)","v":0},null,{"$f":"IF('Fiches_Utilisateurs_Service#2'!AK25=1,1,0)","v":0},null,{"$f":"IF('Fiches_Utilisateurs_Service#2'!AM25=1,1,0)","v":0},null,{"$f":"IF('Fiches_Utilisateurs_Service#2'!AO25=1,1,0)","v":0},null,{"$f":"IF('Fiches_Utilisateurs_Service#2'!AQ25=1,1,0)","v":0},null,{"$f":"IF('Fiches_Utilisateurs_Service#2'!AS25=1,1,0)","v":0},null,{"$f":"IF('Fiches_Utilisateurs_Service#2'!AU25=1,1,0)","v":0},null,{"$f":"IF('Fiches_Utilisateurs_Service#2'!AW25=1,1,0)","v":0},null,{"$f":"IF('Fiches_Utilisateurs_Service#2'!AY25=1,1,0)","v":0},null,{"$f":"IF('Fiches_Utilisateurs_Service#2'!BA25=1,1,0)","v":0},null,{"$f":"IF('Fiches_Utilisateurs_Service#2'!BC25=1,1,0)","v":0},null,{"$f":"IF('Fiches_Utilisateurs_Service#2'!BE25=1,1,0)","v":0},null,{"$f":"IF('Fiches_Utilisateurs_Service#2'!BG25=1,1,0)","v":0},null,{"$f":"IF('Fiches_Utilisateurs_Service#2'!BI25=1,1,0)","v":0},null,{"$f":"IF('Fiches_Utilisateurs_Service#2'!BK25=1,1,0)","v":0},null,{"$f":"IF('Fiches_Utilisateurs_Service#2'!BM25=1,1,0)","v":0},null,{"$f":"IF('Fiches_Utilisateurs_Service#2'!BO25=1,1,0)","v":0},null,{"$f":"IF('Fiches_Utilisateurs_Service#2'!BQ25=1,1,0)","v":0},null,{"$f":"IF('Fiches_Utilisateurs_Service#2'!BS25=1,1,0)","v":0},null,{"$f":"IF('Fiches_Utilisateurs_Service#2'!BU25=1,1,0)","v":0},null,{"$f":"IF('Fiches_Utilisateurs_Service#2'!BW25=1,1,0)","v":0},null,{"$f":"IF('Fiches_Utilisateurs_Service#2'!BY25=1,1,0)","v":0},null,{"$f":"IF('Fiches_Utilisateurs_Service#2'!CA25=1,1,0)","v":0},null,{"$f":"IF('Fiches_Utilisateurs_Service#2'!CC25=1,1,0)","v":0}]
[]
[7,null,{"$f":"IF('Fiches_Utilisateurs_Service#2'!C27=1,1,0)","v":0},null,{"$f":"IF('Fiches_Utilisateurs_Service#2'!E27=1,1,0)","v":0},null,{"$f":"IF('Fiches_Utilisateurs_Service#2'!G27=1,1,0)","v":0},null,{"$f":"IF('Fiches_Utilisateurs_Service#2'!I27=1,1,0)","v":0},null,{"$f":"IF('Fiches_Utilisateurs_Service#2'!K27=1,1,0)","v":0},null,{"$f":"IF('Fiches_Utilisateurs_Service#2'!M27=1,1,0)","v":0},null,{"$f":"IF('Fiches_Utilisateurs_Service#2'!O27=1,1,0)","v":0},null,{"$f":"IF('Fiches_Utilisateurs_Service#2'!Q27=1,1,0)","v":0},null,{"$f":"IF('Fiches_Utilisateurs_Service#2'!S27=1,1,0)","v":0},null,{"$f":"IF('Fiches_Utilisateurs_Service#2'!U27=1,1,0)","v":0},null,{"$f":"IF('Fiches_Utilisateurs_Service#2'!W27=1,1,0)","v":0},null,{"$f":"IF('Fiches_Utilisateurs_Service#2'!Y27=1,1,0)","v":0},null,{"$f":"IF('Fiches_Utilisateurs_Service#2'!AA27=1,1,0)","v":0},null,{"$f":"IF('Fiches_Utilisateurs_Service#2'!AC27=1,1,0)","v":0},null,{"$f":"IF('Fiches_Utilisateurs_Service#2'!AE27=1,1,0)","v":0},null,{"$f":"IF('Fiches_Utilisateurs_Service#2'!AG27=1,1,0)","v":0},null,{"$f":"IF('Fiches_Utilisateurs_Service#2'!AI27=1,1,0)","v":0},null,{"$f":"IF('Fiches_Utilisateurs_Service#2'!AK27=1,1,0)","v":0},null,{"$f":"IF('Fiches_Utilisateurs_Service#2'!AM27=1,1,0)","v":0},null,{"$f":"IF('Fiches_Utilisateurs_Service#2'!AO27=1,1,0)","v":0},null,{"$f":"IF('Fiches_Utilisateurs_Service#2'!AQ27=1,1,0)","v":0},null,{"$f":"IF('Fiches_Utilisateurs_Service#2'!AS27=1,1,0)","v":0},null,{"$f":"IF('Fiches_Utilisateurs_Service#2'!AU27=1,1,0)","v":0},null,{"$f":"IF('Fiches_Utilisateurs_Service#2'!AW27=1,1,0)","v":0},null,{"$f":"IF('Fiches_Utilisateurs_Service#2'!AY27=1,1,0)","v":0},null,{"$f":"IF('Fiches_Utilisateurs_Service#2'!BA27=1,1,0)","v":0},null,{"$f":"IF('Fiches_Utilisateurs_Service#2'!BC27=1,1,0)","v":0},null,{"$f":"IF('Fiches_Utilisateurs_Service#2'!BE27=1,1,0)","v":0},null,{"$f":"IF('Fiches_Utilisateurs_Service#2'!BG27=1,1,0)","v":0},null,{"$f":"IF('Fiches_Utilisateurs_Service#2'!BI27=1,1,0)","v":0},null,{"$f":"IF('Fiches_Utilisateurs_Service#2'!BK27=1,1,0)","v":0},null,{"$f":"IF('Fiches_Utilisateurs_Service#2'!BM27=1,1,0)","v":0},null,{"$f":"IF('Fiches_Utilisateurs_Service#2'!BO27=1,1,0)","v":0},null,{"$f":"IF('Fiches_Utilisateurs_Service#2'!BQ27=1,1,0)","v":0},null,{"$f":"IF('Fiches_Utilisateurs_Service#2'!BS27=1,1,0)","v":0},null,{"$f":"IF('Fiches_Utilisateurs_Service#2'!BU27=1,1,0)","v":0},null,{"$f":"IF('Fiches_Utilisateurs_Service#2'!BW27=1,1,0)","v":0},null,{"$f":"IF('Fiches_Utilisateurs_Service#2'!BY27=1,1,0)","v":0},null,{"$f":"IF('Fiches_Utilisateurs_Service#2'!CA27=1,1,0)","v":0},null,{"$f":"IF('Fiches_Utilisateurs_Service#2'!CC27=1,1,0)","v":0}]
[]
[8,null,{"$f":"IF('Fiches_Utilisateurs_Service#2'!C29=1,1,0)","v":0},null,{"$f":"IF('Fiches_Utilisateurs_Service#2'!E29=1,1,0)","v":0},null,{"$f":"IF('Fiches_Utilisateurs_Service#2'!G29=1,1,0)","v":0},null,{"$f":"IF('Fiches_Utilisateurs_Service#2'!I29=1,1,0)","v":0},null,{"$f":"IF('Fiches_Utilisateurs_Service#2'!K29=1,1,0)","v":0},null,{"$f":"IF('Fiches_Utilisateurs_Service#2'!M29=1,1,0)","v":0},null,{"$f":"IF('Fiches_Utilisateurs_Service#2'!O29=1,1,0)","v":0},null,{"$f":"IF('Fiches_Utilisateurs_Service#2'!Q29=1,1,0)","v":0},null,{"$f":"IF('Fiches_Utilisateurs_Service#2'!S29=1,1,0)","v":0},null,{"$f":"IF('Fiches_Utilisateurs_Service#2'!U29=1,1,0)","v":0},null,{"$f":"IF('Fiches_Utilisateurs_Service#2'!W29=1,1,0)","v":0},null,{"$f":"IF('Fiches_Utilisateurs_Service#2'!Y29=1,1,0)","v":0},null,{"$f":"IF('Fiches_Utilisateurs_Service#2'!AA29=1,1,0)","v":0},null,{"$f":"IF('Fiches_Utilisateurs_Service#2'!AC29=1,1,0)","v":0},null,{"$f":"IF('Fiches_Utilisateurs_Service#2'!AE29=1,1,0)","v":0},null,{"$f":"IF('Fiches_Utilisateurs_Service#2'!AG29=1,1,0)","v":0},null,{"$f":"IF('Fiches_Utilisateurs_Service#2'!AI29=1,1,0)","v":0},null,{"$f":"IF('Fiches_Utilisateurs_Service#2'!AK29=1,1,0)","v":0},null,{"$f":"IF('Fiches_Utilisateurs_Service#2'!AM29=1,1,0)","v":0},null,{"$f":"IF('Fiches_Utilisateurs_Service#2'!AO29=1,1,0)","v":0},null,{"$f":"IF('Fiches_Utilisateurs_Service#2'!AQ29=1,1,0)","v":0},null,{"$f":"IF('Fiches_Utilisateurs_Service#2'!AS29=1,1,0)","v":0},null,{"$f":"IF('Fiches_Utilisateurs_Service#2'!AU29=1,1,0)","v":0},null,{"$f":"IF('Fiches_Utilisateurs_Service#2'!AW29=1,1,0)","v":0},null,{"$f":"IF('Fiches_Utilisateurs_Service#2'!AY29=1,1,0)","v":0},null,{"$f":"IF('Fiches_Utilisateurs_Service#2'!BA29=1,1,0)","v":0},null,{"$f":"IF('Fiches_Utilisateurs_Service#2'!BC29=1,1,0)","v":0},null,{"$f":"IF('Fiches_Utilisateurs_Service#2'!BE29=1,1,0)","v":0},null,{"$f":"IF('Fiches_Utilisateurs_Service#2'!BG29=1,1,0)","v":0},null,{"$f":"IF('Fiches_Utilisateurs_Service#2'!BI29=1,1,0)","v":0},null,{"$f":"IF('Fiches_Utilisateurs_Service#2'!BK29=1,1,0)","v":0},null,{"$f":"IF('Fiches_Utilisateurs_Service#2'!BM29=1,1,0)","v":0},null,{"$f":"IF('Fiches_Utilisateurs_Service#2'!BO29=1,1,0)","v":0},null,{"$f":"IF('Fiches_Utilisateurs_Service#2'!BQ29=1,1,0)","v":0},null,{"$f":"IF('Fiches_Utilisateurs_Service#2'!BS29=1,1,0)","v":0},null,{"$f":"IF('Fiches_Utilisateurs_Service#2'!BU29=1,1,0)","v":0},null,{"$f":"IF('Fiches_Utilisateurs_Service#2'!BW29=1,1,0)","v":0},null,{"$f":"IF('Fiches_Utilisateurs_Service#2'!BY29=1,1,0)","v":0},null,{"$f":"IF('Fiches_Utilisateurs_Service#2'!CA29=1,1,0)","v":0},null,{"$f":"IF('Fiches_Utilisateurs_Service#2'!CC29=1,1,0)","v":0}]
[]
[9,null,{"$f":"IF('Fiches_Utilisateurs_Service#2'!C31=1,1,0)","v":0},null,{"$f":"IF('Fiches_Utilisateurs_Service#2'!E31=1,1,0)","v":0},null,{"$f":"IF('Fiches_Utilisateurs_Service#2'!G31=1,1,0)","v":0},null,{"$f":"IF('Fiches_Utilisateurs_Service#2'!I31=1,1,0)","v":0},null,{"$f":"IF('Fiches_Utilisateurs_Service#2'!K31=1,1,0)","v":0},null,{"$f":"IF('Fiches_Utilisateurs_Service#2'!M31=1,1,0)","v":0},null,{"$f":"IF('Fiches_Utilisateurs_Service#2'!O31=1,1,0)","v":0},null,{"$f":"IF('Fiches_Utilisateurs_Service#2'!Q31=1,1,0)","v":0},null,{"$f":"IF('Fiches_Utilisateurs_Service#2'!S31=1,1,0)","v":0},null,{"$f":"IF('Fiches_Utilisateurs_Service#2'!U31=1,1,0)","v":0},null,{"$f":"IF('Fiches_Utilisateurs_Service#2'!W31=1,1,0)","v":0},null,{"$f":"IF('Fiches_Utilisateurs_Service#2'!Y31=1,1,0)","v":0},null,{"$f":"IF('Fiches_Utilisateurs_Service#2'!AA31=1,1,0)","v":0},null,{"$f":"IF('Fiches_Utilisateurs_Service#2'!AC31=1,1,0)","v":0},null,{"$f":"IF('Fiches_Utilisateurs_Service#2'!AE31=1,1,0)","v":0},null,{"$f":"IF('Fiches_Utilisateurs_Service#2'!AG31=1,1,0)","v":0},null,{"$f":"IF('Fiches_Utilisateurs_Service#2'!AI31=1,1,0)","v":0},null,{"$f":"IF('Fiches_Utilisateurs_Service#2'!AK31=1,1,0)","v":0},null,{"$f":"IF('Fiches_Utilisateurs_Service#2'!AM31=1,1,0)","v":0},null,{"$f":"IF('Fiches_Utilisateurs_Service#2'!AO31=1,1,0)","v":0},null,{"$f":"IF('Fiches_Utilisateurs_Service#2'!AQ31=1,1,0)","v":0},null,{"$f":"IF('Fiches_Utilisateurs_Service#2'!AS31=1,1,0)","v":0},null,{"$f":"IF('Fiches_Utilisateurs_Service#2'!AU31=1,1,0)","v":0},null,{"$f":"IF('Fiches_Utilisateurs_Service#2'!AW31=1,1,0)","v":0},null,{"$f":"IF('Fiches_Utilisateurs_Service#2'!AY31=1,1,0)","v":0},null,{"$f":"IF('Fiches_Utilisateurs_Service#2'!BA31=1,1,0)","v":0},null,{"$f":"IF('Fiches_Utilisateurs_Service#2'!BC31=1,1,0)","v":0},null,{"$f":"IF('Fiches_Utilisateurs_Service#2'!BE31=1,1,0)","v":0},null,{"$f":"IF('Fiches_Utilisateurs_Service#2'!BG31=1,1,0)","v":0},null,{"$f":"IF('Fiches_Utilisateurs_Service#2'!BI31=1,1,0)","v":0},null,{"$f":"IF('Fiches_Utilisateurs_Service#2'!BK31=1,1,0)","v":0},null,{"$f":"IF('Fiches_Utilisateurs_Service#2'!BM31=1,1,0)","v":0},null,{"$f":"IF('Fiches_Utilisateurs_Service#2'!BO31=1,1,0)","v":0},null,{"$f":"IF('Fiches_Utilisateurs_Service#2'!BQ31=1,1,0)","v":0},null,{"$f":"IF('Fiches_Utilisateurs_Service#2'!BS31=1,1,0)","v":0},null,{"$f":"IF('Fiches_Utilisateurs_Service#2'!BU31=1,1,0)","v":0},null,{"$f":"IF('Fiches_Utilisateurs_Service#2'!BW31=1,1,0)","v":0},null,{"$f":"IF('Fiches_Utilisateurs_Service#2'!BY31=1,1,0)","v":0},null,{"$f":"IF('Fiches_Utilisateurs_Service#2'!CA31=1,1,0)","v":0},null,{"$f":"IF('Fiches_Utilisateurs_Service#2'!CC31=1,1,0)","v":0}]
[]
[10,null,{"$f":"IF('Fiches_Utilisateurs_Service#2'!C33=1,1,0)","v":0},null,{"$f":"IF('Fiches_Utilisateurs_Service#2'!E33=1,1,0)","v":0},null,{"$f":"IF('Fiches_Utilisateurs_Service#2'!G33=1,1,0)","v":0},null,{"$f":"IF('Fiches_Utilisateurs_Service#2'!I33=1,1,0)","v":0},null,{"$f":"IF('Fiches_Utilisateurs_Service#2'!K33=1,1,0)","v":0},null,{"$f":"IF('Fiches_Utilisateurs_Service#2'!M33=1,1,0)","v":0},null,{"$f":"IF('Fiches_Utilisateurs_Service#2'!O33=1,1,0)","v":0},null,{"$f":"IF('Fiches_Utilisateurs_Service#2'!Q33=1,1,0)","v":0},null,{"$f":"IF('Fiches_Utilisateurs_Service#2'!S33=1,1,0)","v":0},null,{"$f":"IF('Fiches_Utilisateurs_Service#2'!U33=1,1,0)","v":0},null,{"$f":"IF('Fiches_Utilisateurs_Service#2'!W33=1,1,0)","v":0},null,{"$f":"IF('Fiches_Utilisateurs_Service#2'!Y33=1,1,0)","v":0},null,{"$f":"IF('Fiches_Utilisateurs_Service#2'!AA33=1,1,0)","v":0},null,{"$f":"IF('Fiches_Utilisateurs_Service#2'!AC33=1,1,0)","v":0},null,{"$f":"IF('Fiches_Utilisateurs_Service#2'!AE33=1,1,0)","v":0},null,{"$f":"IF('Fiches_Utilisateurs_Service#2'!AG33=1,1,0)","v":0},null,{"$f":"IF('Fiches_Utilisateurs_Service#2'!AI33=1,1,0)","v":0},null,{"$f":"IF('Fiches_Utilisateurs_Service#2'!AK33=1,1,0)","v":0},null,{"$f":"IF('Fiches_Utilisateurs_Service#2'!AM33=1,1,0)","v":0},null,{"$f":"IF('Fiches_Utilisateurs_Service#2'!AO33=1,1,0)","v":0},null,{"$f":"IF('Fiches_Utilisateurs_Service#2'!AQ33=1,1,0)","v":0},null,{"$f":"IF('Fiches_Utilisateurs_Service#2'!AS33=1,1,0)","v":0},null,{"$f":"IF('Fiches_Utilisateurs_Service#2'!AU33=1,1,0)","v":0},null,{"$f":"IF('Fiches_Utilisateurs_Service#2'!AW33=1,1,0)","v":0},null,{"$f":"IF('Fiches_Utilisateurs_Service#2'!AY33=1,1,0)","v":0},null,{"$f":"IF('Fiches_Utilisateurs_Service#2'!BA33=1,1,0)","v":0},null,{"$f":"IF('Fiches_Utilisateurs_Service#2'!BC33=1,1,0)","v":0},null,{"$f":"IF('Fiches_Utilisateurs_Service#2'!BE33=1,1,0)","v":0},null,{"$f":"IF('Fiches_Utilisateurs_Service#2'!BG33=1,1,0)","v":0},null,{"$f":"IF('Fiches_Utilisateurs_Service#2'!BI33=1,1,0)","v":0},null,{"$f":"IF('Fiches_Utilisateurs_Service#2'!BK33=1,1,0)","v":0},null,{"$f":"IF('Fiches_Utilisateurs_Service#2'!BM33=1,1,0)","v":0},null,{"$f":"IF('Fiches_Utilisateurs_Service#2'!BO33=1,1,0)","v":0},null,{"$f":"IF('Fiches_Utilisateurs_Service#2'!BQ33=1,1,0)","v":0},null,{"$f":"IF('Fiches_Utilisateurs_Service#2'!BS33=1,1,0)","v":0},null,{"$f":"IF('Fiches_Utilisateurs_Service#2'!BU33=1,1,0)","v":0},null,{"$f":"IF('Fiches_Utilisateurs_Service#2'!BW33=1,1,0)","v":0},null,{"$f":"IF('Fiches_Utilisateurs_Service#2'!BY33=1,1,0)","v":0},null,{"$f":"IF('Fiches_Utilisateurs_Service#2'!CA33=1,1,0)","v":0},null,{"$f":"IF('Fiches_Utilisateurs_Service#2'!CC33=1,1,0)","v":0}]
[]
[11,null,{"$f":"IF('Fiches_Utilisateurs_Service#2'!C35=1,1,0)","v":0},null,{"$f":"IF('Fiches_Utilisateurs_Service#2'!E35=1,1,0)","v":0},null,{"$f":"IF('Fiches_Utilisateurs_Service#2'!G35=1,1,0)","v":0},null,{"$f":"IF('Fiches_Utilisateurs_Service#2'!I35=1,1,0)","v":0},null,{"$f":"IF('Fiches_Utilisateurs_Service#2'!K35=1,1,0)","v":0},null,{"$f":"IF('Fiches_Utilisateurs_Service#2'!M35=1,1,0)","v":0},null,{"$f":"IF('Fiches_Utilisateurs_Service#2'!O35=1,1,0)","v":0},null,{"$f":"IF('Fiches_Utilisateurs_Service#2'!Q35=1,1,0)","v":0},null,{"$f":"IF('Fiches_Utilisateurs_Service#2'!S35=1,1,0)","v":0},null,{"$f":"IF('Fiches_Utilisateurs_Service#2'!U35=1,1,0)","v":0},null,{"$f":"IF('Fiches_Utilisateurs_Service#2'!W35=1,1,0)","v":0},null,{"$f":"IF('Fiches_Utilisateurs_Service#2'!Y35=1,1,0)","v":0},null,{"$f":"IF('Fiches_Utilisateurs_Service#2'!AA35=1,1,0)","v":0},null,{"$f":"IF('Fiches_Utilisateurs_Service#2'!AC35=1,1,0)","v":0},null,{"$f":"IF('Fiches_Utilisateurs_Service#2'!AE35=1,1,0)","v":0},null,{"$f":"IF('Fiches_Utilisateurs_Service#2'!AG35=1,1,0)","v":0},null,{"$f":"IF('Fiches_Utilisateurs_Service#2'!AI35=1,1,0)","v":0},null,{"$f":"IF('Fiches_Utilisateurs_Service#2'!AK35=1,1,0)","v":0},null,{"$f":"IF('Fiches_Utilisateurs_Service#2'!AM35=1,1,0)","v":0},null,{"$f":"IF('Fiches_Utilisateurs_Service#2'!AO35=1,1,0)","v":0},null,{"$f":"IF('Fiches_Utilisateurs_Service#2'!AQ35=1,1,0)","v":0},null,{"$f":"IF('Fiches_Utilisateurs_Service#2'!AS35=1,1,0)","v":0},null,{"$f":"IF('Fiches_Utilisateurs_Service#2'!AU35=1,1,0)","v":0},null,{"$f":"IF('Fiches_Utilisateurs_Service#2'!AW35=1,1,0)","v":0},null,{"$f":"IF('Fiches_Utilisateurs_Service#2'!AY35=1,1,0)","v":0},null,{"$f":"IF('Fiches_Utilisateurs_Service#2'!BA35=1,1,0)","v":0},null,{"$f":"IF('Fiches_Utilisateurs_Service#2'!BC35=1,1,0)","v":0},null,{"$f":"IF('Fiches_Utilisateurs_Service#2'!BE35=1,1,0)","v":0},null,{"$f":"IF('Fiches_Utilisateurs_Service#2'!BG35=1,1,0)","v":0},null,{"$f":"IF('Fiches_Utilisateurs_Service#2'!BI35=1,1,0)","v":0},null,{"$f":"IF('Fiches_Utilisateurs_Service#2'!BK35=1,1,0)","v":0},null,{"$f":"IF('Fiches_Utilisateurs_Service#2'!BM35=1,1,0)","v":0},null,{"$f":"IF('Fiches_Utilisateurs_Service#2'!BO35=1,1,0)","v":0},null,{"$f":"IF('Fiches_Utilisateurs_Service#2'!BQ35=1,1,0)","v":0},null,{"$f":"IF('Fiches_Utilisateurs_Service#2'!BS35=1,1,0)","v":0},null,{"$f":"IF('Fiches_Utilisateurs_Service#2'!BU35=1,1,0)","v":0},null,{"$f":"IF('Fiches_Utilisateurs_Service#2'!BW35=1,1,0)","v":0},null,{"$f":"IF('Fiches_Utilisateurs_Service#2'!BY35=1,1,0)","v":0},null,{"$f":"IF('Fiches_Utilisateurs_Service#2'!CA35=1,1,0)","v":0},null,{"$f":"IF('Fiches_Utilisateurs_Service#2'!CC35=1,1,0)","v":0}]
[]
["tot sale",{"$f":"SUM(C37:CC37)","v":0},{"$f":"SUM(C15:C35)","v":0},null,{"$f":"SUM(E15:E35)","v":0},null,{"$f":"SUM(G15:G35)","v":0},null,{"$f":"SUM(I15:I35)","v":0},null,{"$f":"SUM(K15:K35)","v":0},null,{"$f":"SUM(M15:M35)","v":0},null,{"$f":"SUM(O15:O35)","v":0},null,{"$f":"SUM(Q15:Q35)","v":0},null,{"$f":"SUM(S15:S35)","v":0},null,{"$f":"SUM(U15:U35)","v":0},null,{"$f":"SUM(W15:W35)","v":0},null,{"$f":"SUM(Y15:Y35)","v":0},null,{"$f":"SUM(AA15:AA35)","v":0},null,{"$f":"SUM(AC15:AC35)","v":0},null,{"$f":"SUM(AE15:AE35)","v":0},null,{"$f":"SUM(AG15:AG35)","v":0},null,{"$f":"SUM(AI15:AI35)","v":0},null,{"$f":"SUM(AK15:AK35)","v":0},null,{"$f":"SUM(AM15:AM35)","v":0},null,{"$f":"SUM(AO15:AO35)","v":0},null,{"$f":"SUM(AQ15:AQ35)","v":0},null,{"$f":"SUM(AS15:AS35)","v":0},null,{"$f":"SUM(AU15:AU35)","v":0},null,{"$f":"SUM(AW15:AW35)","v":0},null,{"$f":"SUM(AY15:AY35)","v":0},null,{"$f":"SUM(BA15:BA35)","v":0},null,{"$f":"SUM(BC15:BC35)","v":0},null,{"$f":"SUM(BE15:BE35)","v":0},null,{"$f":"SUM(BG15:BG35)","v":0},null,{"$f":"SUM(BI15:BI35)","v":0},null,{"$f":"SUM(BK15:BK35)","v":0},null,{"$f":"SUM(BM15:BM35)","v":0},null,{"$f":"SUM(BO15:BO35)","v":0},null,{"$f":"SUM(BQ15:BQ35)","v":0},null,{"$f":"SUM(BS15:BS35)","v":0},null,{"$f":"SUM(BU15:BU35)","v":0},null,{"$f":"SUM(BW15:BW35)","v":0},null,{"$f":"SUM(BY15:BY35)","v":0},null,{"$f":"SUM(CA15:CA35)","v":0},null,{"$f":"SUM(CC15:CC35)","v":0}]
[]
[12,null,{"$f":"IF('Fiches_Utilisateurs_Service#2'!C39=1,1,0)","v":0},null,{"$f":"IF('Fiches_Utilisateurs_Service#2'!E39=1,1,0)","v":0},null,{"$f":"IF('Fiches_Utilisateurs_Service#2'!G39=1,1,0)","v":0},null,{"$f":"IF('Fiches_Utilisateurs_Service#2'!I39=1,1,0)","v":0},null,{"$f":"IF('Fiches_Utilisateurs_Service#2'!K39=1,1,0)","v":0},null,{"$f":"IF('Fiches_Utilisateurs_Service#2'!M39=1,1,0)","v":0},null,{"$f":"IF('Fiches_Utilisateurs_Service#2'!O39=1,1,0)","v":0},null,{"$f":"IF('Fiches_Utilisateurs_Service#2'!Q39=1,1,0)","v":0},null,{"$f":"IF('Fiches_Utilisateurs_Service#2'!S39=1,1,0)","v":0},null,{"$f":"IF('Fiches_Utilisateurs_Service#2'!U39=1,1,0)","v":0},null,{"$f":"IF('Fiches_Utilisateurs_Service#2'!W39=1,1,0)","v":0},null,{"$f":"IF('Fiches_Utilisateurs_Service#2'!Y39=1,1,0)","v":0},null,{"$f":"IF('Fiches_Utilisateurs_Service#2'!AA39=1,1,0)","v":0},null,{"$f":"IF('Fiches_Utilisateurs_Service#2'!AC39=1,1,0)","v":0},null,{"$f":"IF('Fiches_Utilisateurs_Service#2'!AE39=1,1,0)","v":0},null,{"$f":"IF('Fiches_Utilisateurs_Service#2'!AG39=1,1,0)","v":0},null,{"$f":"IF('Fiches_Utilisateurs_Service#2'!AI39=1,1,0)","v":0},null,{"$f":"IF('Fiches_Utilisateurs_Service#2'!AK39=1,1,0)","v":0},null,{"$f":"IF('Fiches_Utilisateurs_Service#2'!AM39=1,1,0)","v":0},null,{"$f":"IF('Fiches_Utilisateurs_Service#2'!AO39=1,1,0)","v":0},null,{"$f":"IF('Fiches_Utilisateurs_Service#2'!AQ39=1,1,0)","v":0},null,{"$f":"IF('Fiches_Utilisateurs_Service#2'!AS39=1,1,0)","v":0},null,{"$f":"IF('Fiches_Utilisateurs_Service#2'!AU39=1,1,0)","v":0},null,{"$f":"IF('Fiches_Utilisateurs_Service#2'!AW39=1,1,0)","v":0},null,{"$f":"IF('Fiches_Utilisateurs_Service#2'!AY39=1,1,0)","v":0},null,{"$f":"IF('Fiches_Utilisateurs_Service#2'!BA39=1,1,0)","v":0},null,{"$f":"IF('Fiches_Utilisateurs_Service#2'!BC39=1,1,0)","v":0},null,{"$f":"IF('Fiches_Utilisateurs_Service#2'!BE39=1,1,0)","v":0},null,{"$f":"IF('Fiches_Utilisateurs_Service#2'!BG39=1,1,0)","v":0},null,{"$f":"IF('Fiches_Utilisateurs_Service#2'!BI39=1,1,0)","v":0},null,{"$f":"IF('Fiches_Utilisateurs_Service#2'!BK39=1,1,0)","v":0},null,{"$f":"IF('Fiches_Utilisateurs_Service#2'!BM39=1,1,0)","v":0},null,{"$f":"IF('Fiches_Utilisateurs_Service#2'!BO39=1,1,0)","v":0},null,{"$f":"IF('Fiches_Utilisateurs_Service#2'!BQ39=1,1,0)","v":0},null,{"$f":"IF('Fiches_Utilisateurs_Service#2'!BS39=1,1,0)","v":0},null,{"$f":"IF('Fiches_Utilisateurs_Service#2'!BU39=1,1,0)","v":0},null,{"$f":"IF('Fiches_Utilisateurs_Service#2'!BW39=1,1,0)","v":0},null,{"$f":"IF('Fiches_Utilisateurs_Service#2'!BY39=1,1,0)","v":0},null,{"$f":"IF('Fiches_Utilisateurs_Service#2'!CA39=1,1,0)","v":0},null,{"$f":"IF('Fiches_Utilisateurs_Service#2'!CC39=1,1,0)","v":0}]
[]
[13,null,{"$f":"IF('Fiches_Utilisateurs_Service#2'!C41=1,1,0)","v":0},null,{"$f":"IF('Fiches_Utilisateurs_Service#2'!E41=1,1,0)","v":0},null,{"$f":"IF('Fiches_Utilisateurs_Service#2'!G41=1,1,0)","v":0},null,{"$f":"IF('Fiches_Utilisateurs_Service#2'!I41=1,1,0)","v":0},null,{"$f":"IF('Fiches_Utilisateurs_Service#2'!K41=1,1,0)","v":0},null,{"$f":"IF('Fiches_Utilisateurs_Service#2'!M41=1,1,0)","v":0},null,{"$f":"IF('Fiches_Utilisateurs_Service#2'!O41=1,1,0)","v":0},null,{"$f":"IF('Fiches_Utilisateurs_Service#2'!Q41=1,1,0)","v":0},null,{"$f":"IF('Fiches_Utilisateurs_Service#2'!S41=1,1,0)","v":0},null,{"$f":"IF('Fiches_Utilisateurs_Service#2'!U41=1,1,0)","v":0},null,{"$f":"IF('Fiches_Utilisateurs_Service#2'!W41=1,1,0)","v":0},null,{"$f":"IF('Fiches_Utilisateurs_Service#2'!Y41=1,1,0)","v":0},null,{"$f":"IF('Fiches_Utilisateurs_Service#2'!AA41=1,1,0)","v":0},null,{"$f":"IF('Fiches_Utilisateurs_Service#2'!AC41=1,1,0)","v":0},null,{"$f":"IF('Fiches_Utilisateurs_Service#2'!AE41=1,1,0)","v":0},null,{"$f":"IF('Fiches_Utilisateurs_Service#2'!AG41=1,1,0)","v":0},null,{"$f":"IF('Fiches_Utilisateurs_Service#2'!AI41=1,1,0)","v":0},null,{"$f":"IF('Fiches_Utilisateurs_Service#2'!AK41=1,1,0)","v":0},null,{"$f":"IF('Fiches_Utilisateurs_Service#2'!AM41=1,1,0)","v":0},null,{"$f":"IF('Fiches_Utilisateurs_Service#2'!AO41=1,1,0)","v":0},null,{"$f":"IF('Fiches_Utilisateurs_Service#2'!AQ41=1,1,0)","v":0},null,{"$f":"IF('Fiches_Utilisateurs_Service#2'!AS41=1,1,0)","v":0},null,{"$f":"IF('Fiches_Utilisateurs_Service#2'!AU41=1,1,0)","v":0},null,{"$f":"IF('Fiches_Utilisateurs_Service#2'!AW41=1,1,0)","v":0},null,{"$f":"IF('Fiches_Utilisateurs_Service#2'!AY41=1,1,0)","v":0},null,{"$f":"IF('Fiches_Utilisateurs_Service#2'!BA41=1,1,0)","v":0},null,{"$f":"IF('Fiches_Utilisateurs_Service#2'!BC41=1,1,0)","v":0},null,{"$f":"IF('Fiches_Utilisateurs_Service#2'!BE41=1,1,0)","v":0},null,{"$f":"IF('Fiches_Utilisateurs_Service#2'!BG41=1,1,0)","v":0},null,{"$f":"IF('Fiches_Utilisateurs_Service#2'!BI41=1,1,0)","v":0},null,{"$f":"IF('Fiches_Utilisateurs_Service#2'!BK41=1,1,0)","v":0},null,{"$f":"IF('Fiches_Utilisateurs_Service#2'!BM41=1,1,0)","v":0},null,{"$f":"IF('Fiches_Utilisateurs_Service#2'!BO41=1,1,0)","v":0},null,{"$f":"IF('Fiches_Utilisateurs_Service#2'!BQ41=1,1,0)","v":0},null,{"$f":"IF('Fiches_Utilisateurs_Service#2'!BS41=1,1,0)","v":0},null,{"$f":"IF('Fiches_Utilisateurs_Service#2'!BU41=1,1,0)","v":0},null,{"$f":"IF('Fiches_Utilisateurs_Service#2'!BW41=1,1,0)","v":0},null,{"$f":"IF('Fiches_Utilisateurs_Service#2'!BY41=1,1,0)","v":0},null,{"$f":"IF('Fiches_Utilisateurs_Service#2'!CA41=1,1,0)","v":0},null,{"$f":"IF('Fiches_Utilisateurs_Service#2'!CC41=1,1,0)","v":0}]
[]
[14,null,{"$f":"IF('Fiches_Utilisateurs_Service#2'!C43=1,1,0)","v":0},null,{"$f":"IF('Fiches_Utilisateurs_Service#2'!E43=1,1,0)","v":0},null,{"$f":"IF('Fiches_Utilisateurs_Service#2'!G43=1,1,0)","v":0},null,{"$f":"IF('Fiches_Utilisateurs_Service#2'!I43=1,1,0)","v":0},null,{"$f":"IF('Fiches_Utilisateurs_Service#2'!K43=1,1,0)","v":0},null,{"$f":"IF('Fiches_Utilisateurs_Service#2'!M43=1,1,0)","v":0},null,{"$f":"IF('Fiches_Utilisateurs_Service#2'!O43=1,1,0)","v":0},null,{"$f":"IF('Fiches_Utilisateurs_Service#2'!Q43=1,1,0)","v":0},null,{"$f":"IF('Fiches_Utilisateurs_Service#2'!S43=1,1,0)","v":0},null,{"$f":"IF('Fiches_Utilisateurs_Service#2'!U43=1,1,0)","v":0},null,{"$f":"IF('Fiches_Utilisateurs_Service#2'!W43=1,1,0)","v":0},null,{"$f":"IF('Fiches_Utilisateurs_Service#2'!Y43=1,1,0)","v":0},null,{"$f":"IF('Fiches_Utilisateurs_Service#2'!AA43=1,1,0)","v":0},null,{"$f":"IF('Fiches_Utilisateurs_Service#2'!AC43=1,1,0)","v":0},null,{"$f":"IF('Fiches_Utilisateurs_Service#2'!AE43=1,1,0)","v":0},null,{"$f":"IF('Fiches_Utilisateurs_Service#2'!AG43=1,1,0)","v":0},null,{"$f":"IF('Fiches_Utilisateurs_Service#2'!AI43=1,1,0)","v":0},null,{"$f":"IF('Fiches_Utilisateurs_Service#2'!AK43=1,1,0)","v":0},null,{"$f":"IF('Fiches_Utilisateurs_Service#2'!AM43=1,1,0)","v":0},null,{"$f":"IF('Fiches_Utilisateurs_Service#2'!AO43=1,1,0)","v":0},null,{"$f":"IF('Fiches_Utilisateurs_Service#2'!AQ43=1,1,0)","v":0},null,{"$f":"IF('Fiches_Utilisateurs_Service#2'!AS43=1,1,0)","v":0},null,{"$f":"IF('Fiches_Utilisateurs_Service#2'!AU43=1,1,0)","v":0},null,{"$f":"IF('Fiches_Utilisateurs_Service#2'!AW43=1,1,0)","v":0},null,{"$f":"IF('Fiches_Utilisateurs_Service#2'!AY43=1,1,0)","v":0},null,{"$f":"IF('Fiches_Utilisateurs_Service#2'!BA43=1,1,0)","v":0},null,{"$f":"IF('Fiches_Utilisateurs_Service#2'!BC43=1,1,0)","v":0},null,{"$f":"IF('Fiches_Utilisateurs_Service#2'!BE43=1,1,0)","v":0},null,{"$f":"IF('Fiches_Utilisateurs_Service#2'!BG43=1,1,0)","v":0},null,{"$f":"IF('Fiches_Utilisateurs_Service#2'!BI43=1,1,0)","v":0},null,{"$f":"IF('Fiches_Utilisateurs_Service#2'!BK43=1,1,0)","v":0},null,{"$f":"IF('Fiches_Utilisateurs_Service#2'!BM43=1,1,0)","v":0},null,{"$f":"IF('Fiches_Utilisateurs_Service#2'!BO43=1,1,0)","v":0},null,{"$f":"IF('Fiches_Utilisateurs_Service#2'!BQ43=1,1,0)","v":0},null,{"$f":"IF('Fiches_Utilisateurs_Service#2'!BS43=1,1,0)","v":0},null,{"$f":"IF('Fiches_Utilisateurs_Service#2'!BU43=1,1,0)","v":0},null,{"$f":"IF('Fiches_Utilisateurs_Service#2'!BW43=1,1,0)","v":0},null,{"$f":"IF('Fiches_Utilisateurs_Service#2'!BY43=1,1,0)","v":0},null,{"$f":"IF('Fiches_Utilisateurs_Service#2'!CA43=1,1,0)","v":0},null,{"$f":"IF('Fiches_Utilisateurs_Service#2'!CC43=1,1,0)","v":0}]
[]
["tot propre",{"$f":"SUM(C45:CC45)","v":0},{"$f":"SUM(C39:C43)","v":0},null,{"$f":"SUM(E39:E43)","v":0},null,{"$f":"SUM(G39:G43)","v":0},null,{"$f":"SUM(I39:I43)","v":0},null,{"$f":"SUM(K39:K43)","v":0},null,{"$f":"SUM(M39:M43)","v":0},null,{"$f":"SUM(O39:O43)","v":0},null,{"$f":"SUM(Q39:Q43)","v":0},null,{"$f":"SUM(S39:S43)","v":0},null,{"$f":"SUM(U39:U43)","v":0},null,{"$f":"SUM(W39:W43)","v":0},null,{"$f":"SUM(Y39:Y43)","v":0},null,{"$f":"SUM(AA39:AA43)","v":0},null,{"$f":"SUM(AC39:AC43)","v":0},null,{"$f":"SUM(AE39:AE43)","v":0},null,{"$f":"SUM(AG39:AG43)","v":0},null,{"$f":"SUM(AI39:AI43)","v":0},null,{"$f":"SUM(AK39:AK43)","v":0},null,{"$f":"SUM(AM39:AM43)","v":0},null,{"$f":"SUM(AO39:AO43)","v":0},null,{"$f":"SUM(AQ39:AQ43)","v":0},null,{"$f":"SUM(AS39:AS43)","v":0},null,{"$f":"SUM(AU39:AU43)","v":0},null,{"$f":"SUM(AW39:AW43)","v":0},null,{"$f":"SUM(AY39:AY43)","v":0},null,{"$f":"SUM(BA39:BA43)","v":0},null,{"$f":"SUM(BC39:BC43)","v":0},null,{"$f":"SUM(BE39:BE43)","v":0},null,{"$f":"SUM(BG39:BG43)","v":0},null,{"$f":"SUM(BI39:BI43)","v":0},null,{"$f":"SUM(BK39:BK43)","v":0},null,{"$f":"IF('Fiches_Utilisateurs_Service#2'!BM45=1,1,0)","v":0},null,{"$f":"IF('Fiches_Utilisateurs_Service#2'!BO45=1,1,0)","v":0},null,{"$f":"IF('Fiches_Utilisateurs_Service#2'!BQ45=1,1,0)","v":0},null,{"$f":"IF('Fiches_Utilisateurs_Service#2'!BS45=1,1,0)","v":0},null,{"$f":"IF('Fiches_Utilisateurs_Service#2'!BU45=1,1,0)","v":0},null,{"$f":"IF('Fiches_Utilisateurs_Service#2'!BW45=1,1,0)","v":0},null,{"$f":"IF('Fiches_Utilisateurs_Service#2'!BY45=1,1,0)","v":0},null,{"$f":"IF('Fiches_Utilisateurs_Service#2'!CA45=1,1,0)","v":0},null,{"$f":"IF('Fiches_Utilisateurs_Service#2'!CC45=1,1,0)","v":0}]
[]
["tot tot",{"$f":"SUM(C47:CC47)","v":0},{"$f":"C45+C37","v":0},null,{"$f":"E45+E37","v":0},null,{"$f":"G45+G37","v":0},null,{"$f":"I45+I37","v":0},null,{"$f":"K45+K37","v":0},null,{"$f":"M45+M37","v":0},null,{"$f":"O45+O37","v":0},null,{"$f":"Q45+Q37","v":0},null,{"$f":"S45+S37","v":0},null,{"$f":"U45+U37","v":0},null,{"$f":"W45+W37","v":0},null,{"$f":"Y45+Y37","v":0},null,{"$f":"AA45+AA37","v":0},null,{"$f":"AC45+AC37","v":0},null,{"$f":"AE45+AE37","v":0},null,{"$f":"AG45+AG37","v":0},null,{"$f":"AI45+AI37","v":0},null,{"$f":"AK45+AK37","v":0},null,{"$f":"AM45+AM37","v":0},null,{"$f":"AO45+AO37","v":0},null,{"$f":"AQ45+AQ37","v":0},null,{"$f":"AS45+AS37","v":0},null,{"$f":"AU45+AU37","v":0},null,{"$f":"AW45+AW37","v":0},null,{"$f":"AY45+AY37","v":0},null,{"$f":"BA45+BA37","v":0},null,{"$f":"BC45+BC37","v":0},null,{"$f":"BE45+BE37","v":0},null,{"$f":"BG45+BG37","v":0},null,{"$f":"BI45+BI37","v":0},null,{"$f":"BK45+BK37","v":0},null,{"$f":"BM45+BM37","v":0},null,{"$f":"BO45+BO37","v":0},null,{"$f":"BQ45+BQ37","v":0},null,{"$f":"BS45+BS37","v":0},null,{"$f":"BU45+BU37","v":0},null,{"$f":"BW45+BW37","v":0},null,{"$f":"BY45+BY37","v":0},null,{"$f":"CA45+CA37","v":0},null,{"$f":"CC45+CC37","v":0}]
[]
[]
[]
[]
[1,{"$f":"SUM(C52:CC52)","v":0},{"$f":"IF(C11=\"1\",1,0)","v":0},null,{"$f":"IF(E11=\"1\",1,0)","v":0},null,0,null,0,null,0,null,0,null,0,null,0,null,0,null,0,null,0,null,0,null,0,null,0,null,0,null,0,null,0,null,0,null,0,null,0,null,0,null,0,null,0,null,0,null,0,null,0,null,0,null,0,null,0,null,0,null,0,null,0,null,0,null,{"$f":"IF(BQ11=\"1\",1,0)","v":0},null,0,null,0,null,0,null,0,null,0,null,0]
[null,{"$f":"SUM(C53:CC53)","v":0},{"$f":"IF(C52=1,(C77+C82),0)","v":0},null,{"$f":"IF(E52=1,(E77+E82),0)","v":0},null,{"$f":"IF(G52=1,(G77+G82),0)","v":0},null,{"$f":"IF(I52=1,(I77+I82),0)","v":0},null,{"$f":"IF(K52=1,(K77+K82),0)","v":0},null,{"$f":"IF(M52=1,(M77+M82),0)","v":0},null,{"$f":"IF(O52=1,(O77+O82),0)","v":0},null,{"$f":"IF(Q52=1,(Q77+Q82),0)","v":0},null,{"$f":"IF(S52=1,(S77+S82),0)","v":0},null,{"$f":"IF(U52=1,(U77+U82),0)","v":0},null,{"$f":"IF(W52=1,(W77+W82),0)","v":0},null,{"$f":"IF(Y52=1,(Y77+Y82),0)","v":0},null,{"$f":"IF(AA52=1,(AA77+AA82),0)","v":0},null,{"$f":"IF(AC52=1,(AC77+AC82),0)","v":0},null,{"$f":"IF(AE52=1,(AE77+AE82),0)","v":0},null,{"$f":"IF(AG52=1,(AG77+AG82),0)","v":0},null,{"$f":"IF(AI52=1,(AI77+AI82),0)","v":0},null,{"$f":"IF(AK52=1,(AK77+AK82),0)","v":0},null,{"$f":"IF(AM52=1,(AM77+AM82),0)","v":0},null,{"$f":"IF(AO52=1,(AO77+AO82),0)","v":0},null,{"$f":"IF(AQ52=1,(AQ77+AQ82),0)","v":0},null,{"$f":"IF(AS52=1,(AS77+AS82),0)","v":0},null,{"$f":"IF(AU52=1,(AU77+AU82),0)","v":0},null,{"$f":"IF(AW52=1,(AW77+AW82),0)","v":0},null,{"$f":"IF(AY52=1,(AY77+AY82),0)","v":0},null,{"$f":"IF(BA52=1,(BA77+BA82),0)","v":0},null,{"$f":"IF(BC52=1,(BC77+BC82),0)","v":0},null,{"$f":"IF(BE52=1,(BE77+BE82),0)","v":0},null,{"$f":"IF(BG52=1,(BG77+BG82),0)","v":0},null,{"$f":"IF(BI52=1,(BI77+BI82),0)","v":0},null,{"$f":"IF(BK52=1,(BK77+BK82),0)","v":0},null,{"$f":"IF(BM52=1,(BM77+BM82),0)","v":0},null,{"$f":"IF(BO52=1,(BO77+BO82),0)","v":0},null,{"$f":"IF(BQ52=1,(BQ77+BQ82),0)","v":0},null,{"$f":"IF(BS52=1,(BS77+BS82),0)","v":0},null,{"$f":"IF(BU52=1,(BU77+BU82),0)","v":0},null,{"$f":"IF(BW52=1,(BW77+BW82),0)","v":0},null,{"$f":"IF(BY52=1,(BY77+BY82),0)","v":0},null,{"$f":"IF(CA52=1,(CA77+CA82),0)","v":0},null,{"$f":"IF(CC52=1,(CC77+CC82),0)","v":0}]
[2,0,{"$f":"IF(C11=\"2\",1,0)","v":0},null,{"$f":"IF(E11=\"2\",1,0)","v":0},null,0,null,0,null,0,null,0,null,0,null,0,null,0,null,0,null,0,null,0,null,0,null,0,null,0,null,0,null,0,null,0,null,0,null,0,null,0,null,0,null,0,null,0,null,0,null,0,null,0,null,0,null,0,null,0,null,0,null,0,null,0,null,{"$f":"IF(BQ11=\"2\",1,0)","v":0},null,0,null,0,null,0,null,0,null,0,null,0]
[null,0,{"$f":"IF(C54=1,(C77+C82),0)","v":0},null,{"$f":"IF(E54=1,(E77+E82),0)","v":0},null,{"$f":"IF(G54=1,(G77+G82),0)","v":0},null,{"$f":"IF(I54=1,(I77+I82),0)","v":0},null,{"$f":"IF(K54=1,(K77+K82),0)","v":0},null,{"$f":"IF(M54=1,(M77+M82),0)","v":0},null,{"$f":"IF(O54=1,(O77+O82),0)","v":0},null,{"$f":"IF(Q54=1,(Q77+Q82),0)","v":0},null,{"$f":"IF(S54=1,(S77+S82),0)","v":0},null,{"$f":"IF(U54=1,(U77+U82),0)","v":0},null,{"$f":"IF(W54=1,(W77+W82),0)","v":0},null,{"$f":"IF(Y54=1,(Y77+Y82),0)","v":0},null,{"$f":"IF(AA54=1,(AA77+AA82),0)","v":0},null,{"$f":"IF(AC54=1,(AC77+AC82),0)","v":0},null,{"$f":"IF(AE54=1,(AE77+AE82),0)","v":0},null,{"$f":"IF(AG54=1,(AG77+AG82),0)","v":0},null,{"$f":"IF(AI54=1,(AI77+AI82),0)","v":0},null,{"$f":"IF(AK54=1,(AK77+AK82),0)","v":0},null,{"$f":"IF(AM54=1,(AM77+AM82),0)","v":0},null,{"$f":"IF(AO54=1,(AO77+AO82),0)","v":0},null,{"$f":"IF(AQ54=1,(AQ77+AQ82),0)","v":0},null,{"$f":"IF(AS54=1,(AS77+AS82),0)","v":0},null,{"$f":"IF(AU54=1,(AU77+AU82),0)","v":0},null,{"$f":"IF(AW54=1,(AW77+AW82),0)","v":0},null,{"$f":"IF(AY54=1,(AY77+AY82),0)","v":0},null,{"$f":"IF(BA54=1,(BA77+BA82),0)","v":0},null,{"$f":"IF(BC54=1,(BC77+BC82),0)","v":0},null,{"$f":"IF(BE54=1,(BE77+BE82),0)","v":0},null,{"$f":"IF(BG54=1,(BG77+BG82),0)","v":0},null,{"$f":"IF(BI54=1,(BI77+BI82),0)","v":0},null,{"$f":"IF(BK54=1,(BK77+BK82),0)","v":0},null,{"$f":"IF(BM54=1,(BM77+BM82),0)","v":0},null,{"$f":"IF(BO54=1,(BO77+BO82),0)","v":0},null,{"$f":"IF(BQ54=1,(BQ77+BQ82),0)","v":0},null,{"$f":"IF(BS54=1,(BS77+BS82),0)","v":0},null,{"$f":"IF(BU54=1,(BU77+BU82),0)","v":0},null,{"$f":"IF(BW54=1,(BW77+BW82),0)","v":0},null,{"$f":"IF(BY54=1,(BY77+BY82),0)","v":0},null,{"$f":"IF(CA54=1,(CA77+CA82),0)","v":0},null,{"$f":"IF(CC54=1,(CC77+CC82),0)","v":0}]
[3,0,{"$f":"IF(C11=\"3\",1,0)","v":0},null,{"$f":"IF(E11=\"3\",1,0)","v":0},null,0,null,0,null,0,null,0,null,0,null,0,null,0,null,0,null,0,null,0,null,0,null,0,null,0,null,0,null,0,null,0,null,0,null,0,null,0,null,0,null,0,null,0,null,0,null,0,null,0,null,0,null,0,null,0,null,0,null,0,null,0,null,{"$f":"IF(BQ11=\"3\",1,0)","v":0},null,0,null,0,null,0,null,0,null,0,null,0]
[null,0,{"$f":"IF(C56=1,(C77+C82),0)","v":0},null,{"$f":"IF(E56=1,(E77+E82),0)","v":0},null,{"$f":"IF(G56=1,(G77+G82),0)","v":0},null,{"$f":"IF(I56=1,(I77+I82),0)","v":0},null,{"$f":"IF(K56=1,(K77+K82),0)","v":0},null,{"$f":"IF(M56=1,(M77+M82),0)","v":0},null,{"$f":"IF(O56=1,(O77+O82),0)","v":0},null,{"$f":"IF(Q56=1,(Q77+Q82),0)","v":0},null,{"$f":"IF(S56=1,(S77+S82),0)","v":0},null,{"$f":"IF(U56=1,(U77+U82),0)","v":0},null,{"$f":"IF(W56=1,(W77+W82),0)","v":0},null,{"$f":"IF(Y56=1,(Y77+Y82),0)","v":0},null,{"$f":"IF(AA56=1,(AA77+AA82),0)","v":0},null,{"$f":"IF(AC56=1,(AC77+AC82),0)","v":0},null,{"$f":"IF(AE56=1,(AE77+AE82),0)","v":0},null,{"$f":"IF(AG56=1,(AG77+AG82),0)","v":0},null,{"$f":"IF(AI56=1,(AI77+AI82),0)","v":0},null,{"$f":"IF(AK56=1,(AK77+AK82),0)","v":0},null,{"$f":"IF(AM56=1,(AM77+AM82),0)","v":0},null,{"$f":"IF(AO56=1,(AO77+AO82),0)","v":0},null,{"$f":"IF(AQ56=1,(AQ77+AQ82),0)","v":0},null,{"$f":"IF(AS56=1,(AS77+AS82),0)","v":0},null,{"$f":"IF(AU56=1,(AU77+AU82),0)","v":0},null,{"$f":"IF(AW56=1,(AW77+AW82),0)","v":0},null,{"$f":"IF(AY56=1,(AY77+AY82),0)","v":0},null,{"$f":"IF(BA56=1,(BA77+BA82),0)","v":0},null,{"$f":"IF(BC56=1,(BC77+BC82),0)","v":0},null,{"$f":"IF(BE56=1,(BE77+BE82),0)","v":0},null,{"$f":"IF(BG56=1,(BG77+BG82),0)","v":0},null,{"$f":"IF(BI56=1,(BI77+BI82),0)","v":0},null,{"$f":"IF(BK56=1,(BK77+BK82),0)","v":0},null,{"$f":"IF(BM56=1,(BM77+BM82),0)","v":0},null,{"$f":"IF(BO56=1,(BO77+BO82),0)","v":0},null,{"$f":"IF(BQ56=1,(BQ77+BQ82),0)","v":0},null,{"$f":"IF(BS56=1,(BS77+BS82),0)","v":0},null,{"$f":"IF(BU56=1,(BU77+BU82),0)","v":0},null,{"$f":"IF(BW56=1,(BW77+BW82),0)","v":0},null,{"$f":"IF(BY56=1,(BY77+BY82),0)","v":0},null,{"$f":"IF(CA56=1,(CA77+CA82),0)","v":0},null,{"$f":"IF(CC56=1,(CC77+CC82),0)","v":0}]
[4,0,{"$f":"IF(C11=\"4\",1,0)","v":0},null,{"$f":"IF(E11=\"4\",1,0)","v":0},null,0,null,0,null,0,null,0,null,0,null,0,null,0,null,0,null,0,null,0,null,0,null,0,null,0,null,0,null,0,null,0,null,0,null,0,null,0,null,0,null,0,null,0,null,0,null,0,null,0,null,0,null,0,null,0,null,0,null,0,null,0,null,{"$f":"IF(BQ11=\"4\",1,0)","v":0},null,0,null,0,null,0,null,0,null,0,null,0]
[null,0,{"$f":"IF(C58=1,(C77+C82),0)","v":0},null,{"$f":"IF(E58=1,(E77+E82),0)","v":0},null,{"$f":"IF(G58=1,(G77+G82),0)","v":0},null,{"$f":"IF(I58=1,(I77+I82),0)","v":0},null,{"$f":"IF(K58=1,(K77+K82),0)","v":0},null,{"$f":"IF(M58=1,(M77+M82),0)","v":0},null,{"$f":"IF(O58=1,(O77+O82),0)","v":0},null,{"$f":"IF(Q58=1,(Q77+Q82),0)","v":0},null,{"$f":"IF(S58=1,(S77+S82),0)","v":0},null,{"$f":"IF(U58=1,(U77+U82),0)","v":0},null,{"$f":"IF(W58=1,(W77+W82),0)","v":0},null,{"$f":"IF(Y58=1,(Y77+Y82),0)","v":0},null,{"$f":"IF(AA58=1,(AA77+AA82),0)","v":0},null,{"$f":"IF(AC58=1,(AC77+AC82),0)","v":0},null,{"$f":"IF(AE58=1,(AE77+AE82),0)","v":0},null,{"$f":"IF(AG58=1,(AG77+AG82),0)","v":0},null,{"$f":"IF(AI58=1,(AI77+AI82),0)","v":0},null,{"$f":"IF(AK58=1,(AK77+AK82),0)","v":0},null,{"$f":"IF(AM58=1,(AM77+AM82),0)","v":0},null,{"$f":"IF(AO58=1,(AO77+AO82),0)","v":0},null,{"$f":"IF(AQ58=1,(AQ77+AQ82),0)","v":0},null,{"$f":"IF(AS58=1,(AS77+AS82),0)","v":0},null,{"$f":"IF(AU58=1,(AU77+AU82),0)","v":0},null,{"$f":"IF(AW58=1,(AW77+AW82),0)","v":0},null,{"$f":"IF(AY58=1,(AY77+AY82),0)","v":0},null,{"$f":"IF(BA58=1,(BA77+BA82),0)","v":0},null,{"$f":"IF(BC58=1,(BC77+BC82),0)","v":0},null,{"$f":"IF(BE58=1,(BE77+BE82),0)","v":0},null,{"$f":"IF(BG58=1,(BG77+BG82),0)","v":0},null,{"$f":"IF(BI58=1,(BI77+BI82),0)","v":0},null,{"$f":"IF(BK58=1,(BK77+BK82),0)","v":0},null,{"$f":"IF(BM58=1,(BM77+BM82),0)","v":0},null,{"$f":"IF(BO58=1,(BO77+BO82),0)","v":0},null,{"$f":"IF(BQ58=1,(BQ77+BQ82),0)","v":0},null,{"$f":"IF(BS58=1,(BS77+BS82),0)","v":0},null,{"$f":"IF(BU58=1,(BU77+BU82),0)","v":0},null,{"$f":"IF(BW58=1,(BW77+BW82),0)","v":0},null,{"$f":"IF(BY58=1,(BY77+BY82),0)","v":0},null,{"$f":"IF(CA58=1,(CA77+CA82),0)","v":0},null,{"$f":"IF(CC58=1,(CC77+CC82),0)","v":0}]
[5,0,{"$f":"IF(C11=\"5\",1,0)","v":0},null,{"$f":"IF(E11=\"5\",1,0)","v":0},null,0,null,0,null,0,null,0,null,0,null,0,null,0,null,0,null,0,null,0,null,0,null,0,null,0,null,0,null,0,null,0,null,0,null,0,null,0,null,0,null,0,null,0,null,0,null,0,null,0,null,0,null,0,null,0,null,0,null,0,null,0,null,{"$f":"IF(BQ11=\"5\",1,0)","v":0},null,0,null,0,null,0,null,0,null,0,null,0]
[null,0,{"$f":"IF(C60=1,(C77+C82),0)","v":0},null,{"$f":"IF(E60=1,(E77+E82),0)","v":0},null,{"$f":"IF(G60=1,(G77+G82),0)","v":0},null,{"$f":"IF(I60=1,(I77+I82),0)","v":0},null,{"$f":"IF(K60=1,(K77+K82),0)","v":0},null,{"$f":"IF(M60=1,(M77+M82),0)","v":0},null,{"$f":"IF(O60=1,(O77+O82),0)","v":0},null,{"$f":"IF(Q60=1,(Q77+Q82),0)","v":0},null,{"$f":"IF(S60=1,(S77+S82),0)","v":0},null,{"$f":"IF(U60=1,(U77+U82),0)","v":0},null,{"$f":"IF(W60=1,(W77+W82),0)","v":0},null,{"$f":"IF(Y60=1,(Y77+Y82),0)","v":0},null,{"$f":"IF(AA60=1,(AA77+AA82),0)","v":0},null,{"$f":"IF(AC60=1,(AC77+AC82),0)","v":0},null,{"$f":"IF(AE60=1,(AE77+AE82),0)","v":0},null,{"$f":"IF(AG60=1,(AG77+AG82),0)","v":0},null,{"$f":"IF(AI60=1,(AI77+AI82),0)","v":0},null,{"$f":"IF(AK60=1,(AK77+AK82),0)","v":0},null,{"$f":"IF(AM60=1,(AM77+AM82),0)","v":0},null,{"$f":"IF(AO60=1,(AO77+AO82),0)","v":0},null,{"$f":"IF(AQ60=1,(AQ77+AQ82),0)","v":0},null,{"$f":"IF(AS60=1,(AS77+AS82),0)","v":0},null,{"$f":"IF(AU60=1,(AU77+AU82),0)","v":0},null,{"$f":"IF(AW60=1,(AW77+AW82),0)","v":0},null,{"$f":"IF(AY60=1,(AY77+AY82),0)","v":0},null,{"$f":"IF(BA60=1,(BA77+BA82),0)","v":0},null,{"$f":"IF(BC60=1,(BC77+BC82),0)","v":0},null,{"$f":"IF(BE60=1,(BE77+BE82),0)","v":0},null,{"$f":"IF(BG60=1,(BG77+BG82),0)","v":0},null,{"$f":"IF(BI60=1,(BI77+BI82),0)","v":0},null,{"$f":"IF(BK60=1,(BK77+BK82),0)","v":0},null,{"$f":"IF(BM60=1,(BM77+BM82),0)","v":0},null,{"$f":"IF(BO60=1,(BO77+BO82),0)","v":0},null,{"$f":"IF(BQ60=1,(BQ77+BQ82),0)","v":0},null,{"$f":"IF(BS60=1,(BS77+BS82),0)","v":0},null,{"$f":"IF(BU60=1,(BU77+BU82),0)","v":0},null,{"$f":"IF(BW60=1,(BW77+BW82),0)","v":0},null,{"$f":"IF(BY60=1,(BY77+BY82),0)","v":0},null,{"$f":"IF(CA60=1,(CA77+CA82),0)","v":0},null,{"$f":"IF(CC60=1,(CC77+CC82),0)","v":0}]
[6,0,{"$f":"IF(C11=\"6\",1,0)","v":0},null,{"$f":"IF(E11=\"6\",1,0)","v":0},null,0,null,0,null,0,null,0,null,0,null,0,null,0,null,0,null,0,null,0,null,0,null,0,null,0,null,0,null,0,null,0,null,0,null,0,null,0,null,0,null,0,null,0,null,0,null,0,null,0,null,0,null,0,null,0,null,0,null,0,null,0,null,{"$f":"IF(BQ11=\"6\",1,0)","v":0},null,0,null,0,null,0,null,0,null,0,null,0]
[null,0,{"$f":"IF(C62=1,(C77+C82),0)","v":0},null,{"$f":"IF(E62=1,(E77+E82),0)","v":0},null,{"$f":"IF(G62=1,(G77+G82),0)","v":0},null,{"$f":"IF(I62=1,(I77+I82),0)","v":0},null,{"$f":"IF(K62=1,(K77+K82),0)","v":0},null,{"$f":"IF(M62=1,(M77+M82),0)","v":0},null,{"$f":"IF(O62=1,(O77+O82),0)","v":0},null,{"$f":"IF(Q62=1,(Q77+Q82),0)","v":0},null,{"$f":"IF(S62=1,(S77+S82),0)","v":0},null,{"$f":"IF(U62=1,(U77+U82),0)","v":0},null,{"$f":"IF(W62=1,(W77+W82),0)","v":0},null,{"$f":"IF(Y62=1,(Y77+Y82),0)","v":0},null,{"$f":"IF(AA62=1,(AA77+AA82),0)","v":0},null,{"$f":"IF(AC62=1,(AC77+AC82),0)","v":0},null,{"$f":"IF(AE62=1,(AE77+AE82),0)","v":0},null,{"$f":"IF(AG62=1,(AG77+AG82),0)","v":0},null,{"$f":"IF(AI62=1,(AI77+AI82),0)","v":0},null,{"$f":"IF(AK62=1,(AK77+AK82),0)","v":0},null,{"$f":"IF(AM62=1,(AM77+AM82),0)","v":0},null,{"$f":"IF(AO62=1,(AO77+AO82),0)","v":0},null,{"$f":"IF(AQ62=1,(AQ77+AQ82),0)","v":0},null,{"$f":"IF(AS62=1,(AS77+AS82),0)","v":0},null,{"$f":"IF(AU62=1,(AU77+AU82),0)","v":0},null,{"$f":"IF(AW62=1,(AW77+AW82),0)","v":0},null,{"$f":"IF(AY62=1,(AY77+AY82),0)","v":0},null,{"$f":"IF(BA62=1,(BA77+BA82),0)","v":0},null,{"$f":"IF(BC62=1,(BC77+BC82),0)","v":0},null,{"$f":"IF(BE62=1,(BE77+BE82),0)","v":0},null,{"$f":"IF(BG62=1,(BG77+BG82),0)","v":0},null,{"$f":"IF(BI62=1,(BI77+BI82),0)","v":0},null,{"$f":"IF(BK62=1,(BK77+BK82),0)","v":0},null,{"$f":"IF(BM62=1,(BM77+BM82),0)","v":0},null,{"$f":"IF(BO62=1,(BO77+BO82),0)","v":0},null,{"$f":"IF(BQ62=1,(BQ77+BQ82),0)","v":0},null,{"$f":"IF(BS62=1,(BS77+BS82),0)","v":0},null,{"$f":"IF(BU62=1,(BU77+BU82),0)","v":0},null,{"$f":"IF(BW62=1,(BW77+BW82),0)","v":0},null,{"$f":"IF(BY62=1,(BY77+BY82),0)","v":0},null,{"$f":"IF(CA62=1,(CA77+CA82),0)","v":0},null,{"$f":"IF(CC62=1,(CC77+CC82),0)","v":0}]
[7,0,{"$f":"IF(C11=\"7\",1,0)","v":0},null,{"$f":"IF(E11=\"7\",1,0)","v":0},null,0,null,0,null,0,null,0,null,0,null,0,null,0,null,0,null,0,null,0,null,0,null,0,null,0,null,0,null,0,null,0,null,0,null,0,null,0,null,0,null,0,null,0,null,0,null,0,null,0,null,0,null,0,null,0,null,0,null,0,null,0,null,{"$f":"IF(BQ11=\"7\",1,0)","v":0},null,0,null,0,null,0,null,0,null,0,null,0]
[null,0,{"$f":"IF(C64=1,(C77+C82),0)","v":0},null,{"$f":"IF(E64=1,(E77+E82),0)","v":0},null,{"$f":"IF(G64=1,(G77+G82),0)","v":0},null,{"$f":"IF(I64=1,(I77+I82),0)","v":0},null,{"$f":"IF(K64=1,(K77+K82),0)","v":0},null,{"$f":"IF(M64=1,(M77+M82),0)","v":0},null,{"$f":"IF(O64=1,(O77+O82),0)","v":0},null,{"$f":"IF(Q64=1,(Q77+Q82),0)","v":0},null,{"$f":"IF(S64=1,(S77+S82),0)","v":0},null,{"$f":"IF(U64=1,(U77+U82),0)","v":0},null,{"$f":"IF(W64=1,(W77+W82),0)","v":0},null,{"$f":"IF(Y64=1,(Y77+Y82),0)","v":0},null,{"$f":"IF(AA64=1,(AA77+AA82),0)","v":0},null,{"$f":"IF(AC64=1,(AC77+AC82),0)","v":0},null,{"$f":"IF(AE64=1,(AE77+AE82),0)","v":0},null,{"$f":"IF(AG64=1,(AG77+AG82),0)","v":0},null,{"$f":"IF(AI64=1,(AI77+AI82),0)","v":0},null,{"$f":"IF(AK64=1,(AK77+AK82),0)","v":0},null,{"$f":"IF(AM64=1,(AM77+AM82),0)","v":0},null,{"$f":"IF(AO64=1,(AO77+AO82),0)","v":0},null,{"$f":"IF(AQ64=1,(AQ77+AQ82),0)","v":0},null,{"$f":"IF(AS64=1,(AS77+AS82),0)","v":0},null,{"$f":"IF(AU64=1,(AU77+AU82),0)","v":0},null,{"$f":"IF(AW64=1,(AW77+AW82),0)","v":0},null,{"$f":"IF(AY64=1,(AY77+AY82),0)","v":0},null,{"$f":"IF(BA64=1,(BA77+BA82),0)","v":0},null,{"$f":"IF(BC64=1,(BC77+BC82),0)","v":0},null,{"$f":"IF(BE64=1,(BE77+BE82),0)","v":0},null,{"$f":"IF(BG64=1,(BG77+BG82),0)","v":0},null,{"$f":"IF(BI64=1,(BI77+BI82),0)","v":0},null,{"$f":"IF(BK64=1,(BK77+BK82),0)","v":0},null,{"$f":"IF(BM64=1,(BM77+BM82),0)","v":0},null,{"$f":"IF(BO64=1,(BO77+BO82),0)","v":0},null,{"$f":"IF(BQ64=1,(BQ77+BQ82),0)","v":0},null,{"$f":"IF(BS64=1,(BS77+BS82),0)","v":0},null,{"$f":"IF(BU64=1,(BU77+BU82),0)","v":0},null,{"$f":"IF(BW64=1,(BW77+BW82),0)","v":0},null,{"$f":"IF(BY64=1,(BY77+BY82),0)","v":0},null,{"$f":"IF(CA64=1,(CA77+CA82),0)","v":0},null,{"$f":"IF(CC64=1,(CC77+CC82),0)","v":0}]
[8,0,{"$f":"IF(C11=\"8\",1,0)","v":0},null,{"$f":"IF(E11=\"8\",1,0)","v":0},null,0,null,0,null,0,null,0,null,0,null,0,null,0,null,0,null,0,null,0,null,0,null,0,null,0,null,0,null,0,null,0,null,0,null,0,null,0,null,0,null,0,null,0,null,0,null,0,null,0,null,0,null,0,null,0,null,0,null,0,null,0,null,{"$f":"IF(BQ11=\"8\",1,0)","v":0},null,0,null,0,null,0,null,0,null,0,null,0]
[null,0,{"$f":"IF(C66=1,(C77+C82),0)","v":0},null,{"$f":"IF(E66=1,(E77+E82),0)","v":0},null,{"$f":"IF(G66=1,(G77+G82),0)","v":0},null,{"$f":"IF(I66=1,(I77+I82),0)","v":0},null,{"$f":"IF(K66=1,(K77+K82),0)","v":0},null,{"$f":"IF(M66=1,(M77+M82),0)","v":0},null,{"$f":"IF(O66=1,(O77+O82),0)","v":0},null,{"$f":"IF(Q66=1,(Q77+Q82),0)","v":0},null,{"$f":"IF(S66=1,(S77+S82),0)","v":0},null,{"$f":"IF(U66=1,(U77+U82),0)","v":0},null,{"$f":"IF(W66=1,(W77+W82),0)","v":0},null,{"$f":"IF(Y66=1,(Y77+Y82),0)","v":0},null,{"$f":"IF(AA66=1,(AA77+AA82),0)","v":0},null,{"$f":"IF(AC66=1,(AC77+AC82),0)","v":0},null,{"$f":"IF(AE66=1,(AE77+AE82),0)","v":0},null,{"$f":"IF(AG66=1,(AG77+AG82),0)","v":0},null,{"$f":"IF(AI66=1,(AI77+AI82),0)","v":0},null,{"$f":"IF(AK66=1,(AK77+AK82),0)","v":0},null,{"$f":"IF(AM66=1,(AM77+AM82),0)","v":0},null,{"$f":"IF(AO66=1,(AO77+AO82),0)","v":0},null,{"$f":"IF(AQ66=1,(AQ77+AQ82),0)","v":0},null,{"$f":"IF(AS66=1,(AS77+AS82),0)","v":0},null,{"$f":"IF(AU66=1,(AU77+AU82),0)","v":0},null,{"$f":"IF(AW66=1,(AW77+AW82),0)","v":0},null,{"$f":"IF(AY66=1,(AY77+AY82),0)","v":0},null,{"$f":"IF(BA66=1,(BA77+BA82),0)","v":0},null,{"$f":"IF(BC66=1,(BC77+BC82),0)","v":0},null,{"$f":"IF(BE66=1,(BE77+BE82),0)","v":0},null,{"$f":"IF(BG66=1,(BG77+BG82),0)","v":0},null,{"$f":"IF(BI66=1,(BI77+BI82),0)","v":0},null,{"$f":"IF(BK66=1,(BK77+BK82),0)","v":0},null,{"$f":"IF(BM66=1,(BM77+BM82),0)","v":0},null,{"$f":"IF(BO66=1,(BO77+BO82),0)","v":0},null,{"$f":"IF(BQ66=1,(BQ77+BQ82),0)","v":0},null,{"$f":"IF(BS66=1,(BS77+BS82),0)","v":0},null,{"$f":"IF(BU66=1,(BU77+BU82),0)","v":0},null,{"$f":"IF(BW66=1,(BW77+BW82),0)","v":0},null,{"$f":"IF(BY66=1,(BY77+BY82),0)","v":0},null,{"$f":"IF(CA66=1,(CA77+CA82),0)","v":0},null,{"$f":"IF(CC66=1,(CC77+CC82),0)","v":0}]
[9,0,{"$f":"IF(C11=\"9\",1,0)","v":0},null,{"$f":"IF(E11=\"9\",1,0)","v":0},null,0,null,0,null,0,null,0,null,0,null,0,null,0,null,0,null,0,null,0,null,0,null,0,null,0,null,0,null,0,null,0,null,0,null,0,null,0,null,0,null,0,null,0,null,0,null,0,null,0,null,0,null,0,null,0,null,0,null,0,null,0,null,{"$f":"IF(BQ11=\"9\",1,0)","v":0},null,0,null,0,null,0,null,0,null,0,null,0]
[null,0,{"$f":"IF(C68=1,(C77+C82),0)","v":0},null,{"$f":"IF(E68=1,(E77+E82),0)","v":0},null,{"$f":"IF(G68=1,(G77+G82),0)","v":0},null,{"$f":"IF(I68=1,(I77+I82),0)","v":0},null,{"$f":"IF(K68=1,(K77+K82),0)","v":0},null,{"$f":"IF(M68=1,(M77+M82),0)","v":0},null,{"$f":"IF(O68=1,(O77+O82),0)","v":0},null,{"$f":"IF(Q68=1,(Q77+Q82),0)","v":0},null,{"$f":"IF(S68=1,(S77+S82),0)","v":0},null,{"$f":"IF(U68=1,(U77+U82),0)","v":0},null,{"$f":"IF(W68=1,(W77+W82),0)","v":0},null,{"$f":"IF(Y68=1,(Y77+Y82),0)","v":0},null,{"$f":"IF(AA68=1,(AA77+AA82),0)","v":0},null,{"$f":"IF(AC68=1,(AC77+AC82),0)","v":0},null,{"$f":"IF(AE68=1,(AE77+AE82),0)","v":0},null,{"$f":"IF(AG68=1,(AG77+AG82),0)","v":0},null,{"$f":"IF(AI68=1,(AI77+AI82),0)","v":0},null,{"$f":"IF(AK68=1,(AK77+AK82),0)","v":0},null,{"$f":"IF(AM68=1,(AM77+AM82),0)","v":0},null,{"$f":"IF(AO68=1,(AO77+AO82),0)","v":0},null,{"$f":"IF(AQ68=1,(AQ77+AQ82),0)","v":0},null,{"$f":"IF(AS68=1,(AS77+AS82),0)","v":0},null,{"$f":"IF(AU68=1,(AU77+AU82),0)","v":0},null,{"$f":"IF(AW68=1,(AW77+AW82),0)","v":0},null,{"$f":"IF(AY68=1,(AY77+AY82),0)","v":0},null,{"$f":"IF(BA68=1,(BA77+BA82),0)","v":0},null,{"$f":"IF(BC68=1,(BC77+BC82),0)","v":0},null,{"$f":"IF(BE68=1,(BE77+BE82),0)","v":0},null,{"$f":"IF(BG68=1,(BG77+BG82),0)","v":0},null,{"$f":"IF(BI68=1,(BI77+BI82),0)","v":0},null,{"$f":"IF(BK68=1,(BK77+BK82),0)","v":0},null,{"$f":"IF(BM68=1,(BM77+BM82),0)","v":0},null,{"$f":"IF(BO68=1,(BO77+BO82),0)","v":0},null,{"$f":"IF(BQ68=1,(BQ77+BQ82),0)","v":0},null,{"$f":"IF(BS68=1,(BS77+BS82),0)","v":0},null,{"$f":"IF(BU68=1,(BU77+BU82),0)","v":0},null,{"$f":"IF(BW68=1,(BW77+BW82),0)","v":0},null,{"$f":"IF(BY68=1,(BY77+BY82),0)","v":0},null,{"$f":"IF(CA68=1,(CA77+CA82),0)","v":0},null,{"$f":"IF(CC68=1,(CC77+CC82),0)","v":0}]
[10,0,{"$f":"IF(C11=\"10\",1,0)","v":0},null,{"$f":"IF(E11=\"10\",1,0)","v":0},null,0,null,0,null,0,null,0,null,0,null,0,null,0,null,0,null,0,null,0,null,0,null,0,null,0,null,0,null,0,null,0,null,0,null,0,null,0,null,0,null,0,null,0,null,0,null,0,null,0,null,0,null,0,null,0,null,0,null,0,null,0,null,{"$f":"IF(BQ11=\"10\",1,0)","v":0},null,0,null,0,null,0,null,0,null,0,null,0]
[null,0,{"$f":"IF(C70=1,(C77+C82),0)","v":0},null,{"$f":"IF(E70=1,(E77+E82),0)","v":0},null,{"$f":"IF(G70=1,(G77+G82),0)","v":0},null,{"$f":"IF(I70=1,(I77+I82),0)","v":0},null,{"$f":"IF(K70=1,(K77+K82),0)","v":0},null,{"$f":"IF(M70=1,(M77+M82),0)","v":0},null,{"$f":"IF(O70=1,(O77+O82),0)","v":0},null,{"$f":"IF(Q70=1,(Q77+Q82),0)","v":0},null,{"$f":"IF(S70=1,(S77+S82),0)","v":0},null,{"$f":"IF(U70=1,(U77+U82),0)","v":0},null,{"$f":"IF(W70=1,(W77+W82),0)","v":0},null,{"$f":"IF(Y70=1,(Y77+Y82),0)","v":0},null,{"$f":"IF(AA70=1,(AA77+AA82),0)","v":0},null,{"$f":"IF(AC70=1,(AC77+AC82),0)","v":0},null,{"$f":"IF(AE70=1,(AE77+AE82),0)","v":0},null,{"$f":"IF(AG70=1,(AG77+AG82),0)","v":0},null,{"$f":"IF(AI70=1,(AI77+AI82),0)","v":0},null,{"$f":"IF(AK70=1,(AK77+AK82),0)","v":0},null,{"$f":"IF(AM70=1,(AM77+AM82),0)","v":0},null,{"$f":"IF(AO70=1,(AO77+AO82),0)","v":0},null,{"$f":"IF(AQ70=1,(AQ77+AQ82),0)","v":0},null,{"$f":"IF(AS70=1,(AS77+AS82),0)","v":0},null,{"$f":"IF(AU70=1,(AU77+AU82),0)","v":0},null,{"$f":"IF(AW70=1,(AW77+AW82),0)","v":0},null,{"$f":"IF(AY70=1,(AY77+AY82),0)","v":0},null,{"$f":"IF(BA70=1,(BA77+BA82),0)","v":0},null,{"$f":"IF(BC70=1,(BC77+BC82),0)","v":0},null,{"$f":"IF(BE70=1,(BE77+BE82),0)","v":0},null,{"$f":"IF(BG70=1,(BG77+BG82),0)","v":0},null,{"$f":"IF(BI70=1,(BI77+BI82),0)","v":0},null,{"$f":"IF(BK70=1,(BK77+BK82),0)","v":0},null,{"$f":"IF(BM70=1,(BM77+BM82),0)","v":0},null,{"$f":"IF(BO70=1,(BO77+BO82),0)","v":0},null,{"$f":"IF(BQ70=1,(BQ77+BQ82),0)","v":0},null,{"$f":"IF(BS70=1,(BS77+BS82),0)","v":0},null,{"$f":"IF(BU70=1,(BU77+BU82),0)","v":0},null,{"$f":"IF(BW70=1,(BW77+BW82),0)","v":0},null,{"$f":"IF(BY70=1,(BY77+BY82),0)","v":0},null,{"$f":"IF(CA70=1,(CA77+CA82),0)","v":0},null,{"$f":"IF(CC70=1,(CC77+CC82),0)","v":0}]
[]
["Linge sale"]
["Evacuation",{"$f":"SUM(C74:CC74)","v":0},{"$f":"(2*C15)+C17+C21+C23","v":0},null,{"$f":"(2*E15)+E17+E21+E23","v":0},null,{"$f":"(2*G15)+G17+G21+G23","v":0},null,{"$f":"(2*I15)+I17+I21+I23","v":0},null,{"$f":"(2*K15)+K17+K21+K23","v":0},null,{"$f":"(2*M15)+M17+M21+M23","v":0},null,{"$f":"(2*O15)+O17+O21+O23","v":0},null,{"$f":"(2*Q15)+Q17+Q21+Q23","v":0},null,{"$f":"(2*S15)+S17+S21+S23","v":0},null,{"$f":"(2*U15)+U17+U21+U23","v":0},null,{"$f":"(2*W15)+W17+W21+W23","v":0},null,{"$f":"(2*Y15)+Y17+Y21+Y23","v":0},null,{"$f":"(2*AA15)+AA17+AA21+AA23","v":0},null,{"$f":"(2*AC15)+AC17+AC21+AC23","v":0},null,{"$f":"(2*AE15)+AE17+AE21+AE23","v":0},null,{"$f":"(2*AG15)+AG17+AG21+AG23","v":0},null,{"$f":"(2*AI15)+AI17+AI21+AI23","v":0},null,{"$f":"(2*AK15)+AK17+AK21+AK23","v":0},null,{"$f":"(2*AM15)+AM17+AM21+AM23","v":0},null,{"$f":"(2*AO15)+AO17+AO21+AO23","v":0},null,{"$f":"(2*AQ15)+AQ17+AQ21+AQ23","v":0},null,{"$f":"(2*AS15)+AS17+AS21+AS23","v":0},null,{"$f":"(2*AU15)+AU17+AU21+AU23","v":0},null,{"$f":"(2*AW15)+AW17+AW21+AW23","v":0},null,{"$f":"(2*AY15)+AY17+AY21+AY23","v":0},null,{"$f":"(2*BA15)+BA17+BA21+BA23","v":0},null,{"$f":"(2*BC15)+BC17+BC21+BC23","v":0},null,{"$f":"(2*BE15)+BE17+BE21+BE23","v":0},null,{"$f":"(2*BG15)+BG17+BG21+BG23","v":0},null,{"$f":"(2*BI15)+BI17+BI21+BI23","v":0},null,{"$f":"(2*BK15)+BK17+BK21+BK23","v":0},null,{"$f":"(2*BM15)+BM17+BM21+BM23","v":0},null,{"$f":"(2*BO15)+BO17+BO21+BO23","v":0},null,{"$f":"(2*BQ15)+BQ17+BQ21+BQ23","v":0},null,{"$f":"(2*BS15)+BS17+BS21+BS23","v":0},null,{"$f":"(2*BU15)+BU17+BU21+BU23","v":0},null,{"$f":"(2*BW15)+BW17+BW21+BW23","v":0},null,{"$f":"(2*BY15)+BY17+BY21+BY23","v":0},null,{"$f":"(2*CA15)+CA17+CA21+CA23","v":0},null,{"$f":"(2*CC15)+CC17+CC21+CC23","v":0}]
["Protection",{"$f":"SUM(C75:CC75)","v":0},{"$f":"C19+(2*C25)+(2*C27)+(2*C29)+(2*C35)","v":0},null,{"$f":"E19+(2*E25)+(2*E27)+(2*E29)+(2*E35)","v":0},null,{"$f":"G19+(2*G25)+(2*G27)+(2*G29)+(2*G35)","v":0},null,{"$f":"I19+(2*I25)+(2*I27)+(2*I29)+(2*I35)","v":0},null,{"$f":"K19+(2*K25)+(2*K27)+(2*K29)+(2*K35)","v":0},null,{"$f":"M19+(2*M25)+(2*M27)+(2*M29)+(2*M35)","v":0},null,{"$f":"O19+(2*O25)+(2*O27)+(2*O29)+(2*O35)","v":0},null,{"$f":"Q19+(2*Q25)+(2*Q27)+(2*Q29)+(2*Q35)","v":0},null,{"$f":"S19+(2*S25)+(2*S27)+(2*S29)+(2*S35)","v":0},null,{"$f":"U19+(2*U25)+(2*U27)+(2*U29)+(2*U35)","v":0},null,{"$f":"W19+(2*W25)+(2*W27)+(2*W29)+(2*W35)","v":0},null,{"$f":"Y19+(2*Y25)+(2*Y27)+(2*Y29)+(2*Y35)","v":0},null,{"$f":"AA19+(2*AA25)+(2*AA27)+(2*AA29)+(2*AA35)","v":0},null,{"$f":"AC19+(2*AC25)+(2*AC27)+(2*AC29)+(2*AC35)","v":0},null,{"$f":"AE19+(2*AE25)+(2*AE27)+(2*AE29)+(2*AE35)","v":0},null,{"$f":"AG19+(2*AG25)+(2*AG27)+(2*AG29)+(2*AG35)","v":0},null,{"$f":"AI19+(2*AI25)+(2*AI27)+(2*AI29)+(2*AI35)","v":0},null,{"$f":"AK19+(2*AK25)+(2*AK27)+(2*AK29)+(2*AK35)","v":0},null,{"$f":"AM19+(2*AM25)+(2*AM27)+(2*AM29)+(2*AM35)","v":0},null,{"$f":"AO19+(2*AO25)+(2*AO27)+(2*AO29)+(2*AO35)","v":0},null,{"$f":"AQ19+(2*AQ25)+(2*AQ27)+(2*AQ29)+(2*AQ35)","v":0},null,{"$f":"AS19+(2*AS25)+(2*AS27)+(2*AS29)+(2*AS35)","v":0},null,{"$f":"AU19+(2*AU25)+(2*AU27)+(2*AU29)+(2*AU35)","v":0},null,{"$f":"AW19+(2*AW25)+(2*AW27)+(2*AW29)+(2*AW35)","v":0},null,{"$f":"AY19+(2*AY25)+(2*AY27)+(2*AY29)+(2*AY35)","v":0},null,{"$f":"BA19+(2*BA25)+(2*BA27)+(2*BA29)+(2*BA35)","v":0},null,{"$f":"BC19+(2*BC25)+(2*BC27)+(2*BC29)+(2*BC35)","v":0},null,{"$f":"BE19+(2*BE25)+(2*BE27)+(2*BE29)+(2*BE35)","v":0},null,{"$f":"BG19+(2*BG25)+(2*BG27)+(2*BG29)+(2*BG35)","v":0},null,{"$f":"BI19+(2*BI25)+(2*BI27)+(2*BI29)+(2*BI35)","v":0},null,{"$f":"BK19+(2*BK25)+(2*BK27)+(2*BK29)+(2*BK35)","v":0},null,{"$f":"BM19+(2*BM25)+(2*BM27)+(2*BM29)+(2*BM35)","v":0},null,{"$f":"BO19+(2*BO25)+(2*BO27)+(2*BO29)+(2*BO35)","v":0},null,{"$f":"BQ19+(2*BQ25)+(2*BQ27)+(2*BQ29)+(2*BQ35)","v":0},null,{"$f":"BS19+(2*BS25)+(2*BS27)+(2*BS29)+(2*BS35)","v":0},null,{"$f":"BU19+(2*BU25)+(2*BU27)+(2*BU29)+(2*BU35)","v":0},null,{"$f":"BW19+(2*BW25)+(2*BW27)+(2*BW29)+(2*BW35)","v":0},null,{"$f":"BY19+(2*BY25)+(2*BY27)+(2*BY29)+(2*BY35)","v":0},null,{"$f":"CA19+(2*CA25)+(2*CA27)+(2*CA29)+(2*CA35)","v":0},null,{"$f":"CC19+(2*CC25)+(2*CC27)+(2*CC29)+(2*CC35)","v":0}]
["Transport",{"$f":"SUM(C76:CC76)","v":0},{"$f":"C31+C33","v":0},null,{"$f":"E31+E33","v":0},null,{"$f":"G31+G33","v":0},null,{"$f":"I31+I33","v":0},null,{"$f":"K31+K33","v":0},null,{"$f":"M31+M33","v":0},null,{"$f":"O31+O33","v":0},null,{"$f":"Q31+Q33","v":0},null,{"$f":"S31+S33","v":0},null,{"$f":"U31+U33","v":0},null,{"$f":"W31+W33","v":0},null,{"$f":"Y31+Y33","v":0},null,{"$f":"AA31+AA33","v":0},null,{"$f":"AC31+AC33","v":0},null,{"$f":"AE31+AE33","v":0},null,{"$f":"AG31+AG33","v":0},null,{"$f":"AI31+AI33","v":0},null,{"$f":"AK31+AK33","v":0},null,{"$f":"AM31+AM33","v":0},null,{"$f":"AO31+AO33","v":0},null,{"$f":"AQ31+AQ33","v":0},null,{"$f":"AS31+AS33","v":0},null,{"$f":"AU31+AU33","v":0},null,{"$f":"AW31+AW33","v":0},null,{"$f":"AY31+AY33","v":0},null,{"$f":"BA31+BA33","v":0},null,{"$f":"BC31+BC33","v":0},null,{"$f":"BE31+BE33","v":0},null,{"$f":"BG31+BG33","v":0},null,{"$f":"BI31+BI33","v":0},null,{"$f":"BK31+BK33","v":0},null,{"$f":"BM31+BM33","v":0},null,{"$f":"BO31+BO33","v":0},null,{"$f":"BQ31+BQ33","v":0},null,{"$f":"BS31+BS33","v":0},null,{"$f":"BU31+BU33","v":0},null,{"$f":"BW31+BW33","v":0},null,{"$f":"BY31+BY33","v":0},null,{"$f":"CA31+CA33","v":0},null,{"$f":"CC31+CC33","v":0}]
["Tot linge sale",{"$f":"SUM(C77:CC77)","v":0},{"$f":"SUM(C74:C76)","v":0},null,{"$f":"SUM(E74:E76)","v":0},null,{"$f":"SUM(G74:G76)","v":0},null,{"$f":"SUM(I74:I76)","v":0},null,{"$f":"SUM(K74:K76)","v":0},null,{"$f":"SUM(M74:M76)","v":0},null,{"$f":"SUM(O74:O76)","v":0},null,{"$f":"SUM(Q74:Q76)","v":0},null,{"$f":"SUM(S74:S76)","v":0},null,{"$f":"SUM(U74:U76)","v":0},null,{"$f":"SUM(W74:W76)","v":0},null,{"$f":"SUM(Y74:Y76)","v":0},null,{"$f":"SUM(AA74:AA76)","v":0},null,{"$f":"SUM(AC74:AC76)","v":0},null,{"$f":"SUM(AE74:AE76)","v":0},null,{"$f":"SUM(AG74:AG76)","v":0},null,{"$f":"SUM(AI74:AI76)","v":0},null,{"$f":"SUM(AK74:AK76)","v":0},null,{"$f":"SUM(AM74:AM76)","v":0},null,{"$f":"SUM(AO74:AO76)","v":0},null,{"$f":"SUM(AQ74:AQ76)","v":0},null,{"$f":"SUM(AS74:AS76)","v":0},null,{"$f":"SUM(AU74:AU76)","v":0},null,{"$f":"SUM(AW74:AW76)","v":0},null,{"$f":"SUM(AY74:AY76)","v":0},null,{"$f":"SUM(BA74:BA76)","v":0},null,{"$f":"SUM(BC74:BC76)","v":0},null,{"$f":"SUM(BE74:BE76)","v":0},null,{"$f":"SUM(BG74:BG76)","v":0},null,{"$f":"SUM(BI74:BI76)","v":0},null,{"$f":"SUM(BK74:BK76)","v":0},null,{"$f":"SUM(BM74:BM76)","v":0},null,{"$f":"SUM(BO74:BO76)","v":0},null,{"$f":"SUM(BQ74:BQ76)","v":0},null,{"$f":"SUM(BS74:BS76)","v":0},null,{"$f":"SUM(BU74:BU76)","v":0},null,{"$f":"SUM(BW74:BW76)","v":0},null,{"$f":"SUM(BY74:BY76)","v":0},null,{"$f":"SUM(CA74:CA76)","v":0},null,{"$f":"SUM(CC74:CC76)","v":0}]
[]
["Linge propre"]
["Hygiène",{"$f":"SUM(C80:CC80)","v":0},{"$f":"(2*C39)","v":0},null,{"$f":"(2*E39)","v":0},null,{"$f":"(2*G39)","v":0},null,{"$f":"(2*I39)","v":0},null,{"$f":"(2*K39)","v":0},null,{"$f":"(2*M39)","v":0},null,{"$f":"(2*O39)","v":0},null,{"$f":"(2*Q39)","v":0},null,{"$f":"(2*S39)","v":0},null,{"$f":"(2*U39)","v":0},null,{"$f":"(2*W39)","v":0},null,{"$f":"(2*Y39)","v":0},null,{"$f":"(2*AA39)","v":0},null,{"$f":"(2*AC39)","v":0},null,{"$f":"(2*AE39)","v":0},null,{"$f":"(2*AG39)","v":0},null,{"$f":"(2*AI39)","v":0},null,{"$f":"(2*AK39)","v":0},null,{"$f":"(2*AM39)","v":0},null,{"$f":"(2*AO39)","v":0},null,{"$f":"(2*AQ39)","v":0},null,{"$f":"(2*AS39)","v":0},null,{"$f":"(2*AU39)","v":0},null,{"$f":"(2*AW39)","v":0},null,{"$f":"(2*AY39)","v":0},null,{"$f":"(2*BA39)","v":0},null,{"$f":"(2*BC39)","v":0},null,{"$f":"(2*BE39)","v":0},null,{"$f":"(2*BG39)","v":0},null,{"$f":"(2*BI39)","v":0},null,{"$f":"(2*BK39)","v":0},null,{"$f":"(2*BM39)","v":0},null,{"$f":"(2*BO39)","v":0},null,{"$f":"(2*BQ39)","v":0},null,{"$f":"(2*BS39)","v":0},null,{"$f":"(2*BU39)","v":0},null,{"$f":"(2*BW39)","v":0},null,{"$f":"(2*BY39)","v":0},null,{"$f":"(2*CA39)","v":0},null,{"$f":"(2*CC39)","v":0}]
["Utilisation",{"$f":"SUM(C81:CC81)","v":0},{"$f":"C41+C43","v":0},null,{"$f":"E41+E43","v":0},null,{"$f":"G41+G43","v":0},null,{"$f":"I41+I43","v":0},null,{"$f":"K41+K43","v":0},null,{"$f":"M41+M43","v":0},null,{"$f":"O41+O43","v":0},null,{"$f":"Q41+Q43","v":0},null,{"$f":"S41+S43","v":0},null,{"$f":"U41+U43","v":0},null,{"$f":"W41+W43","v":0},null,{"$f":"Y41+Y43","v":0},null,{"$f":"AA41+AA43","v":0},null,{"$f":"AC41+AC43","v":0},null,{"$f":"AE41+AE43","v":0},null,{"$f":"AG41+AG43","v":0},null,{"$f":"AI41+AI43","v":0},null,{"$f":"AK41+AK43","v":0},null,{"$f":"AM41+AM43","v":0},null,{"$f":"AO41+AO43","v":0},null,{"$f":"AQ41+AQ43","v":0},null,{"$f":"AS41+AS43","v":0},null,{"$f":"AU41+AU43","v":0},null,{"$f":"AW41+AW43","v":0},null,{"$f":"AY41+AY43","v":0},null,{"$f":"BA41+BA43","v":0},null,{"$f":"BC41+BC43","v":0},null,{"$f":"BE41+BE43","v":0},null,{"$f":"BG41+BG43","v":0},null,{"$f":"BI41+BI43","v":0},null,{"$f":"BK41+BK43","v":0},null,{"$f":"BM41+BM43","v":0},null,{"$f":"BO41+BO43","v":0},null,{"$f":"BQ41+BQ43","v":0},null,{"$f":"BS41+BS43","v":0},null,{"$f":"BU41+BU43","v":0},null,{"$f":"BW41+BW43","v":0},null,{"$f":"BY41+BY43","v":0},null,{"$f":"CA41+CA43","v":0},null,{"$f":"CC41+CC43","v":0}]
["Tot linge prop",{"$f":"SUM(C82:CC82)","v":0},{"$f":"SUM(C80:C81)","v":0},null,{"$f":"SUM(E80:E81)","v":0},null,{"$f":"SUM(G80:G81)","v":0},null,{"$f":"SUM(I80:I81)","v":0},null,{"$f":"SUM(K80:K81)","v":0},null,{"$f":"SUM(M80:M81)","v":0},null,{"$f":"SUM(O80:O81)","v":0},null,{"$f":"SUM(Q80:Q81)","v":0},null,{"$f":"SUM(S80:S81)","v":0},null,{"$f":"SUM(U80:U81)","v":0},null,{"$f":"SUM(W80:W81)","v":0},null,{"$f":"SUM(Y80:Y81)","v":0},null,{"$f":"SUM(AA80:AA81)","v":0},null,{"$f":"SUM(AC80:AC81)","v":0},null,{"$f":"SUM(AE80:AE81)","v":0},null,{"$f":"SUM(AG80:AG81)","v":0},null,{"$f":"SUM(AI80:AI81)","v":0},null,{"$f":"SUM(AK80:AK81)","v":0},null,{"$f":"SUM(AM80:AM81)","v":0},null,{"$f":"SUM(AO80:AO81)","v":0},null,{"$f":"SUM(AQ80:AQ81)","v":0},null,{"$f":"SUM(AS80:AS81)","v":0},null,{"$f":"SUM(AU80:AU81)","v":0},null,{"$f":"SUM(AW80:AW81)","v":0},null,{"$f":"SUM(AY80:AY81)","v":0},null,{"$f":"SUM(BA80:BA81)","v":0},null,{"$f":"SUM(BC80:BC81)","v":0},null,{"$f":"SUM(BE80:BE81)","v":0},null,{"$f":"SUM(BG80:BG81)","v":0},null,{"$f":"SUM(BI80:BI81)","v":0},null,{"$f":"SUM(BK80:BK81)","v":0},null,{"$f":"SUM(BM80:BM81)","v":0},null,{"$f":"SUM(BO80:BO81)","v":0},null,{"$f":"SUM(BQ80:BQ81)","v":0},null,{"$f":"SUM(BS80:BS81)","v":0},null,{"$f":"SUM(BU80:BU81)","v":0},null,{"$f":"SUM(BW80:BW81)","v":0},null,{"$f":"SUM(BY80:BY81)","v":0},null,{"$f":"SUM(CA80:CA81)","v":0},null,{"$f":"SUM(CC80:CC81)","v":0}]

{"sheet":"Poster_Service#2","index":12,"n_rows":46,"n_cols":16,"rows_kept":46,"cut":false,"hidden":true,"merged":[[19,5,19,6],[18,5,18,6],[0,1,0,13],[5,0,5,6],[11,0,11,6],[12,0,12,6],[1,12,1,13],[23,5,23,6],[24,5,24,6],[28,0,33,13],[15,5,15,6],[15,2,15,4],[16,5,16,6],[22,5,22,6],[21,5,21,6],[21,2,21,4],[17,5,17,6]]}
[null,"Audit de la fonction linge en établissement de santé et en EHPAD",null,null,null,null,null,null,null,null,null,null,null,null,"   Pour imprimer le poster:"]
[null,null,null,null,null,null,null,null,"ETABLISSEMENT :",{"$f":"IF(NOM=\"\",\"à préciser\",NOM)","v":"à préciser"},null,null,"Date de réalisation",null,"   Menu \"Fichier\" puis \"Imprimer\""]
[null,null,null,null,null,null,null,null,"SERVICE : ",{"$f":"IF(SERVICE2=\"\",\"à préciser\",SERVICE2)","v":"à préciser"},null,null,"de : ",{"$f":"IF(SERVICE2=\"\",\"à préciser\",(MIN(Fiches_Services!E9,'Fiches_Utilisateurs_Service#2'!C7:CC7)))","v":"à préciser"}]
[null,null,null,null,null,null,null,null,null,null,null,null,"au : ",{"$f":"IF(SERVICE2=\"\",\"à préciser\",(MAX(Fiches_Services!E9,'Fiches_Utilisateurs_Service#2'!C7:CC7)))","v":"à préciser"},"Vous ne pourrez imprimer le poster que"]
["Méthodologie",null,null,null,null,null,null,null,"Score \"utilisateur\" du service par catégories professionnelles",null,null,null,null,null,"si vous avez saisi vos axes d'amélioration"]
["Le recueil des données a été réalisé au niveau:",null,null,null,null,null,null,null,null,null,null,null,null,null,"et commentaires dans l'encadré jaune."]
["       Du service : ",null,null,null,null,null,"le recensement des locaux, du matériel et des procédures   "]
[null,null,null,null,null,null,"disponibles dans les services en lien avec la fonction linge.  "]
["De l'utilisateur : ",null,null,null,null,null,"l'observation des pratiques afin de vérifier l'adéquation avec"]
[null,null,null,null,null,null,"avec les recommandations de bonnes pratiques.                   "]
["Résultats"]
["Les pourcentages d'objectifs atteints sont présentés pour le service."]
[" Les résultats détaillés figurent dans le rapport d'analyse finale."]
[null,null,"Services évalués de l'établissement n =",{"$f":"(\" \"&SERVICES&\" services\")","v":" 0 services"}]
[]
["► Score \"service\"",null,"Service",null,null,"Etablissement"]
["Gestion du linge sale",null,{"$f":"IF(Rapport!F229=\"non saisi\",\"-\",Rapport!F229)","v":"-"},16,{"$f":"Rapport!H229","v":"non saisi"},{"$f":"IF(Rapport!H158=\"non saisi\",\"-\",Rapport!H158)","v":"-"}]
["Gestion du linge propre",null,{"$f":"IF(Rapport!F230=\"non saisi\",\"-\",Rapport!F230)","v":"-"},12,{"$f":"Rapport!H230","v":"non saisi"},{"$f":"IF(Rapport!H159=\"non saisi\",\"-\",Rapport!H159)","v":"-"}]
["Bionettoyage et traçabilité ",null,{"$f":"IF(Rapport!F231=\"non saisi\",\"-\",Rapport!F231)","v":"-"},12,{"$f":"Rapport!H231","v":"non saisi"},{"$f":"IF(Rapport!H160=\"non saisi\",\"-\",Rapport!H160)","v":"-"}]
["Score total",null,{"$f":"IF(Rapport!F232=\"non saisi\",\"-\",Rapport!F232)","v":"-"},40,{"$f":"Rapport!H232","v":"non saisi"},{"$f":"IF(Rapport!H161=\"non saisi\",\"-\",Rapport!H161)","v":"-"}]
[]
["► Score \"utilisateur\"",null,"Service",null,null,"Etablissement"]
["Evacuation du linge sale",null,{"$f":"IF(Rapport!F283=\"non saisi\",\"-\",Rapport!F283)","v":"-"},16,{"$f":"IF(Rapport!H283=\"non saisi\",\"-\",Rapport!H283)","v":"-"},{"$f":"IF(Rapport!H200=\"non saisi\",\"-\",Rapport!H200)","v":"-"}]
["Utilisation du linge propre",null,{"$f":"IF(Rapport!F284=\"non saisi\",\"-\",Rapport!F284)","v":"-"},4,{"$f":"IF(Rapport!H284=\"non saisi\",\"-\",Rapport!H284)","v":"-"},{"$f":"IF(Rapport!H201=\"non saisi\",\"-\",Rapport!H201)","v":"-"}]
["Score total",null,{"$f":"IF(Rapport!F285=\"non saisi\",\"-\",Rapport!F285)","v":"-"},20,{"$f":"IF(Rapport!H285=\"non saisi\",\"-\",Rapport!H285)","v":"-"},{"$f":"IF(Rapport!H202=\"non saisi\",\"-\",Rapport!H202)","v":"-"}]
[]
["Axes d'amélioration et commentaires"]
[]
[null,null,null,null,null,null,null,null,null,null,null,null,null,null,"◄ avant d'imprimer, veuillez"]
[null,null,null,null,null,null,null,null,null,null,null,null,null,null,"tapez vos axes d'amélioration"]
[null,null,null,null,null,null,null,null,null,null,null,null,null,null,"et commentaires dans le cadre"]
[null,null,null,null,null,null,null,null,null,null,null,null,null,null,"ci-contre."]
[]
[]
[]
[null,null,null,null,null,null,null,null,"La mise en œuvre d'actions d'amélioration avant une nouvelle évaluation contribue au processus d'amélioration de la qualité des soins"]
[null,null,null,null,null,null,null,null,null,null,null,null,null,null,"Autre",{"$f":"Rapport!H323","v":"non saisi"}]
[null,null,null,null,null,null,null,null,null,null,null,null,null,null,"Etudiant",{"$f":"Rapport!H322","v":"non saisi"}]
["L'établissement est en retard et doit assurer les meilleures conditions d’hygiène et de protection des patients et des personnels vis-à-vis du risque infectieux. ",null,null,null,null,null,null,null,null,null,null,null,null,null,"Brancardier",{"$f":"Rapport!H321","v":"non saisi"}]
[null,null,null,null,null,null,null,null,null,null,null,null,null,null,"Ambulancier",{"$f":"Rapport!H320","v":"non saisi"}]
["l'établissement a mis en place une politique qualité des activités et des prestations relatives aux articles de linge, il doit poursuivre ses actions",null,null,null,null,null,null,null,null,null,null,null,null,null,"Agent hospitalier",{"$f":"Rapport!H319","v":"non saisi"}]
["L'établissement est fortement engagé dans la qualité des activités relatives aux articles de linge, il doit poursuivre ses actions",null,null,null,null,null,null,null,null,null,null,null,null,null,"Aide-soignante/aux. puériculture",{"$f":"Rapport!H318","v":"non saisi"}]
[null,null,null,null,null,null,null,null,null,null,null,null,null,null,"Manipulateur radio",{"$f":"Rapport!H317","v":"non saisi"}]
[null,null,null,null,null,null,null,null,null,null,null,null,null,null,"Kinésithérapeute",{"$f":"Rapport!H316","v":"non saisi"}]
[null,null,null,null,null,null,null,null,null,null,null,null,null,null,"Sage-femme",{"$f":"Rapport!H315","v":"non saisi"}]
[null,null,null,null,null,null,null,null,null,null,null,null,null,null,"Infirmière et IDE spécialisée",{"$f":"Rapport!H314","v":"non saisi"}]

{"sheet":"Fiches_Utilisateurs_Service#3","index":13,"n_rows":47,"n_cols":82,"rows_kept":47,"cut":false,"hidden":false,"merged":[[0,0,0,2],[1,0,1,2]]}
["FICHE N° 2"]
["UTILISATEURS SERVICE #3"]
[null,null,"Utilisateur #1",null,"Utilisateur #2",null,"Utilisateur #3",null,"Utilisateur #4",null,"Utilisateur #5",null,"Utilisateur #6",null,"Utilisateur #7",null,"Utilisateur #8",null,"Utilisateur #9",null,"Utilisateur #10",null,"Utilisateur #11",null,"Utilisateur #12",null,"Utilisateur #13",null,"Utilisateur #14",null,"Utilisateur #15",null,"Utilisateur #16",null,"Utilisateur #17",null,"Utilisateur #18",null,"Utilisateur #19",null,"Utilisateur #20",null,"Utilisateur #21",null,"Utilisateur #22",null,"Utilisateur #23",null,"Utilisateur #24",null,"Utilisateur #25",null,"Utilisateur #26",null,"Utilisateur #27",null,"Utilisateur #28",null,"Utilisateur #29",null,"Utilisateur #30",null,"Utilisateur #31",null,"Utilisateur #32",null,"Utilisateur #33",null,"Utilisateur #34",null,"Utilisateur #35",null,"Utilisateur #36",null,"Utilisateur #37",null,"Utilisateur #38",null,"Utilisateur #39",null,"Utilisateur #40"]
[]
[null,"VERIFICATION DONNEES NON SAISIES/N° DE SAISIE DE FICHE",{"$f":"C45","v":"non saisies"},null,{"$f":"E45","v":"non saisies"},null,{"$f":"G45","v":"non saisies"},null,{"$f":"I45","v":"non saisies"},null,{"$f":"K45","v":"non saisies"},null,{"$f":"M45","v":"non saisies"},null,{"$f":"O45","v":"non saisies"},null,{"$f":"Q45","v":"non saisies"},null,{"$f":"S45","v":"non saisies"},null,{"$f":"U45","v":"non saisies"},null,{"$f":"W45","v":"non saisies"},null,{"$f":"Y45","v":"non saisies"},null,{"$f":"AA45","v":"non saisies"},null,{"$f":"AC45","v":"non saisies"},null,{"$f":"AE45","v":"non saisies"},null,{"$f":"AG45","v":"non saisies"},null,{"$f":"AI45","v":"non saisies"},null,{"$f":"AK45","v":"non saisies"},null,{"$f":"AM45","v":"non saisies"},null,{"$f":"AO45","v":"non saisies"},null,{"$f":"AQ45","v":"non saisies"},null,{"$f":"AS45","v":"non saisies"},null,{"$f":"AU45","v":"non saisies"},null,{"$f":"AW45","v":"non saisies"},null,{"$f":"AY45","v":"non saisies"},null,{"$f":"BA45","v":"non saisies"},null,{"$f":"BC45","v":"non saisies"},null,{"$f":"BE45","v":"non saisies"},null,{"$f":"BG45","v":"non saisies"},null,{"$f":"BI45","v":"non saisies"},null,{"$f":"BK45","v":"non saisies"},null,{"$f":"BM45","v":"non saisies"},null,{"$f":"BO45","v":"non saisies"},null,{"$f":"BQ45","v":"non saisies"},null,{"$f":"BS45","v":"non saisies"},null,{"$f":"BU45","v":"non saisies"},null,{"$f":"BW45","v":"non saisies"},null,{"$f":"BY45","v":"non saisies"},null,{"$f":"CA45","v":"non saisies"},null,{"$f":"CC45","v":"non saisies"}]
[]
[null,"Date"]
[]
[null,"Nom du service",{"$f":"IF(SERVICE3=\"\",\"non saisi\",SERVICE3)","v":"non saisi"},null,{"$f":"IF(SERVICE3=\"\",\"non saisi\",SERVICE3)","v":"non saisi"},null,{"$f":"IF(SERVICE3=\"\",\"non saisi\",SERVICE3)","v":"non saisi"},null,{"$f":"IF(SERVICE3=\"\",\"non saisi\",SERVICE3)","v":"non saisi"},null,{"$f":"IF(SERVICE3=\"\",\"non saisi\",SERVICE3)","v":"non saisi"},null,{"$f":"IF(SERVICE3=\"\",\"non saisi\",SERVICE3)","v":"non saisi"},null,{"$f":"IF(SERVICE3=\"\",\"non saisi\",SERVICE3)","v":"non saisi"},null,{"$f":"IF(SERVICE3=\"\",\"non saisi\",SERVICE3)","v":"non saisi"},null,{"$f":"IF(SERVICE3=\"\",\"non saisi\",SERVICE3)","v":"non saisi"},null,{"$f":"IF(SERVICE3=\"\",\"non saisi\",SERVICE3)","v":"non saisi"},null,{"$f":"IF(SERVICE3=\"\",\"non saisi\",SERVICE3)","v":"non saisi"},null,{"$f":"IF(SERVICE3=\"\",\"non saisi\",SERVICE3)","v":"non saisi"},null,{"$f":"IF(SERVICE3=\"\",\"non saisi\",SERVICE3)","v":"non saisi"},null,{"$f":"IF(SERVICE3=\"\",\"non saisi\",SERVICE3)","v":"non saisi"},null,{"$f":"IF(SERVICE3=\"\",\"non saisi\",SERVICE3)","v":"non saisi"},null,{"$f":"IF(SERVICE3=\"\",\"non saisi\",SERVICE3)","v":"non saisi"},null,{"$f":"IF(SERVICE3=\"\",\"non saisi\",SERVICE3)","v":"non saisi"},null,{"$f":"IF(SERVICE3=\"\",\"non saisi\",SERVICE3)","v":"non saisi"},null,{"$f":"IF(SERVICE3=\"\",\"non saisi\",SERVICE3)","v":"non saisi"},null,{"$f":"IF(SERVICE3=\"\",\"non saisi\",SERVICE3)","v":"non saisi"},null,{"$f":"IF(SERVICE3=\"\",\"non saisi\",SERVICE3)","v":"non saisi"},null,{"$f":"IF(SERVICE3=\"\",\"non saisi\",SERVICE3)","v":"non saisi"},null,{"$f":"IF(SERVICE3=\"\",\"non saisi\",SERVICE3)","v":"non saisi"},null,{"$f":"IF(SERVICE3=\"\",\"non saisi\",SERVICE3)","v":"non saisi"},null,{"$f":"IF(SERVICE3=\"\",\"non saisi\",SERVICE3)","v":"non saisi"},null,{"$f":"IF(SERVICE3=\"\",\"non saisi\",SERVICE3)","v":"non saisi"},null,{"$f":"IF(SERVICE3=\"\",\"non saisi\",SERVICE3)","v":"non saisi"},null,{"$f":"IF(SERVICE3=\"\",\"non saisi\",SERVICE3)","v":"non saisi"},null,{"$f":"IF(SERVICE3=\"\",\"non saisi\",SERVICE3)","v":"non saisi"},null,{"$f":"IF(SERVICE3=\"\",\"non saisi\",SERVICE3)","v":"non saisi"},null,{"$f":"IF(SERVICE3=\"\",\"non saisi\",SERVICE3)","v":"non saisi"},null,{"$f":"IF(SERVICE3=\"\",\"non saisi\",SERVICE3)","v":"non saisi"},null,{"$f":"IF(SERVICE3=\"\",\"non saisi\",SERVICE3)","v":"non saisi"},null,{"$f":"IF(SERVICE3=\"\",\"non saisi\",SERVICE3)","v":"non saisi"},null,{"$f":"IF(SERVICE3=\"\",\"non saisi\",SERVICE3)","v":"non saisi"},null,{"$f":"IF(SERVICE3=\"\",\"non saisi\",SERVICE3)","v":"non saisi"},null,{"$f":"IF(SERVICE3=\"\",\"non saisi\",SERVICE3)","v":"non saisi"},null,{"$f":"IF(SERVICE3=\"\",\"non saisi\",SERVICE3)","v":"non saisi"},null,{"$f":"IF(SERVICE3=\"\",\"non saisi\",SERVICE3)","v":"non saisi"},null,{"$f":"IF(SERVICE3=\"\",\"non saisi\",SERVICE3)","v":"non saisi"}]
[]
[null,"Fonction du personnel",null,null,null,null,null,null,null,null,null,null,null,null,null,null,null,null,null,null,null,null,null,null,null,null,null,null,null,null,null,null,null,null,null,null,null,null,null,null,null,null,null,null,null,null,null,null,null,null,null,null,null,null,null,null,null,null,null,null,null,null,null,null,null,null,null,null,null,null,null,null,null,null,null,null,null,null,null,null,null,"1 Infirmière et IDE spécialisée"]
[null,null,null,null,null,null,null,null,null,null,null,null,null,null,null,null,null,null,null,null,null,null,null,null,null,null,null,null,null,null,null,null,null,null,null,null,null,null,null,null,null,null,null,null,null,null,null,null,null,null,null,null,null,null,null,null,null,null,null,null,null,null,null,null,null,null,null,null,null,null,null,null,null,null,null,null,null,null,null,null,null,"2 Sage Femme"]
["Linge sale",null,"1 Oui - 2 Non",null,"1 Oui - 2 Non",null,"1 Oui - 2 Non",null,"1 Oui - 2 Non",null,"1 Oui - 2 Non",null,"1 Oui - 2 Non",null,"1 Oui - 2 Non",null,"1 Oui - 2 Non",null,"1 Oui - 2 Non",null,"1 Oui - 2 Non",null,"1 Oui - 2 Non",null,"1 Oui - 2 Non",null,"1 Oui - 2 Non",null,"1 Oui - 2 Non",null,"1 Oui - 2 Non",null,"1 Oui - 2 Non",null,"1 Oui - 2 Non",null,"1 Oui - 2 Non",null,"1 Oui - 2 Non",null,"1 Oui - 2 Non",null,"1 Oui - 2 Non",null,"1 Oui - 2 Non",null,"1 Oui - 2 Non",null,"1 Oui - 2 Non",null,"1 Oui - 2 Non",null,"1 Oui - 2 Non",null,"1 Oui - 2 Non",null,"1 Oui - 2 Non",null,"1 Oui - 2 Non",null,"1 Oui - 2 Non",null,"1 Oui - 2 Non",null,"1 Oui - 2 Non",null,"1 Oui - 2 Non",null,"1 Oui - 2 Non",null,"1 Oui - 2 Non",null,"1 Oui - 2 Non",null,"1 Oui - 2 Non",null,"1 Oui - 2 Non",null,"1 Oui - 2 Non",null,"1 Oui - 2 Non","3 Kinésithérapeute"]
[null,null,null,null,null,null,null,null,null,null,null,null,null,null,null,null,null,null,null,null,null,null,null,null,null,null,null,null,null,null,null,null,null,null,null,null,null,null,null,null,null,null,null,null,null,null,null,null,null,null,null,null,null,null,null,null,null,null,null,null,null,null,null,null,null,null,null,null,null,null,null,null,null,null,null,null,null,null,null,null,null,"4 Manipulateur Radio"]
[1,"Le linge sale est évacué à la fin du soin, sans dépose sur le sol",null,null,null,null,null,null,null,null,null,null,null,null,null,null,null,null,null,null,null,null,null,null,null,null,null,null,null,null,null,null,null,null,null,null,null,null,null,null,null,null,null,null,null,null,null,null,null,null,null,null,null,null,null,null,null,null,null,null,null,null,null,null,null,null,null,null,null,null,null,null,null,null,null,null,null,null,null,null,null,"5 Aide soignante/aux. de puériculture"]
[null,null,null,null,null,null,null,null,null,null,null,null,null,null,null,null,null,null,null,null,null,null,null,null,null,null,null,null,null,null,null,null,null,null,null,null,null,null,null,null,null,null,null,null,null,null,null,null,null,null,null,null,null,null,null,null,null,null,null,null,null,null,null,null,null,null,null,null,null,null,null,null,null,null,null,null,null,null,null,null,null,"6 Agent Hospitalier"]
[2,"Le professionnel vérifie l’absence d’objet étranger",null,null,null,null,null,null,null,null,null,null,null,null,null,null,null,null,null,null,null,null,null,null,null,null,null,null,null,null,null,null,null,null,null,null,null,null,null,null,null,null,null,null,null,null,null,null,null,null,null,null,null,null,null,null,null,null,null,null,null,null,null,null,null,null,null,null,null,null,null,null,null,null,null,null,null,null,null,null,null,"7 Ambulancier"]
[null,null,null,null,null,null,null,null,null,null,null,null,null,null,null,null,null,null,null,null,null,null,null,null,null,null,null,null,null,null,null,null,null,null,null,null,null,null,null,null,null,null,null,null,null,null,null,null,null,null,null,null,null,null,null,null,null,null,null,null,null,null,null,null,null,null,null,null,null,null,null,null,null,null,null,null,null,null,null,null,null,"8 Brancardier"]
[3,"Le professionnel porte des gants lors de la manipulation de linge souillé par des liquides biologiques",null,null,null,null,null,null,null,null,null,null,null,null,null,null,null,null,null,null,null,null,null,null,null,null,null,null,null,null,null,null,null,null,null,null,null,null,null,null,null,null,null,null,null,null,null,null,null,null,null,null,null,null,null,null,null,null,null,null,null,null,null,null,null,null,null,null,null,null,null,null,null,null,null,null,null,null,null,null,null,"9 Etudiant"]
[null,null,null,null,null,null,null,null,null,null,null,null,null,null,null,null,null,null,null,null,null,null,null,null,null,null,null,null,null,null,null,null,null,null,null,null,null,null,null,null,null,null,null,null,null,null,null,null,null,null,null,null,null,null,null,null,null,null,null,null,null,null,null,null,null,null,null,null,null,null,null,null,null,null,null,null,null,null,null,null,null,"10 Autre"]
[4,"Le professionnel manipule le linge sale avec des gestes mesurés pour limiter la contamination de l'environnement",null,null,null,null,null,null,null,null,null,null,null,null,null,null,null,null,null,null,null,null,null,null,null,null,null,null,null,null,null,null,null,null,null,null,null,null,null,null,null,null,null,null,null,null,null,null,null,null,null,null,null,null,null,null,null,null,null,null,null,null,null,null,null,null,null,null,null,null,null,null,null,null,null,null,null,null,null,null,null,1]
[null,null,null,null,null,null,null,null,null,null,null,null,null,null,null,null,null,null,null,null,null,null,null,null,null,null,null,null,null,null,null,null,null,null,null,null,null,null,null,null,null,null,null,null,null,null,null,null,null,null,null,null,null,null,null,null,null,null,null,null,null,null,null,null,null,null,null,null,null,null,null,null,null,null,null,null,null,null,null,null,null,2]
[5,"Les articles sont répartis selon la procédure de tri de l'établissement",null,null,null,null,null,null,null,null,null,null,null,null,null,null,null,null,null,null,null,null,null,null,null,null,null,null,null,null,null,null,null,null,null,null,null,null,null,null,null,null,null,null,null,null,null,null,null,null,null,null,null,null,null,null,null,null,null,null,null,null,null,null,null,null,null,null,null,null,null,null,null,null,null,null,null,null,null,null,null,3]
[null,null,null,null,null,null,null,null,null,null,null,null,null,null,null,null,null,null,null,null,null,null,null,null,null,null,null,null,null,null,null,null,null,null,null,null,null,null,null,null,null,null,null,null,null,null,null,null,null,null,null,null,null,null,null,null,null,null,null,null,null,null,null,null,null,null,null,null,null,null,null,null,null,null,null,null,null,null,null,null,null,4]
[6,"Le linge est tenu à distance de la tenue professionnelle",null,null,null,null,null,null,null,null,null,null,null,null,null,null,null,null,null,null,null,null,null,null,null,null,null,null,null,null,null,null,null,null,null,null,null,null,null,null,null,null,null,null,null,null,null,null,null,null,null,null,null,null,null,null,null,null,null,null,null,null,null,null,null,null,null,null,null,null,null,null,null,null,null,null,null,null,null,null,null,5]
[null,null,null,null,null,null,null,null,null,null,null,null,null,null,null,null,null,null,null,null,null,null,null,null,null,null,null,null,null,null,null,null,null,null,null,null,null,null,null,null,null,null,null,null,null,null,null,null,null,null,null,null,null,null,null,null,null,null,null,null,null,null,null,null,null,null,null,null,null,null,null,null,null,null,null,null,null,null,null,null,null,6]
[7,"Le système d'ouverture du chariot des sacs collecteurs de linge sale est manipulé sans les mains",null,null,null,null,null,null,null,null,null,null,null,null,null,null,null,null,null,null,null,null,null,null,null,null,null,null,null,null,null,null,null,null,null,null,null,null,null,null,null,null,null,null,null,null,null,null,null,null,null,null,null,null,null,null,null,null,null,null,null,null,null,null,null,null,null,null,null,null,null,null,null,null,null,null,null,null,null,null,null,7]
[null,null,null,null,null,null,null,null,null,null,null,null,null,null,null,null,null,null,null,null,null,null,null,null,null,null,null,null,null,null,null,null,null,null,null,null,null,null,null,null,null,null,null,null,null,null,null,null,null,null,null,null,null,null,null,null,null,null,null,null,null,null,null,null,null,null,null,null,null,null,null,null,null,null,null,null,null,null,null,null,null,8]
[8,"Le professionnel réalise une hygiène des mains après avoir manipulé le linge sale",null,null,null,null,null,null,null,null,null,null,null,null,null,null,null,null,null,null,null,null,null,null,null,null,null,null,null,null,null,null,null,null,null,null,null,null,null,null,null,null,null,null,null,null,null,null,null,null,null,null,null,null,null,null,null,null,null,null,null,null,null,null,null,null,null,null,null,null,null,null,null,null,null,null,null,null,null,null,null,9]
[null,null,null,null,null,null,null,null,null,null,null,null,null,null,null,null,null,null,null,null,null,null,null,null,null,null,null,null,null,null,null,null,null,null,null,null,null,null,null,null,null,null,null,null,null,null,null,null,null,null,null,null,null,null,null,null,null,null,null,null,null,null,null,null,null,null,null,null,null,null,null,null,null,null,null,null,null,null,null,null,null,10]
[9,"Dès la fin de l'activité, les sacs de linge sale sont évacués vers un local de stockage réservé"]
[null,"Si Non Observé (NO) coder 3"]
[10,"Les sacs de linge sale sont transportés sans être traînés par terre lors de transport"]
[null,"Si Non Observé (NO) coder 3"]
[11,"Le professionnel réalise une hygiène des mains après avoir manipulé les sacs de linge"]
[null,"Si Non Observé (NO) coder 3"]
["Linge propre",null,"1 Oui - 2 Non",null,"1 Oui - 2 Non",null,"1 Oui - 2 Non",null,"1 Oui - 2 Non",null,"1 Oui - 2 Non",null,"1 Oui - 2 Non",null,"1 Oui - 2 Non",null,"1 Oui - 2 Non",null,"1 Oui - 2 Non",null,"1 Oui - 2 Non",null,"1 Oui - 2 Non",null,"1 Oui - 2 Non",null,"1 Oui - 2 Non",null,"1 Oui - 2 Non",null,"1 Oui - 2 Non",null,"1 Oui - 2 Non",null,"1 Oui - 2 Non",null,"1 Oui - 2 Non",null,"1 Oui - 2 Non",null,"1 Oui - 2 Non",null,"1 Oui - 2 Non",null,"1 Oui - 2 Non",null,"1 Oui - 2 Non",null,"1 Oui - 2 Non",null,"1 Oui - 2 Non",null,"1 Oui - 2 Non",null,"1 Oui - 2 Non",null,"1 Oui - 2 Non",null,"1 Oui - 2 Non",null,"1 Oui - 2 Non",null,"1 Oui - 2 Non",null,"1 Oui - 2 Non",null,"1 Oui - 2 Non",null,"1 Oui - 2 Non",null,"1 Oui - 2 Non",null,"1 Oui - 2 Non",null,"1 Oui - 2 Non",null,"1 Oui - 2 Non",null,"1 Oui - 2 Non",null,"1 Oui - 2 Non"]
[]
[12,"Le professionnel réalise une hygiène des mains avant de manipuler le linge propre "]
[]
[13,"Le linge est déconditionné au fur et à mesure des besoins"]
[]
[14,"Le linge entré dans la chambre et non utilisé est évacué (considéré comme sale)"]
[]
[null,"VERIFICATION DONNEES NON SAISIES/N° DE SAISIE DE FICHE",{"$f":"IF(OR(C7=\"\",C9=\"non saisi\",C11=\"\",C15=\"\",C17=\"\",C19=\"\",C21=\"\",C23=\"\",C25=\"\",C27=\"\",C29=\"\",C31=\"\",C33=\"\",C35=\"\",C39=\"\",C41=\"\",C43=\"\"),\"non saisies\",(SERVICES+_OBS1+_OBS2+1))","v":"non saisies"},null,{"$f":"IF(OR(E7=\"\",E9=\"non saisi\",E11=\"\",E15=\"\",E17=\"\",E19=\"\",E21=\"\",E23=\"\",E25=\"\",E27=\"\",E29=\"\",E31=\"\",E33=\"\",E35=\"\",E39=\"\",E41=\"\",E43=\"\"),\"non saisies\",(SERVICES+_OBS1+_OBS2+2))","v":"non saisies"},null,{"$f":"IF(OR(G7=\"\",G9=\"non saisi\",G11=\"\",G15=\"\",G17=\"\",G19=\"\",G21=\"\",G23=\"\",G25=\"\",G27=\"\",G29=\"\",G31=\"\",G33=\"\",G35=\"\",G39=\"\",G41=\"\",G43=\"\"),\"non saisies\",(SERVICES+_OBS1+_OBS2+3))","v":"non saisies"},null,{"$f":"IF(OR(I7=\"\",I9=\"non saisi\",I11=\"\",I15=\"\",I17=\"\",I19=\"\",I21=\"\",I23=\"\",I25=\"\",I27=\"\",I29=\"\",I31=\"\",I33=\"\",I35=\"\",I39=\"\",I41=\"\",I43=\"\"),\"non saisies\",(SERVICES+_OBS1+_OBS2+4))","v":"non saisies"},null,{"$f":"IF(OR(K7=\"\",K9=\"non saisi\",K11=\"\",K15=\"\",K17=\"\",K19=\"\",K21=\"\",K23=\"\",K25=\"\",K27=\"\",K29=\"\",K31=\"\",K33=\"\",K35=\"\",K39=\"\",K41=\"\",K43=\"\"),\"non saisies\",(SERVICES+_OBS1+_OBS2+5))","v":"non saisies"},null,{"$f":"IF(OR(M7=\"\",M9=\"non saisi\",M11=\"\",M15=\"\",M17=\"\",M19=\"\",M21=\"\",M23=\"\",M25=\"\",M27=\"\",M29=\"\",M31=\"\",M33=\"\",M35=\"\",M39=\"\",M41=\"\",M43=\"\"),\"non saisies\",(SERVICES+_OBS1+_OBS2+6))","v":"non saisies"},null,{"$f":"IF(OR(O7=\"\",O9=\"non saisi\",O11=\"\",O15=\"\",O17=\"\",O19=\"\",O21=\"\",O23=\"\",O25=\"\",O27=\"\",O29=\"\",O31=\"\",O33=\"\",O35=\"\",O39=\"\",O41=\"\",O43=\"\"),\"non saisies\",(SERVICES+_OBS1+_OBS2+7))","v":"non saisies"},null,{"$f":"IF(OR(Q7=\"\",Q9=\"non saisi\",Q11=\"\",Q15=\"\",Q17=\"\",Q19=\"\",Q21=\"\",Q23=\"\",Q25=\"\",Q27=\"\",Q29=\"\",Q31=\"\",Q33=\"\",Q35=\"\",Q39=\"\",Q41=\"\",Q43=\"\"),\"non saisies\",(SERVICES+_OBS1+_OBS2+8))","v":"non saisies"},null,{"$f":"IF(OR(S7=\"\",S9=\"non saisi\",S11=\"\",S15=\"\",S17=\"\",S19=\"\",S21=\"\",S23=\"\",S25=\"\",S27=\"\",S29=\"\",S31=\"\",S33=\"\",S35=\"\",S39=\"\",S41=\"\",S43=\"\"),\"non saisies\",(SERVICES+_OBS1+_OBS2+9))","v":"non saisies"},null,{"$f":"IF(OR(U7=\"\",U9=\"non saisi\",U11=\"\",U15=\"\",U17=\"\",U19=\"\",U21=\"\",U23=\"\",U25=\"\",U27=\"\",U29=\"\",U31=\"\",U33=\"\",U35=\"\",U39=\"\",U41=\"\",U43=\"\"),\"non saisies\",(SERVICES+_OBS1+_OBS2+10))","v":"non saisies"},null,{"$f":"IF(OR(W7=\"\",W9=\"non saisi\",W11=\"\",W15=\"\",W17=\"\",W19=\"\",W21=\"\",W23=\"\",W25=\"\",W27=\"\",W29=\"\",W31=\"\",W33=\"\",W35=\"\",W39=\"\",W41=\"\",W43=\"\"),\"non saisies\",(SERVICES+_OBS1+_OBS2+11))","v":"non saisies"},null,{"$f":"IF(OR(Y7=\"\",Y9=\"non saisi\",Y11=\"\",Y15=\"\",Y17=\"\",Y19=\"\",Y21=\"\",Y23=\"\",Y25=\"\",Y27=\"\",Y29=\"\",Y31=\"\",Y33=\"\",Y35=\"\",Y39=\"\",Y41=\"\",Y43=\"\"),\"non saisies\",(SERVICES+_OBS1+_OBS2+12))","v":"non saisies"},null,{"$f":"IF(OR(AA7=\"\",AA9=\"non saisi\",AA11=\"\",AA15=\"\",AA17=\"\",AA19=\"\",AA21=\"\",AA23=\"\",AA25=\"\",AA27=\"\",AA29=\"\",AA31=\"\",AA33=\"\",AA35=\"\",AA39=\"\",AA41=\"\",AA43=\"\"),\"non saisies\",(SERVICES+_OBS1+_OBS2+13))","v":"non saisies"},null,{"$f":"IF(OR(AC7=\"\",AC9=\"non saisi\",AC11=\"\",AC15=\"\",AC17=\"\",AC19=\"\",AC21=\"\",AC23=\"\",AC25=\"\",AC27=\"\",AC29=\"\",AC31=\"\",AC33=\"\",AC35=\"\",AC39=\"\",AC41=\"\",AC43=\"\"),\"non saisies\",(SERVICES+_OBS1+_OBS2+14))","v":"non saisies"},null,{"$f":"IF(OR(AE7=\"\",AE9=\"non saisi\",AE11=\"\",AE15=\"\",AE17=\"\",AE19=\"\",AE21=\"\",AE23=\"\",AE25=\"\",AE27=\"\",AE29=\"\",AE31=\"\",AE33=\"\",AE35=\"\",AE39=\"\",AE41=\"\",AE43=\"\"),\"non saisies\",(SERVICES+_OBS1+_OBS2+15))","v":"non saisies"},null,{"$f":"IF(OR(AG7=\"\",AG9=\"non saisi\",AG11=\"\",AG15=\"\",AG17=\"\",AG19=\"\",AG21=\"\",AG23=\"\",AG25=\"\",AG27=\"\",AG29=\"\",AG31=\"\",AG33=\"\",AG35=\"\",AG39=\"\",AG41=\"\",AG43=\"\"),\"non saisies\",(SERVICES+_OBS1+_OBS2+16))","v":"non saisies"},null,{"$f":"IF(OR(AI7=\"\",AI9=\"non saisi\",AI11=\"\",AI15=\"\",AI17=\"\",AI19=\"\",AI21=\"\",AI23=\"\",AI25=\"\",AI27=\"\",AI29=\"\",AI31=\"\",AI33=\"\",AI35=\"\",AI39=\"\",AI41=\"\",AI43=\"\"),\"non saisies\",(SERVICES+_OBS1+_OBS2+17))","v":"non saisies"},null,{"$f":"IF(OR(AK7=\"\",AK9=\"non saisi\",AK11=\"\",AK15=\"\",AK17=\"\",AK19=\"\",AK21=\"\",AK23=\"\",AK25=\"\",AK27=\"\",AK29=\"\",AK31=\"\",AK33=\"\",AK35=\"\",AK39=\"\",AK41=\"\",AK43=\"\"),\"non saisies\",(SERVICES+_OBS1+_OBS2+18))","v":"non saisies"},null,{"$f":"IF(OR(AM7=\"\",AM9=\"non saisi\",AM11=\"\",AM15=\"\",AM17=\"\",AM19=\"\",AM21=\"\",AM23=\"\",AM25=\"\",AM27=\"\",AM29=\"\",AM31=\"\",AM33=\"\",AM35=\"\",AM39=\"\",AM41=\"\",AM43=\"\"),\"non saisies\",(SERVICES+_OBS1+_OBS2+19))","v":"non saisies"},null,{"$f":"IF(OR(AO7=\"\",AO9=\"non saisi\",AO11=\"\",AO15=\"\",AO17=\"\",AO19=\"\",AO21=\"\",AO23=\"\",AO25=\"\",AO27=\"\",AO29=\"\",AO31=\"\",AO33=\"\",AO35=\"\",AO39=\"\",AO41=\"\",AO43=\"\"),\"non saisies\",(SERVICES+_OBS1+_OBS2+20))","v":"non saisies"},null,{"$f":"IF(OR(AQ7=\"\",AQ9=\"non saisi\",AQ11=\"\",AQ15=\"\",AQ17=\"\",AQ19=\"\",AQ21=\"\",AQ23=\"\",AQ25=\"\",AQ27=\"\",AQ29=\"\",AQ31=\"\",AQ33=\"\",AQ35=\"\",AQ39=\"\",AQ41=\"\",AQ43=\"\"),\"non saisies\",(SERVICES+_OBS1+_OBS2+21))","v":"non saisies"},null,{"$f":"IF(OR(AS7=\"\",AS9=\"non saisi\",AS11=\"\",AS15=\"\",AS17=\"\",AS19=\"\",AS21=\"\",AS23=\"\",AS25=\"\",AS27=\"\",AS29=\"\",AS31=\"\",AS33=\"\",AS35=\"\",AS39=\"\",AS41=\"\",AS43=\"\"),\"non saisies\",(SERVICES+_OBS1+_OBS2+22))","v":"non saisies"},null,{"$f":"IF(OR(AU7=\"\",AU9=\"non saisi\",AU11=\"\",AU15=\"\",AU17=\"\",AU19=\"\",AU21=\"\",AU23=\"\",AU25=\"\",AU27=\"\",AU29=\"\",AU31=\"\",AU33=\"\",AU35=\"\",AU39=\"\",AU41=\"\",AU43=\"\"),\"non saisies\",(SERVICES+_OBS1+_OBS2+23))","v":"non saisies"},null,{"$f":"IF(OR(AW7=\"\",AW9=\"non saisi\",AW11=\"\",AW15=\"\",AW17=\"\",AW19=\"\",AW21=\"\",AW23=\"\",AW25=\"\",AW27=\"\",AW29=\"\",AW31=\"\",AW33=\"\",AW35=\"\",AW39=\"\",AW41=\"\",AW43=\"\"),\"non saisies\",(SERVICES+_OBS1+_OBS2+24))","v":"non saisies"},null,{"$f":"IF(OR(AY7=\"\",AY9=\"non saisi\",AY11=\"\",AY15=\"\",AY17=\"\",AY19=\"\",AY21=\"\",AY23=\"\",AY25=\"\",AY27=\"\",AY29=\"\",AY31=\"\",AY33=\"\",AY35=\"\",AY39=\"\",AY41=\"\",AY43=\"\"),\"non saisies\",(SERVICES+_OBS1+_OBS2+25))","v":"non saisies"},null,{"$f":"IF(OR(BA7=\"\",BA9=\"non saisi\",BA11=\"\",BA15=\"\",BA17=\"\",BA19=\"\",BA21=\"\",BA23=\"\",BA25=\"\",BA27=\"\",BA29=\"\",BA31=\"\",BA33=\"\",BA35=\"\",BA39=\"\",BA41=\"\",BA43=\"\"),\"non saisies\",(SERVICES+_OBS1+_OBS2+26))","v":"non saisies"},null,{"$f":"IF(OR(BC7=\"\",BC9=\"non saisi\",BC11=\"\",BC15=\"\",BC17=\"\",BC19=\"\",BC21=\"\",BC23=\"\",BC25=\"\",BC27=\"\",BC29=\"\",BC31=\"\",BC33=\"\",BC35=\"\",BC39=\"\",BC41=\"\",BC43=\"\"),\"non saisies\",(SERVICES+_OBS1+_OBS2+27))","v":"non saisies"},null,{"$f":"IF(OR(BE7=\"\",BE9=\"non saisi\",BE11=\"\",BE15=\"\",BE17=\"\",BE19=\"\",BE21=\"\",BE23=\"\",BE25=\"\",BE27=\"\",BE29=\"\",BE31=\"\",BE33=\"\",BE35=\"\",BE39=\"\",BE41=\"\",BE43=\"\"),\"non saisies\",(SERVICES+_OBS1+_OBS2+28))","v":"non saisies"},null,{"$f":"IF(OR(BG7=\"\",BG9=\"non saisi\",BG11=\"\",BG15=\"\",BG17=\"\",BG19=\"\",BG21=\"\",BG23=\"\",BG25=\"\",BG27=\"\",BG29=\"\",BG31=\"\",BG33=\"\",BG35=\"\",BG39=\"\",BG41=\"\",BG43=\"\"),\"non saisies\",(SERVICES+_OBS1+_OBS2+29))","v":"non saisies"},null,{"$f":"IF(OR(BI7=\"\",BI9=\"non saisi\",BI11=\"\",BI15=\"\",BI17=\"\",BI19=\"\",BI21=\"\",BI23=\"\",BI25=\"\",BI27=\"\",BI29=\"\",BI31=\"\",BI33=\"\",BI35=\"\",BI39=\"\",BI41=\"\",BI43=\"\"),\"non saisies\",(SERVICES+_OBS1+_OBS2+30))","v":"non saisies"},null,{"$f":"IF(OR(BK7=\"\",BK9=\"non saisi\",BK11=\"\",BK15=\"\",BK17=\"\",BK19=\"\",BK21=\"\",BK23=\"\",BK25=\"\",BK27=\"\",BK29=\"\",BK31=\"\",BK33=\"\",BK35=\"\",BK39=\"\",BK41=\"\",BK43=\"\"),\"non saisies\",(SERVICES+_OBS1+_OBS2+31))","v":"non saisies"},null,{"$f":"IF(OR(BM7=\"\",BM9=\"non saisi\",BM11=\"\",BM15=\"\",BM17=\"\",BM19=\"\",BM21=\"\",BM23=\"\",BM25=\"\",BM27=\"\",BM29=\"\",BM31=\"\",BM33=\"\",BM35=\"\",BM39=\"\",BM41=\"\",BM43=\"\"),\"non saisies\",(SERVICES+_OBS1+_OBS2+32))","v":"non saisies"},null,{"$f":"IF(OR(BO7=\"\",BO9=\"non saisi\",BO11=\"\",BO15=\"\",BO17=\"\",BO19=\"\",BO21=\"\",BO23=\"\",BO25=\"\",BO27=\"\",BO29=\"\",BO31=\"\",BO33=\"\",BO35=\"\",BO39=\"\",BO41=\"\",BO43=\"\"),\"non saisies\",(SERVICES+_OBS1+_OBS2+33))","v":"non saisies"},null,{"$f":"IF(OR(BQ7=\"\",BQ9=\"non saisi\",BQ11=\"\",BQ15=\"\",BQ17=\"\",BQ19=\"\",BQ21=\"\",BQ23=\"\",BQ25=\"\",BQ27=\"\",BQ29=\"\",BQ31=\"\",BQ33=\"\",BQ35=\"\",BQ39=\"\",BQ41=\"\",BQ43=\"\"),\"non saisies\",(SERVICES+_OBS1+_OBS2+34))","v":"non saisies"},null,{"$f":"IF(OR(BS7=\"\",BS9=\"non saisi\",BS11=\"\",BS15=\"\",BS17=\"\",BS19=\"\",BS21=\"\",BS23=\"\",BS25=\"\",BS27=\"\",BS29=\"\",BS31=\"\",BS33=\"\",BS35=\"\",BS39=\"\",BS41=\"\",BS43=\"\"),\"non saisies\",(SERVICES+_OBS1+_OBS2+35))","v":"non saisies"},null,{"$f":"IF(OR(BU7=\"\",BU9=\"non saisi\",BU11=\"\",BU15=\"\",BU17=\"\",BU19=\"\",BU21=\"\",BU23=\"\",BU25=\"\",BU27=\"\",BU29=\"\",BU31=\"\",BU33=\"\",BU35=\"\",BU39=\"\",BU41=\"\",BU43=\"\"),\"non saisies\",(SERVICES+_OBS1+_OBS2+36))","v":"non saisies"},null,{"$f":"IF(OR(BW7=\"\",BW9=\"non saisi\",BW11=\"\",BW15=\"\",BW17=\"\",BW19=\"\",BW21=\"\",BW23=\"\",BW25=\"\",BW27=\"\",BW29=\"\",BW31=\"\",BW33=\"\",BW35=\"\",BW39=\"\",BW41=\"\",BW43=\"\"),\"non saisies\",(SERVICES+_OBS1+_OBS2+37))","v":"non saisies"},null,{"$f":"IF(OR(BY7=\"\",BY9=\"non saisi\",BY11=\"\",BY15=\"\",BY17=\"\",BY19=\"\",BY21=\"\",BY23=\"\",BY25=\"\",BY27=\"\",BY29=\"\",BY31=\"\",BY33=\"\",BY35=\"\",BY39=\"\",BY41=\"\",BY43=\"\"),\"non saisies\",(SERVICES+_OBS1+_OBS2+38))","v":"non saisies"},null,{"$f":"IF(OR(CA7=\"\",CA9=\"non saisi\",CA11=\"\",CA15=\"\",CA17=\"\",CA19=\"\",CA21=\"\",CA23=\"\",CA25=\"\",CA27=\"\",CA29=\"\",CA31=\"\",CA33=\"\",CA35=\"\",CA39=\"\",CA41=\"\",CA43=\"\"),\"non saisies\",(SERVICES+_OBS1+_OBS2+39))","v":"non saisies"},null,{"$f":"IF(OR(CC7=\"\",CC9=\"non saisi\",CC11=\"\",CC15=\"\",CC17=\"\",CC19=\"\",CC21=\"\",CC23=\"\",CC25=\"\",CC27=\"\",CC29=\"\",CC31=\"\",CC33=\"\",CC35=\"\",CC39=\"\",CC41=\"\",CC43=\"\"),\"non saisies\",(SERVICES+_OBS1+_OBS2+40))","v":"non saisies"}]
[]
[null,"MENU"]

{"sheet":"Score3","index":14,"n_rows":82,"n_cols":81,"rows_kept":82,"cut":false,"hidden":true,"merged":[]}
[]
[]
[]
[]
[]
[]
[null,null,{"$f":"IF('Fiches_Utilisateurs_Service#3'!C7=\"\",0,1)","v":0},null,{"$f":"IF('Fiches_Utilisateurs_Service#3'!E7=\"\",0,1)","v":0},null,{"$f":"IF('Fiches_Utilisateurs_Service#3'!G7=\"\",0,1)","v":0},null,{"$f":"IF('Fiches_Utilisateurs_Service#3'!I7=\"\",0,1)","v":0},null,{"$f":"IF('Fiches_Utilisateurs_Service#3'!K7=\"\",0,1)","v":0},null,{"$f":"IF('Fiches_Utilisateurs_Service#3'!M7=\"\",0,1)","v":0},null,{"$f":"IF('Fiches_Utilisateurs_Service#3'!O7=\"\",0,1)","v":0},null,{"$f":"IF('Fiches_Utilisateurs_Service#3'!Q7=\"\",0,1)","v":0},null,{"$f":"IF('Fiches_Utilisateurs_Service#3'!S7=\"\",0,1)","v":0},null,{"$f":"IF('Fiches_Utilisateurs_Service#3'!U7=\"\",0,1)","v":0},null,{"$f":"IF('Fiches_Utilisateurs_Service#3'!W7=\"\",0,1)","v":0},null,{"$f":"IF('Fiches_Utilisateurs_Service#3'!Y7=\"\",0,1)","v":0},null,{"$f":"IF('Fiches_Utilisateurs_Service#3'!AA7=\"\",0,1)","v":0},null,{"$f":"IF('Fiches_Utilisateurs_Service#3'!AC7=\"\",0,1)","v":0},null,{"$f":"IF('Fiches_Utilisateurs_Service#3'!AE7=\"\",0,1)","v":0},null,{"$f":"IF('Fiches_Utilisateurs_Service#3'!AG7=\"\",0,1)","v":0},null,{"$f":"IF('Fiches_Utilisateurs_Service#3'!AI7=\"\",0,1)","v":0},null,{"$f":"IF('Fiches_Utilisateurs_Service#3'!AK7=\"\",0,1)","v":0},null,{"$f":"IF('Fiches_Utilisateurs_Service#3'!AM7=\"\",0,1)","v":0},null,{"$f":"IF('Fiches_Utilisateurs_Service#3'!AO7=\"\",0,1)","v":0},null,{"$f":"IF('Fiches_Utilisateurs_Service#3'!AQ7=\"\",0,1)","v":0},null,{"$f":"IF('Fiches_Utilisateurs_Service#3'!AS7=\"\",0,1)","v":0},null,{"$f":"IF('Fiches_Utilisateurs_Service#3'!AU7=\"\",0,1)","v":0},null,{"$f":"IF('Fiches_Utilisateurs_Service#3'!AW7=\"\",0,1)","v":0},null,{"$f":"IF('Fiches_Utilisateurs_Service#3'!AY7=\"\",0,1)","v":0},null,{"$f":"IF('Fiches_Utilisateurs_Service#3'!BA7=\"\",0,1)","v":0},null,{"$f":"IF('Fiches_Utilisateurs_Service#3'!BC7=\"\",0,1)","v":0},null,{"$f":"IF('Fiches_Utilisateurs_Service#3'!BE7=\"\",0,1)","v":0},null,{"$f":"IF('Fiches_Utilisateurs_Service#3'!BG7=\"\",0,1)","v":0},null,{"$f":"IF('Fiches_Utilisateurs_Service#3'!BI7=\"\",0,1)","v":0},null,{"$f":"IF('Fiches_Utilisateurs_Service#3'!BK7=\"\",0,1)","v":0},null,{"$f":"IF('Fiches_Utilisateurs_Service#3'!BM7=\"\",0,1)","v":0},null,{"$f":"IF('Fiches_Utilisateurs_Service#3'!BO7=\"\",0,1)","v":0},null,{"$f":"IF('Fiches_Utilisateurs_Service#3'!BQ7=\"\",0,1)","v":0},null,{"$f":"IF('Fiches_Utilisateurs_Service#3'!BS7=\"\",0,1)","v":0},null,{"$f":"IF('Fiches_Utilisateurs_Service#3'!BU7=\"\",0,1)","v":0},null,{"$f":"IF('Fiches_Utilisateurs_Service#3'!BW7=\"\",0,1)","v":0},null,{"$f":"IF('Fiches_Utilisateurs_Service#3'!BY7=\"\",0,1)","v":0},null,{"$f":"IF('Fiches_Utilisateurs_Service#3'!CA7=\"\",0,1)","v":0},null,{"$f":"IF('Fiches_Utilisateurs_Service#3'!CC7=\"\",0,1)","v":0}]
[]
[]
[]
[null,null,{"$f":"IF(LEFT('Fiches_Utilisateurs_Service#3'!C11,2)=\"10\",\"10\",(IF('Fiches_Utilisateurs_Service#3'!C11=\"\",\"0\",LEFT('Fiches_Utilisateurs_Service#3'!C11,1))))","v":"0"},null,{"$f":"IF(LEFT('Fiches_Utilisateurs_Service#3'!E11,2)=\"10\",\"10\",(IF('Fiches_Utilisateurs_Service#3'!E11=\"\",\"0\",LEFT('Fiches_Utilisateurs_Service#3'!E11,1))))","v":"0"},null,{"$f":"IF(LEFT('Fiches_Utilisateurs_Service#3'!G11,2)=\"10\",\"10\",(IF('Fiches_Utilisateurs_Service#3'!G11=\"\",\"0\",LEFT('Fiches_Utilisateurs_Service#3'!G11,1))))","v":"0"},null,{"$f":"IF(LEFT('Fiches_Utilisateurs_Service#3'!I11,2)=\"10\",\"10\",(IF('Fiches_Utilisateurs_Service#3'!I11=\"\",\"0\",LEFT('Fiches_Utilisateurs_Service#3'!I11,1))))","v":"0"},null,{"$f":"IF(LEFT('Fiches_Utilisateurs_Service#3'!K11,2)=\"10\",\"10\",(IF('Fiches_Utilisateurs_Service#3'!K11=\"\",\"0\",LEFT('Fiches_Utilisateurs_Service#3'!K11,1))))","v":"0"},null,{"$f":"IF(LEFT('Fiches_Utilisateurs_Service#3'!M11,2)=\"10\",\"10\",(IF('Fiches_Utilisateurs_Service#3'!M11=\"\",\"0\",LEFT('Fiches_Utilisateurs_Service#3'!M11,1))))","v":"0"},null,{"$f":"IF(LEFT('Fiches_Utilisateurs_Service#3'!O11,2)=\"10\",\"10\",(IF('Fiches_Utilisateurs_Service#3'!O11=\"\",\"0\",LEFT('Fiches_Utilisateurs_Service#3'!O11,1))))","v":"0"},null,{"$f":"IF(LEFT('Fiches_Utilisateurs_Service#3'!Q11,2)=\"10\",\"10\",(IF('Fiches_Utilisateurs_Service#3'!Q11=\"\",\"0\",LEFT('Fiches_Utilisateurs_Service#3'!Q11,1))))","v":"0"},null,{"$f":"IF(LEFT('Fiches_Utilisateurs_Service#3'!S11,2)=\"10\",\"10\",(IF('Fiches_Utilisateurs_Service#3'!S11=\"\",\"0\",LEFT('Fiches_Utilisateurs_Service#3'!S11,1))))","v":"0"},null,{"$f":"IF(LEFT('Fiches_Utilisateurs_Service#3'!U11,2)=\"10\",\"10\",(IF('Fiches_Utilisateurs_Service#3'!U11=\"\",\"0\",LEFT('Fiches_Utilisateurs_Service#3'!U11,1))))","v":"0"},null,{"$f":"IF(LEFT('Fiches_Utilisateurs_Service#3'!W11,2)=\"10\",\"10\",(IF('Fiches_Utilisateurs_Service#3'!W11=\"\",\"0\",LEFT('Fiches_Utilisateurs_Service#3'!W11,1))))","v":"0"},null,{"$f":"IF(LEFT('Fiches_Utilisateurs_Service#3'!Y11,2)=\"10\",\"10\",(IF('Fiches_Utilisateurs_Service#3'!Y11=\"\",\"0\",LEFT('Fiches_Utilisateurs_Service#3'!Y11,1))))","v":"0"},null,{"$f":"IF(LEFT('Fiches_Utilisateurs_Service#3'!AA11,2)=\"10\",\"10\",(IF('Fiches_Utilisateurs_Service#3'!AA11=\"\",\"0\",LEFT('Fiches_Utilisateurs_Service#3'!AA11,1))))","v":"0"},null,{"$f":"IF(LEFT('Fiches_Utilisateurs_Service#3'!AC11,2)=\"10\",\"10\",(IF('Fiches_Utilisateurs_Service#3'!AC11=\"\",\"0\",LEFT('Fiches_Utilisateurs_Service#3'!AC11,1))))","v":"0"},null,{"$f":"IF(LEFT('Fiches_Utilisateurs_Service#3'!AE11,2)=\"10\",\"10\",(IF('Fiches_Utilisateurs_Service#3'!AE11=\"\",\"0\",LEFT('Fiches_Utilisateurs_Service#3'!AE11,1))))","v":"0"},null,{"$f":"IF(LEFT('Fiches_Utilisateurs_Service#3'!AG11,2)=\"10\",\"10\",(IF('Fiches_Utilisateurs_Service#3'!AG11=\"\",\"0\",LEFT('Fiches_Utilisateurs_Service#3'!AG11,1))))","v":"0"},null,{"$f":"IF(LEFT('Fiches_Utilisateurs_Service#3'!AI11,2)=\"10\",\"10\",(IF('Fiches_Utilisateurs_Service#3'!AI11=\"\",\"0\",LEFT('Fiches_Utilisateurs_Service#3'!AI11,1))))","v":"0"},null,{"$f":"IF(LEFT('Fiches_Utilisateurs_Service#3'!AK11,2)=\"10\",\"10\",(IF('Fiches_Utilisateurs_Service#3'!AK11=\"\",\"0\",LEFT('Fiches_Utilisateurs_Service#3'!AK11,1))))","v":"0"},null,{"$f":"IF(LEFT('Fiches_Utilisateurs_Service#3'!AM11,2)=\"10\",\"10\",(IF('Fiches_Utilisateurs_Service#3'!AM11=\"\",\"0\",LEFT('Fiches_Utilisateurs_Service#3'!AM11,1))))","v":"0"},null,{"$f":"IF(LEFT('Fiches_Utilisateurs_Service#3'!AO11,2)=\"10\",\"10\",(IF('Fiches_Utilisateurs_Service#3'!AO11=\"\",\"0\",LEFT('Fiches_Utilisateurs_Service#3'!AO11,1))))","v":"0"},null,{"$f":"IF(LEFT('Fiches_Utilisateurs_Service#3'!AQ11,2)=\"10\",\"10\",(IF('Fiches_Utilisateurs_Service#3'!AQ11=\"\",\"0\",LEFT('Fiches_Utilisateurs_Service#3'!AQ11,1))))","v":"0"},null,{"$f":"IF(LEFT('Fiches_Utilisateurs_Service#3'!AS11,2)=\"10\",\"10\",(IF('Fiches_Utilisateurs_Service#3'!AS11=\"\",\"0\",LEFT('Fiches_Utilisateurs_Service#3'!AS11,1))))","v":"0"},null,{"$f":"IF(LEFT('Fiches_Utilisateurs_Service#3'!AU11,2)=\"10\",\"10\",(IF('Fiches_Utilisateurs_Service#3'!AU11=\"\",\"0\",LEFT('Fiches_Utilisateurs_Service#3'!AU11,1))))","v":"0"},null,{"$f":"IF(LEFT('Fiches_Utilisateurs_Service#3'!AW11,2)=\"10\",\"10\",(IF('Fiches_Utilisateurs_Service#3'!AW11=\"\",\"0\",LEFT('Fiches_Utilisateurs_Service#3'!AW11,1))))","v":"0"},null,{"$f":"IF(LEFT('Fiches_Utilisateurs_Service#3'!AY11,2)=\"10\",\"10\",(IF('Fiches_Utilisateurs_Service#3'!AY11=\"\",\"0\",LEFT('Fiches_Utilisateurs_Service#3'!AY11,1))))","v":"0"},null,{"$f":"IF(LEFT('Fiches_Utilisateurs_Service#3'!BA11,2)=\"10\",\"10\",(IF('Fiches_Utilisateurs_Service#3'!BA11=\"\",\"0\",LEFT('Fiches_Utilisateurs_Service#3'!BA11,1))))","v":"0"},null,{"$f":"IF(LEFT('Fiches_Utilisateurs_Service#3'!BC11,2)=\"10\",\"10\",(IF('Fiches_Utilisateurs_Service#3'!BC11=\"\",\"0\",LEFT('Fiches_Utilisateurs_Service#3'!BC11,1))))","v":"0"},null,{"$f":"IF(LEFT('Fiches_Utilisateurs_Service#3'!BE11,2)=\"10\",\"10\",(IF('Fiches_Utilisateurs_Service#3'!BE11=\"\",\"0\",LEFT('Fiches_Utilisateurs_Service#3'!BE11,1))))","v":"0"},null,{"$f":"IF(LEFT('Fiches_Utilisateurs_Service#3'!BG11,2)=\"10\",\"10\",(IF('Fiches_Utilisateurs_Service#3'!BG11=\"\",\"0\",LEFT('Fiches_Utilisateurs_Service#3'!BG11,1))))","v":"0"},null,{"$f":"IF(LEFT('Fiches_Utilisateurs_Service#3'!BI11,2)=\"10\",\"10\",(IF('Fiches_Utilisateurs_Service#3'!BI11=\"\",\"0\",LEFT('Fiches_Utilisateurs_Service#3'!BI11,1))))","v":"0"},null,{"$f":"IF(LEFT('Fiches_Utilisateurs_Service#3'!BK11,2)=\"10\",\"10\",(IF('Fiches_Utilisateurs_Service#3'!BK11=\"\",\"0\",LEFT('Fiches_Utilisateurs_Service#3'!BK11,1))))","v":"0"},null,{"$f":"IF(LEFT('Fiches_Utilisateurs_Service#3'!BM11,2)=\"10\",\"10\",(IF('Fiches_Utilisateurs_Service#3'!BM11=\"\",\"0\",LEFT('Fiches_Utilisateurs_Service#3'!BM11,1))))","v":"0"},null,{"$f":"IF(LEFT('Fiches_Utilisateurs_Service#3'!BO11,2)=\"10\",\"10\",(IF('Fiches_Utilisateurs_Service#3'!BO11=\"\",\"0\",LEFT('Fiches_Utilisateurs_Service#3'!BO11,1))))","v":"0"},null,{"$f":"IF(LEFT('Fiches_Utilisateurs_Service#3'!BQ11,2)=\"10\",\"10\",(IF('Fiches_Utilisateurs_Service#3'!BQ11=\"\",\"0\",LEFT('Fiches_Utilisateurs_Service#3'!BQ11,1))))","v":"0"},null,{"$f":"IF(LEFT('Fiches_Utilisateurs_Service#3'!BS11,2)=\"10\",\"10\",(IF('Fiches_Utilisateurs_Service#3'!BS11=\"\",\"0\",LEFT('Fiches_Utilisateurs_Service#3'!BS11,1))))","v":"0"},null,{"$f":"IF(LEFT('Fiches_Utilisateurs_Service#3'!BU11,2)=\"10\",\"10\",(IF('Fiches_Utilisateurs_Service#3'!BU11=\"\",\"0\",LEFT('Fiches_Utilisateurs_Service#3'!BU11,1))))","v":"0"},null,{"$f":"IF(LEFT('Fiches_Utilisateurs_Service#3'!BW11,2)=\"10\",\"10\",(IF('Fiches_Utilisateurs_Service#3'!BW11=\"\",\"0\",LEFT('Fiches_Utilisateurs_Service#3'!BW11,1))))","v":"0"},null,{"$f":"IF(LEFT('Fiches_Utilisateurs_Service#3'!BY11,2)=\"10\",\"10\",(IF('Fiches_Utilisateurs_Service#3'!BY11=\"\",\"0\",LEFT('Fiches_Utilisateurs_Service#3'!BY11,1))))","v":"0"},null,{"$f":"IF(LEFT('Fiches_Utilisateurs_Service#3'!CA11,2)=\"10\",\"10\",(IF('Fiches_Utilisateurs_Service#3'!CA11=\"\",\"0\",LEFT('Fiches_Utilisateurs_Service#3'!CA11,1))))","v":"0"},null,{"$f":"IF(LEFT('Fiches_Utilisateurs_Service#3'!CC11,2)=\"10\",\"10\",(IF('Fiches_Utilisateurs_Service#3'!CC11=\"\",\"0\",LEFT('Fiches_Utilisateurs_Service#3'!CC11,1))))","v":"0"}]
[]
[]
[null,"glob tots"]
[null,null,{"$f":"IF('Fiches_Utilisateurs_Service#3'!C15=1,1,0)","v":0},null,{"$f":"IF('Fiches_Utilisateurs_Service#3'!E15=1,1,0)","v":0},null,{"$f":"IF('Fiches_Utilisateurs_Service#3'!G15=1,1,0)","v":0},null,{"$f":"IF('Fiches_Utilisateurs_Service#3'!I15=1,1,0)","v":0},null,{"$f":"IF('Fiches_Utilisateurs_Service#3'!K15=1,1,0)","v":0},null,{"$f":"IF('Fiches_Utilisateurs_Service#3'!M15=1,1,0)","v":0},null,{"$f":"IF('Fiches_Utilisateurs_Service#3'!O15=1,1,0)","v":0},null,{"$f":"IF('Fiches_Utilisateurs_Service#3'!Q15=1,1,0)","v":0},null,{"$f":"IF('Fiches_Utilisateurs_Service#3'!S15=1,1,0)","v":0},null,{"$f":"IF('Fiches_Utilisateurs_Service#3'!U15=1,1,0)","v":0},null,{"$f":"IF('Fiches_Utilisateurs_Service#3'!W15=1,1,0)","v":0},null,{"$f":"IF('Fiches_Utilisateurs_Service#3'!Y15=1,1,0)","v":0},null,{"$f":"IF('Fiches_Utilisateurs_Service#3'!AA15=1,1,0)","v":0},null,{"$f":"IF('Fiches_Utilisateurs_Service#3'!AC15=1,1,0)","v":0},null,{"$f":"IF('Fiches_Utilisateurs_Service#3'!AE15=1,1,0)","v":0},null,{"$f":"IF('Fiches_Utilisateurs_Service#3'!AG15=1,1,0)","v":0},null,{"$f":"IF('Fiches_Utilisateurs_Service#3'!AI15=1,1,0)","v":0},null,{"$f":"IF('Fiches_Utilisateurs_Service#3'!AK15=1,1,0)","v":0},null,{"$f":"IF('Fiches_Utilisateurs_Service#3'!AM15=1,1,0)","v":0},null,{"$f":"IF('Fiches_Utilisateurs_Service#3'!AO15=1,1,0)","v":0},null,{"$f":"IF('Fiches_Utilisateurs_Service#3'!AQ15=1,1,0)","v":0},null,{"$f":"IF('Fiches_Utilisateurs_Service#3'!AS15=1,1,0)","v":0},null,{"$f":"IF('Fiches_Utilisateurs_Service#3'!AU15=1,1,0)","v":0},null,{"$f":"IF('Fiches_Utilisateurs_Service#3'!AW15=1,1,0)","v":0},null,{"$f":"IF('Fiches_Utilisateurs_Service#3'!AY15=1,1,0)","v":0},null,{"$f":"IF('Fiches_Utilisateurs_Service#3'!BA15=1,1,0)","v":0},null,{"$f":"IF('Fiches_Utilisateurs_Service#3'!BC15=1,1,0)","v":0},null,{"$f":"IF('Fiches_Utilisateurs_Service#3'!BE15=1,1,0)","v":0},null,{"$f":"IF('Fiches_Utilisateurs_Service#3'!BG15=1,1,0)","v":0},null,{"$f":"IF('Fiches_Utilisateurs_Service#3'!BI15=1,1,0)","v":0},null,{"$f":"IF('Fiches_Utilisateurs_Service#3'!BK15=1,1,0)","v":0},null,{"$f":"IF('Fiches_Utilisateurs_Service#3'!BM15=1,1,0)","v":0},null,{"$f":"IF('Fiches_Utilisateurs_Service#3'!BO15=1,1,0)","v":0},null,{"$f":"IF('Fiches_Utilisateurs_Service#3'!BQ15=1,1,0)","v":0},null,{"$f":"IF('Fiches_Utilisateurs_Service#3'!BS15=1,1,0)","v":0},null,{"$f":"IF('Fiches_Utilisateurs_Service#3'!BU15=1,1,0)","v":0},null,{"$f":"IF('Fiches_Utilisateurs_Service#3'!BW15=1,1,0)","v":0},null,{"$f":"IF('Fiches_Utilisateurs_Service#3'!BY15=1,1,0)","v":0},null,{"$f":"IF('Fiches_Utilisateurs_Service#3'!CA15=1,1,0)","v":0},null,{"$f":"IF('Fiches_Utilisateurs_Service#3'!CC15=1,1,0)","v":0}]
[]
[null,null,{"$f":"IF('Fiches_Utilisateurs_Service#3'!C17=1,1,0)","v":0},null,{"$f":"IF('Fiches_Utilisateurs_Service#3'!E17=1,1,0)","v":0},null,{"$f":"IF('Fiches_Utilisateurs_Service#3'!G17=1,1,0)","v":0},null,{"$f":"IF('Fiches_Utilisateurs_Service#3'!I17=1,1,0)","v":0},null,{"$f":"IF('Fiches_Utilisateurs_Service#3'!K17=1,1,0)","v":0},null,{"$f":"IF('Fiches_Utilisateurs_Service#3'!M17=1,1,0)","v":0},null,{"$f":"IF('Fiches_Utilisateurs_Service#3'!O17=1,1,0)","v":0},null,{"$f":"IF('Fiches_Utilisateurs_Service#3'!Q17=1,1,0)","v":0},null,{"$f":"IF('Fiches_Utilisateurs_Service#3'!S17=1,1,0)","v":0},null,{"$f":"IF('Fiches_Utilisateurs_Service#3'!U17=1,1,0)","v":0},null,{"$f":"IF('Fiches_Utilisateurs_Service#3'!W17=1,1,0)","v":0},null,{"$f":"IF('Fiches_Utilisateurs_Service#3'!Y17=1,1,0)","v":0},null,{"$f":"IF('Fiches_Utilisateurs_Service#3'!AA17=1,1,0)","v":0},null,{"$f":"IF('Fiches_Utilisateurs_Service#3'!AC17=1,1,0)","v":0},null,{"$f":"IF('Fiches_Utilisateurs_Service#3'!AE17=1,1,0)","v":0},null,{"$f":"IF('Fiches_Utilisateurs_Service#3'!AG17=1,1,0)","v":0},null,{"$f":"IF('Fiches_Utilisateurs_Service#3'!AI17=1,1,0)","v":0},null,{"$f":"IF('Fiches_Utilisateurs_Service#3'!AK17=1,1,0)","v":0},null,{"$f":"IF('Fiches_Utilisateurs_Service#3'!AM17=1,1,0)","v":0},null,{"$f":"IF('Fiches_Utilisateurs_Service#3'!AO17=1,1,0)","v":0},null,{"$f":"IF('Fiches_Utilisateurs_Service#3'!AQ17=1,1,0)","v":0},null,{"$f":"IF('Fiches_Utilisateurs_Service#3'!AS17=1,1,0)","v":0},null,{"$f":"IF('Fiches_Utilisateurs_Service#3'!AU17=1,1,0)","v":0},null,{"$f":"IF('Fiches_Utilisateurs_Service#3'!AW17=1,1,0)","v":0},null,{"$f":"IF('Fiches_Utilisateurs_Service#3'!AY17=1,1,0)","v":0},null,{"$f":"IF('Fiches_Utilisateurs_Service#3'!BA17=1,1,0)","v":0},null,{"$f":"IF('Fiches_Utilisateurs_Service#3'!BC17=1,1,0)","v":0},null,{"$f":"IF('Fiches_Utilisateurs_Service#3'!BE17=1,1,0)","v":0},null,{"$f":"IF('Fiches_Utilisateurs_Service#3'!BG17=1,1,0)","v":0},null,{"$f":"IF('Fiches_Utilisateurs_Service#3'!BI17=1,1,0)","v":0},null,{"$f":"IF('Fiches_Utilisateurs_Service#3'!BK17=1,1,0)","v":0},null,{"$f":"IF('Fiches_Utilisateurs_Service#3'!BM17=1,1,0)","v":0},null,{"$f":"IF('Fiches_Utilisateurs_Service#3'!BO17=1,1,0)","v":0},null,{"$f":"IF('Fiches_Utilisateurs_Service#3'!BQ17=1,1,0)","v":0},null,{"$f":"IF('Fiches_Utilisateurs_Service#3'!BS17=1,1,0)","v":0},null,{"$f":"IF('Fiches_Utilisateurs_Service#3'!BU17=1,1,0)","v":0},null,{"$f":"IF('Fiches_Utilisateurs_Service#3'!BW17=1,1,0)","v":0},null,{"$f":"IF('Fiches_Utilisateurs_Service#3'!BY17=1,1,0)","v":0},null,{"$f":"IF('Fiches_Utilisateurs_Service#3'!CA17=1,1,0)","v":0},null,{"$f":"IF('Fiches_Utilisateurs_Service#3'!CC17=1,1,0)","v":0}]
[]
[null,null,{"$f":"IF('Fiches_Utilisateurs_Service#3'!C19=1,1,0)","v":0},null,{"$f":"IF('Fiches_Utilisateurs_Service#3'!E19=1,1,0)","v":0},null,{"$f":"IF('Fiches_Utilisateurs_Service#3'!G19=1,1,0)","v":0},null,{"$f":"IF('Fiches_Utilisateurs_Service#3'!I19=1,1,0)","v":0},null,{"$f":"IF('Fiches_Utilisateurs_Service#3'!K19=1,1,0)","v":0},null,{"$f":"IF('Fiches_Utilisateurs_Service#3'!M19=1,1,0)","v":0},null,{"$f":"IF('Fiches_Utilisateurs_Service#3'!O19=1,1,0)","v":0},null,{"$f":"IF('Fiches_Utilisateurs_Service#3'!Q19=1,1,0)","v":0},null,{"$f":"IF('Fiches_Utilisateurs_Service#3'!S19=1,1,0)","v":0},null,{"$f":"IF('Fiches_Utilisateurs_Service#3'!U19=1,1,0)","v":0},null,{"$f":"IF('Fiches_Utilisateurs_Service#3'!W19=1,1,0)","v":0},null,{"$f":"IF('Fiches_Utilisateurs_Service#3'!Y19=1,1,0)","v":0},null,{"$f":"IF('Fiches_Utilisateurs_Service#3'!AA19=1,1,0)","v":0},null,{"$f":"IF('Fiches_Utilisateurs_Service#3'!AC19=1,1,0)","v":0},null,{"$f":"IF('Fiches_Utilisateurs_Service#3'!AE19=1,1,0)","v":0},null,{"$f":"IF('Fiches_Utilisateurs_Service#3'!AG19=1,1,0)","v":0},null,{"$f":"IF('Fiches_Utilisateurs_Service#3'!AI19=1,1,0)","v":0},null,{"$f":"IF('Fiches_Utilisateurs_Service#3'!AK19=1,1,0)","v":0},null,{"$f":"IF('Fiches_Utilisateurs_Service#3'!AM19=1,1,0)","v":0},null,{"$f":"IF('Fiches_Utilisateurs_Service#3'!AO19=1,1,0)","v":0},null,{"$f":"IF('Fiches_Utilisateurs_Service#3'!AQ19=1,1,0)","v":0},null,{"$f":"IF('Fiches_Utilisateurs_Service#3'!AS19=1,1,0)","v":0},null,{"$f":"IF('Fiches_Utilisateurs_Service#3'!AU19=1,1,0)","v":0},null,{"$f":"IF('Fiches_Utilisateurs_Service#3'!AW19=1,1,0)","v":0},null,{"$f":"IF('Fiches_Utilisateurs_Service#3'!AY19=1,1,0)","v":0},null,{"$f":"IF('Fiches_Utilisateurs_Service#3'!BA19=1,1,0)","v":0},null,{"$f":"IF('Fiches_Utilisateurs_Service#3'!BC19=1,1,0)","v":0},null,{"$f":"IF('Fiches_Utilisateurs_Service#3'!BE19=1,1,0)","v":0},null,{"$f":"IF('Fiches_Utilisateurs_Service#3'!BG19=1,1,0)","v":0},null,{"$f":"IF('Fiches_Utilisateurs_Service#3'!BI19=1,1,0)","v":0},null,{"$f":"IF('Fiches_Utilisateurs_Service#3'!BK19=1,1,0)","v":0},null,{"$f":"IF('Fiches_Utilisateurs_Service#3'!BM19=1,1,0)","v":0},null,{"$f":"IF('Fiches_Utilisateurs_Service#3'!BO19=1,1,0)","v":0},null,{"$f":"IF('Fiches_Utilisateurs_Service#3'!BQ19=1,1,0)","v":0},null,{"$f":"IF('Fiches_Utilisateurs_Service#3'!BS19=1,1,0)","v":0},null,{"$f":"IF('Fiches_Utilisateurs_Service#3'!BU19=1,1,0)","v":0},null,{"$f":"IF('Fiches_Utilisateurs_Service#3'!BW19=1,1,0)","v":0},null,{"$f":"IF('Fiches_Utilisateurs_Service#3'!BY19=1,1,0)","v":0},null,{"$f":"IF('Fiches_Utilisateurs_Service#3'!CA19=1,1,0)","v":0},null,{"$f":"IF('Fiches_Utilisateurs_Service#3'!CC19=1,1,0)","v":0}]
[]
[null,null,{"$f":"IF('Fiches_Utilisateurs_Service#3'!C21=1,1,0)","v":0},null,{"$f":"IF('Fiches_Utilisateurs_Service#3'!E21=1,1,0)","v":0},null,{"$f":"IF('Fiches_Utilisateurs_Service#3'!G21=1,1,0)","v":0},null,{"$f":"IF('Fiches_Utilisateurs_Service#3'!I21=1,1,0)","v":0},null,{"$f":"IF('Fiches_Utilisateurs_Service#3'!K21=1,1,0)","v":0},null,{"$f":"IF('Fiches_Utilisateurs_Service#3'!M21=1,1,0)","v":0},null,{"$f":"IF('Fiches_Utilisateurs_Service#3'!O21=1,1,0)","v":0},null,{"$f":"IF('Fiches_Utilisateurs_Service#3'!Q21=1,1,0)","v":0},null,{"$f":"IF('Fiches_Utilisateurs_Service#3'!S21=1,1,0)","v":0},null,{"$f":"IF('Fiches_Utilisateurs_Service#3'!U21=1,1,0)","v":0},null,{"$f":"IF('Fiches_Utilisateurs_Service#3'!W21=1,1,0)","v":0},null,{"$f":"IF('Fiches_Utilisateurs_Service#3'!Y21=1,1,0)","v":0},null,{"$f":"IF('Fiches_Utilisateurs_Service#3'!AA21=1,1,0)","v":0},null,{"$f":"IF('Fiches_Utilisateurs_Service#3'!AC21=1,1,0)","v":0},null,{"$f":"IF('Fiches_Utilisateurs_Service#3'!AE21=1,1,0)","v":0},null,{"$f":"IF('Fiches_Utilisateurs_Service#3'!AG21=1,1,0)","v":0},null,{"$f":"IF('Fiches_Utilisateurs_Service#3'!AI21=1,1,0)","v":0},null,{"$f":"IF('Fiches_Utilisateurs_Service#3'!AK21=1,1,0)","v":0},null,{"$f":"IF('Fiches_Utilisateurs_Service#3'!AM21=1,1,0)","v":0},null,{"$f":"IF('Fiches_Utilisateurs_Service#3'!AO21=1,1,0)","v":0},null,{"$f":"IF('Fiches_Utilisateurs_Service#3'!AQ21=1,1,0)","v":0},null,{"$f":"IF('Fiches_Utilisateurs_Service#3'!AS21=1,1,0)","v":0},null,{"$f":"IF('Fiches_Utilisateurs_Service#3'!AU21=1,1,0)","v":0},null,{"$f":"IF('Fiches_Utilisateurs_Service#3'!AW21=1,1,0)","v":0},null,{"$f":"IF('Fiches_Utilisateurs_Service#3'!AY21=1,1,0)","v":0},null,{"$f":"IF('Fiches_Utilisateurs_Service#3'!BA21=1,1,0)","v":0},null,{"$f":"IF('Fiches_Utilisateurs_Service#3'!BC21=1,1,0)","v":0},null,{"$f":"IF('Fiches_Utilisateurs_Service#3'!BE21=1,1,0)","v":0},null,{"$f":"IF('Fiches_Utilisateurs_Service#3'!BG21=1,1,0)","v":0},null,{"$f":"IF('Fiches_Utilisateurs_Service#3'!BI21=1,1,0)","v":0},null,{"$f":"IF('Fiches_Utilisateurs_Service#3'!BK21=1,1,0)","v":0},null,{"$f":"IF('Fiches_Utilisateurs_Service#3'!BM21=1,1,0)","v":0},null,{"$f":"IF('Fiches_Utilisateurs_Service#3'!BO21=1,1,0)","v":0},null,{"$f":"IF('Fiches_Utilisateurs_Service#3'!BQ21=1,1,0)","v":0},null,{"$f":"IF('Fiches_Utilisateurs_Service#3'!BS21=1,1,0)","v":0},null,{"$f":"IF('Fiches_Utilisateurs_Service#3'!BU21=1,1,0)","v":0},null,{"$f":"IF('Fiches_Utilisateurs_Service#3'!BW21=1,1,0)","v":0},null,{"$f":"IF('Fiches_Utilisateurs_Service#3'!BY21=1,1,0)","v":0},null,{"$f":"IF('Fiches_Utilisateurs_Service#3'!CA21=1,1,0)","v":0},null,{"$f":"IF('Fiches_Utilisateurs_Service#3'!CC21=1,1,0)","v":0}]
[]
[null,null,{"$f":"IF('Fiches_Utilisateurs_Service#3'!C23=1,1,0)","v":0},null,{"$f":"IF('Fiches_Utilisateurs_Service#3'!E23=1,1,0)","v":0},null,{"$f":"IF('Fiches_Utilisateurs_Service#3'!G23=1,1,0)","v":0},null,{"$f":"IF('Fiches_Utilisateurs_Service#3'!I23=1,1,0)","v":0},null,{"$f":"IF('Fiches_Utilisateurs_Service#3'!K23=1,1,0)","v":0},null,{"$f":"IF('Fiches_Utilisateurs_Service#3'!M23=1,1,0)","v":0},null,{"$f":"IF('Fiches_Utilisateurs_Service#3'!O23=1,1,0)","v":0},null,{"$f":"IF('Fiches_Utilisateurs_Service#3'!Q23=1,1,0)","v":0},null,{"$f":"IF('Fiches_Utilisateurs_Service#3'!S23=1,1,0)","v":0},null,{"$f":"IF('Fiches_Utilisateurs_Service#3'!U23=1,1,0)","v":0},null,{"$f":"IF('Fiches_Utilisateurs_Service#3'!W23=1,1,0)","v":0},null,{"$f":"IF('Fiches_Utilisateurs_Service#3'!Y23=1,1,0)","v":0},null,{"$f":"IF('Fiches_Utilisateurs_Service#3'!AA23=1,1,0)","v":0},null,{"$f":"IF('Fiches_Utilisateurs_Service#3'!AC23=1,1,0)","v":0},null,{"$f":"IF('Fiches_Utilisateurs_Service#3'!AE23=1,1,0)","v":0},null,{"$f":"IF('Fiches_Utilisateurs_Service#3'!AG23=1,1,0)","v":0},null,{"$f":"IF('Fiches_Utilisateurs_Service#3'!AI23=1,1,0)","v":0},null,{"$f":"IF('Fiches_Utilisateurs_Service#3'!AK23=1,1,0)","v":0},null,{"$f":"IF('Fiches_Utilisateurs_Service#3'!AM23=1,1,0)","v":0},null,{"$f":"IF('Fiches_Utilisateurs_Service#3'!AO23=1,1,0)","v":0},null,{"$f":"IF('Fiches_Utilisateurs_Service#3'!AQ23=1,1,0)","v":0},null,{"$f":"IF('Fiches_Utilisateurs_Service#3'!AS23=1,1,0)","v":0},null,{"$f":"IF('Fiches_Utilisateurs_Service#3'!AU23=1,1,0)","v":0},null,{"$f":"IF('Fiches_Utilisateurs_Service#3'!AW23=1,1,0)","v":0},null,{"$f":"IF('Fiches_Utilisateurs_Service#3'!AY23=1,1,0)","v":0},null,{"$f":"IF('Fiches_Utilisateurs_Service#3'!BA23=1,1,0)","v":0},null,{"$f":"IF('Fiches_Utilisateurs_Service#3'!BC23=1,1,0)","v":0},null,{"$f":"IF('Fiches_Utilisateurs_Service#3'!BE23=1,1,0)","v":0},null,{"$f":"IF('Fiches_Utilisateurs_Service#3'!BG23=1,1,0)","v":0},null,{"$f":"IF('Fiches_Utilisateurs_Service#3'!BI23=1,1,0)","v":0},null,{"$f":"IF('Fiches_Utilisateurs_Service#3'!BK23=1,1,0)","v":0},null,{"$f":"IF('Fiches_Utilisateurs_Service#3'!BM23=1,1,0)","v":0},null,{"$f":"IF('Fiches_Utilisateurs_Service#3'!BO23=1,1,0)","v":0},null,{"$f":"IF('Fiches_Utilisateurs_Service#3'!BQ23=1,1,0)","v":0},null,{"$f":"IF('Fiches_Utilisateurs_Service#3'!BS23=1,1,0)","v":0},null,{"$f":"IF('Fiches_Utilisateurs_Service#3'!BU23=1,1,0)","v":0},null,{"$f":"IF('Fiches_Utilisateurs_Service#3'!BW23=1,1,0)","v":0},null,{"$f":"IF('Fiches_Utilisateurs_Service#3'!BY23=1,1,0)","v":0},null,{"$f":"IF('Fiches_Utilisateurs_Service#3'!CA23=1,1,0)","v":0},null,{"$f":"IF('Fiches_Utilisateurs_Service#3'!CC23=1,1,0)","v":0}]
[]
[null,null,{"$f":"IF('Fiches_Utilisateurs_Service#3'!C25=1,1,0)","v":0},null,{"$f":"IF('Fiches_Utilisateurs_Service#3'!E25=1,1,0)","v":0},null,{"$f":"IF('Fiches_Utilisateurs_Service#3'!G25=1,1,0)","v":0},null,{"$f":"IF('Fiches_Utilisateurs_Service#3'!I25=1,1,0)","v":0},null,{"$f":"IF('Fiches_Utilisateurs_Service#3'!K25=1,1,0)","v":0},null,{"$f":"IF('Fiches_Utilisateurs_Service#3'!M25=1,1,0)","v":0},null,{"$f":"IF('Fiches_Utilisateurs_Service#3'!O25=1,1,0)","v":0},null,{"$f":"IF('Fiches_Utilisateurs_Service#3'!Q25=1,1,0)","v":0},null,{"$f":"IF('Fiches_Utilisateurs_Service#3'!S25=1,1,0)","v":0},null,{"$f":"IF('Fiches_Utilisateurs_Service#3'!U25=1,1,0)","v":0},null,{"$f":"IF('Fiches_Utilisateurs_Service#3'!W25=1,1,0)","v":0},null,{"$f":"IF('Fiches_Utilisateurs_Service#3'!Y25=1,1,0)","v":0},null,{"$f":"IF('Fiches_Utilisateurs_Service#3'!AA25=1,1,0)","v":0},null,{"$f":"IF('Fiches_Utilisateurs_Service#3'!AC25=1,1,0)","v":0},null,{"$f":"IF('Fiches_Utilisateurs_Service#3'!AE25=1,1,0)","v":0},null,{"$f":"IF('Fiches_Utilisateurs_Service#3'!AG25=1,1,0)","v":0},null,{"$f":"IF('Fiches_Utilisateurs_Service#3'!AI25=1,1,0)","v":0},null,{"$f":"IF('Fiches_Utilisateurs_Service#3'!AK25=1,1,0)","v":0},null,{"$f":"IF('Fiches_Utilisateurs_Service#3'!AM25=1,1,0)","v":0},null,{"$f":"IF('Fiches_Utilisateurs_Service#3'!AO25=1,1,0)","v":0},null,{"$f":"IF('Fiches_Utilisateurs_Service#3'!AQ25=1,1,0)","v":0},null,{"$f":"IF('Fiches_Utilisateurs_Service#3'!AS25=1,1,0)","v":0},null,{"$f":"IF('Fiches_Utilisateurs_Service#3'!AU25=1,1,0)","v":0},null,{"$f":"IF('Fiches_Utilisateurs_Service#3'!AW25=1,1,0)","v":0},null,{"$f":"IF('Fiches_Utilisateurs_Service#3'!AY25=1,1,0)","v":0},null,{"$f":"IF('Fiches_Utilisateurs_Service#3'!BA25=1,1,0)","v":0},null,{"$f":"IF('Fiches_Utilisateurs_Service#3'!BC25=1,1,0)","v":0},null,{"$f":"IF('Fiches_Utilisateurs_Service#3'!BE25=1,1,0)","v":0},null,{"$f":"IF('Fiches_Utilisateurs_Service#3'!BG25=1,1,0)","v":0},null,{"$f":"IF('Fiches_Utilisateurs_Service#3'!BI25=1,1,0)","v":0},null,{"$f":"IF('Fiches_Utilisateurs_Service#3'!BK25=1,1,0)","v":0},null,{"$f":"IF('Fiches_Utilisateurs_Service#3'!BM25=1,1,0)","v":0},null,{"$f":"IF('Fiches_Utilisateurs_Service#3'!BO25=1,1,0)","v":0},null,{"$f":"IF('Fiches_Utilisateurs_Service#3'!BQ25=1,1,0)","v":0},null,{"$f":"IF('Fiches_Utilisateurs_Service#3'!BS25=1,1,0)","v":0},null,{"$f":"IF('Fiches_Utilisateurs_Service#3'!BU25=1,1,0)","v":0},null,{"$f":"IF('Fiches_Utilisateurs_Service#3'!BW25=1,1,0)","v":0},null,{"$f":"IF('Fiches_Utilisateurs_Service#3'!BY25=1,1,0)","v":0},null,{"$f":"IF('Fiches_Utilisateurs_Service#3'!CA25=1,1,0)","v":0},null,{"$f":"IF('Fiches_Utilisateurs_Service#3'!CC25=1,1,0)","v":0}]
[]
[null,null,{"$f":"IF('Fiches_Utilisateurs_Service#3'!C27=1,1,0)","v":0},null,{"$f":"IF('Fiches_Utilisateurs_Service#3'!E27=1,1,0)","v":0},null,{"$f":"IF('Fiches_Utilisateurs_Service#3'!G27=1,1,0)","v":0},null,{"$f":"IF('Fiches_Utilisateurs_Service#3'!I27=1,1,0)","v":0},null,{"$f":"IF('Fiches_Utilisateurs_Service#3'!K27=1,1,0)","v":0},null,{"$f":"IF('Fiches_Utilisateurs_Service#3'!M27=1,1,0)","v":0},null,{"$f":"IF('Fiches_Utilisateurs_Service#3'!O27=1,1,0)","v":0},null,{"$f":"IF('Fiches_Utilisateurs_Service#3'!Q27=1,1,0)","v":0},null,{"$f":"IF('Fiches_Utilisateurs_Service#3'!S27=1,1,0)","v":0},null,{"$f":"IF('Fiches_Utilisateurs_Service#3'!U27=1,1,0)","v":0},null,{"$f":"IF('Fiches_Utilisateurs_Service#3'!W27=1,1,0)","v":0},null,{"$f":"IF('Fiches_Utilisateurs_Service#3'!Y27=1,1,0)","v":0},null,{"$f":"IF('Fiches_Utilisateurs_Service#3'!AA27=1,1,0)","v":0},null,{"$f":"IF('Fiches_Utilisateurs_Service#3'!AC27=1,1,0)","v":0},null,{"$f":"IF('Fiches_Utilisateurs_Service#3'!AE27=1,1,0)","v":0},null,{"$f":"IF('Fiches_Utilisateurs_Service#3'!AG27=1,1,0)","v":0},null,{"$f":"IF('Fiches_Utilisateurs_Service#3'!AI27=1,1,0)","v":0},null,{"$f":"IF('Fiches_Utilisateurs_Service#3'!AK27=1,1,0)","v":0},null,{"$f":"IF('Fiches_Utilisateurs_Service#3'!AM27=1,1,0)","v":0},null,{"$f":"IF('Fiches_Utilisateurs_Service#3'!AO27=1,1,0)","v":0},null,{"$f":"IF('Fiches_Utilisateurs_Service#3'!AQ27=1,1,0)","v":0},null,{"$f":"IF('Fiches_Utilisateurs_Service#3'!AS27=1,1,0)","v":0},null,{"$f":"IF('Fiches_Utilisateurs_Service#3'!AU27=1,1,0)","v":0},null,{"$f":"IF('Fiches_Utilisateurs_Service#3'!AW27=1,1,0)","v":0},null,{"$f":"IF('Fiches_Utilisateurs_Service#3'!AY27=1,1,0)","v":0},null,{"$f":"IF('Fiches_Utilisateurs_Service#3'!BA27=1,1,0)","v":0},null,{"$f":"IF('Fiches_Utilisateurs_Service#3'!BC27=1,1,0)","v":0},null,{"$f":"IF('Fiches_Utilisateurs_Service#3'!BE27=1,1,0)","v":0},null,{"$f":"IF('Fiches_Utilisateurs_Service#3'!BG27=1,1,0)","v":0},null,{"$f":"IF('Fiches_Utilisateurs_Service#3'!BI27=1,1,0)","v":0},null,{"$f":"IF('Fiches_Utilisateurs_Service#3'!BK27=1,1,0)","v":0},null,{"$f":"IF('Fiches_Utilisateurs_Service#3'!BM27=1,1,0)","v":0},null,{"$f":"IF('Fiches_Utilisateurs_Service#3'!BO27=1,1,0)","v":0},null,{"$f":"IF('Fiches_Utilisateurs_Service#3'!BQ27=1,1,0)","v":0},null,{"$f":"IF('Fiches_Utilisateurs_Service#3'!BS27=1,1,0)","v":0},null,{"$f":"IF('Fiches_Utilisateurs_Service#3'!BU27=1,1,0)","v":0},null,{"$f":"IF('Fiches_Utilisateurs_Service#3'!BW27=1,1,0)","v":0},null,{"$f":"IF('Fiches_Utilisateurs_Service#3'!BY27=1,1,0)","v":0},null,{"$f":"IF('Fiches_Utilisateurs_Service#3'!CA27=1,1,0)","v":0},null,{"$f":"IF('Fiches_Utilisateurs_Service#3'!CC27=1,1,0)","v":0}]
[]
[null,null,{"$f":"IF('Fiches_Utilisateurs_Service#3'!C29=1,1,0)","v":0},null,{"$f":"IF('Fiches_Utilisateurs_Service#3'!E29=1,1,0)","v":0},null,{"$f":"IF('Fiches_Utilisateurs_Service#3'!G29=1,1,0)","v":0},null,{"$f":"IF('Fiches_Utilisateurs_Service#3'!I29=1,1,0)","v":0},null,{"$f":"IF('Fiches_Utilisateurs_Service#3'!K29=1,1,0)","v":0},null,{"$f":"IF('Fiches_Utilisateurs_Service#3'!M29=1,1,0)","v":0},null,{"$f":"IF('Fiches_Utilisateurs_Service#3'!O29=1,1,0)","v":0},null,{"$f":"IF('Fiches_Utilisateurs_Service#3'!Q29=1,1,0)","v":0},null,{"$f":"IF('Fiches_Utilisateurs_Service#3'!S29=1,1,0)","v":0},null,{"$f":"IF('Fiches_Utilisateurs_Service#3'!U29=1,1,0)","v":0},null,{"$f":"IF('Fiches_Utilisateurs_Service#3'!W29=1,1,0)","v":0},null,{"$f":"IF('Fiches_Utilisateurs_Service#3'!Y29=1,1,0)","v":0},null,{"$f":"IF('Fiches_Utilisateurs_Service#3'!AA29=1,1,0)","v":0},null,{"$f":"IF('Fiches_Utilisateurs_Service#3'!AC29=1,1,0)","v":0},null,{"$f":"IF('Fiches_Utilisateurs_Service#3'!AE29=1,1,0)","v":0},null,{"$f":"IF('Fiches_Utilisateurs_Service#3'!AG29=1,1,0)","v":0},null,{"$f":"IF('Fiches_Utilisateurs_Service#3'!AI29=1,1,0)","v":0},null,{"$f":"IF('Fiches_Utilisateurs_Service#3'!AK29=1,1,0)","v":0},null,{"$f":"IF('Fiches_Utilisateurs_Service#3'!AM29=1,1,0)","v":0},null,{"$f":"IF('Fiches_Utilisateurs_Service#3'!AO29=1,1,0)","v":0},null,{"$f":"IF('Fiches_Utilisateurs_Service#3'!AQ29=1,1,0)","v":0},null,{"$f":"IF('Fiches_Utilisateurs_Service#3'!AS29=1,1,0)","v":0},null,{"$f":"IF('Fiches_Utilisateurs_Service#3'!AU29=1,1,0)","v":0},null,{"$f":"IF('Fiches_Utilisateurs_Service#3'!AW29=1,1,0)","v":0},null,{"$f":"IF('Fiches_Utilisateurs_Service#3'!AY29=1,1,0)","v":0},null,{"$f":"IF('Fiches_Utilisateurs_Service#3'!BA29=1,1,0)","v":0},null,{"$f":"IF('Fiches_Utilisateurs_Service#3'!BC29=1,1,0)","v":0},null,{"$f":"IF('Fiches_Utilisateurs_Service#3'!BE29=1,1,0)","v":0},null,{"$f":"IF('Fiches_Utilisateurs_Service#3'!BG29=1,1,0)","v":0},null,{"$f":"IF('Fiches_Utilisateurs_Service#3'!BI29=1,1,0)","v":0},null,{"$f":"IF('Fiches_Utilisateurs_Service#3'!BK29=1,1,0)","v":0},null,{"$f":"IF('Fiches_Utilisateurs_Service#3'!BM29=1,1,0)","v":0},null,{"$f":"IF('Fiches_Utilisateurs_Service#3'!BO29=1,1,0)","v":0},null,{"$f":"IF('Fiches_Utilisateurs_Service#3'!BQ29=1,1,0)","v":0},null,{"$f":"IF('Fiches_Utilisateurs_Service#3'!BS29=1,1,0)","v":0},null,{"$f":"IF('Fiches_Utilisateurs_Service#3'!BU29=1,1,0)","v":0},null,{"$f":"IF('Fiches_Utilisateurs_Service#3'!BW29=1,1,0)","v":0},null,{"$f":"IF('Fiches_Utilisateurs_Service#3'!BY29=1,1,0)","v":0},null,{"$f":"IF('Fiches_Utilisateurs_Service#3'!CA29=1,1,0)","v":0},null,{"$f":"IF('Fiches_Utilisateurs_Service#3'!CC29=1,1,0)","v":0}]
[]
[null,null,{"$f":"IF('Fiches_Utilisateurs_Service#3'!C31=1,1,0)","v":0},null,{"$f":"IF('Fiches_Utilisateurs_Service#3'!E31=1,1,0)","v":0},null,{"$f":"IF('Fiches_Utilisateurs_Service#3'!G31=1,1,0)","v":0},null,{"$f":"IF('Fiches_Utilisateurs_Service#3'!I31=1,1,0)","v":0},null,{"$f":"IF('Fiches_Utilisateurs_Service#3'!K31=1,1,0)","v":0},null,{"$f":"IF('Fiches_Utilisateurs_Service#3'!M31=1,1,0)","v":0},null,{"$f":"IF('Fiches_Utilisateurs_Service#3'!O31=1,1,0)","v":0},null,{"$f":"IF('Fiches_Utilisateurs_Service#3'!Q31=1,1,0)","v":0},null,{"$f":"IF('Fiches_Utilisateurs_Service#3'!S31=1,1,0)","v":0},null,{"$f":"IF('Fiches_Utilisateurs_Service#3'!U31=1,1,0)","v":0},null,{"$f":"IF('Fiches_Utilisateurs_Service#3'!W31=1,1,0)","v":0},null,{"$f":"IF('Fiches_Utilisateurs_Service#3'!Y31=1,1,0)","v":0},null,{"$f":"IF('Fiches_Utilisateurs_Service#3'!AA31=1,1,0)","v":0},null,{"$f":"IF('Fiches_Utilisateurs_Service#3'!AC31=1,1,0)","v":0},null,{"$f":"IF('Fiches_Utilisateurs_Service#3'!AE31=1,1,0)","v":0},null,{"$f":"IF('Fiches_Utilisateurs_Service#3'!AG31=1,1,0)","v":0},null,{"$f":"IF('Fiches_Utilisateurs_Service#3'!AI31=1,1,0)","v":0},null,{"$f":"IF('Fiches_Utilisateurs_Service#3'!AK31=1,1,0)","v":0},null,{"$f":"IF('Fiches_Utilisateurs_Service#3'!AM31=1,1,0)","v":0},null,{"$f":"IF('Fiches_Utilisateurs_Service#3'!AO31=1,1,0)","v":0},null,{"$f":"IF('Fiches_Utilisateurs_Service#3'!AQ31=1,1,0)","v":0},null,{"$f":"IF('Fiches_Utilisateurs_Service#3'!AS31=1,1,0)","v":0},null,{"$f":"IF('Fiches_Utilisateurs_Service#3'!AU31=1,1,0)","v":0},null,{"$f":"IF('Fiches_Utilisateurs_Service#3'!AW31=1,1,0)","v":0},null,{"$f":"IF('Fiches_Utilisateurs_Service#3'!AY31=1,1,0)","v":0},null,{"$f":"IF('Fiches_Utilisateurs_Service#3'!BA31=1,1,0)","v":0},null,{"$f":"IF('Fiches_Utilisateurs_Service#3'!BC31=1,1,0)","v":0},null,{"$f":"IF('Fiches_Utilisateurs_Service#3'!BE31=1,1,0)","v":0},null,{"$f":"IF('Fiches_Utilisateurs_Service#3'!BG31=1,1,0)","v":0},null,{"$f":"IF('Fiches_Utilisateurs_Service#3'!BI31=1,1,0)","v":0},null,{"$f":"IF('Fiches_Utilisateurs_Service#3'!BK31=1,1,0)","v":0},null,{"$f":"IF('Fiches_Utilisateurs_Service#3'!BM31=1,1,0)","v":0},null,{"$f":"IF('Fiches_Utilisateurs_Service#3'!BO31=1,1,0)","v":0},null,{"$f":"IF('Fiches_Utilisateurs_Service#3'!BQ31=1,1,0)","v":0},null,{"$f":"IF('Fiches_Utilisateurs_Service#3'!BS31=1,1,0)","v":0},null,{"$f":"IF('Fiches_Utilisateurs_Service#3'!BU31=1,1,0)","v":0},null,{"$f":"IF('Fiches_Utilisateurs_Service#3'!BW31=1,1,0)","v":0},null,{"$f":"IF('Fiches_Utilisateurs_Service#3'!BY31=1,1,0)","v":0},null,{"$f":"IF('Fiches_Utilisateurs_Service#3'!CA31=1,1,0)","v":0},null,{"$f":"IF('Fiches_Utilisateurs_Service#3'!CC31=1,1,0)","v":0}]
[]
[null,null,{"$f":"IF('Fiches_Utilisateurs_Service#3'!C33=1,1,0)","v":0},null,{"$f":"IF('Fiches_Utilisateurs_Service#3'!E33=1,1,0)","v":0},null,{"$f":"IF('Fiches_Utilisateurs_Service#3'!G33=1,1,0)","v":0},null,{"$f":"IF('Fiches_Utilisateurs_Service#3'!I33=1,1,0)","v":0},null,{"$f":"IF('Fiches_Utilisateurs_Service#3'!K33=1,1,0)","v":0},null,{"$f":"IF('Fiches_Utilisateurs_Service#3'!M33=1,1,0)","v":0},null,{"$f":"IF('Fiches_Utilisateurs_Service#3'!O33=1,1,0)","v":0},null,{"$f":"IF('Fiches_Utilisateurs_Service#3'!Q33=1,1,0)","v":0},null,{"$f":"IF('Fiches_Utilisateurs_Service#3'!S33=1,1,0)","v":0},null,{"$f":"IF('Fiches_Utilisateurs_Service#3'!U33=1,1,0)","v":0},null,{"$f":"IF('Fiches_Utilisateurs_Service#3'!W33=1,1,0)","v":0},null,{"$f":"IF('Fiches_Utilisateurs_Service#3'!Y33=1,1,0)","v":0},null,{"$f":"IF('Fiches_Utilisateurs_Service#3'!AA33=1,1,0)","v":0},null,{"$f":"IF('Fiches_Utilisateurs_Service#3'!AC33=1,1,0)","v":0},null,{"$f":"IF('Fiches_Utilisateurs_Service#3'!AE33=1,1,0)","v":0},null,{"$f":"IF('Fiches_Utilisateurs_Service#3'!AG33=1,1,0)","v":0},null,{"$f":"IF('Fiches_Utilisateurs_Service#3'!AI33=1,1,0)","v":0},null,{"$f":"IF('Fiches_Utilisateurs_Service#3'!AK33=1,1,0)","v":0},null,{"$f":"IF('Fiches_Utilisateurs_Service#3'!AM33=1,1,0)","v":0},null,{"$f":"IF('Fiches_Utilisateurs_Service#3'!AO33=1,1,0)","v":0},null,{"$f":"IF('Fiches_Utilisateurs_Service#3'!AQ33=1,1,0)","v":0},null,{"$f":"IF('Fiches_Utilisateurs_Service#3'!AS33=1,1,0)","v":0},null,{"$f":"IF('Fiches_Utilisateurs_Service#3'!AU33=1,1,0)","v":0},null,{"$f":"IF('Fiches_Utilisateurs_Service#3'!AW33=1,1,0)","v":0},null,{"$f":"IF('Fiches_Utilisateurs_Service#3'!AY33=1,1,0)","v":0},null,{"$f":"IF('Fiches_Utilisateurs_Service#3'!BA33=1,1,0)","v":0},null,{"$f":"IF('Fiches_Utilisateurs_Service#3'!BC33=1,1,0)","v":0},null,{"$f":"IF('Fiches_Utilisateurs_Service#3'!BE33=1,1,0)","v":0},null,{"$f":"IF('Fiches_Utilisateurs_Service#3'!BG33=1,1,0)","v":0},null,{"$f":"IF('Fiches_Utilisateurs_Service#3'!BI33=1,1,0)","v":0},null,{"$f":"IF('Fiches_Utilisateurs_Service#3'!BK33=1,1,0)","v":0},null,{"$f":"IF('Fiches_Utilisateurs_Service#3'!BM33=1,1,0)","v":0},null,{"$f":"IF('Fiches_Utilisateurs_Service#3'!BO33=1,1,0)","v":0},null,{"$f":"IF('Fiches_Utilisateurs_Service#3'!BQ33=1,1,0)","v":0},null,{"$f":"IF('Fiches_Utilisateurs_Service#3'!BS33=1,1,0)","v":0},null,{"$f":"IF('Fiches_Utilisateurs_Service#3'!BU33=1,1,0)","v":0},null,{"$f":"IF('Fiches_Utilisateurs_Service#3'!BW33=1,1,0)","v":0},null,{"$f":"IF('Fiches_Utilisateurs_Service#3'!BY33=1,1,0)","v":0},null,{"$f":"IF('Fiches_Utilisateurs_Service#3'!CA33=1,1,0)","v":0},null,{"$f":"IF('Fiches_Utilisateurs_Service#3'!CC33=1,1,0)","v":0}]
[]
[null,null,{"$f":"IF('Fiches_Utilisateurs_Service#3'!C35=1,1,0)","v":0},null,{"$f":"IF('Fiches_Utilisateurs_Service#3'!E35=1,1,0)","v":0},null,{"$f":"IF('Fiches_Utilisateurs_Service#3'!G35=1,1,0)","v":0},null,{"$f":"IF('Fiches_Utilisateurs_Service#3'!I35=1,1,0)","v":0},null,{"$f":"IF('Fiches_Utilisateurs_Service#3'!K35=1,1,0)","v":0},null,{"$f":"IF('Fiches_Utilisateurs_Service#3'!M35=1,1,0)","v":0},null,{"$f":"IF('Fiches_Utilisateurs_Service#3'!O35=1,1,0)","v":0},null,{"$f":"IF('Fiches_Utilisateurs_Service#3'!Q35=1,1,0)","v":0},null,{"$f":"IF('Fiches_Utilisateurs_Service#3'!S35=1,1,0)","v":0},null,{"$f":"IF('Fiches_Utilisateurs_Service#3'!U35=1,1,0)","v":0},null,{"$f":"IF('Fiches_Utilisateurs_Service#3'!W35=1,1,0)","v":0},null,{"$f":"IF('Fiches_Utilisateurs_Service#3'!Y35=1,1,0)","v":0},null,{"$f":"IF('Fiches_Utilisateurs_Service#3'!AA35=1,1,0)","v":0},null,{"$f":"IF('Fiches_Utilisateurs_Service#3'!AC35=1,1,0)","v":0},null,{"$f":"IF('Fiches_Utilisateurs_Service#3'!AE35=1,1,0)","v":0},null,{"$f":"IF('Fiches_Utilisateurs_Service#3'!AG35=1,1,0)","v":0},null,{"$f":"IF('Fiches_Utilisateurs_Service#3'!AI35=1,1,0)","v":0},null,{"$f":"IF('Fiches_Utilisateurs_Service#3'!AK35=1,1,0)","v":0},null,{"$f":"IF('Fiches_Utilisateurs_Service#3'!AM35=1,1,0)","v":0},null,{"$f":"IF('Fiches_Utilisateurs_Service#3'!AO35=1,1,0)","v":0},null,{"$f":"IF('Fiches_Utilisateurs_Service#3'!AQ35=1,1,0)","v":0},null,{"$f":"IF('Fiches_Utilisateurs_Service#3'!AS35=1,1,0)","v":0},null,{"$f":"IF('Fiches_Utilisateurs_Service#3'!AU35=1,1,0)","v":0},null,{"$f":"IF('Fiches_Utilisateurs_Service#3'!AW35=1,1,0)","v":0},null,{"$f":"IF('Fiches_Utilisateurs_Service#3'!AY35=1,1,0)","v":0},null,{"$f":"IF('Fiches_Utilisateurs_Service#3'!BA35=1,1,0)","v":0},null,{"$f":"IF('Fiches_Utilisateurs_Service#3'!BC35=1,1,0)","v":0},null,{"$f":"IF('Fiches_Utilisateurs_Service#3'!BE35=1,1,0)","v":0},null,{"$f":"IF('Fiches_Utilisateurs_Service#3'!BG35=1,1,0)","v":0},null,{"$f":"IF('Fiches_Utilisateurs_Service#3'!BI35=1,1,0)","v":0},null,{"$f":"IF('Fiches_Utilisateurs_Service#3'!BK35=1,1,0)","v":0},null,{"$f":"IF('Fiches_Utilisateurs_Service#3'!BM35=1,1,0)","v":0},null,{"$f":"IF('Fiches_Utilisateurs_Service#3'!BO35=1,1,0)","v":0},null,{"$f":"IF('Fiches_Utilisateurs_Service#3'!BQ35=1,1,0)","v":0},null,{"$f":"IF('Fiches_Utilisateurs_Service#3'!BS35=1,1,0)","v":0},null,{"$f":"IF('Fiches_Utilisateurs_Service#3'!BU35=1,1,0)","v":0},null,{"$f":"IF('Fiches_Utilisateurs_Service#3'!BW35=1,1,0)","v":0},null,{"$f":"IF('Fiches_Utilisateurs_Service#3'!BY35=1,1,0)","v":0},null,{"$f":"IF('Fiches_Utilisateurs_Service#3'!CA35=1,1,0)","v":0},null,{"$f":"IF('Fiches_Utilisateurs_Service#3'!CC35=1,1,0)","v":0}]
[]
["tot sale",{"$f":"SUM(C37:CC37)","v":0},{"$f":"SUM(C15:C35)","v":0},null,{"$f":"SUM(E15:E35)","v":0},null,{"$f":"SUM(G15:G35)","v":0},null,{"$f":"SUM(I15:I35)","v":0},null,{"$f":"SUM(K15:K35)","v":0},null,{"$f":"SUM(M15:M35)","v":0},null,{"$f":"SUM(O15:O35)","v":0},null,{"$f":"SUM(Q15:Q35)","v":0},null,{"$f":"SUM(S15:S35)","v":0},null,{"$f":"SUM(U15:U35)","v":0},null,{"$f":"SUM(W15:W35)","v":0},null,{"$f":"SUM(Y15:Y35)","v":0},null,{"$f":"SUM(AA15:AA35)","v":0},null,{"$f":"SUM(AC15:AC35)","v":0},null,{"$f":"SUM(AE15:AE35)","v":0},null,{"$f":"SUM(AG15:AG35)","v":0},null,{"$f":"SUM(AI15:AI35)","v":0},null,{"$f":"SUM(AK15:AK35)","v":0},null,{"$f":"SUM(AM15:AM35)","v":0},null,{"$f":"SUM(AO15:AO35)","v":0},null,{"$f":"SUM(AQ15:AQ35)","v":0},null,{"$f":"SUM(AS15:AS35)","v":0},null,{"$f":"SUM(AU15:AU35)","v":0},null,{"$f":"SUM(AW15:AW35)","v":0},null,{"$f":"SUM(AY15:AY35)","v":0},null,{"$f":"SUM(BA15:BA35)","v":0},null,{"$f":"SUM(BC15:BC35)","v":0},null,{"$f":"SUM(BE15:BE35)","v":0},null,{"$f":"SUM(BG15:BG35)","v":0},null,{"$f":"SUM(BI15:BI35)","v":0},null,{"$f":"SUM(BK15:BK35)","v":0},null,{"$f":"SUM(BM15:BM35)","v":0},null,{"$f":"SUM(BO15:BO35)","v":0},null,{"$f":"SUM(BQ15:BQ35)","v":0},null,{"$f":"SUM(BS15:BS35)","v":0},null,{"$f":"SUM(BU15:BU35)","v":0},null,{"$f":"SUM(BW15:BW35)","v":0},null,{"$f":"SUM(BY15:BY35)","v":0},null,{"$f":"SUM(CA15:CA35)","v":0},null,{"$f":"SUM(CC15:CC35)","v":0}]
[]
[null,null,{"$f":"IF('Fiches_Utilisateurs_Service#3'!C39=1,1,0)","v":0},null,{"$f":"IF('Fiches_Utilisateurs_Service#3'!E39=1,1,0)","v":0},null,{"$f":"IF('Fiches_Utilisateurs_Service#3'!G39=1,1,0)","v":0},null,{"$f":"IF('Fiches_Utilisateurs_Service#3'!I39=1,1,0)","v":0},null,{"$f":"IF('Fiches_Utilisateurs_Service#3'!K39=1,1,0)","v":0},null,{"$f":"IF('Fiches_Utilisateurs_Service#3'!M39=1,1,0)","v":0},null,{"$f":"IF('Fiches_Utilisateurs_Service#3'!O39=1,1,0)","v":0},null,{"$f":"IF('Fiches_Utilisateurs_Service#3'!Q39=1,1,0)","v":0},null,{"$f":"IF('Fiches_Utilisateurs_Service#3'!S39=1,1,0)","v":0},null,{"$f":"IF('Fiches_Utilisateurs_Service#3'!U39=1,1,0)","v":0},null,{"$f":"IF('Fiches_Utilisateurs_Service#3'!W39=1,1,0)","v":0},null,{"$f":"IF('Fiches_Utilisateurs_Service#3'!Y39=1,1,0)","v":0},null,{"$f":"IF('Fiches_Utilisateurs_Service#3'!AA39=1,1,0)","v":0},null,{"$f":"IF('Fiches_Utilisateurs_Service#3'!AC39=1,1,0)","v":0},null,{"$f":"IF('Fiches_Utilisateurs_Service#3'!AE39=1,1,0)","v":0},null,{"$f":"IF('Fiches_Utilisateurs_Service#3'!AG39=1,1,0)","v":0},null,{"$f":"IF('Fiches_Utilisateurs_Service#3'!AI39=1,1,0)","v":0},null,{"$f":"IF('Fiches_Utilisateurs_Service#3'!AK39=1,1,0)","v":0},null,{"$f":"IF('Fiches_Utilisateurs_Service#3'!AM39=1,1,0)","v":0},null,{"$f":"IF('Fiches_Utilisateurs_Service#3'!AO39=1,1,0)","v":0},null,{"$f":"IF('Fiches_Utilisateurs_Service#3'!AQ39=1,1,0)","v":0},null,{"$f":"IF('Fiches_Utilisateurs_Service#3'!AS39=1,1,0)","v":0},null,{"$f":"IF('Fiches_Utilisateurs_Service#3'!AU39=1,1,0)","v":0},null,{"$f":"IF('Fiches_Utilisateurs_Service#3'!AW39=1,1,0)","v":0},null,{"$f":"IF('Fiches_Utilisateurs_Service#3'!AY39=1,1,0)","v":0},null,{"$f":"IF('Fiches_Utilisateurs_Service#3'!BA39=1,1,0)","v":0},null,{"$f":"IF('Fiches_Utilisateurs_Service#3'!BC39=1,1,0)","v":0},null,{"$f":"IF('Fiches_Utilisateurs_Service#3'!BE39=1,1,0)","v":0},null,{"$f":"IF('Fiches_Utilisateurs_Service#3'!BG39=1,1,0)","v":0},null,{"$f":"IF('Fiches_Utilisateurs_Service#3'!BI39=1,1,0)","v":0},null,{"$f":"IF('Fiches_Utilisateurs_Service#3'!BK39=1,1,0)","v":0},null,{"$f":"IF('Fiches_Utilisateurs_Service#3'!BM39=1,1,0)","v":0},null,{"$f":"IF('Fiches_Utilisateurs_Service#3'!BO39=1,1,0)","v":0},null,{"$f":"IF('Fiches_Utilisateurs_Service#3'!BQ39=1,1,0)","v":0},null,{"$f":"IF('Fiches_Utilisateurs_Service#3'!BS39=1,1,0)","v":0},null,{"$f":"IF('Fiches_Utilisateurs_Service#3'!BU39=1,1,0)","v":0},null,{"$f":"IF('Fiches_Utilisateurs_Service#3'!BW39=1,1,0)","v":0},null,{"$f":"IF('Fiches_Utilisateurs_Service#3'!BY39=1,1,0)","v":0},null,{"$f":"IF('Fiches_Utilisateurs_Service#3'!CA39=1,1,0)","v":0},null,{"$f":"IF('Fiches_Utilisateurs_Service#3'!CC39=1,1,0)","v":0}]
[]
[null,null,{"$f":"IF('Fiches_Utilisateurs_Service#3'!C41=1,1,0)","v":0},null,{"$f":"IF('Fiches_Utilisateurs_Service#3'!E41=1,1,0)","v":0},null,{"$f":"IF('Fiches_Utilisateurs_Service#3'!G41=1,1,0)","v":0},null,{"$f":"IF('Fiches_Utilisateurs_Service#3'!I41=1,1,0)","v":0},null,{"$f":"IF('Fiches_Utilisateurs_Service#3'!K41=1,1,0)","v":0},null,{"$f":"IF('Fiches_Utilisateurs_Service#3'!M41=1,1,0)","v":0},null,{"$f":"IF('Fiches_Utilisateurs_Service#3'!O41=1,1,0)","v":0},null,{"$f":"IF('Fiches_Utilisateurs_Service#3'!Q41=1,1,0)","v":0},null,{"$f":"IF('Fiches_Utilisateurs_Service#3'!S41=1,1,0)","v":0},null,{"$f":"IF('Fiches_Utilisateurs_Service#3'!U41=1,1,0)","v":0},null,{"$f":"IF('Fiches_Utilisateurs_Service#3'!W41=1,1,0)","v":0},null,{"$f":"IF('Fiches_Utilisateurs_Service#3'!Y41=1,1,0)","v":0},null,{"$f":"IF('Fiches_Utilisateurs_Service#3'!AA41=1,1,0)","v":0},null,{"$f":"IF('Fiches_Utilisateurs_Service#3'!AC41=1,1,0)","v":0},null,{"$f":"IF('Fiches_Utilisateurs_Service#3'!AE41=1,1,0)","v":0},null,{"$f":"IF('Fiches_Utilisateurs_Service#3'!AG41=1,1,0)","v":0},null,{"$f":"IF('Fiches_Utilisateurs_Service#3'!AI41=1,1,0)","v":0},null,{"$f":"IF('Fiches_Utilisateurs_Service#3'!AK41=1,1,0)","v":0},null,{"$f":"IF('Fiches_Utilisateurs_Service#3'!AM41=1,1,0)","v":0},null,{"$f":"IF('Fiches_Utilisateurs_Service#3'!AO41=1,1,0)","v":0},null,{"$f":"IF('Fiches_Utilisateurs_Service#3'!AQ41=1,1,0)","v":0},null,{"$f":"IF('Fiches_Utilisateurs_Service#3'!AS41=1,1,0)","v":0},null,{"$f":"IF('Fiches_Utilisateurs_Service#3'!AU41=1,1,0)","v":0},null,{"$f":"IF('Fiches_Utilisateurs_Service#3'!AW41=1,1,0)","v":0},null,{"$f":"IF('Fiches_Utilisateurs_Service#3'!AY41=1,1,0)","v":0},null,{"$f":"IF('Fiches_Utilisateurs_Service#3'!BA41=1,1,0)","v":0},null,{"$f":"IF('Fiches_Utilisateurs_Service#3'!BC41=1,1,0)","v":0},null,{"$f":"IF('Fiches_Utilisateurs_Service#3'!BE41=1,1,0)","v":0},null,{"$f":"IF('Fiches_Utilisateurs_Service#3'!BG41=1,1,0)","v":0},null,{"$f":"IF('Fiches_Utilisateurs_Service#3'!BI41=1,1,0)","v":0},null,{"$f":"IF('Fiches_Utilisateurs_Service#3'!BK41=1,1,0)","v":0},null,{"$f":"IF('Fiches_Utilisateurs_Service#3'!BM41=1,1,0)","v":0},null,{"$f":"IF('Fiches_Utilisateurs_Service#3'!BO41=1,1,0)","v":0},null,{"$f":"IF('Fiches_Utilisateurs_Service#3'!BQ41=1,1,0)","v":0},null,{"$f":"IF('Fiches_Utilisateurs_Service#3'!BS41=1,1,0)","v":0},null,{"$f":"IF('Fiches_Utilisateurs_Service#3'!BU41=1,1,0)","v":0},null,{"$f":"IF('Fiches_Utilisateurs_Service#3'!BW41=1,1,0)","v":0},null,{"$f":"IF('Fiches_Utilisateurs_Service#3'!BY41=1,1,0)","v":0},null,{"$f":"IF('Fiches_Utilisateurs_Service#3'!CA41=1,1,0)","v":0},null,{"$f":"IF('Fiches_Utilisateurs_Service#3'!CC41=1,1,0)","v":0}]
[]
[null,null,{"$f":"IF('Fiches_Utilisateurs_Service#3'!C43=1,1,0)","v":0},null,{"$f":"IF('Fiches_Utilisateurs_Service#3'!E43=1,1,0)","v":0},null,{"$f":"IF('Fiches_Utilisateurs_Service#3'!G43=1,1,0)","v":0},null,{"$f":"IF('Fiches_Utilisateurs_Service#3'!I43=1,1,0)","v":0},null,{"$f":"IF('Fiches_Utilisateurs_Service#3'!K43=1,1,0)","v":0},null,{"$f":"IF('Fiches_Utilisateurs_Service#3'!M43=1,1,0)","v":0},null,{"$f":"IF('Fiches_Utilisateurs_Service#3'!O43=1,1,0)","v":0},null,{"$f":"IF('Fiches_Utilisateurs_Service#3'!Q43=1,1,0)","v":0},null,{"$f":"IF('Fiches_Utilisateurs_Service#3'!S43=1,1,0)","v":0},null,{"$f":"IF('Fiches_Utilisateurs_Service#3'!U43=1,1,0)","v":0},null,{"$f":"IF('Fiches_Utilisateurs_Service#3'!W43=1,1,0)","v":0},null,{"$f":"IF('Fiches_Utilisateurs_Service#3'!Y43=1,1,0)","v":0},null,{"$f":"IF('Fiches_Utilisateurs_Service#3'!AA43=1,1,0)","v":0},null,{"$f":"IF('Fiches_Utilisateurs_Service#3'!AC43=1,1,0)","v":0},null,{"$f":"IF('Fiches_Utilisateurs_Service#3'!AE43=1,1,0)","v":0},null,{"$f":"IF('Fiches_Utilisateurs_Service#3'!AG43=1,1,0)","v":0},null,{"$f":"IF('Fiches_Utilisateurs_Service#3'!AI43=1,1,0)","v":0},null,{"$f":"IF('Fiches_Utilisateurs_Service#3'!AK43=1,1,0)","v":0},null,{"$f":"IF('Fiches_Utilisateurs_Service#3'!AM43=1,1,0)","v":0},null,{"$f":"IF('Fiches_Utilisateurs_Service#3'!AO43=1,1,0)","v":0},null,{"$f":"IF('Fiches_Utilisateurs_Service#3'!AQ43=1,1,0)","v":0},null,{"$f":"IF('Fiches_Utilisateurs_Service#3'!AS43=1,1,0)","v":0},null,{"$f":"IF('Fiches_Utilisateurs_Service#3'!AU43=1,1,0)","v":0},null,{"$f":"IF('Fiches_Utilisateurs_Service#3'!AW43=1,1,0)","v":0},null,{"$f":"IF('Fiches_Utilisateurs_Service#3'!AY43=1,1,0)","v":0},null,{"$f":"IF('Fiches_Utilisateurs_Service#3'!BA43=1,1,0)","v":0},null,{"$f":"IF('Fiches_Utilisateurs_Service#3'!BC43=1,1,0)","v":0},null,{"$f":"IF('Fiches_Utilisateurs_Service#3'!BE43=1,1,0)","v":0},null,{"$f":"IF('Fiches_Utilisateurs_Service#3'!BG43=1,1,0)","v":0},null,{"$f":"IF('Fiches_Utilisateurs_Service#3'!BI43=1,1,0)","v":0},null,{"$f":"IF('Fiches_Utilisateurs_Service#3'!BK43=1,1,0)","v":0},null,{"$f":"IF('Fiches_Utilisateurs_Service#3'!BM43=1,1,0)","v":0},null,{"$f":"IF('Fiches_Utilisateurs_Service#3'!BO43=1,1,0)","v":0},null,{"$f":"IF('Fiches_Utilisateurs_Service#3'!BQ43=1,1,0)","v":0},null,{"$f":"IF('Fiches_Utilisateurs_Service#3'!BS43=1,1,0)","v":0},null,{"$f":"IF('Fiches_Utilisateurs_Service#3'!BU43=1,1,0)","v":0},null,{"$f":"IF('Fiches_Utilisateurs_Service#3'!BW43=1,1,0)","v":0},null,{"$f":"IF('Fiches_Utilisateurs_Service#3'!BY43=1,1,0)","v":0},null,{"$f":"IF('Fiches_Utilisateurs_Service#3'!CA43=1,1,0)","v":0},null,{"$f":"IF('Fiches_Utilisateurs_Service#3'!CC43=1,1,0)","v":0}]
[]
["tot propre",{"$f":"SUM(C45:CC45)","v":0},{"$f":"SUM(C39:C43)","v":0},null,{"$f":"SUM(E39:E43)","v":0},null,{"$f":"SUM(G39:G43)","v":0},null,{"$f":"SUM(I39:I43)","v":0},null,{"$f":"SUM(K39:K43)","v":0},null,{"$f":"SUM(M39:M43)","v":0},null,{"$f":"SUM(O39:O43)","v":0},null,{"$f":"SUM(Q39:Q43)","v":0},null,{"$f":"SUM(S39:S43)","v":0},null,{"$f":"SUM(U39:U43)","v":0},null,{"$f":"SUM(W39:W43)","v":0},null,{"$f":"SUM(Y39:Y43)","v":0},null,{"$f":"SUM(AA39:AA43)","v":0},null,{"$f":"SUM(AC39:AC43)","v":0},null,{"$f":"SUM(AE39:AE43)","v":0},null,{"$f":"SUM(AG39:AG43)","v":0},null,{"$f":"SUM(AI39:AI43)","v":0},null,{"$f":"SUM(AK39:AK43)","v":0},null,{"$f":"SUM(AM39:AM43)","v":0},null,{"$f":"SUM(AO39:AO43)","v":0},null,{"$f":"SUM(AQ39:AQ43)","v":0},null,{"$f":"SUM(AS39:AS43)","v":0},null,{"$f":"SUM(AU39:AU43)","v":0},null,{"$f":"SUM(AW39:AW43)","v":0},null,{"$f":"SUM(AY39:AY43)","v":0},null,{"$f":"SUM(BA39:BA43)","v":0},null,{"$f":"SUM(BC39:BC43)","v":0},null,{"$f":"SUM(BE39:BE43)","v":0},null,{"$f":"SUM(BG39:BG43)","v":0},null,{"$f":"SUM(BI39:BI43)","v":0},null,{"$f":"SUM(BK39:BK43)","v":0},null,{"$f":"SUM(BM39:BM43)","v":0},null,{"$f":"SUM(BO39:BO43)","v":0},null,{"$f":"SUM(BQ39:BQ43)","v":0},null,{"$f":"SUM(BS39:BS43)","v":0},null,{"$f":"SUM(BU39:BU43)","v":0},null,{"$f":"SUM(BW39:BW43)","v":0},null,{"$f":"SUM(BY39:BY43)","v":0},null,{"$f":"SUM(CA39:CA43)","v":0},null,{"$f":"SUM(CC39:CC43)","v":0}]
[]
["tot tot",{"$f":"SUM(C47:CC47)","v":0},{"$f":"C45+C37","v":0},null,{"$f":"E45+E37","v":0},null,{"$f":"G45+G37","v":0},null,{"$f":"I45+I37","v":0},null,{"$f":"K45+K37","v":0},null,{"$f":"M45+M37","v":0},null,{"$f":"O45+O37","v":0},null,{"$f":"Q45+Q37","v":0},null,{"$f":"S45+S37","v":0},null,{"$f":"U45+U37","v":0},null,{"$f":"W45+W37","v":0},null,{"$f":"Y45+Y37","v":0},null,{"$f":"AA45+AA37","v":0},null,{"$f":"AC45+AC37","v":0},null,{"$f":"AE45+AE37","v":0},null,{"$f":"AG45+AG37","v":0},null,{"$f":"AI45+AI37","v":0},null,{"$f":"AK45+AK37","v":0},null,{"$f":"AM45+AM37","v":0},null,{"$f":"AO45+AO37","v":0},null,{"$f":"AQ45+AQ37","v":0},null,{"$f":"AS45+AS37","v":0},null,{"$f":"AU45+AU37","v":0},null,{"$f":"AW45+AW37","v":0},null,{"$f":"AY45+AY37","v":0},null,{"$f":"BA45+BA37","v":0},null,{"$f":"BC45+BC37","v":0},null,{"$f":"BE45+BE37","v":0},null,{"$f":"BG45+BG37","v":0},null,{"$f":"BI45+BI37","v":0},null,{"$f":"BK45+BK37","v":0},null,{"$f":"BM45+BM37","v":0},null,{"$f":"BO45+BO37","v":0},null,{"$f":"BQ45+BQ37","v":0},null,{"$f":"BS45+BS37","v":0},null,{"$f":"BU45+BU37","v":0},null,{"$f":"BW45+BW37","v":0},null,{"$f":"BY45+BY37","v":0},null,{"$f":"CA45+CA37","v":0},null,{"$f":"CC45+CC37","v":0}]
[]
[]
[]
[]
[1,{"$f":"SUM(C52:CC52)","v":0},{"$f":"IF(C11=\"1\",1,0)","v":0},null,{"$f":"IF(E11=\"1\",1,0)","v":0},null,0,null,0,null,0,null,0,null,0,null,0,null,0,null,0,null,0,null,0,null,0,null,0,null,0,null,0,null,0,null,0,null,0,null,0,null,0,null,0,null,0,null,0,null,0,null,0,null,0,null,0,null,0,null,0,null,0,null,0,null,0,null,{"$f":"IF(BQ11=\"1\",1,0)","v":0},null,0,null,0,null,0,null,0,null,0,null,0]
[null,{"$f":"SUM(C53:CC53)","v":0},{"$f":"IF(C52=1,(C77+C82),0)","v":0},null,{"$f":"IF(E52=1,(E77+E82),0)","v":0},null,{"$f":"IF(G52=1,(G77+G82),0)","v":0},null,{"$f":"IF(I52=1,(I77+I82),0)","v":0},null,{"$f":"IF(K52=1,(K77+K82),0)","v":0},null,{"$f":"IF(M52=1,(M77+M82),0)","v":0},null,{"$f":"IF(O52=1,(O77+O82),0)","v":0},null,{"$f":"IF(Q52=1,(Q77+Q82),0)","v":0},null,{"$f":"IF(S52=1,(S77+S82),0)","v":0},null,{"$f":"IF(U52=1,(U77+U82),0)","v":0},null,{"$f":"IF(W52=1,(W77+W82),0)","v":0},null,{"$f":"IF(Y52=1,(Y77+Y82),0)","v":0},null,{"$f":"IF(AA52=1,(AA77+AA82),0)","v":0},null,{"$f":"IF(AC52=1,(AC77+AC82),0)","v":0},null,{"$f":"IF(AE52=1,(AE77+AE82),0)","v":0},null,{"$f":"IF(AG52=1,(AG77+AG82),0)","v":0},null,{"$f":"IF(AI52=1,(AI77+AI82),0)","v":0},null,{"$f":"IF(AK52=1,(AK77+AK82),0)","v":0},null,{"$f":"IF(AM52=1,(AM77+AM82),0)","v":0},null,{"$f":"IF(AO52=1,(AO77+AO82),0)","v":0},null,{"$f":"IF(AQ52=1,(AQ77+AQ82),0)","v":0},null,{"$f":"IF(AS52=1,(AS77+AS82),0)","v":0},null,{"$f":"IF(AU52=1,(AU77+AU82),0)","v":0},null,{"$f":"IF(AW52=1,(AW77+AW82),0)","v":0},null,{"$f":"IF(AY52=1,(AY77+AY82),0)","v":0},null,{"$f":"IF(BA52=1,(BA77+BA82),0)","v":0},null,{"$f":"IF(BC52=1,(BC77+BC82),0)","v":0},null,{"$f":"IF(BE52=1,(BE77+BE82),0)","v":0},null,{"$f":"IF(BG52=1,(BG77+BG82),0)","v":0},null,{"$f":"IF(BI52=1,(BI77+BI82),0)","v":0},null,{"$f":"IF(BK52=1,(BK77+BK82),0)","v":0},null,{"$f":"IF(BM52=1,(BM77+BM82),0)","v":0},null,{"$f":"IF(BO52=1,(BO77+BO82),0)","v":0},null,{"$f":"IF(BQ52=1,(BQ77+BQ82),0)","v":0},null,{"$f":"IF(BS52=1,(BS77+BS82),0)","v":0},null,{"$f":"IF(BU52=1,(BU77+BU82),0)","v":0},null,{"$f":"IF(BW52=1,(BW77+BW82),0)","v":0},null,{"$f":"IF(BY52=1,(BY77+BY82),0)","v":0},null,{"$f":"IF(CA52=1,(CA77+CA82),0)","v":0},null,{"$f":"IF(CC52=1,(CC77+CC82),0)","v":0}]
[2,0,{"$f":"IF(C11=\"2\",1,0)","v":0},null,{"$f":"IF(E11=\"2\",1,0)","v":0},null,0,null,0,null,0,null,0,null,0,null,0,null,0,null,0,null,0,null,0,null,0,null,0,null,0,null,0,null,0,null,0,null,0,null,0,null,0,null,0,null,0,null,0,null,0,null,0,null,0,null,0,null,0,null,0,null,0,null,0,null,0,null,{"$f":"IF(BQ11=\"2\",1,0)","v":0},null,0,null,0,null,0,null,0,null,0,null,0]
[null,0,{"$f":"IF(C54=1,(C77+C82),0)","v":0},null,{"$f":"IF(E54=1,(E77+E82),0)","v":0},null,{"$f":"IF(G54=1,(G77+G82),0)","v":0},null,{"$f":"IF(I54=1,(I77+I82),0)","v":0},null,{"$f":"IF(K54=1,(K77+K82),0)","v":0},null,{"$f":"IF(M54=1,(M77+M82),0)","v":0},null,{"$f":"IF(O54=1,(O77+O82),0)","v":0},null,{"$f":"IF(Q54=1,(Q77+Q82),0)","v":0},null,{"$f":"IF(S54=1,(S77+S82),0)","v":0},null,{"$f":"IF(U54=1,(U77+U82),0)","v":0},null,{"$f":"IF(W54=1,(W77+W82),0)","v":0},null,{"$f":"IF(Y54=1,(Y77+Y82),0)","v":0},null,{"$f":"IF(AA54=1,(AA77+AA82),0)","v":0},null,{"$f":"IF(AC54=1,(AC77+AC82),0)","v":0},null,{"$f":"IF(AE54=1,(AE77+AE82),0)","v":0},null,{"$f":"IF(AG54=1,(AG77+AG82),0)","v":0},null,{"$f":"IF(AI54=1,(AI77+AI82),0)","v":0},null,{"$f":"IF(AK54=1,(AK77+AK82),0)","v":0},null,{"$f":"IF(AM54=1,(AM77+AM82),0)","v":0},null,{"$f":"IF(AO54=1,(AO77+AO82),0)","v":0},null,{"$f":"IF(AQ54=1,(AQ77+AQ82),0)","v":0},null,{"$f":"IF(AS54=1,(AS77+AS82),0)","v":0},null,{"$f":"IF(AU54=1,(AU77+AU82),0)","v":0},null,{"$f":"IF(AW54=1,(AW77+AW82),0)","v":0},null,{"$f":"IF(AY54=1,(AY77+AY82),0)","v":0},null,{"$f":"IF(BA54=1,(BA77+BA82),0)","v":0},null,{"$f":"IF(BC54=1,(BC77+BC82),0)","v":0},null,{"$f":"IF(BE54=1,(BE77+BE82),0)","v":0},null,{"$f":"IF(BG54=1,(BG77+BG82),0)","v":0},null,{"$f":"IF(BI54=1,(BI77+BI82),0)","v":0},null,{"$f":"IF(BK54=1,(BK77+BK82),0)","v":0},null,{"$f":"IF(BM54=1,(BM77+BM82),0)","v":0},null,{"$f":"IF(BO54=1,(BO77+BO82),0)","v":0},null,{"$f":"IF(BQ54=1,(BQ77+BQ82),0)","v":0},null,{"$f":"IF(BS54=1,(BS77+BS82),0)","v":0},null,{"$f":"IF(BU54=1,(BU77+BU82),0)","v":0},null,{"$f":"IF(BW54=1,(BW77+BW82),0)","v":0},null,{"$f":"IF(BY54=1,(BY77+BY82),0)","v":0},null,{"$f":"IF(CA54=1,(CA77+CA82),0)","v":0},null,{"$f":"IF(CC54=1,(CC77+CC82),0)","v":0}]
[3,0,{"$f":"IF(C11=\"3\",1,0)","v":0},null,{"$f":"IF(E11=\"3\",1,0)","v":0},null,0,null,0,null,0,null,0,null,0,null,0,null,0,null,0,null,0,null,0,null,0,null,0,null,0,null,0,null,0,null,0,null,0,null,0,null,0,null,0,null,0,null,0,null,0,null,0,null,0,null,0,null,0,null,0,null,0,null,0,null,0,null,{"$f":"IF(BQ11=\"3\",1,0)","v":0},null,0,null,0,null,0,null,0,null,0,null,0]
[null,0,{"$f":"IF(C56=1,(C77+C82),0)","v":0},null,{"$f":"IF(E56=1,(E77+E82),0)","v":0},null,{"$f":"IF(G56=1,(G77+G82),0)","v":0},null,{"$f":"IF(I56=1,(I77+I82),0)","v":0},null,{"$f":"IF(K56=1,(K77+K82),0)","v":0},null,{"$f":"IF(M56=1,(M77+M82),0)","v":0},null,{"$f":"IF(O56=1,(O77+O82),0)","v":0},null,{"$f":"IF(Q56=1,(Q77+Q82),0)","v":0},null,{"$f":"IF(S56=1,(S77+S82),0)","v":0},null,{"$f":"IF(U56=1,(U77+U82),0)","v":0},null,{"$f":"IF(W56=1,(W77+W82),0)","v":0},null,{"$f":"IF(Y56=1,(Y77+Y82),0)","v":0},null,{"$f":"IF(AA56=1,(AA77+AA82),0)","v":0},null,{"$f":"IF(AC56=1,(AC77+AC82),0)","v":0},null,{"$f":"IF(AE56=1,(AE77+AE82),0)","v":0},null,{"$f":"IF(AG56=1,(AG77+AG82),0)","v":0},null,{"$f":"IF(AI56=1,(AI77+AI82),0)","v":0},null,{"$f":"IF(AK56=1,(AK77+AK82),0)","v":0},null,{"$f":"IF(AM56=1,(AM77+AM82),0)","v":0},null,{"$f":"IF(AO56=1,(AO77+AO82),0)","v":0},null,{"$f":"IF(AQ56=1,(AQ77+AQ82),0)","v":0},null,{"$f":"IF(AS56=1,(AS77+AS82),0)","v":0},null,{"$f":"IF(AU56=1,(AU77+AU82),0)","v":0},null,{"$f":"IF(AW56=1,(AW77+AW82),0)","v":0},null,{"$f":"IF(AY56=1,(AY77+AY82),0)","v":0},null,{"$f":"IF(BA56=1,(BA77+BA82),0)","v":0},null,{"$f":"IF(BC56=1,(BC77+BC82),0)","v":0},null,{"$f":"IF(BE56=1,(BE77+BE82),0)","v":0},null,{"$f":"IF(BG56=1,(BG77+BG82),0)","v":0},null,{"$f":"IF(BI56=1,(BI77+BI82),0)","v":0},null,{"$f":"IF(BK56=1,(BK77+BK82),0)","v":0},null,{"$f":"IF(BM56=1,(BM77+BM82),0)","v":0},null,{"$f":"IF(BO56=1,(BO77+BO82),0)","v":0},null,{"$f":"IF(BQ56=1,(BQ77+BQ82),0)","v":0},null,{"$f":"IF(BS56=1,(BS77+BS82),0)","v":0},null,{"$f":"IF(BU56=1,(BU77+BU82),0)","v":0},null,{"$f":"IF(BW56=1,(BW77+BW82),0)","v":0},null,{"$f":"IF(BY56=1,(BY77+BY82),0)","v":0},null,{"$f":"IF(CA56=1,(CA77+CA82),0)","v":0},null,{"$f":"IF(CC56=1,(CC77+CC82),0)","v":0}]
[4,0,{"$f":"IF(C11=\"4\",1,0)","v":0},null,{"$f":"IF(E11=\"4\",1,0)","v":0},null,0,null,0,null,0,null,0,null,0,null,0,null,0,null,0,null,0,null,0,null,0,null,0,null,0,null,0,null,0,null,0,null,0,null,0,null,0,null,0,null,0,null,0,null,0,null,0,null,0,null,0,null,0,null,0,null,0,null,0,null,0,null,{"$f":"IF(BQ11=\"4\",1,0)","v":0},null,0,null,0,null,0,null,0,null,0,null,0]
[null,0,{"$f":"IF(C58=1,(C77+C82),0)","v":0},null,{"$f":"IF(E58=1,(E77+E82),0)","v":0},null,{"$f":"IF(G58=1,(G77+G82),0)","v":0},null,{"$f":"IF(I58=1,(I77+I82),0)","v":0},null,{"$f":"IF(K58=1,(K77+K82),0)","v":0},null,{"$f":"IF(M58=1,(M77+M82),0)","v":0},null,{"$f":"IF(O58=1,(O77+O82),0)","v":0},null,{"$f":"IF(Q58=1,(Q77+Q82),0)","v":0},null,{"$f":"IF(S58=1,(S77+S82),0)","v":0},null,{"$f":"IF(U58=1,(U77+U82),0)","v":0},null,{"$f":"IF(W58=1,(W77+W82),0)","v":0},null,{"$f":"IF(Y58=1,(Y77+Y82),0)","v":0},null,{"$f":"IF(AA58=1,(AA77+AA82),0)","v":0},null,{"$f":"IF(AC58=1,(AC77+AC82),0)","v":0},null,{"$f":"IF(AE58=1,(AE77+AE82),0)","v":0},null,{"$f":"IF(AG58=1,(AG77+AG82),0)","v":0},null,{"$f":"IF(AI58=1,(AI77+AI82),0)","v":0},null,{"$f":"IF(AK58=1,(AK77+AK82),0)","v":0},null,{"$f":"IF(AM58=1,(AM77+AM82),0)","v":0},null,{"$f":"IF(AO58=1,(AO77+AO82),0)","v":0},null,{"$f":"IF(AQ58=1,(AQ77+AQ82),0)","v":0},null,{"$f":"IF(AS58=1,(AS77+AS82),0)","v":0},null,{"$f":"IF(AU58=1,(AU77+AU82),0)","v":0},null,{"$f":"IF(AW58=1,(AW77+AW82),0)","v":0},null,{"$f":"IF(AY58=1,(AY77+AY82),0)","v":0},null,{"$f":"IF(BA58=1,(BA77+BA82),0)","v":0},null,{"$f":"IF(BC58=1,(BC77+BC82),0)","v":0},null,{"$f":"IF(BE58=1,(BE77+BE82),0)","v":0},null,{"$f":"IF(BG58=1,(BG77+BG82),0)","v":0},null,{"$f":"IF(BI58=1,(BI77+BI82),0)","v":0},null,{"$f":"IF(BK58=1,(BK77+BK82),0)","v":0},null,{"$f":"IF(BM58=1,(BM77+BM82),0)","v":0},null,{"$f":"IF(BO58=1,(BO77+BO82),0)","v":0},null,{"$f":"IF(BQ58=1,(BQ77+BQ82),0)","v":0},null,{"$f":"IF(BS58=1,(BS77+BS82),0)","v":0},null,{"$f":"IF(BU58=1,(BU77+BU82),0)","v":0},null,{"$f":"IF(BW58=1,(BW77+BW82),0)","v":0},null,{"$f":"IF(BY58=1,(BY77+BY82),0)","v":0},null,{"$f":"IF(CA58=1,(CA77+CA82),0)","v":0},null,{"$f":"IF(CC58=1,(CC77+CC82),0)","v":0}]
[5,0,{"$f":"IF(C11=\"5\",1,0)","v":0},null,{"$f":"IF(E11=\"5\",1,0)","v":0},null,0,null,0,null,0,null,0,null,0,null,0,null,0,null,0,null,0,null,0,null,0,null,0,null,0,null,0,null,0,null,0,null,0,null,0,null,0,null,0,null,0,null,0,null,0,null,0,null,0,null,0,null,0,null,0,null,0,null,0,null,0,null,{"$f":"IF(BQ11=\"5\",1,0)","v":0},null,0,null,0,null,0,null,0,null,0,null,0]
[null,0,{"$f":"IF(C60=1,(C77+C82),0)","v":0},null,{"$f":"IF(E60=1,(E77+E82),0)","v":0},null,{"$f":"IF(G60=1,(G77+G82),0)","v":0},null,{"$f":"IF(I60=1,(I77+I82),0)","v":0},null,{"$f":"IF(K60=1,(K77+K82),0)","v":0},null,{"$f":"IF(M60=1,(M77+M82),0)","v":0},null,{"$f":"IF(O60=1,(O77+O82),0)","v":0},null,{"$f":"IF(Q60=1,(Q77+Q82),0)","v":0},null,{"$f":"IF(S60=1,(S77+S82),0)","v":0},null,{"$f":"IF(U60=1,(U77+U82),0)","v":0},null,{"$f":"IF(W60=1,(W77+W82),0)","v":0},null,{"$f":"IF(Y60=1,(Y77+Y82),0)","v":0},null,{"$f":"IF(AA60=1,(AA77+AA82),0)","v":0},null,{"$f":"IF(AC60=1,(AC77+AC82),0)","v":0},null,{"$f":"IF(AE60=1,(AE77+AE82),0)","v":0},null,{"$f":"IF(AG60=1,(AG77+AG82),0)","v":0},null,{"$f":"IF(AI60=1,(AI77+AI82),0)","v":0},null,{"$f":"IF(AK60=1,(AK77+AK82),0)","v":0},null,{"$f":"IF(AM60=1,(AM77+AM82),0)","v":0},null,{"$f":"IF(AO60=1,(AO77+AO82),0)","v":0},null,{"$f":"IF(AQ60=1,(AQ77+AQ82),0)","v":0},null,{"$f":"IF(AS60=1,(AS77+AS82),0)","v":0},null,{"$f":"IF(AU60=1,(AU77+AU82),0)","v":0},null,{"$f":"IF(AW60=1,(AW77+AW82),0)","v":0},null,{"$f":"IF(AY60=1,(AY77+AY82),0)","v":0},null,{"$f":"IF(BA60=1,(BA77+BA82),0)","v":0},null,{"$f":"IF(BC60=1,(BC77+BC82),0)","v":0},null,{"$f":"IF(BE60=1,(BE77+BE82),0)","v":0},null,{"$f":"IF(BG60=1,(BG77+BG82),0)","v":0},null,{"$f":"IF(BI60=1,(BI77+BI82),0)","v":0},null,{"$f":"IF(BK60=1,(BK77+BK82),0)","v":0},null,{"$f":"IF(BM60=1,(BM77+BM82),0)","v":0},null,{"$f":"IF(BO60=1,(BO77+BO82),0)","v":0},null,{"$f":"IF(BQ60=1,(BQ77+BQ82),0)","v":0},null,{"$f":"IF(BS60=1,(BS77+BS82),0)","v":0},null,{"$f":"IF(BU60=1,(BU77+BU82),0)","v":0},null,{"$f":"IF(BW60=1,(BW77+BW82),0)","v":0},null,{"$f":"IF(BY60=1,(BY77+BY82),0)","v":0},null,{"$f":"IF(CA60=1,(CA77+CA82),0)","v":0},null,{"$f":"IF(CC60=1,(CC77+CC82),0)","v":0}]
[6,0,{"$f":"IF(C11=\"6\",1,0)","v":0},null,{"$f":"IF(E11=\"6\",1,0)","v":0},null,0,null,0,null,0,null,0,null,0,null,0,null,0,null,0,null,0,null,0,null,0,null,0,null,0,null,0,null,0,null,0,null,0,null,0,null,0,null,0,null,0,null,0,null,0,null,0,null,0,null,0,null,0,null,0,null,0,null,0,null,0,null,{"$f":"IF(BQ11=\"6\",1,0)","v":0},null,0,null,0,null,0,null,0,null,0,null,0]
[null,0,{"$f":"IF(C62=1,(C77+C82),0)","v":0},null,{"$f":"IF(E62=1,(E77+E82),0)","v":0},null,{"$f":"IF(G62=1,(G77+G82),0)","v":0},null,{"$f":"IF(I62=1,(I77+I82),0)","v":0},null,{"$f":"IF(K62=1,(K77+K82),0)","v":0},null,{"$f":"IF(M62=1,(M77+M82),0)","v":0},null,{"$f":"IF(O62=1,(O77+O82),0)","v":0},null,{"$f":"IF(Q62=1,(Q77+Q82),0)","v":0},null,{"$f":"IF(S62=1,(S77+S82),0)","v":0},null,{"$f":"IF(U62=1,(U77+U82),0)","v":0},null,{"$f":"IF(W62=1,(W77+W82),0)","v":0},null,{"$f":"IF(Y62=1,(Y77+Y82),0)","v":0},null,{"$f":"IF(AA62=1,(AA77+AA82),0)","v":0},null,{"$f":"IF(AC62=1,(AC77+AC82),0)","v":0},null,{"$f":"IF(AE62=1,(AE77+AE82),0)","v":0},null,{"$f":"IF(AG62=1,(AG77+AG82),0)","v":0},null,{"$f":"IF(AI62=1,(AI77+AI82),0)","v":0},null,{"$f":"IF(AK62=1,(AK77+AK82),0)","v":0},null,{"$f":"IF(AM62=1,(AM77+AM82),0)","v":0},null,{"$f":"IF(AO62=1,(AO77+AO82),0)","v":0},null,{"$f":"IF(AQ62=1,(AQ77+AQ82),0)","v":0},null,{"$f":"IF(AS62=1,(AS77+AS82),0)","v":0},null,{"$f":"IF(AU62=1,(AU77+AU82),0)","v":0},null,{"$f":"IF(AW62=1,(AW77+AW82),0)","v":0},null,{"$f":"IF(AY62=1,(AY77+AY82),0)","v":0},null,{"$f":"IF(BA62=1,(BA77+BA82),0)","v":0},null,{"$f":"IF(BC62=1,(BC77+BC82),0)","v":0},null,{"$f":"IF(BE62=1,(BE77+BE82),0)","v":0},null,{"$f":"IF(BG62=1,(BG77+BG82),0)","v":0},null,{"$f":"IF(BI62=1,(BI77+BI82),0)","v":0},null,{"$f":"IF(BK62=1,(BK77+BK82),0)","v":0},null,{"$f":"IF(BM62=1,(BM77+BM82),0)","v":0},null,{"$f":"IF(BO62=1,(BO77+BO82),0)","v":0},null,{"$f":"IF(BQ62=1,(BQ77+BQ82),0)","v":0},null,{"$f":"IF(BS62=1,(BS77+BS82),0)","v":0},null,{"$f":"IF(BU62=1,(BU77+BU82),0)","v":0},null,{"$f":"IF(BW62=1,(BW77+BW82),0)","v":0},null,{"$f":"IF(BY62=1,(BY77+BY82),0)","v":0},null,{"$f":"IF(CA62=1,(CA77+CA82),0)","v":0},null,{"$f":"IF(CC62=1,(CC77+CC82),0)","v":0}]
[7,0,{"$f":"IF(C11=\"7\",1,0)","v":0},null,{"$f":"IF(E11=\"7\",1,0)","v":0},null,0,null,0,null,0,null,0,null,0,null,0,null,0,null,0,null,0,null,0,null,0,null,0,null,0,null,0,null,0,null,0,null,0,null,0,null,0,null,0,null,0,null,0,null,0,null,0,null,0,null,0,null,0,null,0,null,0,null,0,null,0,null,{"$f":"IF(BQ11=\"7\",1,0)","v":0},null,0,null,0,null,0,null,0,null,0,null,0]
[null,0,{"$f":"IF(C64=1,(C77+C82),0)","v":0},null,{"$f":"IF(E64=1,(E77+E82),0)","v":0},null,{"$f":"IF(G64=1,(G77+G82),0)","v":0},null,{"$f":"IF(I64=1,(I77+I82),0)","v":0},null,{"$f":"IF(K64=1,(K77+K82),0)","v":0},null,{"$f":"IF(M64=1,(M77+M82),0)","v":0},null,{"$f":"IF(O64=1,(O77+O82),0)","v":0},null,{"$f":"IF(Q64=1,(Q77+Q82),0)","v":0},null,{"$f":"IF(S64=1,(S77+S82),0)","v":0},null,{"$f":"IF(U64=1,(U77+U82),0)","v":0},null,{"$f":"IF(W64=1,(W77+W82),0)","v":0},null,{"$f":"IF(Y64=1,(Y77+Y82),0)","v":0},null,{"$f":"IF(AA64=1,(AA77+AA82),0)","v":0},null,{"$f":"IF(AC64=1,(AC77+AC82),0)","v":0},null,{"$f":"IF(AE64=1,(AE77+AE82),0)","v":0},null,{"$f":"IF(AG64=1,(AG77+AG82),0)","v":0},null,{"$f":"IF(AI64=1,(AI77+AI82),0)","v":0},null,{"$f":"IF(AK64=1,(AK77+AK82),0)","v":0},null,{"$f":"IF(AM64=1,(AM77+AM82),0)","v":0},null,{"$f":"IF(AO64=1,(AO77+AO82),0)","v":0},null,{"$f":"IF(AQ64=1,(AQ77+AQ82),0)","v":0},null,{"$f":"IF(AS64=1,(AS77+AS82),0)","v":0},null,{"$f":"IF(AU64=1,(AU77+AU82),0)","v":0},null,{"$f":"IF(AW64=1,(AW77+AW82),0)","v":0},null,{"$f":"IF(AY64=1,(AY77+AY82),0)","v":0},null,{"$f":"IF(BA64=1,(BA77+BA82),0)","v":0},null,{"$f":"IF(BC64=1,(BC77+BC82),0)","v":0},null,{"$f":"IF(BE64=1,(BE77+BE82),0)","v":0},null,{"$f":"IF(BG64=1,(BG77+BG82),0)","v":0},null,{"$f":"IF(BI64=1,(BI77+BI82),0)","v":0},null,{"$f":"IF(BK64=1,(BK77+BK82),0)","v":0},null,{"$f":"IF(BM64=1,(BM77+BM82),0)","v":0},null,{"$f":"IF(BO64=1,(BO77+BO82),0)","v":0},null,{"$f":"IF(BQ64=1,(BQ77+BQ82),0)","v":0},null,{"$f":"IF(BS64=1,(BS77+BS82),0)","v":0},null,{"$f":"IF(BU64=1,(BU77+BU82),0)","v":0},null,{"$f":"IF(BW64=1,(BW77+BW82),0)","v":0},null,{"$f":"IF(BY64=1,(BY77+BY82),0)","v":0},null,{"$f":"IF(CA64=1,(CA77+CA82),0)","v":0},null,{"$f":"IF(CC64=1,(CC77+CC82),0)","v":0}]
[8,0,{"$f":"IF(C11=\"8\",1,0)","v":0},null,{"$f":"IF(E11=\"8\",1,0)","v":0},null,0,null,0,null,0,null,0,null,0,null,0,null,0,null,0,null,0,null,0,null,0,null,0,null,0,null,0,null,0,null,0,null,0,null,0,null,0,null,0,null,0,null,0,null,0,null,0,null,0,null,0,null,0,null,0,null,0,null,0,null,0,null,{"$f":"IF(BQ11=\"8\",1,0)","v":0},null,0,null,0,null,0,null,0,null,0,null,0]
[null,0,{"$f":"IF(C66=1,(C77+C82),0)","v":0},null,{"$f":"IF(E66=1,(E77+E82),0)","v":0},null,{"$f":"IF(G66=1,(G77+G82),0)","v":0},null,{"$f":"IF(I66=1,(I77+I82),0)","v":0},null,{"$f":"IF(K66=1,(K77+K82),0)","v":0},null,{"$f":"IF(M66=1,(M77+M82),0)","v":0},null,{"$f":"IF(O66=1,(O77+O82),0)","v":0},null,{"$f":"IF(Q66=1,(Q77+Q82),0)","v":0},null,{"$f":"IF(S66=1,(S77+S82),0)","v":0},null,{"$f":"IF(U66=1,(U77+U82),0)","v":0},null,{"$f":"IF(W66=1,(W77+W82),0)","v":0},null,{"$f":"IF(Y66=1,(Y77+Y82),0)","v":0},null,{"$f":"IF(AA66=1,(AA77+AA82),0)","v":0},null,{"$f":"IF(AC66=1,(AC77+AC82),0)","v":0},null,{"$f":"IF(AE66=1,(AE77+AE82),0)","v":0},null,{"$f":"IF(AG66=1,(AG77+AG82),0)","v":0},null,{"$f":"IF(AI66=1,(AI77+AI82),0)","v":0},null,{"$f":"IF(AK66=1,(AK77+AK82),0)","v":0},null,{"$f":"IF(AM66=1,(AM77+AM82),0)","v":0},null,{"$f":"IF(AO66=1,(AO77+AO82),0)","v":0},null,{"$f":"IF(AQ66=1,(AQ77+AQ82),0)","v":0},null,{"$f":"IF(AS66=1,(AS77+AS82),0)","v":0},null,{"$f":"IF(AU66=1,(AU77+AU82),0)","v":0},null,{"$f":"IF(AW66=1,(AW77+AW82),0)","v":0},null,{"$f":"IF(AY66=1,(AY77+AY82),0)","v":0},null,{"$f":"IF(BA66=1,(BA77+BA82),0)","v":0},null,{"$f":"IF(BC66=1,(BC77+BC82),0)","v":0},null,{"$f":"IF(BE66=1,(BE77+BE82),0)","v":0},null,{"$f":"IF(BG66=1,(BG77+BG82),0)","v":0},null,{"$f":"IF(BI66=1,(BI77+BI82),0)","v":0},null,{"$f":"IF(BK66=1,(BK77+BK82),0)","v":0},null,{"$f":"IF(BM66=1,(BM77+BM82),0)","v":0},null,{"$f":"IF(BO66=1,(BO77+BO82),0)","v":0},null,{"$f":"IF(BQ66=1,(BQ77+BQ82),0)","v":0},null,{"$f":"IF(BS66=1,(BS77+BS82),0)","v":0},null,{"$f":"IF(BU66=1,(BU77+BU82),0)","v":0},null,{"$f":"IF(BW66=1,(BW77+BW82),0)","v":0},null,{"$f":"IF(BY66=1,(BY77+BY82),0)","v":0},null,{"$f":"IF(CA66=1,(CA77+CA82),0)","v":0},null,{"$f":"IF(CC66=1,(CC77+CC82),0)","v":0}]
[9,0,{"$f":"IF(C11=\"9\",1,0)","v":0},null,{"$f":"IF(E11=\"9\",1,0)","v":0},null,0,null,0,null,0,null,0,null,0,null,0,null,0,null,0,null,0,null,0,null,0,null,0,null,0,null,0,null,0,null,0,null,0,null,0,null,0,null,0,null,0,null,0,null,0,null,0,null,0,null,0,null,0,null,0,null,0,null,0,null,0,null,{"$f":"IF(BQ11=\"9\",1,0)","v":0},null,0,null,0,null,0,null,0,null,0,null,0]
[null,0,{"$f":"IF(C68=1,(C77+C82),0)","v":0},null,{"$f":"IF(E68=1,(E77+E82),0)","v":0},null,{"$f":"IF(G68=1,(G77+G82),0)","v":0},null,{"$f":"IF(I68=1,(I77+I82),0)","v":0},null,{"$f":"IF(K68=1,(K77+K82),0)","v":0},null,{"$f":"IF(M68=1,(M77+M82),0)","v":0},null,{"$f":"IF(O68=1,(O77+O82),0)","v":0},null,{"$f":"IF(Q68=1,(Q77+Q82),0)","v":0},null,{"$f":"IF(S68=1,(S77+S82),0)","v":0},null,{"$f":"IF(U68=1,(U77+U82),0)","v":0},null,{"$f":"IF(W68=1,(W77+W82),0)","v":0},null,{"$f":"IF(Y68=1,(Y77+Y82),0)","v":0},null,{"$f":"IF(AA68=1,(AA77+AA82),0)","v":0},null,{"$f":"IF(AC68=1,(AC77+AC82),0)","v":0},null,{"$f":"IF(AE68=1,(AE77+AE82),0)","v":0},null,{"$f":"IF(AG68=1,(AG77+AG82),0)","v":0},null,{"$f":"IF(AI68=1,(AI77+AI82),0)","v":0},null,{"$f":"IF(AK68=1,(AK77+AK82),0)","v":0},null,{"$f":"IF(AM68=1,(AM77+AM82),0)","v":0},null,{"$f":"IF(AO68=1,(AO77+AO82),0)","v":0},null,{"$f":"IF(AQ68=1,(AQ77+AQ82),0)","v":0},null,{"$f":"IF(AS68=1,(AS77+AS82),0)","v":0},null,{"$f":"IF(AU68=1,(AU77+AU82),0)","v":0},null,{"$f":"IF(AW68=1,(AW77+AW82),0)","v":0},null,{"$f":"IF(AY68=1,(AY77+AY82),0)","v":0},null,{"$f":"IF(BA68=1,(BA77+BA82),0)","v":0},null,{"$f":"IF(BC68=1,(BC77+BC82),0)","v":0},null,{"$f":"IF(BE68=1,(BE77+BE82),0)","v":0},null,{"$f":"IF(BG68=1,(BG77+BG82),0)","v":0},null,{"$f":"IF(BI68=1,(BI77+BI82),0)","v":0},null,{"$f":"IF(BK68=1,(BK77+BK82),0)","v":0},null,{"$f":"IF(BM68=1,(BM77+BM82),0)","v":0},null,{"$f":"IF(BO68=1,(BO77+BO82),0)","v":0},null,{"$f":"IF(BQ68=1,(BQ77+BQ82),0)","v":0},null,{"$f":"IF(BS68=1,(BS77+BS82),0)","v":0},null,{"$f":"IF(BU68=1,(BU77+BU82),0)","v":0},null,{"$f":"IF(BW68=1,(BW77+BW82),0)","v":0},null,{"$f":"IF(BY68=1,(BY77+BY82),0)","v":0},null,{"$f":"IF(CA68=1,(CA77+CA82),0)","v":0},null,{"$f":"IF(CC68=1,(CC77+CC82),0)","v":0}]
[10,0,{"$f":"IF(C11=\"10\",1,0)","v":0},null,{"$f":"IF(E11=\"10\",1,0)","v":0},null,0,null,0,null,0,null,0,null,0,null,0,null,0,null,0,null,0,null,0,null,0,null,0,null,0,null,0,null,0,null,0,null,0,null,0,null,0,null,0,null,0,null,0,null,0,null,0,null,0,null,0,null,0,null,0,null,0,null,0,null,0,null,{"$f":"IF(BQ11=\"10\",1,0)","v":0},null,0,null,0,null,0,null,0,null,0,null,0]
[null,0,{"$f":"IF(C70=1,(C77+C82),0)","v":0},null,{"$f":"IF(E70=1,(E77+E82),0)","v":0},null,{"$f":"IF(G70=1,(G77+G82),0)","v":0},null,{"$f":"IF(I70=1,(I77+I82),0)","v":0},null,{"$f":"IF(K70=1,(K77+K82),0)","v":0},null,{"$f":"IF(M70=1,(M77+M82),0)","v":0},null,{"$f":"IF(O70=1,(O77+O82),0)","v":0},null,{"$f":"IF(Q70=1,(Q77+Q82),0)","v":0},null,{"$f":"IF(S70=1,(S77+S82),0)","v":0},null,{"$f":"IF(U70=1,(U77+U82),0)","v":0},null,{"$f":"IF(W70=1,(W77+W82),0)","v":0},null,{"$f":"IF(Y70=1,(Y77+Y82),0)","v":0},null,{"$f":"IF(AA70=1,(AA77+AA82),0)","v":0},null,{"$f":"IF(AC70=1,(AC77+AC82),0)","v":0},null,{"$f":"IF(AE70=1,(AE77+AE82),0)","v":0},null,{"$f":"IF(AG70=1,(AG77+AG82),0)","v":0},null,{"$f":"IF(AI70=1,(AI77+AI82),0)","v":0},null,{"$f":"IF(AK70=1,(AK77+AK82),0)","v":0},null,{"$f":"IF(AM70=1,(AM77+AM82),0)","v":0},null,{"$f":"IF(AO70=1,(AO77+AO82),0)","v":0},null,{"$f":"IF(AQ70=1,(AQ77+AQ82),0)","v":0},null,{"$f":"IF(AS70=1,(AS77+AS82),0)","v":0},null,{"$f":"IF(AU70=1,(AU77+AU82),0)","v":0},null,{"$f":"IF(AW70=1,(AW77+AW82),0)","v":0},null,{"$f":"IF(AY70=1,(AY77+AY82),0)","v":0},null,{"$f":"IF(BA70=1,(BA77+BA82),0)","v":0},null,{"$f":"IF(BC70=1,(BC77+BC82),0)","v":0},null,{"$f":"IF(BE70=1,(BE77+BE82),0)","v":0},null,{"$f":"IF(BG70=1,(BG77+BG82),0)","v":0},null,{"$f":"IF(BI70=1,(BI77+BI82),0)","v":0},null,{"$f":"IF(BK70=1,(BK77+BK82),0)","v":0},null,{"$f":"IF(BM70=1,(BM77+BM82),0)","v":0},null,{"$f":"IF(BO70=1,(BO77+BO82),0)","v":0},null,{"$f":"IF(BQ70=1,(BQ77+BQ82),0)","v":0},null,{"$f":"IF(BS70=1,(BS77+BS82),0)","v":0},null,{"$f":"IF(BU70=1,(BU77+BU82),0)","v":0},null,{"$f":"IF(BW70=1,(BW77+BW82),0)","v":0},null,{"$f":"IF(BY70=1,(BY77+BY82),0)","v":0},null,{"$f":"IF(CA70=1,(CA77+CA82),0)","v":0},null,{"$f":"IF(CC70=1,(CC77+CC82),0)","v":0}]
[]
["Linge sale"]
["Evacuation",{"$f":"SUM(C74:CC74)","v":0},{"$f":"(2*C15)+C17+C21+C23","v":0},null,{"$f":"(2*E15)+E17+E21+E23","v":0},null,{"$f":"(2*G15)+G17+G21+G23","v":0},null,{"$f":"(2*I15)+I17+I21+I23","v":0},null,{"$f":"(2*K15)+K17+K21+K23","v":0},null,{"$f":"(2*M15)+M17+M21+M23","v":0},null,{"$f":"(2*O15)+O17+O21+O23","v":0},null,{"$f":"(2*Q15)+Q17+Q21+Q23","v":0},null,{"$f":"(2*S15)+S17+S21+S23","v":0},null,{"$f":"(2*U15)+U17+U21+U23","v":0},null,{"$f":"(2*W15)+W17+W21+W23","v":0},null,{"$f":"(2*Y15)+Y17+Y21+Y23","v":0},null,{"$f":"(2*AA15)+AA17+AA21+AA23","v":0},null,{"$f":"(2*AC15)+AC17+AC21+AC23","v":0},null,{"$f":"(2*AE15)+AE17+AE21+AE23","v":0},null,{"$f":"(2*AG15)+AG17+AG21+AG23","v":0},null,{"$f":"(2*AI15)+AI17+AI21+AI23","v":0},null,{"$f":"(2*AK15)+AK17+AK21+AK23","v":0},null,{"$f":"(2*AM15)+AM17+AM21+AM23","v":0},null,{"$f":"(2*AO15)+AO17+AO21+AO23","v":0},null,{"$f":"(2*AQ15)+AQ17+AQ21+AQ23","v":0},null,{"$f":"(2*AS15)+AS17+AS21+AS23","v":0},null,{"$f":"(2*AU15)+AU17+AU21+AU23","v":0},null,{"$f":"(2*AW15)+AW17+AW21+AW23","v":0},null,{"$f":"(2*AY15)+AY17+AY21+AY23","v":0},null,{"$f":"(2*BA15)+BA17+BA21+BA23","v":0},null,{"$f":"(2*BC15)+BC17+BC21+BC23","v":0},null,{"$f":"(2*BE15)+BE17+BE21+BE23","v":0},null,{"$f":"(2*BG15)+BG17+BG21+BG23","v":0},null,{"$f":"(2*BI15)+BI17+BI21+BI23","v":0},null,{"$f":"(2*BK15)+BK17+BK21+BK23","v":0},null,{"$f":"(2*BM15)+BM17+BM21+BM23","v":0},null,{"$f":"(2*BO15)+BO17+BO21+BO23","v":0},null,{"$f":"(2*BQ15)+BQ17+BQ21+BQ23","v":0},null,{"$f":"(2*BS15)+BS17+BS21+BS23","v":0},null,{"$f":"(2*BU15)+BU17+BU21+BU23","v":0},null,{"$f":"(2*BW15)+BW17+BW21+BW23","v":0},null,{"$f":"(2*BY15)+BY17+BY21+BY23","v":0},null,{"$f":"(2*CA15)+CA17+CA21+CA23","v":0},null,{"$f":"(2*CC15)+CC17+CC21+CC23","v":0}]
["Protection",{"$f":"SUM(C75:CC75)","v":0},{"$f":"C19+(2*C25)+(2*C27)+(2*C29)+(2*C35)","v":0},null,{"$f":"E19+(2*E25)+(2*E27)+(2*E29)+(2*E35)","v":0},null,{"$f":"G19+(2*G25)+(2*G27)+(2*G29)+(2*G35)","v":0},null,{"$f":"I19+(2*I25)+(2*I27)+(2*I29)+(2*I35)","v":0},null,{"$f":"K19+(2*K25)+(2*K27)+(2*K29)+(2*K35)","v":0},null,{"$f":"M19+(2*M25)+(2*M27)+(2*M29)+(2*M35)","v":0},null,{"$f":"O19+(2*O25)+(2*O27)+(2*O29)+(2*O35)","v":0},null,{"$f":"Q19+(2*Q25)+(2*Q27)+(2*Q29)+(2*Q35)","v":0},null,{"$f":"S19+(2*S25)+(2*S27)+(2*S29)+(2*S35)","v":0},null,{"$f":"U19+(2*U25)+(2*U27)+(2*U29)+(2*U35)","v":0},null,{"$f":"W19+(2*W25)+(2*W27)+(2*W29)+(2*W35)","v":0},null,{"$f":"Y19+(2*Y25)+(2*Y27)+(2*Y29)+(2*Y35)","v":0},null,{"$f":"AA19+(2*AA25)+(2*AA27)+(2*AA29)+(2*AA35)","v":0},null,{"$f":"AC19+(2*AC25)+(2*AC27)+(2*AC29)+(2*AC35)","v":0},null,{"$f":"AE19+(2*AE25)+(2*AE27)+(2*AE29)+(2*AE35)","v":0},null,{"$f":"AG19+(2*AG25)+(2*AG27)+(2*AG29)+(2*AG35)","v":0},null,{"$f":"AI19+(2*AI25)+(2*AI27)+(2*AI29)+(2*AI35)","v":0},null,{"$f":"AK19+(2*AK25)+(2*AK27)+(2*AK29)+(2*AK35)","v":0},null,{"$f":"AM19+(2*AM25)+(2*AM27)+(2*AM29)+(2*AM35)","v":0},null,{"$f":"AO19+(2*AO25)+(2*AO27)+(2*AO29)+(2*AO35)","v":0},null,{"$f":"AQ19+(2*AQ25)+(2*AQ27)+(2*AQ29)+(2*AQ35)","v":0},null,{"$f":"AS19+(2*AS25)+(2*AS27)+(2*AS29)+(2*AS35)","v":0},null,{"$f":"AU19+(2*AU25)+(2*AU27)+(2*AU29)+(2*AU35)","v":0},null,{"$f":"AW19+(2*AW25)+(2*AW27)+(2*AW29)+(2*AW35)","v":0},null,{"$f":"AY19+(2*AY25)+(2*AY27)+(2*AY29)+(2*AY35)","v":0},null,{"$f":"BA19+(2*BA25)+(2*BA27)+(2*BA29)+(2*BA35)","v":0},null,{"$f":"BC19+(2*BC25)+(2*BC27)+(2*BC29)+(2*BC35)","v":0},null,{"$f":"BE19+(2*BE25)+(2*BE27)+(2*BE29)+(2*BE35)","v":0},null,{"$f":"BG19+(2*BG25)+(2*BG27)+(2*BG29)+(2*BG35)","v":0},null,{"$f":"BI19+(2*BI25)+(2*BI27)+(2*BI29)+(2*BI35)","v":0},null,{"$f":"BK19+(2*BK25)+(2*BK27)+(2*BK29)+(2*BK35)","v":0},null,{"$f":"BM19+(2*BM25)+(2*BM27)+(2*BM29)+(2*BM35)","v":0},null,{"$f":"BO19+(2*BO25)+(2*BO27)+(2*BO29)+(2*BO35)","v":0},null,{"$f":"BQ19+(2*BQ25)+(2*BQ27)+(2*BQ29)+(2*BQ35)","v":0},null,{"$f":"BS19+(2*BS25)+(2*BS27)+(2*BS29)+(2*BS35)","v":0},null,{"$f":"BU19+(2*BU25)+(2*BU27)+(2*BU29)+(2*BU35)","v":0},null,{"$f":"BW19+(2*BW25)+(2*BW27)+(2*BW29)+(2*BW35)","v":0},null,{"$f":"BY19+(2*BY25)+(2*BY27)+(2*BY29)+(2*BY35)","v":0},null,{"$f":"CA19+(2*CA25)+(2*CA27)+(2*CA29)+(2*CA35)","v":0},null,{"$f":"CC19+(2*CC25)+(2*CC27)+(2*CC29)+(2*CC35)","v":0}]
["Transport",{"$f":"SUM(C76:CC76)","v":0},{"$f":"C31+C33","v":0},null,{"$f":"E31+E33","v":0},null,{"$f":"G31+G33","v":0},null,{"$f":"I31+I33","v":0},null,{"$f":"K31+K33","v":0},null,{"$f":"M31+M33","v":0},null,{"$f":"O31+O33","v":0},null,{"$f":"Q31+Q33","v":0},null,{"$f":"S31+S33","v":0},null,{"$f":"U31+U33","v":0},null,{"$f":"W31+W33","v":0},null,{"$f":"Y31+Y33","v":0},null,{"$f":"AA31+AA33","v":0},null,{"$f":"AC31+AC33","v":0},null,{"$f":"AE31+AE33","v":0},null,{"$f":"AG31+AG33","v":0},null,{"$f":"AI31+AI33","v":0},null,{"$f":"AK31+AK33","v":0},null,{"$f":"AM31+AM33","v":0},null,{"$f":"AO31+AO33","v":0},null,{"$f":"AQ31+AQ33","v":0},null,{"$f":"AS31+AS33","v":0},null,{"$f":"AU31+AU33","v":0},null,{"$f":"AW31+AW33","v":0},null,{"$f":"AY31+AY33","v":0},null,{"$f":"BA31+BA33","v":0},null,{"$f":"BC31+BC33","v":0},null,{"$f":"BE31+BE33","v":0},null,{"$f":"BG31+BG33","v":0},null,{"$f":"BI31+BI33","v":0},null,{"$f":"BK31+BK33","v":0},null,{"$f":"BM31+BM33","v":0},null,{"$f":"BO31+BO33","v":0},null,{"$f":"BQ31+BQ33","v":0},null,{"$f":"BS31+BS33","v":0},null,{"$f":"BU31+BU33","v":0},null,{"$f":"BW31+BW33","v":0},null,{"$f":"BY31+BY33","v":0},null,{"$f":"CA31+CA33","v":0},null,{"$f":"CC31+CC33","v":0}]
["Tot linge sale",{"$f":"SUM(C77:CC77)","v":0},{"$f":"SUM(C74:C76)","v":0},null,{"$f":"SUM(E74:E76)","v":0},null,{"$f":"SUM(G74:G76)","v":0},null,{"$f":"SUM(I74:I76)","v":0},null,{"$f":"SUM(K74:K76)","v":0},null,{"$f":"SUM(M74:M76)","v":0},null,{"$f":"SUM(O74:O76)","v":0},null,{"$f":"SUM(Q74:Q76)","v":0},null,{"$f":"SUM(S74:S76)","v":0},null,{"$f":"SUM(U74:U76)","v":0},null,{"$f":"SUM(W74:W76)","v":0},null,{"$f":"SUM(Y74:Y76)","v":0},null,{"$f":"SUM(AA74:AA76)","v":0},null,{"$f":"SUM(AC74:AC76)","v":0},null,{"$f":"SUM(AE74:AE76)","v":0},null,{"$f":"SUM(AG74:AG76)","v":0},null,{"$f":"SUM(AI74:AI76)","v":0},null,{"$f":"SUM(AK74:AK76)","v":0},null,{"$f":"SUM(AM74:AM76)","v":0},null,{"$f":"SUM(AO74:AO76)","v":0},null,{"$f":"SUM(AQ74:AQ76)","v":0},null,{"$f":"SUM(AS74:AS76)","v":0},null,{"$f":"SUM(AU74:AU76)","v":0},null,{"$f":"SUM(AW74:AW76)","v":0},null,{"$f":"SUM(AY74:AY76)","v":0},null,{"$f":"SUM(BA74:BA76)","v":0},null,{"$f":"SUM(BC74:BC76)","v":0},null,{"$f":"SUM(BE74:BE76)","v":0},null,{"$f":"SUM(BG74:BG76)","v":0},null,{"$f":"SUM(BI74:BI76)","v":0},null,{"$f":"SUM(BK74:BK76)","v":0},null,{"$f":"SUM(BM74:BM76)","v":0},null,{"$f":"SUM(BO74:BO76)","v":0},null,{"$f":"SUM(BQ74:BQ76)","v":0},null,{"$f":"SUM(BS74:BS76)","v":0},null,{"$f":"SUM(BU74:BU76)","v":0},null,{"$f":"SUM(BW74:BW76)","v":0},null,{"$f":"SUM(BY74:BY76)","v":0},null,{"$f":"SUM(CA74:CA76)","v":0},null,{"$f":"SUM(CC74:CC76)","v":0}]
[]
["Linge propre"]
["Hygiène",{"$f":"SUM(C80:CC80)","v":0},{"$f":"(2*C39)","v":0},null,{"$f":"(2*E39)","v":0},null,{"$f":"(2*G39)","v":0},null,{"$f":"(2*I39)","v":0},null,{"$f":"(2*K39)","v":0},null,{"$f":"(2*M39)","v":0},null,{"$f":"(2*O39)","v":0},null,{"$f":"(2*Q39)","v":0},null,{"$f":"(2*S39)","v":0},null,{"$f":"(2*U39)","v":0},null,{"$f":"(2*W39)","v":0},null,{"$f":"(2*Y39)","v":0},null,{"$f":"(2*AA39)","v":0},null,{"$f":"(2*AC39)","v":0},null,{"$f":"(2*AE39)","v":0},null,{"$f":"(2*AG39)","v":0},null,{"$f":"(2*AI39)","v":0},null,{"$f":"(2*AK39)","v":0},null,{"$f":"(2*AM39)","v":0},null,{"$f":"(2*AO39)","v":0},null,{"$f":"(2*AQ39)","v":0},null,{"$f":"(2*AS39)","v":0},null,{"$f":"(2*AU39)","v":0},null,{"$f":"(2*AW39)","v":0},null,{"$f":"(2*AY39)","v":0},null,{"$f":"(2*BA39)","v":0},null,{"$f":"(2*BC39)","v":0},null,{"$f":"(2*BE39)","v":0},null,{"$f":"(2*BG39)","v":0},null,{"$f":"(2*BI39)","v":0},null,{"$f":"(2*BK39)","v":0},null,{"$f":"(2*BM39)","v":0},null,{"$f":"(2*BO39)","v":0},null,{"$f":"(2*BQ39)","v":0},null,{"$f":"(2*BS39)","v":0},null,{"$f":"(2*BU39)","v":0},null,{"$f":"(2*BW39)","v":0},null,{"$f":"(2*BY39)","v":0},null,{"$f":"(2*CA39)","v":0},null,{"$f":"(2*CC39)","v":0}]
["Utilisation",{"$f":"SUM(C81:CC81)","v":0},{"$f":"C41+C43","v":0},null,{"$f":"E41+E43","v":0},null,{"$f":"G41+G43","v":0},null,{"$f":"I41+I43","v":0},null,{"$f":"K41+K43","v":0},null,{"$f":"M41+M43","v":0},null,{"$f":"O41+O43","v":0},null,{"$f":"Q41+Q43","v":0},null,{"$f":"S41+S43","v":0},null,{"$f":"U41+U43","v":0},null,{"$f":"W41+W43","v":0},null,{"$f":"Y41+Y43","v":0},null,{"$f":"AA41+AA43","v":0},null,{"$f":"AC41+AC43","v":0},null,{"$f":"AE41+AE43","v":0},null,{"$f":"AG41+AG43","v":0},null,{"$f":"AI41+AI43","v":0},null,{"$f":"AK41+AK43","v":0},null,{"$f":"AM41+AM43","v":0},null,{"$f":"AO41+AO43","v":0},null,{"$f":"AQ41+AQ43","v":0},null,{"$f":"AS41+AS43","v":0},null,{"$f":"AU41+AU43","v":0},null,{"$f":"AW41+AW43","v":0},null,{"$f":"AY41+AY43","v":0},null,{"$f":"BA41+BA43","v":0},null,{"$f":"BC41+BC43","v":0},null,{"$f":"BE41+BE43","v":0},null,{"$f":"BG41+BG43","v":0},null,{"$f":"BI41+BI43","v":0},null,{"$f":"BK41+BK43","v":0},null,{"$f":"BM41+BM43","v":0},null,{"$f":"BO41+BO43","v":0},null,{"$f":"BQ41+BQ43","v":0},null,{"$f":"BS41+BS43","v":0},null,{"$f":"BU41+BU43","v":0},null,{"$f":"BW41+BW43","v":0},null,{"$f":"BY41+BY43","v":0},null,{"$f":"CA41+CA43","v":0},null,{"$f":"CC41+CC43","v":0}]
["Tot linge prop",{"$f":"SUM(C82:CC82)","v":0},{"$f":"SUM(C80:C81)","v":0},null,{"$f":"SUM(E80:E81)","v":0},null,{"$f":"SUM(G80:G81)","v":0},null,{"$f":"SUM(I80:I81)","v":0},null,{"$f":"SUM(K80:K81)","v":0},null,{"$f":"SUM(M80:M81)","v":0},null,{"$f":"SUM(O80:O81)","v":0},null,{"$f":"SUM(Q80:Q81)","v":0},null,{"$f":"SUM(S80:S81)","v":0},null,{"$f":"SUM(U80:U81)","v":0},null,{"$f":"SUM(W80:W81)","v":0},null,{"$f":"SUM(Y80:Y81)","v":0},null,{"$f":"SUM(AA80:AA81)","v":0},null,{"$f":"SUM(AC80:AC81)","v":0},null,{"$f":"SUM(AE80:AE81)","v":0},null,{"$f":"SUM(AG80:AG81)","v":0},null,{"$f":"SUM(AI80:AI81)","v":0},null,{"$f":"SUM(AK80:AK81)","v":0},null,{"$f":"SUM(AM80:AM81)","v":0},null,{"$f":"SUM(AO80:AO81)","v":0},null,{"$f":"SUM(AQ80:AQ81)","v":0},null,{"$f":"SUM(AS80:AS81)","v":0},null,{"$f":"SUM(AU80:AU81)","v":0},null,{"$f":"SUM(AW80:AW81)","v":0},null,{"$f":"SUM(AY80:AY81)","v":0},null,{"$f":"SUM(BA80:BA81)","v":0},null,{"$f":"SUM(BC80:BC81)","v":0},null,{"$f":"SUM(BE80:BE81)","v":0},null,{"$f":"SUM(BG80:BG81)","v":0},null,{"$f":"SUM(BI80:BI81)","v":0},null,{"$f":"SUM(BK80:BK81)","v":0},null,{"$f":"SUM(BM80:BM81)","v":0},null,{"$f":"SUM(BO80:BO81)","v":0},null,{"$f":"SUM(BQ80:BQ81)","v":0},null,{"$f":"SUM(BS80:BS81)","v":0},null,{"$f":"SUM(BU80:BU81)","v":0},null,{"$f":"SUM(BW80:BW81)","v":0},null,{"$f":"SUM(BY80:BY81)","v":0},null,{"$f":"SUM(CA80:CA81)","v":0},null,{"$f":"SUM(CC80:CC81)","v":0}]

{"sheet":"Poster_Service#3","index":15,"n_rows":46,"n_cols":16,"rows_kept":46,"cut":false,"hidden":true,"merged":[[23,5,23,6],[24,5,24,6],[28,0,33,13],[15,5,15,6],[15,2,15,4],[16,5,16,6],[22,5,22,6],[21,5,21,6],[21,2,21,4],[17,5,17,6],[19,5,19,6],[18,5,18,6],[0,1,0,13],[5,0,5,6],[11,0,11,6],[12,0,12,6],[1,12,1,13]]}
[null,"Audit de la fonction linge en établissement de santé et en EHPAD",null,null,null,null,null,null,null,null,null,null,null,null,"   Pour imprimer le poster:"]
[null,null,null,null,null,null,null,null,"ETABLISSEMENT :",{"$f":"IF(NOM=\"\",\"à préciser\",NOM)","v":"à préciser"},null,null,"Date de réalisation",null,"   Menu \"Fichier\" puis \"Imprimer\""]
[null,null,null,null,null,null,null,null,"SERVICE : ",{"$f":"IF(SERVICE3=\"\",\"à préciser\",SERVICE3)","v":"à préciser"},null,null,"de : ",{"$f":"IF(SERVICE3=\"\",\"à préciser\",(MIN(Fiches_Services!G9,'Fiches_Utilisateurs_Service#3'!C7:CC7)))","v":"à préciser"}]
[null,null,null,null,null,null,null,null,null,null,null,null,"au : ",{"$f":"IF(SERVICE3=\"\",\"à préciser\",(MAX(Fiches_Services!G9,'Fiches_Utilisateurs_Service#3'!C7:CC7)))","v":"à préciser"},"Vous ne pourrez imprimer le poster que"]
["Méthodologie",null,null,null,null,null,null,null,"Score \"utilisateur\" du service par catégories professionnelles",null,null,null,null,null,"si vous avez saisi vos axes d'amélioration"]
["Le recueil des données a été réalisé au niveau:",null,null,null,null,null,null,null,null,null,null,null,null,null,"et commentaires dans l'encadré jaune."]
["       Du service : ",null,null,null,null,null,"le recensement des locaux, du matériel et des procédures   "]
[null,null,null,null,null,null,"disponibles dans les services en lien avec la fonction linge.  "]
["De l'utilisateur : ",null,null,null,null,null,"l'observation des pratiques afin de vérifier l'adéquation avec"]
[null,null,null,null,null,null,"avec les recommandations de bonnes pratiques.                   "]
["Résultats"]
["Les pourcentages d'objectifs atteints sont présentés pour le service."]
["Les résultats détaillés figurent dans le rapport d'analyse finale."]
[null,null,"Services évalués de l'établissement n =",{"$f":"(\" \"&SERVICES&\" services\")","v":" 0 services"}]
[]
["► Score \"service\"",null,"Service",null,null,"Etablissement"]
["Gestion du linge sale",null,{"$f":"IF(Rapport!F337=\"non saisi\",\"-\",Rapport!F337)","v":"-"},16,{"$f":"Rapport!H337","v":"non saisi"},{"$f":"IF(Rapport!H158=\"non saisi\",\"-\",Rapport!H158)","v":"-"}]
["Gestion du linge propre",null,{"$f":"IF(Rapport!F338=\"non saisi\",\"-\",Rapport!F338)","v":"-"},12,{"$f":"Rapport!H338","v":"non saisi"},{"$f":"IF(Rapport!H159=\"non saisi\",\"-\",Rapport!H159)","v":"-"}]
["Bionettoyage et traçabilité ",null,{"$f":"IF(Rapport!F339=\"non saisi\",\"-\",Rapport!F339)","v":"-"},12,{"$f":"Rapport!H339","v":"non saisi"},{"$f":"IF(Rapport!H160=\"non saisi\",\"-\",Rapport!H160)","v":"-"}]
["Score total",null,{"$f":"IF(Rapport!F340=\"non saisi\",\"-\",Rapport!F340)","v":"-"},40,{"$f":"Rapport!H340","v":"non saisi"},{"$f":"IF(Rapport!H161=\"non saisi\",\"-\",Rapport!H161)","v":"-"}]
[]
["► Score \"utilisateur\"",null,"Service",null,null,"Etablissement"]
["Evacuation du linge sale",null,{"$f":"IF(Rapport!F391=\"non saisi\",\"-\",Rapport!F391)","v":"-"},16,{"$f":"IF(Rapport!H391=\"non saisi\",\"-\",Rapport!H391)","v":"-"},{"$f":"IF(Rapport!H200=\"non saisi\",\"-\",Rapport!H200)","v":"-"}]
["Utilisation du linge propre",null,{"$f":"IF(Rapport!F392=\"non saisi\",\"-\",Rapport!F392)","v":"-"},4,{"$f":"IF(Rapport!H392=\"non saisi\",\"-\",Rapport!H392)","v":"-"},{"$f":"IF(Rapport!H201=\"non saisi\",\"-\",Rapport!H201)","v":"-"}]
["Score total",null,{"$f":"IF(Rapport!F393=\"non saisi\",\"-\",Rapport!F393)","v":"-"},20,{"$f":"IF(Rapport!H393=\"non saisi\",\"-\",Rapport!H393)","v":"-"},{"$f":"IF(Rapport!H202=\"non saisi\",\"-\",Rapport!H202)","v":"-"}]
[]
["Axes d'amélioration et commentaires"]
[]
[null,null,null,null,null,null,null,null,null,null,null,null,null,null,"◄ avant d'imprimer, veuillez"]
[null,null,null,null,null,null,null,null,null,null,null,null,null,null,"tapez vos axes d'amélioration"]
[null,null,null,null,null,null,null,null,null,null,null,null,null,null,"et commentaires dans le cadre"]
[null,null,null,null,null,null,null,null,null,null,null,null,null,null,"ci-contre."]
[]
[]
[]
[null,null,null,null,null,null,null,null,"La mise en œuvre d'actions d'amélioration avant une nouvelle évaluation contribue au processus d'amélioration de la qualité des soins"]
[null,null,null,null,null,null,null,null,null,null,null,null,null,null,"Autre",{"$f":"Rapport!H431","v":"non saisi"}]
[null,null,null,null,null,null,null,null,null,null,null,null,null,null,"Etudiant",{"$f":"Rapport!H430","v":"non saisi"}]
["L'établissement est en retard et doit assurer les meilleures conditions d’hygiène et de protection des patients et des personnels vis-à-vis du risque infectieux. ",null,null,null,null,null,null,null,null,null,null,null,null,null,"Brancardier",{"$f":"Rapport!H429","v":"non saisi"}]
[null,null,null,null,null,null,null,null,null,null,null,null,null,null,"Ambulancier",{"$f":"Rapport!H428","v":"non saisi"}]
["l'établissement a mis en place une politique qualité des activités et des prestations relatives aux articles de linge, il doit poursuivre ses actions",null,null,null,null,null,null,null,null,null,null,null,null,null,"Agent hospitalier",{"$f":"Rapport!H427","v":"non saisi"}]
["L'établissement est fortement engagé dans la qualité des activités relatives aux articles de linge, il doit poursuivre ses actions",null,null,null,null,null,null,null,null,null,null,null,null,null,"Aide-soignante/aux. puériculture",{"$f":"Rapport!H426","v":"non saisi"}]
[null,null,null,null,null,null,null,null,null,null,null,null,null,null,"Manipulateur radio",{"$f":"Rapport!H425","v":"non saisi"}]
[null,null,null,null,null,null,null,null,null,null,null,null,null,null,"Kinésithérapeute",{"$f":"Rapport!H424","v":"non saisi"}]
[null,null,null,null,null,null,null,null,null,null,null,null,null,null,"Sage-femme",{"$f":"Rapport!H423","v":"non saisi"}]
[null,null,null,null,null,null,null,null,null,null,null,null,null,null,"Infirmière et IDE spécialisée",{"$f":"Rapport!H422","v":"non saisi"}]

{"sheet":"Fiches_Utilisateurs_Service#4","index":16,"n_rows":47,"n_cols":82,"rows_kept":47,"cut":false,"hidden":false,"merged":[[0,0,0,2],[1,0,1,2]]}
["FICHE N° 2"]
["UTILISATEURS SERVICE #4"]
[null,null,"Utilisateur #1",null,"Utilisateur #2",null,"Utilisateur #3",null,"Utilisateur #4",null,"Utilisateur #5",null,"Utilisateur #6",null,"Utilisateur #7",null,"Utilisateur #8",null,"Utilisateur #9",null,"Utilisateur #10",null,"Utilisateur #11",null,"Utilisateur #12",null,"Utilisateur #13",null,"Utilisateur #14",null,"Utilisateur #15",null,"Utilisateur #16",null,"Utilisateur #17",null,"Utilisateur #18",null,"Utilisateur #19",null,"Utilisateur #20",null,"Utilisateur #21",null,"Utilisateur #22",null,"Utilisateur #23",null,"Utilisateur #24",null,"Utilisateur #25",null,"Utilisateur #26",null,"Utilisateur #27",null,"Utilisateur #28",null,"Utilisateur #29",null,"Utilisateur #30",null,"Utilisateur #31",null,"Utilisateur #32",null,"Utilisateur #33",null,"Utilisateur #34",null,"Utilisateur #35",null,"Utilisateur #36",null,"Utilisateur #37",null,"Utilisateur #38",null,"Utilisateur #39",null,"Utilisateur #40"]
[]
[null,"VERIFICATION DONNEES NON SAISIES/N° DE SAISIE DE FICHE",{"$f":"C45","v":"non saisies"},null,{"$f":"E45","v":"non saisies"},null,{"$f":"G45","v":"non saisies"},null,{"$f":"I45","v":"non saisies"},null,{"$f":"K45","v":"non saisies"},null,{"$f":"M45","v":"non saisies"},null,{"$f":"O45","v":"non saisies"},null,{"$f":"Q45","v":"non saisies"},null,{"$f":"S45","v":"non saisies"},null,{"$f":"U45","v":"non saisies"},null,{"$f":"W45","v":"non saisies"},null,{"$f":"Y45","v":"non saisies"},null,{"$f":"AA45","v":"non saisies"},null,{"$f":"AC45","v":"non saisies"},null,{"$f":"AE45","v":"non saisies"},null,{"$f":"AG45","v":"non saisies"},null,{"$f":"AI45","v":"non saisies"},null,{"$f":"AK45","v":"non saisies"},null,{"$f":"AM45","v":"non saisies"},null,{"$f":"AO45","v":"non saisies"},null,{"$f":"AQ45","v":"non saisies"},null,{"$f":"AS45","v":"non saisies"},null,{"$f":"AU45","v":"non saisies"},null,{"$f":"AW45","v":"non saisies"},null,{"$f":"AY45","v":"non saisies"},null,{"$f":"BA45","v":"non saisies"},null,{"$f":"BC45","v":"non saisies"},null,{"$f":"BE45","v":"non saisies"},null,{"$f":"BG45","v":"non saisies"},null,{"$f":"BI45","v":"non saisies"},null,{"$f":"BK45","v":"non saisies"},null,{"$f":"BM45","v":"non saisies"},null,{"$f":"BO45","v":"non saisies"},null,{"$f":"BQ45","v":"non saisies"},null,{"$f":"BS45","v":"non saisies"},null,{"$f":"BU45","v":"non saisies"},null,{"$f":"BW45","v":"non saisies"},null,{"$f":"BY45","v":"non saisies"},null,{"$f":"CA45","v":"non saisies"},null,{"$f":"CC45","v":"non saisies"}]
[]
[null,"Date"]
[]
[null,"Nom du service",{"$f":"IF(SERVICE4=\"\",\"non saisi\",SERVICE4)","v":"non saisi"},null,{"$f":"IF(SERVICE4=\"\",\"non saisi\",SERVICE4)","v":"non saisi"},null,{"$f":"IF(SERVICE4=\"\",\"non saisi\",SERVICE4)","v":"non saisi"},null,{"$f":"IF(SERVICE4=\"\",\"non saisi\",SERVICE4)","v":"non saisi"},null,{"$f":"IF(SERVICE4=\"\",\"non saisi\",SERVICE4)","v":"non saisi"},null,{"$f":"IF(SERVICE4=\"\",\"non saisi\",SERVICE4)","v":"non saisi"},null,{"$f":"IF(SERVICE4=\"\",\"non saisi\",SERVICE4)","v":"non saisi"},null,{"$f":"IF(SERVICE4=\"\",\"non saisi\",SERVICE4)","v":"non saisi"},null,{"$f":"IF(SERVICE4=\"\",\"non saisi\",SERVICE4)","v":"non saisi"},null,{"$f":"IF(SERVICE4=\"\",\"non saisi\",SERVICE4)","v":"non saisi"},null,{"$f":"IF(SERVICE4=\"\",\"non saisi\",SERVICE4)","v":"non saisi"},null,{"$f":"IF(SERVICE4=\"\",\"non saisi\",SERVICE4)","v":"non saisi"},null,{"$f":"IF(SERVICE4=\"\",\"non saisi\",SERVICE4)","v":"non saisi"},null,{"$f":"IF(SERVICE4=\"\",\"non saisi\",SERVICE4)","v":"non saisi"},null,{"$f":"IF(SERVICE4=\"\",\"non saisi\",SERVICE4)","v":"non saisi"},null,{"$f":"IF(SERVICE4=\"\",\"non saisi\",SERVICE4)","v":"non saisi"},null,{"$f":"IF(SERVICE4=\"\",\"non saisi\",SERVICE4)","v":"non saisi"},null,{"$f":"IF(SERVICE4=\"\",\"non saisi\",SERVICE4)","v":"non saisi"},null,{"$f":"IF(SERVICE4=\"\",\"non saisi\",SERVICE4)","v":"non saisi"},null,{"$f":"IF(SERVICE4=\"\",\"non saisi\",SERVICE4)","v":"non saisi"},null,{"$f":"IF(SERVICE4=\"\",\"non saisi\",SERVICE4)","v":"non saisi"},null,{"$f":"IF(SERVICE4=\"\",\"non saisi\",SERVICE4)","v":"non saisi"},null,{"$f":"IF(SERVICE4=\"\",\"non saisi\",SERVICE4)","v":"non saisi"},null,{"$f":"IF(SERVICE4=\"\",\"non saisi\",SERVICE4)","v":"non saisi"},null,{"$f":"IF(SERVICE4=\"\",\"non saisi\",SERVICE4)","v":"non saisi"},null,{"$f":"IF(SERVICE4=\"\",\"non saisi\",SERVICE4)","v":"non saisi"},null,{"$f":"IF(SERVICE4=\"\",\"non saisi\",SERVICE4)","v":"non saisi"},null,{"$f":"IF(SERVICE4=\"\",\"non saisi\",SERVICE4)","v":"non saisi"},null,{"$f":"IF(SERVICE4=\"\",\"non saisi\",SERVICE4)","v":"non saisi"},null,{"$f":"IF(SERVICE4=\"\",\"non saisi\",SERVICE4)","v":"non saisi"},null,{"$f":"IF(SERVICE4=\"\",\"non saisi\",SERVICE4)","v":"non saisi"},null,{"$f":"IF(SERVICE4=\"\",\"non saisi\",SERVICE4)","v":"non saisi"},null,{"$f":"IF(SERVICE4=\"\",\"non saisi\",SERVICE4)","v":"non saisi"},null,{"$f":"IF(SERVICE4=\"\",\"non saisi\",SERVICE4)","v":"non saisi"},null,{"$f":"IF(SERVICE4=\"\",\"non saisi\",SERVICE4)","v":"non saisi"},null,{"$f":"IF(SERVICE4=\"\",\"non saisi\",SERVICE4)","v":"non saisi"},null,{"$f":"IF(SERVICE4=\"\",\"non saisi\",SERVICE4)","v":"non saisi"},null,{"$f":"IF(SERVICE4=\"\",\"non saisi\",SERVICE4)","v":"non saisi"},null,{"$f":"IF(SERVICE4=\"\",\"non saisi\",SERVICE4)","v":"non saisi"},null,{"$f":"IF(SERVICE4=\"\",\"non saisi\",SERVICE4)","v":"non saisi"}]
[]
[null,"Fonction du personnel",null,null,null,null,null,null,null,null,null,null,null,null,null,null,null,null,null,null,null,null,null,null,null,null,null,null,null,null,null,null,null,null,null,null,null,null,null,null,null,null,null,null,null,null,null,null,null,null,null,null,null,null,null,null,null,null,null,null,null,null,null,null,null,null,null,null,null,null,null,null,null,null,null,null,null,null,null,null,null,"1 Infirmière et IDE spécialisée"]
[null,null,null,null,null,null,null,null,null,null,null,null,null,null,null,null,null,null,null,null,null,null,null,null,null,null,null,null,null,null,null,null,null,null,null,null,null,null,null,null,null,null,null,null,null,null,null,null,null,null,null,null,null,null,null,null,null,null,null,null,null,null,null,null,null,null,null,null,null,null,null,null,null,null,null,null,null,null,null,null,null,"2 Sage Femme"]
["Linge sale",null,"1 Oui - 2 Non",null,"1 Oui - 2 Non",null,"1 Oui - 2 Non",null,"1 Oui - 2 Non",null,"1 Oui - 2 Non",null,"1 Oui - 2 Non",null,"1 Oui - 2 Non",null,"1 Oui - 2 Non",null,"1 Oui - 2 Non",null,"1 Oui - 2 Non",null,"1 Oui - 2 Non",null,"1 Oui - 2 Non",null,"1 Oui - 2 Non",null,"1 Oui - 2 Non",null,"1 Oui - 2 Non",null,"1 Oui - 2 Non",null,"1 Oui - 2 Non",null,"1 Oui - 2 Non",null,"1 Oui - 2 Non",null,"1 Oui - 2 Non",null,"1 Oui - 2 Non",null,"1 Oui - 2 Non",null,"1 Oui - 2 Non",null,"1 Oui - 2 Non",null,"1 Oui - 2 Non",null,"1 Oui - 2 Non",null,"1 Oui - 2 Non",null,"1 Oui - 2 Non",null,"1 Oui - 2 Non",null,"1 Oui - 2 Non",null,"1 Oui - 2 Non",null,"1 Oui - 2 Non",null,"1 Oui - 2 Non",null,"1 Oui - 2 Non",null,"1 Oui - 2 Non",null,"1 Oui - 2 Non",null,"1 Oui - 2 Non",null,"1 Oui - 2 Non",null,"1 Oui - 2 Non",null,"1 Oui - 2 Non","3 Kinésithérapeute"]
[null,null,null,null,null,null,null,null,null,null,null,null,null,null,null,null,null,null,null,null,null,null,null,null,null,null,null,null,null,null,null,null,null,null,null,null,null,null,null,null,null,null,null,null,null,null,null,null,null,null,null,null,null,null,null,null,null,null,null,null,null,null,null,null,null,null,null,null,null,null,null,null,null,null,null,null,null,null,null,null,null,"4 Manipulateur Radio"]
[1,"Le linge sale est évacué à la fin du soin, sans dépose sur le sol",null,null,null,null,null,null,null,null,null,null,null,null,null,null,null,null,null,null,null,null,null,null,null,null,null,null,null,null,null,null,null,null,null,null,null,null,null,null,null,null,null,null,null,null,null,null,null,null,null,null,null,null,null,null,null,null,null,null,null,null,null,null,null,null,null,null,null,null,null,null,null,null,null,null,null,null,null,null,null,"5 Aide soignante/aux. de puériculture"]
[null,null,null,null,null,null,null,null,null,null,null,null,null,null,null,null,null,null,null,null,null,null,null,null,null,null,null,null,null,null,null,null,null,null,null,null,null,null,null,null,null,null,null,null,null,null,null,null,null,null,null,null,null,null,null,null,null,null,null,null,null,null,null,null,null,null,null,null,null,null,null,null,null,null,null,null,null,null,null,null,null,"6 Agent Hospitalier"]
[2,"Le professionnel vérifie l’absence d’objet étranger",null,null,null,null,null,null,null,null,null,null,null,null,null,null,null,null,null,null,null,null,null,null,null,null,null,null,null,null,null,null,null,null,null,null,null,null,null,null,null,null,null,null,null,null,null,null,null,null,null,null,null,null,null,null,null,null,null,null,null,null,null,null,null,null,null,null,null,null,null,null,null,null,null,null,null,null,null,null,null,"7 Ambulancier"]
[null,null,null,null,null,null,null,null,null,null,null,null,null,null,null,null,null,null,null,null,null,null,null,null,null,null,null,null,null,null,null,null,null,null,null,null,null,null,null,null,null,null,null,null,null,null,null,null,null,null,null,null,null,null,null,null,null,null,null,null,null,null,null,null,null,null,null,null,null,null,null,null,null,null,null,null,null,null,null,null,null,"8 Brancardier"]
[3,"Le professionnel porte des gants lors de la manipulation de linge souillé par des liquides biologiques",null,null,null,null,null,null,null,null,null,null,null,null,null,null,null,null,null,null,null,null,null,null,null,null,null,null,null,null,null,null,null,null,null,null,null,null,null,null,null,null,null,null,null,null,null,null,null,null,null,null,null,null,null,null,null,null,null,null,null,null,null,null,null,null,null,null,null,null,null,null,null,null,null,null,null,null,null,null,null,"9 Etudiant"]
[null,null,null,null,null,null,null,null,null,null,null,null,null,null,null,null,null,null,null,null,null,null,null,null,null,null,null,null,null,null,null,null,null,null,null,null,null,null,null,null,null,null,null,null,null,null,null,null,null,null,null,null,null,null,null,null,null,null,null,null,null,null,null,null,null,null,null,null,null,null,null,null,null,null,null,null,null,null,null,null,null,"10 Autre"]
[4,"Le professionnel manipule le linge sale avec des gestes mesurés pour limiter la contamination de l'environnement",null,null,null,null,null,null,null,null,null,null,null,null,null,null,null,null,null,null,null,null,null,null,null,null,null,null,null,null,null,null,null,null,null,null,null,null,null,null,null,null,null,null,null,null,null,null,null,null,null,null,null,null,null,null,null,null,null,null,null,null,null,null,null,null,null,null,null,null,null,null,null,null,null,null,null,null,null,null,null,1]
[null,null,null,null,null,null,null,null,null,null,null,null,null,null,null,null,null,null,null,null,null,null,null,null,null,null,null,null,null,null,null,null,null,null,null,null,null,null,null,null,null,null,null,null,null,null,null,null,null,null,null,null,null,null,null,null,null,null,null,null,null,null,null,null,null,null,null,null,null,null,null,null,null,null,null,null,null,null,null,null,null,2]
[5,"Les articles sont répartis selon la procédure de tri de l'établissement",null,null,null,null,null,null,null,null,null,null,null,null,null,null,null,null,null,null,null,null,null,null,null,null,null,null,null,null,null,null,null,null,null,null,null,null,null,null,null,null,null,null,null,null,null,null,null,null,null,null,null,null,null,null,null,null,null,null,null,null,null,null,null,null,null,null,null,null,null,null,null,null,null,null,null,null,null,null,null,3]
[null,null,null,null,null,null,null,null,null,null,null,null,null,null,null,null,null,null,null,null,null,null,null,null,null,null,null,null,null,null,null,null,null,null,null,null,null,null,null,null,null,null,null,null,null,null,null,null,null,null,null,null,null,null,null,null,null,null,null,null,null,null,null,null,null,null,null,null,null,null,null,null,null,null,null,null,null,null,null,null,null,4]
[6,"Le linge est tenu à distance de la tenue professionnelle",null,null,null,null,null,null,null,null,null,null,null,null,null,null,null,null,null,null,null,null,null,null,null,null,null,null,null,null,null,null,null,null,null,null,null,null,null,null,null,null,null,null,null,null,null,null,null,null,null,null,null,null,null,null,null,null,null,null,null,null,null,null,null,null,null,null,null,null,null,null,null,null,null,null,null,null,null,null,null,5]
[null,null,null,null,null,null,null,null,null,null,null,null,null,null,null,null,null,null,null,null,null,null,null,null,null,null,null,null,null,null,null,null,null,null,null,null,null,null,null,null,null,null,null,null,null,null,null,null,null,null,null,null,null,null,null,null,null,null,null,null,null,null,null,null,null,null,null,null,null,null,null,null,null,null,null,null,null,null,null,null,null,6]
[7,"Le système d'ouverture du chariot des sacs collecteurs de linge sale est manipulé sans les mains",null,null,null,null,null,null,null,null,null,null,null,null,null,null,null,null,null,null,null,null,null,null,null,null,null,null,null,null,null,null,null,null,null,null,null,null,null,null,null,null,null,null,null,null,null,null,null,null,null,null,null,null,null,null,null,null,null,null,null,null,null,null,null,null,null,null,null,null,null,null,null,null,null,null,null,null,null,null,null,7]
[null,null,null,null,null,null,null,null,null,null,null,null,null,null,null,null,null,null,null,null,null,null,null,null,null,null,null,null,null,null,null,null,null,null,null,null,null,null,null,null,null,null,null,null,null,null,null,null,null,null,null,null,null,null,null,null,null,null,null,null,null,null,null,null,null,null,null,null,null,null,null,null,null,null,null,null,null,null,null,null,null,8]
[8,"Le professionnel réalise une hygiène des mains après avoir manipulé le linge sale",null,null,null,null,null,null,null,null,null,null,null,null,null,null,null,null,null,null,null,null,null,null,null,null,null,null,null,null,null,null,null,null,null,null,null,null,null,null,null,null,null,null,null,null,null,null,null,null,null,null,null,null,null,null,null,null,null,null,null,null,null,null,null,null,null,null,null,null,null,null,null,null,null,null,null,null,null,null,null,9]
[null,null,null,null,null,null,null,null,null,null,null,null,null,null,null,null,null,null,null,null,null,null,null,null,null,null,null,null,null,null,null,null,null,null,null,null,null,null,null,null,null,null,null,null,null,null,null,null,null,null,null,null,null,null,null,null,null,null,null,null,null,null,null,null,null,null,null,null,null,null,null,null,null,null,null,null,null,null,null,null,null,10]
[9,"Dès la fin de l'activité, les sacs de linge sale sont évacués vers un local de stockage réservé"]
[null,"Si Non Observé (NO) coder 3"]
[10,"Les sacs de linge sale sont transportés sans être traînés par terre lors de transport"]
[null,"Si Non Observé (NO) coder 3"]
[11,"Le professionnel réalise une hygiène des mains après avoir manipulé les sacs de linge"]
[null,"Si Non Observé (NO) coder 3"]
["Linge propre",null,"1 Oui - 2 Non",null,"1 Oui - 2 Non",null,"1 Oui - 2 Non",null,"1 Oui - 2 Non",null,"1 Oui - 2 Non",null,"1 Oui - 2 Non",null,"1 Oui - 2 Non",null,"1 Oui - 2 Non",null,"1 Oui - 2 Non",null,"1 Oui - 2 Non",null,"1 Oui - 2 Non",null,"1 Oui - 2 Non",null,"1 Oui - 2 Non",null,"1 Oui - 2 Non",null,"1 Oui - 2 Non",null,"1 Oui - 2 Non",null,"1 Oui - 2 Non",null,"1 Oui - 2 Non",null,"1 Oui - 2 Non",null,"1 Oui - 2 Non",null,"1 Oui - 2 Non",null,"1 Oui - 2 Non",null,"1 Oui - 2 Non",null,"1 Oui - 2 Non",null,"1 Oui - 2 Non",null,"1 Oui - 2 Non",null,"1 Oui - 2 Non",null,"1 Oui - 2 Non",null,"1 Oui - 2 Non",null,"1 Oui - 2 Non",null,"1 Oui - 2 Non",null,"1 Oui - 2 Non",null,"1 Oui - 2 Non",null,"1 Oui - 2 Non",null,"1 Oui - 2 Non",null,"1 Oui - 2 Non",null,"1 Oui - 2 Non",null,"1 Oui - 2 Non",null,"1 Oui - 2 Non",null,"1 Oui - 2 Non"]
[]
[12,"Le professionnel réalise une hygiène des mains avant de manipuler le linge propre "]
[]
[13,"Le linge est déconditionné au fur et à mesure des besoins"]
[]
[14,"Le linge entré dans la chambre et non utilisé est évacué (considéré comme sale)"]
[]
[null,"VERIFICATION DONNEES NON SAISIES/N° DE SAISIE DE FICHE",{"$f":"IF(OR(C7=\"\",C9=\"non saisi\",C11=\"\",C15=\"\",C17=\"\",C19=\"\",C21=\"\",C23=\"\",C25=\"\",C27=\"\",C29=\"\",C31=\"\",C33=\"\",C35=\"\",C39=\"\",C41=\"\",C43=\"\"),\"non saisies\",(SERVICES+_OBS1+_OBS2+_OBS3+1))","v":"non saisies"},null,{"$f":"IF(OR(E7=\"\",E9=\"non saisi\",E11=\"\",E15=\"\",E17=\"\",E19=\"\",E21=\"\",E23=\"\",E25=\"\",E27=\"\",E29=\"\",E31=\"\",E33=\"\",E35=\"\",E39=\"\",E41=\"\",E43=\"\"),\"non saisies\",(SERVICES+_OBS1+_OBS2+_OBS3+2))","v":"non saisies"},null,{"$f":"IF(OR(G7=\"\",G9=\"non saisi\",G11=\"\",G15=\"\",G17=\"\",G19=\"\",G21=\"\",G23=\"\",G25=\"\",G27=\"\",G29=\"\",G31=\"\",G33=\"\",G35=\"\",G39=\"\",G41=\"\",G43=\"\"),\"non saisies\",(SERVICES+_OBS1+_OBS2+_OBS3+3))","v":"non saisies"},null,{"$f":"IF(OR(I7=\"\",I9=\"non saisi\",I11=\"\",I15=\"\",I17=\"\",I19=\"\",I21=\"\",I23=\"\",I25=\"\",I27=\"\",I29=\"\",I31=\"\",I33=\"\",I35=\"\",I39=\"\",I41=\"\",I43=\"\"),\"non saisies\",(SERVICES+_OBS1+_OBS2+_OBS3+4))","v":"non saisies"},null,{"$f":"IF(OR(K7=\"\",K9=\"non saisi\",K11=\"\",K15=\"\",K17=\"\",K19=\"\",K21=\"\",K23=\"\",K25=\"\",K27=\"\",K29=\"\",K31=\"\",K33=\"\",K35=\"\",K39=\"\",K41=\"\",K43=\"\"),\"non saisies\",(SERVICES+_OBS1+_OBS2+_OBS3+5))","v":"non saisies"},null,{"$f":"IF(OR(M7=\"\",M9=\"non saisi\",M11=\"\",M15=\"\",M17=\"\",M19=\"\",M21=\"\",M23=\"\",M25=\"\",M27=\"\",M29=\"\",M31=\"\",M33=\"\",M35=\"\",M39=\"\",M41=\"\",M43=\"\"),\"non saisies\",(SERVICES+_OBS1+_OBS2+_OBS3+6))","v":"non saisies"},null,{"$f":"IF(OR(O7=\"\",O9=\"non saisi\",O11=\"\",O15=\"\",O17=\"\",O19=\"\",O21=\"\",O23=\"\",O25=\"\",O27=\"\",O29=\"\",O31=\"\",O33=\"\",O35=\"\",O39=\"\",O41=\"\",O43=\"\"),\"non saisies\",(SERVICES+_OBS1+_OBS2+_OBS3+7))","v":"non saisies"},null,{"$f":"IF(OR(Q7=\"\",Q9=\"non saisi\",Q11=\"\",Q15=\"\",Q17=\"\",Q19=\"\",Q21=\"\",Q23=\"\",Q25=\"\",Q27=\"\",Q29=\"\",Q31=\"\",Q33=\"\",Q35=\"\",Q39=\"\",Q41=\"\",Q43=\"\"),\"non saisies\",(SERVICES+_OBS1+_OBS2+_OBS3+8))","v":"non saisies"},null,{"$f":"IF(OR(S7=\"\",S9=\"non saisi\",S11=\"\",S15=\"\",S17=\"\",S19=\"\",S21=\"\",S23=\"\",S25=\"\",S27=\"\",S29=\"\",S31=\"\",S33=\"\",S35=\"\",S39=\"\",S41=\"\",S43=\"\"),\"non saisies\",(SERVICES+_OBS1+_OBS2+_OBS3+9))","v":"non saisies"},null,{"$f":"IF(OR(U7=\"\",U9=\"non saisi\",U11=\"\",U15=\"\",U17=\"\",U19=\"\",U21=\"\",U23=\"\",U25=\"\",U27=\"\",U29=\"\",U31=\"\",U33=\"\",U35=\"\",U39=\"\",U41=\"\",U43=\"\"),\"non saisies\",(SERVICES+_OBS1+_OBS2+_OBS3+10))","v":"non saisies"},null,{"$f":"IF(OR(W7=\"\",W9=\"non saisi\",W11=\"\",W15=\"\",W17=\"\",W19=\"\",W21=\"\",W23=\"\",W25=\"\",W27=\"\",W29=\"\",W31=\"\",W33=\"\",W35=\"\",W39=\"\",W41=\"\",W43=\"\"),\"non saisies\",(SERVICES+_OBS1+_OBS2+_OBS3+11))","v":"non saisies"},null,{"$f":"IF(OR(Y7=\"\",Y9=\"non saisi\",Y11=\"\",Y15=\"\",Y17=\"\",Y19=\"\",Y21=\"\",Y23=\"\",Y25=\"\",Y27=\"\",Y29=\"\",Y31=\"\",Y33=\"\",Y35=\"\",Y39=\"\",Y41=\"\",Y43=\"\"),\"non saisies\",(SERVICES+_OBS1+_OBS2+_OBS3+12))","v":"non saisies"},null,{"$f":"IF(OR(AA7=\"\",AA9=\"non saisi\",AA11=\"\",AA15=\"\",AA17=\"\",AA19=\"\",AA21=\"\",AA23=\"\",AA25=\"\",AA27=\"\",AA29=\"\",AA31=\"\",AA33=\"\",AA35=\"\",AA39=\"\",AA41=\"\",AA43=\"\"),\"non saisies\",(SERVICES+_OBS1+_OBS2+_OBS3+13))","v":"non saisies"},null,{"$f":"IF(OR(AC7=\"\",AC9=\"non saisi\",AC11=\"\",AC15=\"\",AC17=\"\",AC19=\"\",AC21=\"\",AC23=\"\",AC25=\"\",AC27=\"\",AC29=\"\",AC31=\"\",AC33=\"\",AC35=\"\",AC39=\"\",AC41=\"\",AC43=\"\"),\"non saisies\",(SERVICES+_OBS1+_OBS2+_OBS3+14))","v":"non saisies"},null,{"$f":"IF(OR(AE7=\"\",AE9=\"non saisi\",AE11=\"\",AE15=\"\",AE17=\"\",AE19=\"\",AE21=\"\",AE23=\"\",AE25=\"\",AE27=\"\",AE29=\"\",AE31=\"\",AE33=\"\",AE35=\"\",AE39=\"\",AE41=\"\",AE43=\"\"),\"non saisies\",(SERVICES+_OBS1+_OBS2+_OBS3+15))","v":"non saisies"},null,{"$f":"IF(OR(AG7=\"\",AG9=\"non saisi\",AG11=\"\",AG15=\"\",AG17=\"\",AG19=\"\",AG21=\"\",AG23=\"\",AG25=\"\",AG27=\"\",AG29=\"\",AG31=\"\",AG33=\"\",AG35=\"\",AG39=\"\",AG41=\"\",AG43=\"\"),\"non saisies\",(SERVICES+_OBS1+_OBS2+_OBS3+16))","v":"non saisies"},null,{"$f":"IF(OR(AI7=\"\",AI9=\"non saisi\",AI11=\"\",AI15=\"\",AI17=\"\",AI19=\"\",AI21=\"\",AI23=\"\",AI25=\"\",AI27=\"\",AI29=\"\",AI31=\"\",AI33=\"\",AI35=\"\",AI39=\"\",AI41=\"\",AI43=\"\"),\"non saisies\",(SERVICES+_OBS1+_OBS2+_OBS3+17))","v":"non saisies"},null,{"$f":"IF(OR(AK7=\"\",AK9=\"non saisi\",AK11=\"\",AK15=\"\",AK17=\"\",AK19=\"\",AK21=\"\",AK23=\"\",AK25=\"\",AK27=\"\",AK29=\"\",AK31=\"\",AK33=\"\",AK35=\"\",AK39=\"\",AK41=\"\",AK43=\"\"),\"non saisies\",(SERVICES+_OBS1+_OBS2+_OBS3+18))","v":"non saisies"},null,{"$f":"IF(OR(AM7=\"\",AM9=\"non saisi\",AM11=\"\",AM15=\"\",AM17=\"\",AM19=\"\",AM21=\"\",AM23=\"\",AM25=\"\",AM27=\"\",AM29=\"\",AM31=\"\",AM33=\"\",AM35=\"\",AM39=\"\",AM41=\"\",AM43=\"\"),\"non saisies\",(SERVICES+_OBS1+_OBS2+_OBS3+19))","v":"non saisies"},null,{"$f":"IF(OR(AO7=\"\",AO9=\"non saisi\",AO11=\"\",AO15=\"\",AO17=\"\",AO19=\"\",AO21=\"\",AO23=\"\",AO25=\"\",AO27=\"\",AO29=\"\",AO31=\"\",AO33=\"\",AO35=\"\",AO39=\"\",AO41=\"\",AO43=\"\"),\"non saisies\",(SERVICES+_OBS1+_OBS2+_OBS3+20))","v":"non saisies"},null,{"$f":"IF(OR(AQ7=\"\",AQ9=\"non saisi\",AQ11=\"\",AQ15=\"\",AQ17=\"\",AQ19=\"\",AQ21=\"\",AQ23=\"\",AQ25=\"\",AQ27=\"\",AQ29=\"\",AQ31=\"\",AQ33=\"\",AQ35=\"\",AQ39=\"\",AQ41=\"\",AQ43=\"\"),\"non saisies\",(SERVICES+_OBS1+_OBS2+_OBS3+21))","v":"non saisies"},null,{"$f":"IF(OR(AS7=\"\",AS9=\"non saisi\",AS11=\"\",AS15=\"\",AS17=\"\",AS19=\"\",AS21=\"\",AS23=\"\",AS25=\"\",AS27=\"\",AS29=\"\",AS31=\"\",AS33=\"\",AS35=\"\",AS39=\"\",AS41=\"\",AS43=\"\"),\"non saisies\",(SERVICES+_OBS1+_OBS2+_OBS3+22))","v":"non saisies"},null,{"$f":"IF(OR(AU7=\"\",AU9=\"non saisi\",AU11=\"\",AU15=\"\",AU17=\"\",AU19=\"\",AU21=\"\",AU23=\"\",AU25=\"\",AU27=\"\",AU29=\"\",AU31=\"\",AU33=\"\",AU35=\"\",AU39=\"\",AU41=\"\",AU43=\"\"),\"non saisies\",(SERVICES+_OBS1+_OBS2+_OBS3+23))","v":"non saisies"},null,{"$f":"IF(OR(AW7=\"\",AW9=\"non saisi\",AW11=\"\",AW15=\"\",AW17=\"\",AW19=\"\",AW21=\"\",AW23=\"\",AW25=\"\",AW27=\"\",AW29=\"\",AW31=\"\",AW33=\"\",AW35=\"\",AW39=\"\",AW41=\"\",AW43=\"\"),\"non saisies\",(SERVICES+_OBS1+_OBS2+_OBS3+24))","v":"non saisies"},null,{"$f":"IF(OR(AY7=\"\",AY9=\"non saisi\",AY11=\"\",AY15=\"\",AY17=\"\",AY19=\"\",AY21=\"\",AY23=\"\",AY25=\"\",AY27=\"\",AY29=\"\",AY31=\"\",AY33=\"\",AY35=\"\",AY39=\"\",AY41=\"\",AY43=\"\"),\"non saisies\",(SERVICES+_OBS1+_OBS2+_OBS3+25))","v":"non saisies"},null,{"$f":"IF(OR(BA7=\"\",BA9=\"non saisi\",BA11=\"\",BA15=\"\",BA17=\"\",BA19=\"\",BA21=\"\",BA23=\"\",BA25=\"\",BA27=\"\",BA29=\"\",BA31=\"\",BA33=\"\",BA35=\"\",BA39=\"\",BA41=\"\",BA43=\"\"),\"non saisies\",(SERVICES+_OBS1+_OBS2+_OBS3+26))","v":"non saisies"},null,{"$f":"IF(OR(BC7=\"\",BC9=\"non saisi\",BC11=\"\",BC15=\"\",BC17=\"\",BC19=\"\",BC21=\"\",BC23=\"\",BC25=\"\",BC27=\"\",BC29=\"\",BC31=\"\",BC33=\"\",BC35=\"\",BC39=\"\",BC41=\"\",BC43=\"\"),\"non saisies\",(SERVICES+_OBS1+_OBS2+_OBS3+27))","v":"non saisies"},null,{"$f":"IF(OR(BE7=\"\",BE9=\"non saisi\",BE11=\"\",BE15=\"\",BE17=\"\",BE19=\"\",BE21=\"\",BE23=\"\",BE25=\"\",BE27=\"\",BE29=\"\",BE31=\"\",BE33=\"\",BE35=\"\",BE39=\"\",BE41=\"\",BE43=\"\"),\"non saisies\",(SERVICES+_OBS1+_OBS2+_OBS3+28))","v":"non saisies"},null,{"$f":"IF(OR(BG7=\"\",BG9=\"non saisi\",BG11=\"\",BG15=\"\",BG17=\"\",BG19=\"\",BG21=\"\",BG23=\"\",BG25=\"\",BG27=\"\",BG29=\"\",BG31=\"\",BG33=\"\",BG35=\"\",BG39=\"\",BG41=\"\",BG43=\"\"),\"non saisies\",(SERVICES+_OBS1+_OBS2+_OBS3+29))","v":"non saisies"},null,{"$f":"IF(OR(BI7=\"\",BI9=\"non saisi\",BI11=\"\",BI15=\"\",BI17=\"\",BI19=\"\",BI21=\"\",BI23=\"\",BI25=\"\",BI27=\"\",BI29=\"\",BI31=\"\",BI33=\"\",BI35=\"\",BI39=\"\",BI41=\"\",BI43=\"\"),\"non saisies\",(SERVICES+_OBS1+_OBS2+_OBS3+30))","v":"non saisies"},null,{"$f":"IF(OR(BK7=\"\",BK9=\"non saisi\",BK11=\"\",BK15=\"\",BK17=\"\",BK19=\"\",BK21=\"\",BK23=\"\",BK25=\"\",BK27=\"\",BK29=\"\",BK31=\"\",BK33=\"\",BK35=\"\",BK39=\"\",BK41=\"\",BK43=\"\"),\"non saisies\",(SERVICES+_OBS1+_OBS2+_OBS3+31))","v":"non saisies"},null,{"$f":"IF(OR(BM7=\"\",BM9=\"non saisi\",BM11=\"\",BM15=\"\",BM17=\"\",BM19=\"\",BM21=\"\",BM23=\"\",BM25=\"\",BM27=\"\",BM29=\"\",BM31=\"\",BM33=\"\",BM35=\"\",BM39=\"\",BM41=\"\",BM43=\"\"),\"non saisies\",(SERVICES+_OBS1+_OBS2+_OBS3+32))","v":"non saisies"},null,{"$f":"IF(OR(BO7=\"\",BO9=\"non saisi\",BO11=\"\",BO15=\"\",BO17=\"\",BO19=\"\",BO21=\"\",BO23=\"\",BO25=\"\",BO27=\"\",BO29=\"\",BO31=\"\",BO33=\"\",BO35=\"\",BO39=\"\",BO41=\"\",BO43=\"\"),\"non saisies\",(SERVICES+_OBS1+_OBS2+_OBS3+33))","v":"non saisies"},null,{"$f":"IF(OR(BQ7=\"\",BQ9=\"non saisi\",BQ11=\"\",BQ15=\"\",BQ17=\"\",BQ19=\"\",BQ21=\"\",BQ23=\"\",BQ25=\"\",BQ27=\"\",BQ29=\"\",BQ31=\"\",BQ33=\"\",BQ35=\"\",BQ39=\"\",BQ41=\"\",BQ43=\"\"),\"non saisies\",(SERVICES+_OBS1+_OBS2+_OBS3+34))","v":"non saisies"},null,{"$f":"IF(OR(BS7=\"\",BS9=\"non saisi\",BS11=\"\",BS15=\"\",BS17=\"\",BS19=\"\",BS21=\"\",BS23=\"\",BS25=\"\",BS27=\"\",BS29=\"\",BS31=\"\",BS33=\"\",BS35=\"\",BS39=\"\",BS41=\"\",BS43=\"\"),\"non saisies\",(SERVICES+_OBS1+_OBS2+_OBS3+35))","v":"non saisies"},null,{"$f":"IF(OR(BU7=\"\",BU9=\"non saisi\",BU11=\"\",BU15=\"\",BU17=\"\",BU19=\"\",BU21=\"\",BU23=\"\",BU25=\"\",BU27=\"\",BU29=\"\",BU31=\"\",BU33=\"\",BU35=\"\",BU39=\"\",BU41=\"\",BU43=\"\"),\"non saisies\",(SERVICES+_OBS1+_OBS2+_OBS3+36))","v":"non saisies"},null,{"$f":"IF(OR(BW7=\"\",BW9=\"non saisi\",BW11=\"\",BW15=\"\",BW17=\"\",BW19=\"\",BW21=\"\",BW23=\"\",BW25=\"\",BW27=\"\",BW29=\"\",BW31=\"\",BW33=\"\",BW35=\"\",BW39=\"\",BW41=\"\",BW43=\"\"),\"non saisies\",(SERVICES+_OBS1+_OBS2+_OBS3+37))","v":"non saisies"},null,{"$f":"IF(OR(BY7=\"\",BY9=\"non saisi\",BY11=\"\",BY15=\"\",BY17=\"\",BY19=\"\",BY21=\"\",BY23=\"\",BY25=\"\",BY27=\"\",BY29=\"\",BY31=\"\",BY33=\"\",BY35=\"\",BY39=\"\",BY41=\"\",BY43=\"\"),\"non saisies\",(SERVICES+_OBS1+_OBS2+_OBS3+38))","v":"non saisies"},null,{"$f":"IF(OR(CA7=\"\",CA9=\"non saisi\",CA11=\"\",CA15=\"\",CA17=\"\",CA19=\"\",CA21=\"\",CA23=\"\",CA25=\"\",CA27=\"\",CA29=\"\",CA31=\"\",CA33=\"\",CA35=\"\",CA39=\"\",CA41=\"\",CA43=\"\"),\"non saisies\",(SERVICES+_OBS1+_OBS2+_OBS3+39))","v":"non saisies"},null,{"$f":"IF(OR(CC7=\"\",CC9=\"non saisi\",CC11=\"\",CC15=\"\",CC17=\"\",CC19=\"\",CC21=\"\",CC23=\"\",CC25=\"\",CC27=\"\",CC29=\"\",CC31=\"\",CC33=\"\",CC35=\"\",CC39=\"\",CC41=\"\",CC43=\"\"),\"non saisies\",(SERVICES+_OBS1+_OBS2+_OBS3+40))","v":"non saisies"}]
[]
[null,"MENU"]

{"sheet":"Score4","index":17,"n_rows":82,"n_cols":81,"rows_kept":82,"cut":false,"hidden":true,"merged":[]}
[]
[]
[]
[]
[]
[]
[null,null,{"$f":"IF('Fiches_Utilisateurs_Service#4'!C7=\"\",0,1)","v":0},null,{"$f":"IF('Fiches_Utilisateurs_Service#4'!E7=\"\",0,1)","v":0},null,{"$f":"IF('Fiches_Utilisateurs_Service#4'!G7=\"\",0,1)","v":0},null,{"$f":"IF('Fiches_Utilisateurs_Service#4'!I7=\"\",0,1)","v":0},null,{"$f":"IF('Fiches_Utilisateurs_Service#4'!K7=\"\",0,1)","v":0},null,{"$f":"IF('Fiches_Utilisateurs_Service#4'!M7=\"\",0,1)","v":0},null,{"$f":"IF('Fiches_Utilisateurs_Service#4'!O7=\"\",0,1)","v":0},null,{"$f":"IF('Fiches_Utilisateurs_Service#4'!Q7=\"\",0,1)","v":0},null,{"$f":"IF('Fiches_Utilisateurs_Service#4'!S7=\"\",0,1)","v":0},null,{"$f":"IF('Fiches_Utilisateurs_Service#4'!U7=\"\",0,1)","v":0},null,{"$f":"IF('Fiches_Utilisateurs_Service#4'!W7=\"\",0,1)","v":0},null,{"$f":"IF('Fiches_Utilisateurs_Service#4'!Y7=\"\",0,1)","v":0},null,{"$f":"IF('Fiches_Utilisateurs_Service#4'!AA7=\"\",0,1)","v":0},null,{"$f":"IF('Fiches_Utilisateurs_Service#4'!AC7=\"\",0,1)","v":0},null,{"$f":"IF('Fiches_Utilisateurs_Service#4'!AE7=\"\",0,1)","v":0},null,{"$f":"IF('Fiches_Utilisateurs_Service#4'!AG7=\"\",0,1)","v":0},null,{"$f":"IF('Fiches_Utilisateurs_Service#4'!AI7=\"\",0,1)","v":0},null,{"$f":"IF('Fiches_Utilisateurs_Service#4'!AK7=\"\",0,1)","v":0},null,{"$f":"IF('Fiches_Utilisateurs_Service#4'!AM7=\"\",0,1)","v":0},null,{"$f":"IF('Fiches_Utilisateurs_Service#4'!AO7=\"\",0,1)","v":0},null,{"$f":"IF('Fiches_Utilisateurs_Service#4'!AQ7=\"\",0,1)","v":0},null,{"$f":"IF('Fiches_Utilisateurs_Service#4'!AS7=\"\",0,1)","v":0},null,{"$f":"IF('Fiches_Utilisateurs_Service#4'!AU7=\"\",0,1)","v":0},null,{"$f":"IF('Fiches_Utilisateurs_Service#4'!AW7=\"\",0,1)","v":0},null,{"$f":"IF('Fiches_Utilisateurs_Service#4'!AY7=\"\",0,1)","v":0},null,{"$f":"IF('Fiches_Utilisateurs_Service#4'!BA7=\"\",0,1)","v":0},null,{"$f":"IF('Fiches_Utilisateurs_Service#4'!BC7=\"\",0,1)","v":0},null,{"$f":"IF('Fiches_Utilisateurs_Service#4'!BE7=\"\",0,1)","v":0},null,{"$f":"IF('Fiches_Utilisateurs_Service#4'!BG7=\"\",0,1)","v":0},null,{"$f":"IF('Fiches_Utilisateurs_Service#4'!BI7=\"\",0,1)","v":0},null,{"$f":"IF('Fiches_Utilisateurs_Service#4'!BK7=\"\",0,1)","v":0},null,{"$f":"IF('Fiches_Utilisateurs_Service#4'!BM7=\"\",0,1)","v":0},null,{"$f":"IF('Fiches_Utilisateurs_Service#4'!BO7=\"\",0,1)","v":0},null,{"$f":"IF('Fiches_Utilisateurs_Service#4'!BQ7=\"\",0,1)","v":0},null,{"$f":"IF('Fiches_Utilisateurs_Service#4'!BS7=\"\",0,1)","v":0},null,{"$f":"IF('Fiches_Utilisateurs_Service#4'!BU7=\"\",0,1)","v":0},null,{"$f":"IF('Fiches_Utilisateurs_Service#4'!BW7=\"\",0,1)","v":0},null,{"$f":"IF('Fiches_Utilisateurs_Service#4'!BY7=\"\",0,1)","v":0},null,{"$f":"IF('Fiches_Utilisateurs_Service#4'!CA7=\"\",0,1)","v":0},null,{"$f":"IF('Fiches_Utilisateurs_Service#4'!CC7=\"\",0,1)","v":0}]
[]
[]
[]
[null,null,{"$f":"IF(LEFT('Fiches_Utilisateurs_Service#4'!C11,2)=\"10\",\"10\",(IF('Fiches_Utilisateurs_Service#4'!C11=\"\",\"0\",LEFT('Fiches_Utilisateurs_Service#4'!C11,1))))","v":"0"},null,{"$f":"IF(LEFT('Fiches_Utilisateurs_Service#4'!E11,2)=\"10\",\"10\",(IF('Fiches_Utilisateurs_Service#4'!E11=\"\",\"0\",LEFT('Fiches_Utilisateurs_Service#4'!E11,1))))","v":"0"},null,{"$f":"IF(LEFT('Fiches_Utilisateurs_Service#4'!G11,2)=\"10\",\"10\",(IF('Fiches_Utilisateurs_Service#4'!G11=\"\",\"0\",LEFT('Fiches_Utilisateurs_Service#4'!G11,1))))","v":"0"},null,{"$f":"IF(LEFT('Fiches_Utilisateurs_Service#4'!I11,2)=\"10\",\"10\",(IF('Fiches_Utilisateurs_Service#4'!I11=\"\",\"0\",LEFT('Fiches_Utilisateurs_Service#4'!I11,1))))","v":"0"},null,{"$f":"IF(LEFT('Fiches_Utilisateurs_Service#4'!K11,2)=\"10\",\"10\",(IF('Fiches_Utilisateurs_Service#4'!K11=\"\",\"0\",LEFT('Fiches_Utilisateurs_Service#4'!K11,1))))","v":"0"},null,{"$f":"IF(LEFT('Fiches_Utilisateurs_Service#4'!M11,2)=\"10\",\"10\",(IF('Fiches_Utilisateurs_Service#4'!M11=\"\",\"0\",LEFT('Fiches_Utilisateurs_Service#4'!M11,1))))","v":"0"},null,{"$f":"IF(LEFT('Fiches_Utilisateurs_Service#4'!O11,2)=\"10\",\"10\",(IF('Fiches_Utilisateurs_Service#4'!O11=\"\",\"0\",LEFT('Fiches_Utilisateurs_Service#4'!O11,1))))","v":"0"},null,{"$f":"IF(LEFT('Fiches_Utilisateurs_Service#4'!Q11,2)=\"10\",\"10\",(IF('Fiches_Utilisateurs_Service#4'!Q11=\"\",\"0\",LEFT('Fiches_Utilisateurs_Service#4'!Q11,1))))","v":"0"},null,{"$f":"IF(LEFT('Fiches_Utilisateurs_Service#4'!S11,2)=\"10\",\"10\",(IF('Fiches_Utilisateurs_Service#4'!S11=\"\",\"0\",LEFT('Fiches_Utilisateurs_Service#4'!S11,1))))","v":"0"},null,{"$f":"IF(LEFT('Fiches_Utilisateurs_Service#4'!U11,2)=\"10\",\"10\",(IF('Fiches_Utilisateurs_Service#4'!U11=\"\",\"0\",LEFT('Fiches_Utilisateurs_Service#4'!U11,1))))","v":"0"},null,{"$f":"IF(LEFT('Fiches_Utilisateurs_Service#4'!W11,2)=\"10\",\"10\",(IF('Fiches_Utilisateurs_Service#4'!W11=\"\",\"0\",LEFT('Fiches_Utilisateurs_Service#4'!W11,1))))","v":"0"},null,{"$f":"IF(LEFT('Fiches_Utilisateurs_Service#4'!Y11,2)=\"10\",\"10\",(IF('Fiches_Utilisateurs_Service#4'!Y11=\"\",\"0\",LEFT('Fiches_Utilisateurs_Service#4'!Y11,1))))","v":"0"},null,{"$f":"IF(LEFT('Fiches_Utilisateurs_Service#4'!AA11,2)=\"10\",\"10\",(IF('Fiches_Utilisateurs_Service#4'!AA11=\"\",\"0\",LEFT('Fiches_Utilisateurs_Service#4'!AA11,1))))","v":"0"},null,{"$f":"IF(LEFT('Fiches_Utilisateurs_Service#4'!AC11,2)=\"10\",\"10\",(IF('Fiches_Utilisateurs_Service#4'!AC11=\"\",\"0\",LEFT('Fiches_Utilisateurs_Service#4'!AC11,1))))","v":"0"},null,{"$f":"IF(LEFT('Fiches_Utilisateurs_Service#4'!AE11,2)=\"10\",\"10\",(IF('Fiches_Utilisateurs_Service#4'!AE11=\"\",\"0\",LEFT('Fiches_Utilisateurs_Service#4'!AE11,1))))","v":"0"},null,{"$f":"IF(LEFT('Fiches_Utilisateurs_Service#4'!AG11,2)=\"10\",\"10\",(IF('Fiches_Utilisateurs_Service#4'!AG11=\"\",\"0\",LEFT('Fiches_Utilisateurs_Service#4'!AG11,1))))","v":"0"},null,{"$f":"IF(LEFT('Fiches_Utilisateurs_Service#4'!AI11,2)=\"10\",\"10\",(IF('Fiches_Utilisateurs_Service#4'!AI11=\"\",\"0\",LEFT('Fiches_Utilisateurs_Service#4'!AI11,1))))","v":"0"},null,{"$f":"IF(LEFT('Fiches_Utilisateurs_Service#4'!AK11,2)=\"10\",\"10\",(IF('Fiches_Utilisateurs_Service#4'!AK11=\"\",\"0\",LEFT('Fiches_Utilisateurs_Service#4'!AK11,1))))","v":"0"},null,{"$f":"IF(LEFT('Fiches_Utilisateurs_Service#4'!AM11,2)=\"10\",\"10\",(IF('Fiches_Utilisateurs_Service#4'!AM11=\"\",\"0\",LEFT('Fiches_Utilisateurs_Service#4'!AM11,1))))","v":"0"},null,{"$f":"IF(LEFT('Fiches_Utilisateurs_Service#4'!AO11,2)=\"10\",\"10\",(IF('Fiches_Utilisateurs_Service#4'!AO11=\"\",\"0\",LEFT('Fiches_Utilisateurs_Service#4'!AO11,1))))","v":"0"},null,{"$f":"IF(LEFT('Fiches_Utilisateurs_Service#4'!AQ11,2)=\"10\",\"10\",(IF('Fiches_Utilisateurs_Service#4'!AQ11=\"\",\"0\",LEFT('Fiches_Utilisateurs_Service#4'!AQ11,1))))","v":"0"},null,{"$f":"IF(LEFT('Fiches_Utilisateurs_Service#4'!AS11,2)=\"10\",\"10\",(IF('Fiches_Utilisateurs_Service#4'!AS11=\"\",\"0\",LEFT('Fiches_Utilisateurs_Service#4'!AS11,1))))","v":"0"},null,{"$f":"IF(LEFT('Fiches_Utilisateurs_Service#4'!AU11,2)=\"10\",\"10\",(IF('Fiches_Utilisateurs_Service#4'!AU11=\"\",\"0\",LEFT('Fiches_Utilisateurs_Service#4'!AU11,1))))","v":"0"},null,{"$f":"IF(LEFT('Fiches_Utilisateurs_Service#4'!AW11,2)=\"10\",\"10\",(IF('Fiches_Utilisateurs_Service#4'!AW11=\"\",\"0\",LEFT('Fiches_Utilisateurs_Service#4'!AW11,1))))","v":"0"},null,{"$f":"IF(LEFT('Fiches_Utilisateurs_Service#4'!AY11,2)=\"10\",\"10\",(IF('Fiches_Utilisateurs_Service#4'!AY11=\"\",\"0\",LEFT('Fiches_Utilisateurs_Service#4'!AY11,1))))","v":"0"},null,{"$f":"IF(LEFT('Fiches_Utilisateurs_Service#4'!BA11,2)=\"10\",\"10\",(IF('Fiches_Utilisateurs_Service#4'!BA11=\"\",\"0\",LEFT('Fiches_Utilisateurs_Service#4'!BA11,1))))","v":"0"},null,{"$f":"IF(LEFT('Fiches_Utilisateurs_Service#4'!BC11,2)=\"10\",\"10\",(IF('Fiches_Utilisateurs_Service#4'!BC11=\"\",\"0\",LEFT('Fiches_Utilisateurs_Service#4'!BC11,1))))","v":"0"},null,{"$f":"IF(LEFT('Fiches_Utilisateurs_Service#4'!BE11,2)=\"10\",\"10\",(IF('Fiches_Utilisateurs_Service#4'!BE11=\"\",\"0\",LEFT('Fiches_Utilisateurs_Service#4'!BE11,1))))","v":"0"},null,{"$f":"IF(LEFT('Fiches_Utilisateurs_Service#4'!BG11,2)=\"10\",\"10\",(IF('Fiches_Utilisateurs_Service#4'!BG11=\"\",\"0\",LEFT('Fiches_Utilisateurs_Service#4'!BG11,1))))","v":"0"},null,{"$f":"IF(LEFT('Fiches_Utilisateurs_Service#4'!BI11,2)=\"10\",\"10\",(IF('Fiches_Utilisateurs_Service#4'!BI11=\"\",\"0\",LEFT('Fiches_Utilisateurs_Service#4'!BI11,1))))","v":"0"},null,{"$f":"IF(LEFT('Fiches_Utilisateurs_Service#4'!BK11,2)=\"10\",\"10\",(IF('Fiches_Utilisateurs_Service#4'!BK11=\"\",\"0\",LEFT('Fiches_Utilisateurs_Service#4'!BK11,1))))","v":"0"},null,{"$f":"IF(LEFT('Fiches_Utilisateurs_Service#4'!BM11,2)=\"10\",\"10\",(IF('Fiches_Utilisateurs_Service#4'!BM11=\"\",\"0\",LEFT('Fiches_Utilisateurs_Service#4'!BM11,1))))","v":"0"},null,{"$f":"IF(LEFT('Fiches_Utilisateurs_Service#4'!BO11,2)=\"10\",\"10\",(IF('Fiches_Utilisateurs_Service#4'!BO11=\"\",\"0\",LEFT('Fiches_Utilisateurs_Service#4'!BO11,1))))","v":"0"},null,{"$f":"IF(LEFT('Fiches_Utilisateurs_Service#4'!BQ11,2)=\"10\",\"10\",(IF('Fiches_Utilisateurs_Service#4'!BQ11=\"\",\"0\",LEFT('Fiches_Utilisateurs_Service#4'!BQ11,1))))","v":"0"},null,{"$f":"IF(LEFT('Fiches_Utilisateurs_Service#4'!BS11,2)=\"10\",\"10\",(IF('Fiches_Utilisateurs_Service#4'!BS11=\"\",\"0\",LEFT('Fiches_Utilisateurs_Service#4'!BS11,1))))","v":"0"},null,{"$f":"IF(LEFT('Fiches_Utilisateurs_Service#4'!BU11,2)=\"10\",\"10\",(IF('Fiches_Utilisateurs_Service#4'!BU11=\"\",\"0\",LEFT('Fiches_Utilisateurs_Service#4'!BU11,1))))","v":"0"},null,{"$f":"IF(LEFT('Fiches_Utilisateurs_Service#4'!BW11,2)=\"10\",\"10\",(IF('Fiches_Utilisateurs_Service#4'!BW11=\"\",\"0\",LEFT('Fiches_Utilisateurs_Service#4'!BW11,1))))","v":"0"},null,{"$f":"IF(LEFT('Fiches_Utilisateurs_Service#4'!BY11,2)=\"10\",\"10\",(IF('Fiches_Utilisateurs_Service#4'!BY11=\"\",\"0\",LEFT('Fiches_Utilisateurs_Service#4'!BY11,1))))","v":"0"},null,{"$f":"IF(LEFT('Fiches_Utilisateurs_Service#4'!CA11,2)=\"10\",\"10\",(IF('Fiches_Utilisateurs_Service#4'!CA11=\"\",\"0\",LEFT('Fiches_Utilisateurs_Service#4'!CA11,1))))","v":"0"},null,{"$f":"IF(LEFT('Fiches_Utilisateurs_Service#4'!CC11,2)=\"10\",\"10\",(IF('Fiches_Utilisateurs_Service#4'!CC11=\"\",\"0\",LEFT('Fiches_Utilisateurs_Service#4'!CC11,1))))","v":"0"}]
[]
[]
[null,"glob tots"]
[null,null,{"$f":"IF('Fiches_Utilisateurs_Service#4'!C15=1,1,0)","v":0},null,{"$f":"IF('Fiches_Utilisateurs_Service#4'!E15=1,1,0)","v":0},null,{"$f":"IF('Fiches_Utilisateurs_Service#4'!G15=1,1,0)","v":0},null,{"$f":"IF('Fiches_Utilisateurs_Service#4'!I15=1,1,0)","v":0},null,{"$f":"IF('Fiches_Utilisateurs_Service#4'!K15=1,1,0)","v":0},null,{"$f":"IF('Fiches_Utilisateurs_Service#4'!M15=1,1,0)","v":0},null,{"$f":"IF('Fiches_Utilisateurs_Service#4'!O15=1,1,0)","v":0},null,{"$f":"IF('Fiches_Utilisateurs_Service#4'!Q15=1,1,0)","v":0},null,{"$f":"IF('Fiches_Utilisateurs_Service#4'!S15=1,1,0)","v":0},null,{"$f":"IF('Fiches_Utilisateurs_Service#4'!U15=1,1,0)","v":0},null,{"$f":"IF('Fiches_Utilisateurs_Service#4'!W15=1,1,0)","v":0},null,{"$f":"IF('Fiches_Utilisateurs_Service#4'!Y15=1,1,0)","v":0},null,{"$f":"IF('Fiches_Utilisateurs_Service#4'!AA15=1,1,0)","v":0},null,{"$f":"IF('Fiches_Utilisateurs_Service#4'!AC15=1,1,0)","v":0},null,{"$f":"IF('Fiches_Utilisateurs_Service#4'!AE15=1,1,0)","v":0},null,{"$f":"IF('Fiches_Utilisateurs_Service#4'!AG15=1,1,0)","v":0},null,{"$f":"IF('Fiches_Utilisateurs_Service#4'!AI15=1,1,0)","v":0},null,{"$f":"IF('Fiches_Utilisateurs_Service#4'!AK15=1,1,0)","v":0},null,{"$f":"IF('Fiches_Utilisateurs_Service#4'!AM15=1,1,0)","v":0},null,{"$f":"IF('Fiches_Utilisateurs_Service#4'!AO15=1,1,0)","v":0},null,{"$f":"IF('Fiches_Utilisateurs_Service#4'!AQ15=1,1,0)","v":0},null,{"$f":"IF('Fiches_Utilisateurs_Service#4'!AS15=1,1,0)","v":0},null,{"$f":"IF('Fiches_Utilisateurs_Service#4'!AU15=1,1,0)","v":0},null,{"$f":"IF('Fiches_Utilisateurs_Service#4'!AW15=1,1,0)","v":0},null,{"$f":"IF('Fiches_Utilisateurs_Service#4'!AY15=1,1,0)","v":0},null,{"$f":"IF('Fiches_Utilisateurs_Service#4'!BA15=1,1,0)","v":0},null,{"$f":"IF('Fiches_Utilisateurs_Service#4'!BC15=1,1,0)","v":0},null,{"$f":"IF('Fiches_Utilisateurs_Service#4'!BE15=1,1,0)","v":0},null,{"$f":"IF('Fiches_Utilisateurs_Service#4'!BG15=1,1,0)","v":0},null,{"$f":"IF('Fiches_Utilisateurs_Service#4'!BI15=1,1,0)","v":0},null,{"$f":"IF('Fiches_Utilisateurs_Service#4'!BK15=1,1,0)","v":0},null,{"$f":"IF('Fiches_Utilisateurs_Service#4'!BM15=1,1,0)","v":0},null,{"$f":"IF('Fiches_Utilisateurs_Service#4'!BO15=1,1,0)","v":0},null,{"$f":"IF('Fiches_Utilisateurs_Service#4'!BQ15=1,1,0)","v":0},null,{"$f":"IF('Fiches_Utilisateurs_Service#4'!BS15=1,1,0)","v":0},null,{"$f":"IF('Fiches_Utilisateurs_Service#4'!BU15=1,1,0)","v":0},null,{"$f":"IF('Fiches_Utilisateurs_Service#4'!BW15=1,1,0)","v":0},null,{"$f":"IF('Fiches_Utilisateurs_Service#4'!BY15=1,1,0)","v":0},null,{"$f":"IF('Fiches_Utilisateurs_Service#4'!CA15=1,1,0)","v":0},null,{"$f":"IF('Fiches_Utilisateurs_Service#4'!CC15=1,1,0)","v":0}]
[]
[null,null,{"$f":"IF('Fiches_Utilisateurs_Service#4'!C17=1,1,0)","v":0},null,{"$f":"IF('Fiches_Utilisateurs_Service#4'!E17=1,1,0)","v":0},null,{"$f":"IF('Fiches_Utilisateurs_Service#4'!G17=1,1,0)","v":0},null,{"$f":"IF('Fiches_Utilisateurs_Service#4'!I17=1,1,0)","v":0},null,{"$f":"IF('Fiches_Utilisateurs_Service#4'!K17=1,1,0)","v":0},null,{"$f":"IF('Fiches_Utilisateurs_Service#4'!M17=1,1,0)","v":0},null,{"$f":"IF('Fiches_Utilisateurs_Service#4'!O17=1,1,0)","v":0},null,{"$f":"IF('Fiches_Utilisateurs_Service#4'!Q17=1,1,0)","v":0},null,{"$f":"IF('Fiches_Utilisateurs_Service#4'!S17=1,1,0)","v":0},null,{"$f":"IF('Fiches_Utilisateurs_Service#4'!U17=1,1,0)","v":0},null,{"$f":"IF('Fiches_Utilisateurs_Service#4'!W17=1,1,0)","v":0},null,{"$f":"IF('Fiches_Utilisateurs_Service#4'!Y17=1,1,0)","v":0},null,{"$f":"IF('Fiches_Utilisateurs_Service#4'!AA17=1,1,0)","v":0},null,{"$f":"IF('Fiches_Utilisateurs_Service#4'!AC17=1,1,0)","v":0},null,{"$f":"IF('Fiches_Utilisateurs_Service#4'!AE17=1,1,0)","v":0},null,{"$f":"IF('Fiches_Utilisateurs_Service#4'!AG17=1,1,0)","v":0},null,{"$f":"IF('Fiches_Utilisateurs_Service#4'!AI17=1,1,0)","v":0},null,{"$f":"IF('Fiches_Utilisateurs_Service#4'!AK17=1,1,0)","v":0},null,{"$f":"IF('Fiches_Utilisateurs_Service#4'!AM17=1,1,0)","v":0},null,{"$f":"IF('Fiches_Utilisateurs_Service#4'!AO17=1,1,0)","v":0},null,{"$f":"IF('Fiches_Utilisateurs_Service#4'!AQ17=1,1,0)","v":0},null,{"$f":"IF('Fiches_Utilisateurs_Service#4'!AS17=1,1,0)","v":0},null,{"$f":"IF('Fiches_Utilisateurs_Service#4'!AU17=1,1,0)","v":0},null,{"$f":"IF('Fiches_Utilisateurs_Service#4'!AW17=1,1,0)","v":0},null,{"$f":"IF('Fiches_Utilisateurs_Service#4'!AY17=1,1,0)","v":0},null,{"$f":"IF('Fiches_Utilisateurs_Service#4'!BA17=1,1,0)","v":0},null,{"$f":"IF('Fiches_Utilisateurs_Service#4'!BC17=1,1,0)","v":0},null,{"$f":"IF('Fiches_Utilisateurs_Service#4'!BE17=1,1,0)","v":0},null,{"$f":"IF('Fiches_Utilisateurs_Service#4'!BG17=1,1,0)","v":0},null,{"$f":"IF('Fiches_Utilisateurs_Service#4'!BI17=1,1,0)","v":0},null,{"$f":"IF('Fiches_Utilisateurs_Service#4'!BK17=1,1,0)","v":0},null,{"$f":"IF('Fiches_Utilisateurs_Service#4'!BM17=1,1,0)","v":0},null,{"$f":"IF('Fiches_Utilisateurs_Service#4'!BO17=1,1,0)","v":0},null,{"$f":"IF('Fiches_Utilisateurs_Service#4'!BQ17=1,1,0)","v":0},null,{"$f":"IF('Fiches_Utilisateurs_Service#4'!BS17=1,1,0)","v":0},null,{"$f":"IF('Fiches_Utilisateurs_Service#4'!BU17=1,1,0)","v":0},null,{"$f":"IF('Fiches_Utilisateurs_Service#4'!BW17=1,1,0)","v":0},null,{"$f":"IF('Fiches_Utilisateurs_Service#4'!BY17=1,1,0)","v":0},null,{"$f":"IF('Fiches_Utilisateurs_Service#4'!CA17=1,1,0)","v":0},null,{"$f":"IF('Fiches_Utilisateurs_Service#4'!CC17=1,1,0)","v":0}]
[]
[null,null,{"$f":"IF('Fiches_Utilisateurs_Service#4'!C19=1,1,0)","v":0},null,{"$f":"IF('Fiches_Utilisateurs_Service#4'!E19=1,1,0)","v":0},null,{"$f":"IF('Fiches_Utilisateurs_Service#4'!G19=1,1,0)","v":0},null,{"$f":"IF('Fiches_Utilisateurs_Service#4'!I19=1,1,0)","v":0},null,{"$f":"IF('Fiches_Utilisateurs_Service#4'!K19=1,1,0)","v":0},null,{"$f":"IF('Fiches_Utilisateurs_Service#4'!M19=1,1,0)","v":0},null,{"$f":"IF('Fiches_Utilisateurs_Service#4'!O19=1,1,0)","v":0},null,{"$f":"IF('Fiches_Utilisateurs_Service#4'!Q19=1,1,0)","v":0},null,{"$f":"IF('Fiches_Utilisateurs_Service#4'!S19=1,1,0)","v":0},null,{"$f":"IF('Fiches_Utilisateurs_Service#4'!U19=1,1,0)","v":0},null,{"$f":"IF('Fiches_Utilisateurs_Service#4'!W19=1,1,0)","v":0},null,{"$f":"IF('Fiches_Utilisateurs_Service#4'!Y19=1,1,0)","v":0},null,{"$f":"IF('Fiches_Utilisateurs_Service#4'!AA19=1,1,0)","v":0},null,{"$f":"IF('Fiches_Utilisateurs_Service#4'!AC19=1,1,0)","v":0},null,{"$f":"IF('Fiches_Utilisateurs_Service#4'!AE19=1,1,0)","v":0},null,{"$f":"IF('Fiches_Utilisateurs_Service#4'!AG19=1,1,0)","v":0},null,{"$f":"IF('Fiches_Utilisateurs_Service#4'!AI19=1,1,0)","v":0},null,{"$f":"IF('Fiches_Utilisateurs_Service#4'!AK19=1,1,0)","v":0},null,{"$f":"IF('Fiches_Utilisateurs_Service#4'!AM19=1,1,0)","v":0},null,{"$f":"IF('Fiches_Utilisateurs_Service#4'!AO19=1,1,0)","v":0},null,{"$f":"IF('Fiches_Utilisateurs_Service#4'!AQ19=1,1,0)","v":0},null,{"$f":"IF('Fiches_Utilisateurs_Service#4'!AS19=1,1,0)","v":0},null,{"$f":"IF('Fiches_Utilisateurs_Service#4'!AU19=1,1,0)","v":0},null,{"$f":"IF('Fiches_Utilisateurs_Service#4'!AW19=1,1,0)","v":0},null,{"$f":"IF('Fiches_Utilisateurs_Service#4'!AY19=1,1,0)","v":0},null,{"$f":"IF('Fiches_Utilisateurs_Service#4'!BA19=1,1,0)","v":0},null,{"$f":"IF('Fiches_Utilisateurs_Service#4'!BC19=1,1,0)","v":0},null,{"$f":"IF('Fiches_Utilisateurs_Service#4'!BE19=1,1,0)","v":0},null,{"$f":"IF('Fiches_Utilisateurs_Service#4'!BG19=1,1,0)","v":0},null,{"$f":"IF('Fiches_Utilisateurs_Service#4'!BI19=1,1,0)","v":0},null,{"$f":"IF('Fiches_Utilisateurs_Service#4'!BK19=1,1,0)","v":0},null,{"$f":"IF('Fiches_Utilisateurs_Service#4'!BM19=1,1,0)","v":0},null,{"$f":"IF('Fiches_Utilisateurs_Service#4'!BO19=1,1,0)","v":0},null,{"$f":"IF('Fiches_Utilisateurs_Service#4'!BQ19=1,1,0)","v":0},null,{"$f":"IF('Fiches_Utilisateurs_Service#4'!BS19=1,1,0)","v":0},null,{"$f":"IF('Fiches_Utilisateurs_Service#4'!BU19=1,1,0)","v":0},null,{"$f":"IF('Fiches_Utilisateurs_Service#4'!BW19=1,1,0)","v":0},null,{"$f":"IF('Fiches_Utilisateurs_Service#4'!BY19=1,1,0)","v":0},null,{"$f":"IF('Fiches_Utilisateurs_Service#4'!CA19=1,1,0)","v":0},null,{"$f":"IF('Fiches_Utilisateurs_Service#4'!CC19=1,1,0)","v":0}]
[]
[null,null,{"$f":"IF('Fiches_Utilisateurs_Service#4'!C21=1,1,0)","v":0},null,{"$f":"IF('Fiches_Utilisateurs_Service#4'!E21=1,1,0)","v":0},null,{"$f":"IF('Fiches_Utilisateurs_Service#4'!G21=1,1,0)","v":0},null,{"$f":"IF('Fiches_Utilisateurs_Service#4'!I21=1,1,0)","v":0},null,{"$f":"IF('Fiches_Utilisateurs_Service#4'!K21=1,1,0)","v":0},null,{"$f":"IF('Fiches_Utilisateurs_Service#4'!M21=1,1,0)","v":0},null,{"$f":"IF('Fiches_Utilisateurs_Service#4'!O21=1,1,0)","v":0},null,{"$f":"IF('Fiches_Utilisateurs_Service#4'!Q21=1,1,0)","v":0},null,{"$f":"IF('Fiches_Utilisateurs_Service#4'!S21=1,1,0)","v":0},null,{"$f":"IF('Fiches_Utilisateurs_Service#4'!U21=1,1,0)","v":0},null,{"$f":"IF('Fiches_Utilisateurs_Service#4'!W21=1,1,0)","v":0},null,{"$f":"IF('Fiches_Utilisateurs_Service#4'!Y21=1,1,0)","v":0},null,{"$f":"IF('Fiches_Utilisateurs_Service#4'!AA21=1,1,0)","v":0},null,{"$f":"IF('Fiches_Utilisateurs_Service#4'!AC21=1,1,0)","v":0},null,{"$f":"IF('Fiches_Utilisateurs_Service#4'!AE21=1,1,0)","v":0},null,{"$f":"IF('Fiches_Utilisateurs_Service#4'!AG21=1,1,0)","v":0},null,{"$f":"IF('Fiches_Utilisateurs_Service#4'!AI21=1,1,0)","v":0},null,{"$f":"IF('Fiches_Utilisateurs_Service#4'!AK21=1,1,0)","v":0},null,{"$f":"IF('Fiches_Utilisateurs_Service#4'!AM21=1,1,0)","v":0},null,{"$f":"IF('Fiches_Utilisateurs_Service#4'!AO21=1,1,0)","v":0},null,{"$f":"IF('Fiches_Utilisateurs_Service#4'!AQ21=1,1,0)","v":0},null,{"$f":"IF('Fiches_Utilisateurs_Service#4'!AS21=1,1,0)","v":0},null,{"$f":"IF('Fiches_Utilisateurs_Service#4'!AU21=1,1,0)","v":0},null,{"$f":"IF('Fiches_Utilisateurs_Service#4'!AW21=1,1,0)","v":0},null,{"$f":"IF('Fiches_Utilisateurs_Service#4'!AY21=1,1,0)","v":0},null,{"$f":"IF('Fiches_Utilisateurs_Service#4'!BA21=1,1,0)","v":0},null,{"$f":"IF('Fiches_Utilisateurs_Service#4'!BC21=1,1,0)","v":0},null,{"$f":"IF('Fiches_Utilisateurs_Service#4'!BE21=1,1,0)","v":0},null,{"$f":"IF('Fiches_Utilisateurs_Service#4'!BG21=1,1,0)","v":0},null,{"$f":"IF('Fiches_Utilisateurs_Service#4'!BI21=1,1,0)","v":0},null,{"$f":"IF('Fiches_Utilisateurs_Service#4'!BK21=1,1,0)","v":0},null,{"$f":"IF('Fiches_Utilisateurs_Service#4'!BM21=1,1,0)","v":0},null,{"$f":"IF('Fiches_Utilisateurs_Service#4'!BO21=1,1,0)","v":0},null,{"$f":"IF('Fiches_Utilisateurs_Service#4'!BQ21=1,1,0)","v":0},null,{"$f":"IF('Fiches_Utilisateurs_Service#4'!BS21=1,1,0)","v":0},null,{"$f":"IF('Fiches_Utilisateurs_Service#4'!BU21=1,1,0)","v":0},null,{"$f":"IF('Fiches_Utilisateurs_Service#4'!BW21=1,1,0)","v":0},null,{"$f":"IF('Fiches_Utilisateurs_Service#4'!BY21=1,1,0)","v":0},null,{"$f":"IF('Fiches_Utilisateurs_Service#4'!CA21=1,1,0)","v":0},null,{"$f":"IF('Fiches_Utilisateurs_Service#4'!CC21=1,1,0)","v":0}]
[]
[null,null,{"$f":"IF('Fiches_Utilisateurs_Service#4'!C23=1,1,0)","v":0},null,{"$f":"IF('Fiches_Utilisateurs_Service#4'!E23=1,1,0)","v":0},null,{"$f":"IF('Fiches_Utilisateurs_Service#4'!G23=1,1,0)","v":0},null,{"$f":"IF('Fiches_Utilisateurs_Service#4'!I23=1,1,0)","v":0},null,{"$f":"IF('Fiches_Utilisateurs_Service#4'!K23=1,1,0)","v":0},null,{"$f":"IF('Fiches_Utilisateurs_Service#4'!M23=1,1,0)","v":0},null,{"$f":"IF('Fiches_Utilisateurs_Service#4'!O23=1,1,0)","v":0},null,{"$f":"IF('Fiches_Utilisateurs_Service#4'!Q23=1,1,0)","v":0},null,{"$f":"IF('Fiches_Utilisateurs_Service#4'!S23=1,1,0)","v":0},null,{"$f":"IF('Fiches_Utilisateurs_Service#4'!U23=1,1,0)","v":0},null,{"$f":"IF('Fiches_Utilisateurs_Service#4'!W23=1,1,0)","v":0},null,{"$f":"IF('Fiches_Utilisateurs_Service#4'!Y23=1,1,0)","v":0},null,{"$f":"IF('Fiches_Utilisateurs_Service#4'!AA23=1,1,0)","v":0},null,{"$f":"IF('Fiches_Utilisateurs_Service#4'!AC23=1,1,0)","v":0},null,{"$f":"IF('Fiches_Utilisateurs_Service#4'!AE23=1,1,0)","v":0},null,{"$f":"IF('Fiches_Utilisateurs_Service#4'!AG23=1,1,0)","v":0},null,{"$f":"IF('Fiches_Utilisateurs_Service#4'!AI23=1,1,0)","v":0},null,{"$f":"IF('Fiches_Utilisateurs_Service#4'!AK23=1,1,0)","v":0},null,{"$f":"IF('Fiches_Utilisateurs_Service#4'!AM23=1,1,0)","v":0},null,{"$f":"IF('Fiches_Utilisateurs_Service#4'!AO23=1,1,0)","v":0},null,{"$f":"IF('Fiches_Utilisateurs_Service#4'!AQ23=1,1,0)","v":0},null,{"$f":"IF('Fiches_Utilisateurs_Service#4'!AS23=1,1,0)","v":0},null,{"$f":"IF('Fiches_Utilisateurs_Service#4'!AU23=1,1,0)","v":0},null,{"$f":"IF('Fiches_Utilisateurs_Service#4'!AW23=1,1,0)","v":0},null,{"$f":"IF('Fiches_Utilisateurs_Service#4'!AY23=1,1,0)","v":0},null,{"$f":"IF('Fiches_Utilisateurs_Service#4'!BA23=1,1,0)","v":0},null,{"$f":"IF('Fiches_Utilisateurs_Service#4'!BC23=1,1,0)","v":0},null,{"$f":"IF('Fiches_Utilisateurs_Service#4'!BE23=1,1,0)","v":0},null,{"$f":"IF('Fiches_Utilisateurs_Service#4'!BG23=1,1,0)","v":0},null,{"$f":"IF('Fiches_Utilisateurs_Service#4'!BI23=1,1,0)","v":0},null,{"$f":"IF('Fiches_Utilisateurs_Service#4'!BK23=1,1,0)","v":0},null,{"$f":"IF('Fiches_Utilisateurs_Service#4'!BM23=1,1,0)","v":0},null,{"$f":"IF('Fiches_Utilisateurs_Service#4'!BO23=1,1,0)","v":0},null,{"$f":"IF('Fiches_Utilisateurs_Service#4'!BQ23=1,1,0)","v":0},null,{"$f":"IF('Fiches_Utilisateurs_Service#4'!BS23=1,1,0)","v":0},null,{"$f":"IF('Fiches_Utilisateurs_Service#4'!BU23=1,1,0)","v":0},null,{"$f":"IF('Fiches_Utilisateurs_Service#4'!BW23=1,1,0)","v":0},null,{"$f":"IF('Fiches_Utilisateurs_Service#4'!BY23=1,1,0)","v":0},null,{"$f":"IF('Fiches_Utilisateurs_Service#4'!CA23=1,1,0)","v":0},null,{"$f":"IF('Fiches_Utilisateurs_Service#4'!CC23=1,1,0)","v":0}]
[]
[null,null,{"$f":"IF('Fiches_Utilisateurs_Service#4'!C25=1,1,0)","v":0},null,{"$f":"IF('Fiches_Utilisateurs_Service#4'!E25=1,1,0)","v":0},null,{"$f":"IF('Fiches_Utilisateurs_Service#4'!G25=1,1,0)","v":0},null,{"$f":"IF('Fiches_Utilisateurs_Service#4'!I25=1,1,0)","v":0},null,{"$f":"IF('Fiches_Utilisateurs_Service#4'!K25=1,1,0)","v":0},null,{"$f":"IF('Fiches_Utilisateurs_Service#4'!M25=1,1,0)","v":0},null,{"$f":"IF('Fiches_Utilisateurs_Service#4'!O25=1,1,0)","v":0},null,{"$f":"IF('Fiches_Utilisateurs_Service#4'!Q25=1,1,0)","v":0},null,{"$f":"IF('Fiches_Utilisateurs_Service#4'!S25=1,1,0)","v":0},null,{"$f":"IF('Fiches_Utilisateurs_Service#4'!U25=1,1,0)","v":0},null,{"$f":"IF('Fiches_Utilisateurs_Service#4'!W25=1,1,0)","v":0},null,{"$f":"IF('Fiches_Utilisateurs_Service#4'!Y25=1,1,0)","v":0},null,{"$f":"IF('Fiches_Utilisateurs_Service#4'!AA25=1,1,0)","v":0},null,{"$f":"IF('Fiches_Utilisateurs_Service#4'!AC25=1,1,0)","v":0},null,{"$f":"IF('Fiches_Utilisateurs_Service#4'!AE25=1,1,0)","v":0},null,{"$f":"IF('Fiches_Utilisateurs_Service#4'!AG25=1,1,0)","v":0},null,{"$f":"IF('Fiches_Utilisateurs_Service#4'!AI25=1,1,0)","v":0},null,{"$f":"IF('Fiches_Utilisateurs_Service#4'!AK25=1,1,0)","v":0},null,{"$f":"IF('Fiches_Utilisateurs_Service#4'!AM25=1,1,0)","v":0},null,{"$f":"IF('Fiches_Utilisateurs_Service#4'!AO25=1,1,0)","v":0},null,{"$f":"IF('Fiches_Utilisateurs_Service#4'!AQ25=1,1,0)","v":0},null,{"$f":"IF('Fiches_Utilisateurs_Service#4'!AS25=1,1,0)","v":0},null,{"$f":"IF('Fiches_Utilisateurs_Service#4'!AU25=1,1,0)","v":0},null,{"$f":"IF('Fiches_Utilisateurs_Service#4'!AW25=1,1,0)","v":0},null,{"$f":"IF('Fiches_Utilisateurs_Service#4'!AY25=1,1,0)","v":0},null,{"$f":"IF('Fiches_Utilisateurs_Service#4'!BA25=1,1,0)","v":0},null,{"$f":"IF('Fiches_Utilisateurs_Service#4'!BC25=1,1,0)","v":0},null,{"$f":"IF('Fiches_Utilisateurs_Service#4'!BE25=1,1,0)","v":0},null,{"$f":"IF('Fiches_Utilisateurs_Service#4'!BG25=1,1,0)","v":0},null,{"$f":"IF('Fiches_Utilisateurs_Service#4'!BI25=1,1,0)","v":0},null,{"$f":"IF('Fiches_Utilisateurs_Service#4'!BK25=1,1,0)","v":0},null,{"$f":"IF('Fiches_Utilisateurs_Service#4'!BM25=1,1,0)","v":0},null,{"$f":"IF('Fiches_Utilisateurs_Service#4'!BO25=1,1,0)","v":0},null,{"$f":"IF('Fiches_Utilisateurs_Service#4'!BQ25=1,1,0)","v":0},null,{"$f":"IF('Fiches_Utilisateurs_Service#4'!BS25=1,1,0)","v":0},null,{"$f":"IF('Fiches_Utilisateurs_Service#4'!BU25=1,1,0)","v":0},null,{"$f":"IF('Fiches_Utilisateurs_Service#4'!BW25=1,1,0)","v":0},null,{"$f":"IF('Fiches_Utilisateurs_Service#4'!BY25=1,1,0)","v":0},null,{"$f":"IF('Fiches_Utilisateurs_Service#4'!CA25=1,1,0)","v":0},null,{"$f":"IF('Fiches_Utilisateurs_Service#4'!CC25=1,1,0)","v":0}]
[]
[null,null,{"$f":"IF('Fiches_Utilisateurs_Service#4'!C27=1,1,0)","v":0},null,{"$f":"IF('Fiches_Utilisateurs_Service#4'!E27=1,1,0)","v":0},null,{"$f":"IF('Fiches_Utilisateurs_Service#4'!G27=1,1,0)","v":0},null,{"$f":"IF('Fiches_Utilisateurs_Service#4'!I27=1,1,0)","v":0},null,{"$f":"IF('Fiches_Utilisateurs_Service#4'!K27=1,1,0)","v":0},null,{"$f":"IF('Fiches_Utilisateurs_Service#4'!M27=1,1,0)","v":0},null,{"$f":"IF('Fiches_Utilisateurs_Service#4'!O27=1,1,0)","v":0},null,{"$f":"IF('Fiches_Utilisateurs_Service#4'!Q27=1,1,0)","v":0},null,{"$f":"IF('Fiches_Utilisateurs_Service#4'!S27=1,1,0)","v":0},null,{"$f":"IF('Fiches_Utilisateurs_Service#4'!U27=1,1,0)","v":0},null,{"$f":"IF('Fiches_Utilisateurs_Service#4'!W27=1,1,0)","v":0},null,{"$f":"IF('Fiches_Utilisateurs_Service#4'!Y27=1,1,0)","v":0},null,{"$f":"IF('Fiches_Utilisateurs_Service#4'!AA27=1,1,0)","v":0},null,{"$f":"IF('Fiches_Utilisateurs_Service#4'!AC27=1,1,0)","v":0},null,{"$f":"IF('Fiches_Utilisateurs_Service#4'!AE27=1,1,0)","v":0},null,{"$f":"IF('Fiches_Utilisateurs_Service#4'!AG27=1,1,0)","v":0},null,{"$f":"IF('Fiches_Utilisateurs_Service#4'!AI27=1,1,0)","v":0},null,{"$f":"IF('Fiches_Utilisateurs_Service#4'!AK27=1,1,0)","v":0},null,{"$f":"IF('Fiches_Utilisateurs_Service#4'!AM27=1,1,0)","v":0},null,{"$f":"IF('Fiches_Utilisateurs_Service#4'!AO27=1,1,0)","v":0},null,{"$f":"IF('Fiches_Utilisateurs_Service#4'!AQ27=1,1,0)","v":0},null,{"$f":"IF('Fiches_Utilisateurs_Service#4'!AS27=1,1,0)","v":0},null,{"$f":"IF('Fiches_Utilisateurs_Service#4'!AU27=1,1,0)","v":0},null,{"$f":"IF('Fiches_Utilisateurs_Service#4'!AW27=1,1,0)","v":0},null,{"$f":"IF('Fiches_Utilisateurs_Service#4'!AY27=1,1,0)","v":0},null,{"$f":"IF('Fiches_Utilisateurs_Service#4'!BA27=1,1,0)","v":0},null,{"$f":"IF('Fiches_Utilisateurs_Service#4'!BC27=1,1,0)","v":0},null,{"$f":"IF('Fiches_Utilisateurs_Service#4'!BE27=1,1,0)","v":0},null,{"$f":"IF('Fiches_Utilisateurs_Service#4'!BG27=1,1,0)","v":0},null,{"$f":"IF('Fiches_Utilisateurs_Service#4'!BI27=1,1,0)","v":0},null,{"$f":"IF('Fiches_Utilisateurs_Service#4'!BK27=1,1,0)","v":0},null,{"$f":"IF('Fiches_Utilisateurs_Service#4'!BM27=1,1,0)","v":0},null,{"$f":"IF('Fiches_Utilisateurs_Service#4'!BO27=1,1,0)","v":0},null,{"$f":"IF('Fiches_Utilisateurs_Service#4'!BQ27=1,1,0)","v":0},null,{"$f":"IF('Fiches_Utilisateurs_Service#4'!BS27=1,1,0)","v":0},null,{"$f":"IF('Fiches_Utilisateurs_Service#4'!BU27=1,1,0)","v":0},null,{"$f":"IF('Fiches_Utilisateurs_Service#4'!BW27=1,1,0)","v":0},null,{"$f":"IF('Fiches_Utilisateurs_Service#4'!BY27=1,1,0)","v":0},null,{"$f":"IF('Fiches_Utilisateurs_Service#4'!CA27=1,1,0)","v":0},null,{"$f":"IF('Fiches_Utilisateurs_Service#4'!CC27=1,1,0)","v":0}]
[]
[null,null,{"$f":"IF('Fiches_Utilisateurs_Service#4'!C29=1,1,0)","v":0},null,{"$f":"IF('Fiches_Utilisateurs_Service#4'!E29=1,1,0)","v":0},null,{"$f":"IF('Fiches_Utilisateurs_Service#4'!G29=1,1,0)","v":0},null,{"$f":"IF('Fiches_Utilisateurs_Service#4'!I29=1,1,0)","v":0},null,{"$f":"IF('Fiches_Utilisateurs_Service#4'!K29=1,1,0)","v":0},null,{"$f":"IF('Fiches_Utilisateurs_Service#4'!M29=1,1,0)","v":0},null,{"$f":"IF('Fiches_Utilisateurs_Service#4'!O29=1,1,0)","v":0},null,{"$f":"IF('Fiches_Utilisateurs_Service#4'!Q29=1,1,0)","v":0},null,{"$f":"IF('Fiches_Utilisateurs_Service#4'!S29=1,1,0)","v":0},null,{"$f":"IF('Fiches_Utilisateurs_Service#4'!U29=1,1,0)","v":0},null,{"$f":"IF('Fiches_Utilisateurs_Service#4'!W29=1,1,0)","v":0},null,{"$f":"IF('Fiches_Utilisateurs_Service#4'!Y29=1,1,0)","v":0},null,{"$f":"IF('Fiches_Utilisateurs_Service#4'!AA29=1,1,0)","v":0},null,{"$f":"IF('Fiches_Utilisateurs_Service#4'!AC29=1,1,0)","v":0},null,{"$f":"IF('Fiches_Utilisateurs_Service#4'!AE29=1,1,0)","v":0},null,{"$f":"IF('Fiches_Utilisateurs_Service#4'!AG29=1,1,0)","v":0},null,{"$f":"IF('Fiches_Utilisateurs_Service#4'!AI29=1,1,0)","v":0},null,{"$f":"IF('Fiches_Utilisateurs_Service#4'!AK29=1,1,0)","v":0},null,{"$f":"IF('Fiches_Utilisateurs_Service#4'!AM29=1,1,0)","v":0},null,{"$f":"IF('Fiches_Utilisateurs_Service#4'!AO29=1,1,0)","v":0},null,{"$f":"IF('Fiches_Utilisateurs_Service#4'!AQ29=1,1,0)","v":0},null,{"$f":"IF('Fiches_Utilisateurs_Service#4'!AS29=1,1,0)","v":0},null,{"$f":"IF('Fiches_Utilisateurs_Service#4'!AU29=1,1,0)","v":0},null,{"$f":"IF('Fiches_Utilisateurs_Service#4'!AW29=1,1,0)","v":0},null,{"$f":"IF('Fiches_Utilisateurs_Service#4'!AY29=1,1,0)","v":0},null,{"$f":"IF('Fiches_Utilisateurs_Service#4'!BA29=1,1,0)","v":0},null,{"$f":"IF('Fiches_Utilisateurs_Service#4'!BC29=1,1,0)","v":0},null,{"$f":"IF('Fiches_Utilisateurs_Service#4'!BE29=1,1,0)","v":0},null,{"$f":"IF('Fiches_Utilisateurs_Service#4'!BG29=1,1,0)","v":0},null,{"$f":"IF('Fiches_Utilisateurs_Service#4'!BI29=1,1,0)","v":0},null,{"$f":"IF('Fiches_Utilisateurs_Service#4'!BK29=1,1,0)","v":0},null,{"$f":"IF('Fiches_Utilisateurs_Service#4'!BM29=1,1,0)","v":0},null,{"$f":"IF('Fiches_Utilisateurs_Service#4'!BO29=1,1,0)","v":0},null,{"$f":"IF('Fiches_Utilisateurs_Service#4'!BQ29=1,1,0)","v":0},null,{"$f":"IF('Fiches_Utilisateurs_Service#4'!BS29=1,1,0)","v":0},null,{"$f":"IF('Fiches_Utilisateurs_Service#4'!BU29=1,1,0)","v":0},null,{"$f":"IF('Fiches_Utilisateurs_Service#4'!BW29=1,1,0)","v":0},null,{"$f":"IF('Fiches_Utilisateurs_Service#4'!BY29=1,1,0)","v":0},null,{"$f":"IF('Fiches_Utilisateurs_Service#4'!CA29=1,1,0)","v":0},null,{"$f":"IF('Fiches_Utilisateurs_Service#4'!CC29=1,1,0)","v":0}]
[]
[null,null,{"$f":"IF('Fiches_Utilisateurs_Service#4'!C31=1,1,0)","v":0},null,{"$f":"IF('Fiches_Utilisateurs_Service#4'!E31=1,1,0)","v":0},null,{"$f":"IF('Fiches_Utilisateurs_Service#4'!G31=1,1,0)","v":0},null,{"$f":"IF('Fiches_Utilisateurs_Service#4'!I31=1,1,0)","v":0},null,{"$f":"IF('Fiches_Utilisateurs_Service#4'!K31=1,1,0)","v":0},null,{"$f":"IF('Fiches_Utilisateurs_Service#4'!M31=1,1,0)","v":0},null,{"$f":"IF('Fiches_Utilisateurs_Service#4'!O31=1,1,0)","v":0},null,{"$f":"IF('Fiches_Utilisateurs_Service#4'!Q31=1,1,0)","v":0},null,{"$f":"IF('Fiches_Utilisateurs_Service#4'!S31=1,1,0)","v":0},null,{"$f":"IF('Fiches_Utilisateurs_Service#4'!U31=1,1,0)","v":0},null,{"$f":"IF('Fiches_Utilisateurs_Service#4'!W31=1,1,0)","v":0},null,{"$f":"IF('Fiches_Utilisateurs_Service#4'!Y31=1,1,0)","v":0},null,{"$f":"IF('Fiches_Utilisateurs_Service#4'!AA31=1,1,0)","v":0},null,{"$f":"IF('Fiches_Utilisateurs_Service#4'!AC31=1,1,0)","v":0},null,{"$f":"IF('Fiches_Utilisateurs_Service#4'!AE31=1,1,0)","v":0},null,{"$f":"IF('Fiches_Utilisateurs_Service#4'!AG31=1,1,0)","v":0},null,{"$f":"IF('Fiches_Utilisateurs_Service#4'!AI31=1,1,0)","v":0},null,{"$f":"IF('Fiches_Utilisateurs_Service#4'!AK31=1,1,0)","v":0},null,{"$f":"IF('Fiches_Utilisateurs_Service#4'!AM31=1,1,0)","v":0},null,{"$f":"IF('Fiches_Utilisateurs_Service#4'!AO31=1,1,0)","v":0},null,{"$f":"IF('Fiches_Utilisateurs_Service#4'!AQ31=1,1,0)","v":0},null,{"$f":"IF('Fiches_Utilisateurs_Service#4'!AS31=1,1,0)","v":0},null,{"$f":"IF('Fiches_Utilisateurs_Service#4'!AU31=1,1,0)","v":0},null,{"$f":"IF('Fiches_Utilisateurs_Service#4'!AW31=1,1,0)","v":0},null,{"$f":"IF('Fiches_Utilisateurs_Service#4'!AY31=1,1,0)","v":0},null,{"$f":"IF('Fiches_Utilisateurs_Service#4'!BA31=1,1,0)","v":0},null,{"$f":"IF('Fiches_Utilisateurs_Service#4'!BC31=1,1,0)","v":0},null,{"$f":"IF('Fiches_Utilisateurs_Service#4'!BE31=1,1,0)","v":0},null,{"$f":"IF('Fiches_Utilisateurs_Service#4'!BG31=1,1,0)","v":0},null,{"$f":"IF('Fiches_Utilisateurs_Service#4'!BI31=1,1,0)","v":0},null,{"$f":"IF('Fiches_Utilisateurs_Service#4'!BK31=1,1,0)","v":0},null,{"$f":"IF('Fiches_Utilisateurs_Service#4'!BM31=1,1,0)","v":0},null,{"$f":"IF('Fiches_Utilisateurs_Service#4'!BO31=1,1,0)","v":0},null,{"$f":"IF('Fiches_Utilisateurs_Service#4'!BQ31=1,1,0)","v":0},null,{"$f":"IF('Fiches_Utilisateurs_Service#4'!BS31=1,1,0)","v":0},null,{"$f":"IF('Fiches_Utilisateurs_Service#4'!BU31=1,1,0)","v":0},null,{"$f":"IF('Fiches_Utilisateurs_Service#4'!BW31=1,1,0)","v":0},null,{"$f":"IF('Fiches_Utilisateurs_Service#4'!BY31=1,1,0)","v":0},null,{"$f":"IF('Fiches_Utilisateurs_Service#4'!CA31=1,1,0)","v":0},null,{"$f":"IF('Fiches_Utilisateurs_Service#4'!CC31=1,1,0)","v":0}]
[]
[null,null,{"$f":"IF('Fiches_Utilisateurs_Service#4'!C33=1,1,0)","v":0},null,{"$f":"IF('Fiches_Utilisateurs_Service#4'!E33=1,1,0)","v":0},null,{"$f":"IF('Fiches_Utilisateurs_Service#4'!G33=1,1,0)","v":0},null,{"$f":"IF('Fiches_Utilisateurs_Service#4'!I33=1,1,0)","v":0},null,{"$f":"IF('Fiches_Utilisateurs_Service#4'!K33=1,1,0)","v":0},null,{"$f":"IF('Fiches_Utilisateurs_Service#4'!M33=1,1,0)","v":0},null,{"$f":"IF('Fiches_Utilisateurs_Service#4'!O33=1,1,0)","v":0},null,{"$f":"IF('Fiches_Utilisateurs_Service#4'!Q33=1,1,0)","v":0},null,{"$f":"IF('Fiches_Utilisateurs_Service#4'!S33=1,1,0)","v":0},null,{"$f":"IF('Fiches_Utilisateurs_Service#4'!U33=1,1,0)","v":0},null,{"$f":"IF('Fiches_Utilisateurs_Service#4'!W33=1,1,0)","v":0},null,{"$f":"IF('Fiches_Utilisateurs_Service#4'!Y33=1,1,0)","v":0},null,{"$f":"IF('Fiches_Utilisateurs_Service#4'!AA33=1,1,0)","v":0},null,{"$f":"IF('Fiches_Utilisateurs_Service#4'!AC33=1,1,0)","v":0},null,{"$f":"IF('Fiches_Utilisateurs_Service#4'!AE33=1,1,0)","v":0},null,{"$f":"IF('Fiches_Utilisateurs_Service#4'!AG33=1,1,0)","v":0},null,{"$f":"IF('Fiches_Utilisateurs_Service#4'!AI33=1,1,0)","v":0},null,{"$f":"IF('Fiches_Utilisateurs_Service#4'!AK33=1,1,0)","v":0},null,{"$f":"IF('Fiches_Utilisateurs_Service#4'!AM33=1,1,0)","v":0},null,{"$f":"IF('Fiches_Utilisateurs_Service#4'!AO33=1,1,0)","v":0},null,{"$f":"IF('Fiches_Utilisateurs_Service#4'!AQ33=1,1,0)","v":0},null,{"$f":"IF('Fiches_Utilisateurs_Service#4'!AS33=1,1,0)","v":0},null,{"$f":"IF('Fiches_Utilisateurs_Service#4'!AU33=1,1,0)","v":0},null,{"$f":"IF('Fiches_Utilisateurs_Service#4'!AW33=1,1,0)","v":0},null,{"$f":"IF('Fiches_Utilisateurs_Service#4'!AY33=1,1,0)","v":0},null,{"$f":"IF('Fiches_Utilisateurs_Service#4'!BA33=1,1,0)","v":0},null,{"$f":"IF('Fiches_Utilisateurs_Service#4'!BC33=1,1,0)","v":0},null,{"$f":"IF('Fiches_Utilisateurs_Service#4'!BE33=1,1,0)","v":0},null,{"$f":"IF('Fiches_Utilisateurs_Service#4'!BG33=1,1,0)","v":0},null,{"$f":"IF('Fiches_Utilisateurs_Service#4'!BI33=1,1,0)","v":0},null,{"$f":"IF('Fiches_Utilisateurs_Service#4'!BK33=1,1,0)","v":0},null,{"$f":"IF('Fiches_Utilisateurs_Service#4'!BM33=1,1,0)","v":0},null,{"$f":"IF('Fiches_Utilisateurs_Service#4'!BO33=1,1,0)","v":0},null,{"$f":"IF('Fiches_Utilisateurs_Service#4'!BQ33=1,1,0)","v":0},null,{"$f":"IF('Fiches_Utilisateurs_Service#4'!BS33=1,1,0)","v":0},null,{"$f":"IF('Fiches_Utilisateurs_Service#4'!BU33=1,1,0)","v":0},null,{"$f":"IF('Fiches_Utilisateurs_Service#4'!BW33=1,1,0)","v":0},null,{"$f":"IF('Fiches_Utilisateurs_Service#4'!BY33=1,1,0)","v":0},null,{"$f":"IF('Fiches_Utilisateurs_Service#4'!CA33=1,1,0)","v":0},null,{"$f":"IF('Fiches_Utilisateurs_Service#4'!CC33=1,1,0)","v":0}]
[]
[null,null,{"$f":"IF('Fiches_Utilisateurs_Service#4'!C35=1,1,0)","v":0},null,{"$f":"IF('Fiches_Utilisateurs_Service#4'!E35=1,1,0)","v":0},null,{"$f":"IF('Fiches_Utilisateurs_Service#4'!G35=1,1,0)","v":0},null,{"$f":"IF('Fiches_Utilisateurs_Service#4'!I35=1,1,0)","v":0},null,{"$f":"IF('Fiches_Utilisateurs_Service#4'!K35=1,1,0)","v":0},null,{"$f":"IF('Fiches_Utilisateurs_Service#4'!M35=1,1,0)","v":0},null,{"$f":"IF('Fiches_Utilisateurs_Service#4'!O35=1,1,0)","v":0},null,{"$f":"IF('Fiches_Utilisateurs_Service#4'!Q35=1,1,0)","v":0},null,{"$f":"IF('Fiches_Utilisateurs_Service#4'!S35=1,1,0)","v":0},null,{"$f":"IF('Fiches_Utilisateurs_Service#4'!U35=1,1,0)","v":0},null,{"$f":"IF('Fiches_Utilisateurs_Service#4'!W35=1,1,0)","v":0},null,{"$f":"IF('Fiches_Utilisateurs_Service#4'!Y35=1,1,0)","v":0},null,{"$f":"IF('Fiches_Utilisateurs_Service#4'!AA35=1,1,0)","v":0},null,{"$f":"IF('Fiches_Utilisateurs_Service#4'!AC35=1,1,0)","v":0},null,{"$f":"IF('Fiches_Utilisateurs_Service#4'!AE35=1,1,0)","v":0},null,{"$f":"IF('Fiches_Utilisateurs_Service#4'!AG35=1,1,0)","v":0},null,{"$f":"IF('Fiches_Utilisateurs_Service#4'!AI35=1,1,0)","v":0},null,{"$f":"IF('Fiches_Utilisateurs_Service#4'!AK35=1,1,0)","v":0},null,{"$f":"IF('Fiches_Utilisateurs_Service#4'!AM35=1,1,0)","v":0},null,{"$f":"IF('Fiches_Utilisateurs_Service#4'!AO35=1,1,0)","v":0},null,{"$f":"IF('Fiches_Utilisateurs_Service#4'!AQ35=1,1,0)","v":0},null,{"$f":"IF('Fiches_Utilisateurs_Service#4'!AS35=1,1,0)","v":0},null,{"$f":"IF('Fiches_Utilisateurs_Service#4'!AU35=1,1,0)","v":0},null,{"$f":"IF('Fiches_Utilisateurs_Service#4'!AW35=1,1,0)","v":0},null,{"$f":"IF('Fiches_Utilisateurs_Service#4'!AY35=1,1,0)","v":0},null,{"$f":"IF('Fiches_Utilisateurs_Service#4'!BA35=1,1,0)","v":0},null,{"$f":"IF('Fiches_Utilisateurs_Service#4'!BC35=1,1,0)","v":0},null,{"$f":"IF('Fiches_Utilisateurs_Service#4'!BE35=1,1,0)","v":0},null,{"$f":"IF('Fiches_Utilisateurs_Service#4'!BG35=1,1,0)","v":0},null,{"$f":"IF('Fiches_Utilisateurs_Service#4'!BI35=1,1,0)","v":0},null,{"$f":"IF('Fiches_Utilisateurs_Service#4'!BK35=1,1,0)","v":0},null,{"$f":"IF('Fiches_Utilisateurs_Service#4'!BM35=1,1,0)","v":0},null,{"$f":"IF('Fiches_Utilisateurs_Service#4'!BO35=1,1,0)","v":0},null,{"$f":"IF('Fiches_Utilisateurs_Service#4'!BQ35=1,1,0)","v":0},null,{"$f":"IF('Fiches_Utilisateurs_Service#4'!BS35=1,1,0)","v":0},null,{"$f":"IF('Fiches_Utilisateurs_Service#4'!BU35=1,1,0)","v":0},null,{"$f":"IF('Fiches_Utilisateurs_Service#4'!BW35=1,1,0)","v":0},null,{"$f":"IF('Fiches_Utilisateurs_Service#4'!BY35=1,1,0)","v":0},null,{"$f":"IF('Fiches_Utilisateurs_Service#4'!CA35=1,1,0)","v":0},null,{"$f":"IF('Fiches_Utilisateurs_Service#4'!CC35=1,1,0)","v":0}]
[]
["tot sale",{"$f":"SUM(C37:CC37)","v":0},{"$f":"SUM(C15:C35)","v":0},null,{"$f":"SUM(E15:E35)","v":0},null,{"$f":"SUM(G15:G35)","v":0},null,{"$f":"SUM(I15:I35)","v":0},null,{"$f":"SUM(K15:K35)","v":0},null,{"$f":"SUM(M15:M35)","v":0},null,{"$f":"SUM(O15:O35)","v":0},null,{"$f":"SUM(Q15:Q35)","v":0},null,{"$f":"SUM(S15:S35)","v":0},null,{"$f":"SUM(U15:U35)","v":0},null,{"$f":"SUM(W15:W35)","v":0},null,{"$f":"SUM(Y15:Y35)","v":0},null,{"$f":"SUM(AA15:AA35)","v":0},null,{"$f":"SUM(AC15:AC35)","v":0},null,{"$f":"SUM(AE15:AE35)","v":0},null,{"$f":"SUM(AG15:AG35)","v":0},null,{"$f":"SUM(AI15:AI35)","v":0},null,{"$f":"SUM(AK15:AK35)","v":0},null,{"$f":"SUM(AM15:AM35)","v":0},null,{"$f":"SUM(AO15:AO35)","v":0},null,{"$f":"SUM(AQ15:AQ35)","v":0},null,{"$f":"SUM(AS15:AS35)","v":0},null,{"$f":"SUM(AU15:AU35)","v":0},null,{"$f":"SUM(AW15:AW35)","v":0},null,{"$f":"SUM(AY15:AY35)","v":0},null,{"$f":"SUM(BA15:BA35)","v":0},null,{"$f":"SUM(BC15:BC35)","v":0},null,{"$f":"SUM(BE15:BE35)","v":0},null,{"$f":"SUM(BG15:BG35)","v":0},null,{"$f":"SUM(BI15:BI35)","v":0},null,{"$f":"SUM(BK15:BK35)","v":0},null,{"$f":"SUM(BM15:BM35)","v":0},null,{"$f":"SUM(BO15:BO35)","v":0},null,{"$f":"SUM(BQ15:BQ35)","v":0},null,{"$f":"SUM(BS15:BS35)","v":0},null,{"$f":"SUM(BU15:BU35)","v":0},null,{"$f":"SUM(BW15:BW35)","v":0},null,{"$f":"SUM(BY15:BY35)","v":0},null,{"$f":"SUM(CA15:CA35)","v":0},null,{"$f":"SUM(CC15:CC35)","v":0}]
[]
[null,null,{"$f":"IF('Fiches_Utilisateurs_Service#4'!C39=1,1,0)","v":0},null,{"$f":"IF('Fiches_Utilisateurs_Service#4'!E39=1,1,0)","v":0},null,{"$f":"IF('Fiches_Utilisateurs_Service#4'!G39=1,1,0)","v":0},null,{"$f":"IF('Fiches_Utilisateurs_Service#4'!I39=1,1,0)","v":0},null,{"$f":"IF('Fiches_Utilisateurs_Service#4'!K39=1,1,0)","v":0},null,{"$f":"IF('Fiches_Utilisateurs_Service#4'!M39=1,1,0)","v":0},null,{"$f":"IF('Fiches_Utilisateurs_Service#4'!O39=1,1,0)","v":0},null,{"$f":"IF('Fiches_Utilisateurs_Service#4'!Q39=1,1,0)","v":0},null,{"$f":"IF('Fiches_Utilisateurs_Service#4'!S39=1,1,0)","v":0},null,{"$f":"IF('Fiches_Utilisateurs_Service#4'!U39=1,1,0)","v":0},null,{"$f":"IF('Fiches_Utilisateurs_Service#4'!W39=1,1,0)","v":0},null,{"$f":"IF('Fiches_Utilisateurs_Service#4'!Y39=1,1,0)","v":0},null,{"$f":"IF('Fiches_Utilisateurs_Service#4'!AA39=1,1,0)","v":0},null,{"$f":"IF('Fiches_Utilisateurs_Service#4'!AC39=1,1,0)","v":0},null,{"$f":"IF('Fiches_Utilisateurs_Service#4'!AE39=1,1,0)","v":0},null,{"$f":"IF('Fiches_Utilisateurs_Service#4'!AG39=1,1,0)","v":0},null,{"$f":"IF('Fiches_Utilisateurs_Service#4'!AI39=1,1,0)","v":0},null,{"$f":"IF('Fiches_Utilisateurs_Service#4'!AK39=1,1,0)","v":0},null,{"$f":"IF('Fiches_Utilisateurs_Service#4'!AM39=1,1,0)","v":0},null,{"$f":"IF('Fiches_Utilisateurs_Service#4'!AO39=1,1,0)","v":0},null,{"$f":"IF('Fiches_Utilisateurs_Service#4'!AQ39=1,1,0)","v":0},null,{"$f":"IF('Fiches_Utilisateurs_Service#4'!AS39=1,1,0)","v":0},null,{"$f":"IF('Fiches_Utilisateurs_Service#4'!AU39=1,1,0)","v":0},null,{"$f":"IF('Fiches_Utilisateurs_Service#4'!AW39=1,1,0)","v":0},null,{"$f":"IF('Fiches_Utilisateurs_Service#4'!AY39=1,1,0)","v":0},null,{"$f":"IF('Fiches_Utilisateurs_Service#4'!BA39=1,1,0)","v":0},null,{"$f":"IF('Fiches_Utilisateurs_Service#4'!BC39=1,1,0)","v":0},null,{"$f":"IF('Fiches_Utilisateurs_Service#4'!BE39=1,1,0)","v":0},null,{"$f":"IF('Fiches_Utilisateurs_Service#4'!BG39=1,1,0)","v":0},null,{"$f":"IF('Fiches_Utilisateurs_Service#4'!BI39=1,1,0)","v":0},null,{"$f":"IF('Fiches_Utilisateurs_Service#4'!BK39=1,1,0)","v":0},null,{"$f":"IF('Fiches_Utilisateurs_Service#4'!BM39=1,1,0)","v":0},null,{"$f":"IF('Fiches_Utilisateurs_Service#4'!BO39=1,1,0)","v":0},null,{"$f":"IF('Fiches_Utilisateurs_Service#4'!BQ39=1,1,0)","v":0},null,{"$f":"IF('Fiches_Utilisateurs_Service#4'!BS39=1,1,0)","v":0},null,{"$f":"IF('Fiches_Utilisateurs_Service#4'!BU39=1,1,0)","v":0},null,{"$f":"IF('Fiches_Utilisateurs_Service#4'!BW39=1,1,0)","v":0},null,{"$f":"IF('Fiches_Utilisateurs_Service#4'!BY39=1,1,0)","v":0},null,{"$f":"IF('Fiches_Utilisateurs_Service#4'!CA39=1,1,0)","v":0},null,{"$f":"IF('Fiches_Utilisateurs_Service#4'!CC39=1,1,0)","v":0}]
[]
[null,null,{"$f":"IF('Fiches_Utilisateurs_Service#4'!C41=1,1,0)","v":0},null,{"$f":"IF('Fiches_Utilisateurs_Service#4'!E41=1,1,0)","v":0},null,{"$f":"IF('Fiches_Utilisateurs_Service#4'!G41=1,1,0)","v":0},null,{"$f":"IF('Fiches_Utilisateurs_Service#4'!I41=1,1,0)","v":0},null,{"$f":"IF('Fiches_Utilisateurs_Service#4'!K41=1,1,0)","v":0},null,{"$f":"IF('Fiches_Utilisateurs_Service#4'!M41=1,1,0)","v":0},null,{"$f":"IF('Fiches_Utilisateurs_Service#4'!O41=1,1,0)","v":0},null,{"$f":"IF('Fiches_Utilisateurs_Service#4'!Q41=1,1,0)","v":0},null,{"$f":"IF('Fiches_Utilisateurs_Service#4'!S41=1,1,0)","v":0},null,{"$f":"IF('Fiches_Utilisateurs_Service#4'!U41=1,1,0)","v":0},null,{"$f":"IF('Fiches_Utilisateurs_Service#4'!W41=1,1,0)","v":0},null,{"$f":"IF('Fiches_Utilisateurs_Service#4'!Y41=1,1,0)","v":0},null,{"$f":"IF('Fiches_Utilisateurs_Service#4'!AA41=1,1,0)","v":0},null,{"$f":"IF('Fiches_Utilisateurs_Service#4'!AC41=1,1,0)","v":0},null,{"$f":"IF('Fiches_Utilisateurs_Service#4'!AE41=1,1,0)","v":0},null,{"$f":"IF('Fiches_Utilisateurs_Service#4'!AG41=1,1,0)","v":0},null,{"$f":"IF('Fiches_Utilisateurs_Service#4'!AI41=1,1,0)","v":0},null,{"$f":"IF('Fiches_Utilisateurs_Service#4'!AK41=1,1,0)","v":0},null,{"$f":"IF('Fiches_Utilisateurs_Service#4'!AM41=1,1,0)","v":0},null,{"$f":"IF('Fiches_Utilisateurs_Service#4'!AO41=1,1,0)","v":0},null,{"$f":"IF('Fiches_Utilisateurs_Service#4'!AQ41=1,1,0)","v":0},null,{"$f":"IF('Fiches_Utilisateurs_Service#4'!AS41=1,1,0)","v":0},null,{"$f":"IF('Fiches_Utilisateurs_Service#4'!AU41=1,1,0)","v":0},null,{"$f":"IF('Fiches_Utilisateurs_Service#4'!AW41=1,1,0)","v":0},null,{"$f":"IF('Fiches_Utilisateurs_Service#4'!AY41=1,1,0)","v":0},null,{"$f":"IF('Fiches_Utilisateurs_Service#4'!BA41=1,1,0)","v":0},null,{"$f":"IF('Fiches_Utilisateurs_Service#4'!BC41=1,1,0)","v":0},null,{"$f":"IF('Fiches_Utilisateurs_Service#4'!BE41=1,1,0)","v":0},null,{"$f":"IF('Fiches_Utilisateurs_Service#4'!BG41=1,1,0)","v":0},null,{"$f":"IF('Fiches_Utilisateurs_Service#4'!BI41=1,1,0)","v":0},null,{"$f":"IF('Fiches_Utilisateurs_Service#4'!BK41=1,1,0)","v":0},null,{"$f":"IF('Fiches_Utilisateurs_Service#4'!BM41=1,1,0)","v":0},null,{"$f":"IF('Fiches_Utilisateurs_Service#4'!BO41=1,1,0)","v":0},null,{"$f":"IF('Fiches_Utilisateurs_Service#4'!BQ41=1,1,0)","v":0},null,{"$f":"IF('Fiches_Utilisateurs_Service#4'!BS41=1,1,0)","v":0},null,{"$f":"IF('Fiches_Utilisateurs_Service#4'!BU41=1,1,0)","v":0},null,{"$f":"IF('Fiches_Utilisateurs_Service#4'!BW41=1,1,0)","v":0},null,{"$f":"IF('Fiches_Utilisateurs_Service#4'!BY41=1,1,0)","v":0},null,{"$f":"IF('Fiches_Utilisateurs_Service#4'!CA41=1,1,0)","v":0},null,{"$f":"IF('Fiches_Utilisateurs_Service#4'!CC41=1,1,0)","v":0}]
[]
[null,null,{"$f":"IF('Fiches_Utilisateurs_Service#4'!C43=1,1,0)","v":0},null,{"$f":"IF('Fiches_Utilisateurs_Service#4'!E43=1,1,0)","v":0},null,{"$f":"IF('Fiches_Utilisateurs_Service#4'!G43=1,1,0)","v":0},null,{"$f":"IF('Fiches_Utilisateurs_Service#4'!I43=1,1,0)","v":0},null,{"$f":"IF('Fiches_Utilisateurs_Service#4'!K43=1,1,0)","v":0},null,{"$f":"IF('Fiches_Utilisateurs_Service#4'!M43=1,1,0)","v":0},null,{"$f":"IF('Fiches_Utilisateurs_Service#4'!O43=1,1,0)","v":0},null,{"$f":"IF('Fiches_Utilisateurs_Service#4'!Q43=1,1,0)","v":0},null,{"$f":"IF('Fiches_Utilisateurs_Service#4'!S43=1,1,0)","v":0},null,{"$f":"IF('Fiches_Utilisateurs_Service#4'!U43=1,1,0)","v":0},null,{"$f":"IF('Fiches_Utilisateurs_Service#4'!W43=1,1,0)","v":0},null,{"$f":"IF('Fiches_Utilisateurs_Service#4'!Y43=1,1,0)","v":0},null,{"$f":"IF('Fiches_Utilisateurs_Service#4'!AA43=1,1,0)","v":0},null,{"$f":"IF('Fiches_Utilisateurs_Service#4'!AC43=1,1,0)","v":0},null,{"$f":"IF('Fiches_Utilisateurs_Service#4'!AE43=1,1,0)","v":0},null,{"$f":"IF('Fiches_Utilisateurs_Service#4'!AG43=1,1,0)","v":0},null,{"$f":"IF('Fiches_Utilisateurs_Service#4'!AI43=1,1,0)","v":0},null,{"$f":"IF('Fiches_Utilisateurs_Service#4'!AK43=1,1,0)","v":0},null,{"$f":"IF('Fiches_Utilisateurs_Service#4'!AM43=1,1,0)","v":0},null,{"$f":"IF('Fiches_Utilisateurs_Service#4'!AO43=1,1,0)","v":0},null,{"$f":"IF('Fiches_Utilisateurs_Service#4'!AQ43=1,1,0)","v":0},null,{"$f":"IF('Fiches_Utilisateurs_Service#4'!AS43=1,1,0)","v":0},null,{"$f":"IF('Fiches_Utilisateurs_Service#4'!AU43=1,1,0)","v":0},null,{"$f":"IF('Fiches_Utilisateurs_Service#4'!AW43=1,1,0)","v":0},null,{"$f":"IF('Fiches_Utilisateurs_Service#4'!AY43=1,1,0)","v":0},null,{"$f":"IF('Fiches_Utilisateurs_Service#4'!BA43=1,1,0)","v":0},null,{"$f":"IF('Fiches_Utilisateurs_Service#4'!BC43=1,1,0)","v":0},null,{"$f":"IF('Fiches_Utilisateurs_Service#4'!BE43=1,1,0)","v":0},null,{"$f":"IF('Fiches_Utilisateurs_Service#4'!BG43=1,1,0)","v":0},null,{"$f":"IF('Fiches_Utilisateurs_Service#4'!BI43=1,1,0)","v":0},null,{"$f":"IF('Fiches_Utilisateurs_Service#4'!BK43=1,1,0)","v":0},null,{"$f":"IF('Fiches_Utilisateurs_Service#4'!BM43=1,1,0)","v":0},null,{"$f":"IF('Fiches_Utilisateurs_Service#4'!BO43=1,1,0)","v":0},null,{"$f":"IF('Fiches_Utilisateurs_Service#4'!BQ43=1,1,0)","v":0},null,{"$f":"IF('Fiches_Utilisateurs_Service#4'!BS43=1,1,0)","v":0},null,{"$f":"IF('Fiches_Utilisateurs_Service#4'!BU43=1,1,0)","v":0},null,{"$f":"IF('Fiches_Utilisateurs_Service#4'!BW43=1,1,0)","v":0},null,{"$f":"IF('Fiches_Utilisateurs_Service#4'!BY43=1,1,0)","v":0},null,{"$f":"IF('Fiches_Utilisateurs_Service#4'!CA43=1,1,0)","v":0},null,{"$f":"IF('Fiches_Utilisateurs_Service#4'!CC43=1,1,0)","v":0}]
[]
["tot propre",{"$f":"SUM(C45:CC45)","v":0},{"$f":"SUM(C39:C43)","v":0},null,{"$f":"SUM(E39:E43)","v":0},null,{"$f":"SUM(G39:G43)","v":0},null,{"$f":"SUM(I39:I43)","v":0},null,{"$f":"SUM(K39:K43)","v":0},null,{"$f":"SUM(M39:M43)","v":0},null,{"$f":"SUM(O39:O43)","v":0},null,{"$f":"SUM(Q39:Q43)","v":0},null,{"$f":"SUM(S39:S43)","v":0},null,{"$f":"SUM(U39:U43)","v":0},null,{"$f":"SUM(W39:W43)","v":0},null,{"$f":"SUM(Y39:Y43)","v":0},null,{"$f":"SUM(AA39:AA43)","v":0},null,{"$f":"SUM(AC39:AC43)","v":0},null,{"$f":"SUM(AE39:AE43)","v":0},null,{"$f":"SUM(AG39:AG43)","v":0},null,{"$f":"SUM(AI39:AI43)","v":0},null,{"$f":"SUM(AK39:AK43)","v":0},null,{"$f":"SUM(AM39:AM43)","v":0},null,{"$f":"SUM(AO39:AO43)","v":0},null,{"$f":"SUM(AQ39:AQ43)","v":0},null,{"$f":"SUM(AS39:AS43)","v":0},null,{"$f":"SUM(AU39:AU43)","v":0},null,{"$f":"SUM(AW39:AW43)","v":0},null,{"$f":"SUM(AY39:AY43)","v":0},null,{"$f":"SUM(BA39:BA43)","v":0},null,{"$f":"SUM(BC39:BC43)","v":0},null,{"$f":"SUM(BE39:BE43)","v":0},null,{"$f":"SUM(BG39:BG43)","v":0},null,{"$f":"SUM(BI39:BI43)","v":0},null,{"$f":"SUM(BK39:BK43)","v":0},null,{"$f":"SUM(BM39:BM43)","v":0},null,{"$f":"SUM(BO39:BO43)","v":0},null,{"$f":"SUM(BQ39:BQ43)","v":0},null,{"$f":"SUM(BS39:BS43)","v":0},null,{"$f":"SUM(BU39:BU43)","v":0},null,{"$f":"SUM(BW39:BW43)","v":0},null,{"$f":"SUM(BY39:BY43)","v":0},null,{"$f":"SUM(CA39:CA43)","v":0},null,{"$f":"SUM(CC39:CC43)","v":0}]
[]
["tot tot",{"$f":"SUM(C47:CC47)","v":0},{"$f":"C45+C37","v":0},null,{"$f":"E45+E37","v":0},null,{"$f":"G45+G37","v":0},null,{"$f":"I45+I37","v":0},null,{"$f":"K45+K37","v":0},null,{"$f":"M45+M37","v":0},null,{"$f":"O45+O37","v":0},null,{"$f":"Q45+Q37","v":0},null,{"$f":"S45+S37","v":0},null,{"$f":"U45+U37","v":0},null,{"$f":"W45+W37","v":0},null,{"$f":"Y45+Y37","v":0},null,{"$f":"AA45+AA37","v":0},null,{"$f":"AC45+AC37","v":0},null,{"$f":"AE45+AE37","v":0},null,{"$f":"AG45+AG37","v":0},null,{"$f":"AI45+AI37","v":0},null,{"$f":"AK45+AK37","v":0},null,{"$f":"AM45+AM37","v":0},null,{"$f":"AO45+AO37","v":0},null,{"$f":"AQ45+AQ37","v":0},null,{"$f":"AS45+AS37","v":0},null,{"$f":"AU45+AU37","v":0},null,{"$f":"AW45+AW37","v":0},null,{"$f":"AY45+AY37","v":0},null,{"$f":"BA45+BA37","v":0},null,{"$f":"BC45+BC37","v":0},null,{"$f":"BE45+BE37","v":0},null,{"$f":"BG45+BG37","v":0},null,{"$f":"BI45+BI37","v":0},null,{"$f":"BK45+BK37","v":0},null,{"$f":"BM45+BM37","v":0},null,{"$f":"BO45+BO37","v":0},null,{"$f":"BQ45+BQ37","v":0},null,{"$f":"BS45+BS37","v":0},null,{"$f":"BU45+BU37","v":0},null,{"$f":"BW45+BW37","v":0},null,{"$f":"BY45+BY37","v":0},null,{"$f":"CA45+CA37","v":0},null,{"$f":"CC45+CC37","v":0}]
[]
[]
[]
[]
[1,{"$f":"SUM(C52:CC52)","v":0},{"$f":"IF(C11=\"1\",1,0)","v":0},null,{"$f":"IF(E11=\"1\",1,0)","v":0},null,0,null,0,null,0,null,0,null,0,null,0,null,0,null,0,null,0,null,0,null,0,null,0,null,0,null,0,null,0,null,0,null,0,null,0,null,0,null,0,null,0,null,0,null,0,null,0,null,0,null,0,null,0,null,0,null,0,null,0,null,0,null,{"$f":"IF(BQ11=\"1\",1,0)","v":0},null,0,null,0,null,0,null,0,null,0,null,0]
[null,0,{"$f":"IF(C52=1,(C77+C82),0)","v":0},null,{"$f":"IF(E52=1,(E77+E82),0)","v":0},null,{"$f":"IF(G52=1,(G77+G82),0)","v":0},null,{"$f":"IF(I52=1,(I77+I82),0)","v":0},null,{"$f":"IF(K52=1,(K77+K82),0)","v":0},null,{"$f":"IF(M52=1,(M77+M82),0)","v":0},null,{"$f":"IF(O52=1,(O77+O82),0)","v":0},null,{"$f":"IF(Q52=1,(Q77+Q82),0)","v":0},null,{"$f":"IF(S52=1,(S77+S82),0)","v":0},null,{"$f":"IF(U52=1,(U77+U82),0)","v":0},null,{"$f":"IF(W52=1,(W77+W82),0)","v":0},null,{"$f":"IF(Y52=1,(Y77+Y82),0)","v":0},null,{"$f":"IF(AA52=1,(AA77+AA82),0)","v":0},null,{"$f":"IF(AC52=1,(AC77+AC82),0)","v":0},null,{"$f":"IF(AE52=1,(AE77+AE82),0)","v":0},null,{"$f":"IF(AG52=1,(AG77+AG82),0)","v":0},null,{"$f":"IF(AI52=1,(AI77+AI82),0)","v":0},null,{"$f":"IF(AK52=1,(AK77+AK82),0)","v":0},null,{"$f":"IF(AM52=1,(AM77+AM82),0)","v":0},null,{"$f":"IF(AO52=1,(AO77+AO82),0)","v":0},null,{"$f":"IF(AQ52=1,(AQ77+AQ82),0)","v":0},null,{"$f":"IF(AS52=1,(AS77+AS82),0)","v":0},null,{"$f":"IF(AU52=1,(AU77+AU82),0)","v":0},null,{"$f":"IF(AW52=1,(AW77+AW82),0)","v":0},null,{"$f":"IF(AY52=1,(AY77+AY82),0)","v":0},null,{"$f":"IF(BA52=1,(BA77+BA82),0)","v":0},null,{"$f":"IF(BC52=1,(BC77+BC82),0)","v":0},null,{"$f":"IF(BE52=1,(BE77+BE82),0)","v":0},null,{"$f":"IF(BG52=1,(BG77+BG82),0)","v":0},null,{"$f":"IF(BI52=1,(BI77+BI82),0)","v":0},null,{"$f":"IF(BK52=1,(BK77+BK82),0)","v":0},null,{"$f":"IF(BM52=1,(BM77+BM82),0)","v":0},null,{"$f":"IF(BO52=1,(BO77+BO82),0)","v":0},null,{"$f":"IF(BQ52=1,(BQ77+BQ82),0)","v":0},null,{"$f":"IF(BS52=1,(BS77+BS82),0)","v":0},null,{"$f":"IF(BU52=1,(BU77+BU82),0)","v":0},null,{"$f":"IF(BW52=1,(BW77+BW82),0)","v":0},null,{"$f":"IF(BY52=1,(BY77+BY82),0)","v":0},null,{"$f":"IF(CA52=1,(CA77+CA82),0)","v":0},null,{"$f":"IF(CC52=1,(CC77+CC82),0)","v":0}]
[2,0,{"$f":"IF(C11=\"2\",1,0)","v":0},null,{"$f":"IF(E11=\"2\",1,0)","v":0},null,0,null,0,null,0,null,0,null,0,null,0,null,0,null,0,null,0,null,0,null,0,null,0,null,0,null,0,null,0,null,0,null,0,null,0,null,0,null,0,null,0,null,0,null,0,null,0,null,0,null,0,null,0,null,0,null,0,null,0,null,0,null,{"$f":"IF(BQ11=\"2\",1,0)","v":0},null,0,null,0,null,0,null,0,null,0,null,0]
[null,0,{"$f":"IF(C54=1,(C77+C82),0)","v":0},null,{"$f":"IF(E54=1,(E77+E82),0)","v":0},null,{"$f":"IF(G54=1,(G77+G82),0)","v":0},null,{"$f":"IF(I54=1,(I77+I82),0)","v":0},null,{"$f":"IF(K54=1,(K77+K82),0)","v":0},null,{"$f":"IF(M54=1,(M77+M82),0)","v":0},null,{"$f":"IF(O54=1,(O77+O82),0)","v":0},null,{"$f":"IF(Q54=1,(Q77+Q82),0)","v":0},null,{"$f":"IF(S54=1,(S77+S82),0)","v":0},null,{"$f":"IF(U54=1,(U77+U82),0)","v":0},null,{"$f":"IF(W54=1,(W77+W82),0)","v":0},null,{"$f":"IF(Y54=1,(Y77+Y82),0)","v":0},null,{"$f":"IF(AA54=1,(AA77+AA82),0)","v":0},null,{"$f":"IF(AC54=1,(AC77+AC82),0)","v":0},null,{"$f":"IF(AE54=1,(AE77+AE82),0)","v":0},null,{"$f":"IF(AG54=1,(AG77+AG82),0)","v":0},null,{"$f":"IF(AI54=1,(AI77+AI82),0)","v":0},null,{"$f":"IF(AK54=1,(AK77+AK82),0)","v":0},null,{"$f":"IF(AM54=1,(AM77+AM82),0)","v":0},null,{"$f":"IF(AO54=1,(AO77+AO82),0)","v":0},null,{"$f":"IF(AQ54=1,(AQ77+AQ82),0)","v":0},null,{"$f":"IF(AS54=1,(AS77+AS82),0)","v":0},null,{"$f":"IF(AU54=1,(AU77+AU82),0)","v":0},null,{"$f":"IF(AW54=1,(AW77+AW82),0)","v":0},null,{"$f":"IF(AY54=1,(AY77+AY82),0)","v":0},null,{"$f":"IF(BA54=1,(BA77+BA82),0)","v":0},null,{"$f":"IF(BC54=1,(BC77+BC82),0)","v":0},null,{"$f":"IF(BE54=1,(BE77+BE82),0)","v":0},null,{"$f":"IF(BG54=1,(BG77+BG82),0)","v":0},null,{"$f":"IF(BI54=1,(BI77+BI82),0)","v":0},null,{"$f":"IF(BK54=1,(BK77+BK82),0)","v":0},null,{"$f":"IF(BM54=1,(BM77+BM82),0)","v":0},null,{"$f":"IF(BO54=1,(BO77+BO82),0)","v":0},null,{"$f":"IF(BQ54=1,(BQ77+BQ82),0)","v":0},null,{"$f":"IF(BS54=1,(BS77+BS82),0)","v":0},null,{"$f":"IF(BU54=1,(BU77+BU82),0)","v":0},null,{"$f":"IF(BW54=1,(BW77+BW82),0)","v":0},null,{"$f":"IF(BY54=1,(BY77+BY82),0)","v":0},null,{"$f":"IF(CA54=1,(CA77+CA82),0)","v":0},null,{"$f":"IF(CC54=1,(CC77+CC82),0)","v":0}]
[3,0,{"$f":"IF(C11=\"3\",1,0)","v":0},null,{"$f":"IF(E11=\"3\",1,0)","v":0},null,0,null,0,null,0,null,0,null,0,null,0,null,0,null,0,null,0,null,0,null,0,null,0,null,0,null,0,null,0,null,0,null,0,null,0,null,0,null,0,null,0,null,0,null,0,null,0,null,0,null,0,null,0,null,0,null,0,null,0,null,0,null,{"$f":"IF(BQ11=\"3\",1,0)","v":0},null,0,null,0,null,0,null,0,null,0,null,0]
[null,0,{"$f":"IF(C56=1,(C77+C82),0)","v":0},null,{"$f":"IF(E56=1,(E77+E82),0)","v":0},null,{"$f":"IF(G56=1,(G77+G82),0)","v":0},null,{"$f":"IF(I56=1,(I77+I82),0)","v":0},null,{"$f":"IF(K56=1,(K77+K82),0)","v":0},null,{"$f":"IF(M56=1,(M77+M82),0)","v":0},null,{"$f":"IF(O56=1,(O77+O82),0)","v":0},null,{"$f":"IF(Q56=1,(Q77+Q82),0)","v":0},null,{"$f":"IF(S56=1,(S77+S82),0)","v":0},null,{"$f":"IF(U56=1,(U77+U82),0)","v":0},null,{"$f":"IF(W56=1,(W77+W82),0)","v":0},null,{"$f":"IF(Y56=1,(Y77+Y82),0)","v":0},null,{"$f":"IF(AA56=1,(AA77+AA82),0)","v":0},null,{"$f":"IF(AC56=1,(AC77+AC82),0)","v":0},null,{"$f":"IF(AE56=1,(AE77+AE82),0)","v":0},null,{"$f":"IF(AG56=1,(AG77+AG82),0)","v":0},null,{"$f":"IF(AI56=1,(AI77+AI82),0)","v":0},null,{"$f":"IF(AK56=1,(AK77+AK82),0)","v":0},null,{"$f":"IF(AM56=1,(AM77+AM82),0)","v":0},null,{"$f":"IF(AO56=1,(AO77+AO82),0)","v":0},null,{"$f":"IF(AQ56=1,(AQ77+AQ82),0)","v":0},null,{"$f":"IF(AS56=1,(AS77+AS82),0)","v":0},null,{"$f":"IF(AU56=1,(AU77+AU82),0)","v":0},null,{"$f":"IF(AW56=1,(AW77+AW82),0)","v":0},null,{"$f":"IF(AY56=1,(AY77+AY82),0)","v":0},null,{"$f":"IF(BA56=1,(BA77+BA82),0)","v":0},null,{"$f":"IF(BC56=1,(BC77+BC82),0)","v":0},null,{"$f":"IF(BE56=1,(BE77+BE82),0)","v":0},null,{"$f":"IF(BG56=1,(BG77+BG82),0)","v":0},null,{"$f":"IF(BI56=1,(BI77+BI82),0)","v":0},null,{"$f":"IF(BK56=1,(BK77+BK82),0)","v":0},null,{"$f":"IF(BM56=1,(BM77+BM82),0)","v":0},null,{"$f":"IF(BO56=1,(BO77+BO82),0)","v":0},null,{"$f":"IF(BQ56=1,(BQ77+BQ82),0)","v":0},null,{"$f":"IF(BS56=1,(BS77+BS82),0)","v":0},null,{"$f":"IF(BU56=1,(BU77+BU82),0)","v":0},null,{"$f":"IF(BW56=1,(BW77+BW82),0)","v":0},null,{"$f":"IF(BY56=1,(BY77+BY82),0)","v":0},null,{"$f":"IF(CA56=1,(CA77+CA82),0)","v":0},null,{"$f":"IF(CC56=1,(CC77+CC82),0)","v":0}]
[4,0,{"$f":"IF(C11=\"4\",1,0)","v":0},null,{"$f":"IF(E11=\"4\",1,0)","v":0},null,0,null,0,null,0,null,0,null,0,null,0,null,0,null,0,null,0,null,0,null,0,null,0,null,0,null,0,null,0,null,0,null,0,null,0,null,0,null,0,null,0,null,0,null,0,null,0,null,0,null,0,null,0,null,0,null,0,null,0,null,0,null,{"$f":"IF(BQ11=\"4\",1,0)","v":0},null,0,null,0,null,0,null,0,null,0,null,0]
[null,0,{"$f":"IF(C58=1,(C77+C82),0)","v":0},null,{"$f":"IF(E58=1,(E77+E82),0)","v":0},null,{"$f":"IF(G58=1,(G77+G82),0)","v":0},null,{"$f":"IF(I58=1,(I77+I82),0)","v":0},null,{"$f":"IF(K58=1,(K77+K82),0)","v":0},null,{"$f":"IF(M58=1,(M77+M82),0)","v":0},null,{"$f":"IF(O58=1,(O77+O82),0)","v":0},null,{"$f":"IF(Q58=1,(Q77+Q82),0)","v":0},null,{"$f":"IF(S58=1,(S77+S82),0)","v":0},null,{"$f":"IF(U58=1,(U77+U82),0)","v":0},null,{"$f":"IF(W58=1,(W77+W82),0)","v":0},null,{"$f":"IF(Y58=1,(Y77+Y82),0)","v":0},null,{"$f":"IF(AA58=1,(AA77+AA82),0)","v":0},null,{"$f":"IF(AC58=1,(AC77+AC82),0)","v":0},null,{"$f":"IF(AE58=1,(AE77+AE82),0)","v":0},null,{"$f":"IF(AG58=1,(AG77+AG82),0)","v":0},null,{"$f":"IF(AI58=1,(AI77+AI82),0)","v":0},null,{"$f":"IF(AK58=1,(AK77+AK82),0)","v":0},null,{"$f":"IF(AM58=1,(AM77+AM82),0)","v":0},null,{"$f":"IF(AO58=1,(AO77+AO82),0)","v":0},null,{"$f":"IF(AQ58=1,(AQ77+AQ82),0)","v":0},null,{"$f":"IF(AS58=1,(AS77+AS82),0)","v":0},null,{"$f":"IF(AU58=1,(AU77+AU82),0)","v":0},null,{"$f":"IF(AW58=1,(AW77+AW82),0)","v":0},null,{"$f":"IF(AY58=1,(AY77+AY82),0)","v":0},null,{"$f":"IF(BA58=1,(BA77+BA82),0)","v":0},null,{"$f":"IF(BC58=1,(BC77+BC82),0)","v":0},null,{"$f":"IF(BE58=1,(BE77+BE82),0)","v":0},null,{"$f":"IF(BG58=1,(BG77+BG82),0)","v":0},null,{"$f":"IF(BI58=1,(BI77+BI82),0)","v":0},null,{"$f":"IF(BK58=1,(BK77+BK82),0)","v":0},null,{"$f":"IF(BM58=1,(BM77+BM82),0)","v":0},null,{"$f":"IF(BO58=1,(BO77+BO82),0)","v":0},null,{"$f":"IF(BQ58=1,(BQ77+BQ82),0)","v":0},null,{"$f":"IF(BS58=1,(BS77+BS82),0)","v":0},null,{"$f":"IF(BU58=1,(BU77+BU82),0)","v":0},null,{"$f":"IF(BW58=1,(BW77+BW82),0)","v":0},null,{"$f":"IF(BY58=1,(BY77+BY82),0)","v":0},null,{"$f":"IF(CA58=1,(CA77+CA82),0)","v":0},null,{"$f":"IF(CC58=1,(CC77+CC82),0)","v":0}]
[5,0,{"$f":"IF(C11=\"5\",1,0)","v":0},null,{"$f":"IF(E11=\"5\",1,0)","v":0},null,0,null,0,null,0,null,0,null,0,null,0,null,0,null,0,null,0,null,0,null,0,null,0,null,0,null,0,null,0,null,0,null,0,null,0,null,0,null,0,null,0,null,0,null,0,null,0,null,0,null,0,null,0,null,0,null,0,null,0,null,0,null,{"$f":"IF(BQ11=\"5\",1,0)","v":0},null,0,null,0,null,0,null,0,null,0,null,0]
[null,0,{"$f":"IF(C60=1,(C77+C82),0)","v":0},null,{"$f":"IF(E60=1,(E77+E82),0)","v":0},null,{"$f":"IF(G60=1,(G77+G82),0)","v":0},null,{"$f":"IF(I60=1,(I77+I82),0)","v":0},null,{"$f":"IF(K60=1,(K77+K82),0)","v":0},null,{"$f":"IF(M60=1,(M77+M82),0)","v":0},null,{"$f":"IF(O60=1,(O77+O82),0)","v":0},null,{"$f":"IF(Q60=1,(Q77+Q82),0)","v":0},null,{"$f":"IF(S60=1,(S77+S82),0)","v":0},null,{"$f":"IF(U60=1,(U77+U82),0)","v":0},null,{"$f":"IF(W60=1,(W77+W82),0)","v":0},null,{"$f":"IF(Y60=1,(Y77+Y82),0)","v":0},null,{"$f":"IF(AA60=1,(AA77+AA82),0)","v":0},null,{"$f":"IF(AC60=1,(AC77+AC82),0)","v":0},null,{"$f":"IF(AE60=1,(AE77+AE82),0)","v":0},null,{"$f":"IF(AG60=1,(AG77+AG82),0)","v":0},null,{"$f":"IF(AI60=1,(AI77+AI82),0)","v":0},null,{"$f":"IF(AK60=1,(AK77+AK82),0)","v":0},null,{"$f":"IF(AM60=1,(AM77+AM82),0)","v":0},null,{"$f":"IF(AO60=1,(AO77+AO82),0)","v":0},null,{"$f":"IF(AQ60=1,(AQ77+AQ82),0)","v":0},null,{"$f":"IF(AS60=1,(AS77+AS82),0)","v":0},null,{"$f":"IF(AU60=1,(AU77+AU82),0)","v":0},null,{"$f":"IF(AW60=1,(AW77+AW82),0)","v":0},null,{"$f":"IF(AY60=1,(AY77+AY82),0)","v":0},null,{"$f":"IF(BA60=1,(BA77+BA82),0)","v":0},null,{"$f":"IF(BC60=1,(BC77+BC82),0)","v":0},null,{"$f":"IF(BE60=1,(BE77+BE82),0)","v":0},null,{"$f":"IF(BG60=1,(BG77+BG82),0)","v":0},null,{"$f":"IF(BI60=1,(BI77+BI82),0)","v":0},null,{"$f":"IF(BK60=1,(BK77+BK82),0)","v":0},null,{"$f":"IF(BM60=1,(BM77+BM82),0)","v":0},null,{"$f":"IF(BO60=1,(BO77+BO82),0)","v":0},null,{"$f":"IF(BQ60=1,(BQ77+BQ82),0)","v":0},null,{"$f":"IF(BS60=1,(BS77+BS82),0)","v":0},null,{"$f":"IF(BU60=1,(BU77+BU82),0)","v":0},null,{"$f":"IF(BW60=1,(BW77+BW82),0)","v":0},null,{"$f":"IF(BY60=1,(BY77+BY82),0)","v":0},null,{"$f":"IF(CA60=1,(CA77+CA82),0)","v":0},null,{"$f":"IF(CC60=1,(CC77+CC82),0)","v":0}]
[6,0,{"$f":"IF(C11=\"6\",1,0)","v":0},null,{"$f":"IF(E11=\"6\",1,0)","v":0},null,0,null,0,null,0,null,0,null,0,null,0,null,0,null,0,null,0,null,0,null,0,null,0,null,0,null,0,null,0,null,0,null,0,null,0,null,0,null,0,null,0,null,0,null,0,null,0,null,0,null,0,null,0,null,0,null,0,null,0,null,0,null,{"$f":"IF(BQ11=\"6\",1,0)","v":0},null,0,null,0,null,0,null,0,null,0,null,0]
[null,0,{"$f":"IF(C62=1,(C77+C82),0)","v":0},null,{"$f":"IF(E62=1,(E77+E82),0)","v":0},null,{"$f":"IF(G62=1,(G77+G82),0)","v":0},null,{"$f":"IF(I62=1,(I77+I82),0)","v":0},null,{"$f":"IF(K62=1,(K77+K82),0)","v":0},null,{"$f":"IF(M62=1,(M77+M82),0)","v":0},null,{"$f":"IF(O62=1,(O77+O82),0)","v":0},null,{"$f":"IF(Q62=1,(Q77+Q82),0)","v":0},null,{"$f":"IF(S62=1,(S77+S82),0)","v":0},null,{"$f":"IF(U62=1,(U77+U82),0)","v":0},null,{"$f":"IF(W62=1,(W77+W82),0)","v":0},null,{"$f":"IF(Y62=1,(Y77+Y82),0)","v":0},null,{"$f":"IF(AA62=1,(AA77+AA82),0)","v":0},null,{"$f":"IF(AC62=1,(AC77+AC82),0)","v":0},null,{"$f":"IF(AE62=1,(AE77+AE82),0)","v":0},null,{"$f":"IF(AG62=1,(AG77+AG82),0)","v":0},null,{"$f":"IF(AI62=1,(AI77+AI82),0)","v":0},null,{"$f":"IF(AK62=1,(AK77+AK82),0)","v":0},null,{"$f":"IF(AM62=1,(AM77+AM82),0)","v":0},null,{"$f":"IF(AO62=1,(AO77+AO82),0)","v":0},null,{"$f":"IF(AQ62=1,(AQ77+AQ82),0)","v":0},null,{"$f":"IF(AS62=1,(AS77+AS82),0)","v":0},null,{"$f":"IF(AU62=1,(AU77+AU82),0)","v":0},null,{"$f":"IF(AW62=1,(AW77+AW82),0)","v":0},null,{"$f":"IF(AY62=1,(AY77+AY82),0)","v":0},null,{"$f":"IF(BA62=1,(BA77+BA82),0)","v":0},null,{"$f":"IF(BC62=1,(BC77+BC82),0)","v":0},null,{"$f":"IF(BE62=1,(BE77+BE82),0)","v":0},null,{"$f":"IF(BG62=1,(BG77+BG82),0)","v":0},null,{"$f":"IF(BI62=1,(BI77+BI82),0)","v":0},null,{"$f":"IF(BK62=1,(BK77+BK82),0)","v":0},null,{"$f":"IF(BM62=1,(BM77+BM82),0)","v":0},null,{"$f":"IF(BO62=1,(BO77+BO82),0)","v":0},null,{"$f":"IF(BQ62=1,(BQ77+BQ82),0)","v":0},null,{"$f":"IF(BS62=1,(BS77+BS82),0)","v":0},null,{"$f":"IF(BU62=1,(BU77+BU82),0)","v":0},null,{"$f":"IF(BW62=1,(BW77+BW82),0)","v":0},null,{"$f":"IF(BY62=1,(BY77+BY82),0)","v":0},null,{"$f":"IF(CA62=1,(CA77+CA82),0)","v":0},null,{"$f":"IF(CC62=1,(CC77+CC82),0)","v":0}]
[7,0,{"$f":"IF(C11=\"7\",1,0)","v":0},null,{"$f":"IF(E11=\"7\",1,0)","v":0},null,0,null,0,null,0,null,0,null,0,null,0,null,0,null,0,null,0,null,0,null,0,null,0,null,0,null,0,null,0,null,0,null,0,null,0,null,0,null,0,null,0,null,0,null,0,null,0,null,0,null,0,null,0,null,0,null,0,null,0,null,0,null,{"$f":"IF(BQ11=\"7\",1,0)","v":0},null,0,null,0,null,0,null,0,null,0,null,0]
[null,0,{"$f":"IF(C64=1,(C77+C82),0)","v":0},null,{"$f":"IF(E64=1,(E77+E82),0)","v":0},null,{"$f":"IF(G64=1,(G77+G82),0)","v":0},null,{"$f":"IF(I64=1,(I77+I82),0)","v":0},null,{"$f":"IF(K64=1,(K77+K82),0)","v":0},null,{"$f":"IF(M64=1,(M77+M82),0)","v":0},null,{"$f":"IF(O64=1,(O77+O82),0)","v":0},null,{"$f":"IF(Q64=1,(Q77+Q82),0)","v":0},null,{"$f":"IF(S64=1,(S77+S82),0)","v":0},null,{"$f":"IF(U64=1,(U77+U82),0)","v":0},null,{"$f":"IF(W64=1,(W77+W82),0)","v":0},null,{"$f":"IF(Y64=1,(Y77+Y82),0)","v":0},null,{"$f":"IF(AA64=1,(AA77+AA82),0)","v":0},null,{"$f":"IF(AC64=1,(AC77+AC82),0)","v":0},null,{"$f":"IF(AE64=1,(AE77+AE82),0)","v":0},null,{"$f":"IF(AG64=1,(AG77+AG82),0)","v":0},null,{"$f":"IF(AI64=1,(AI77+AI82),0)","v":0},null,{"$f":"IF(AK64=1,(AK77+AK82),0)","v":0},null,{"$f":"IF(AM64=1,(AM77+AM82),0)","v":0},null,{"$f":"IF(AO64=1,(AO77+AO82),0)","v":0},null,{"$f":"IF(AQ64=1,(AQ77+AQ82),0)","v":0},null,{"$f":"IF(AS64=1,(AS77+AS82),0)","v":0},null,{"$f":"IF(AU64=1,(AU77+AU82),0)","v":0},null,{"$f":"IF(AW64=1,(AW77+AW82),0)","v":0},null,{"$f":"IF(AY64=1,(AY77+AY82),0)","v":0},null,{"$f":"IF(BA64=1,(BA77+BA82),0)","v":0},null,{"$f":"IF(BC64=1,(BC77+BC82),0)","v":0},null,{"$f":"IF(BE64=1,(BE77+BE82),0)","v":0},null,{"$f":"IF(BG64=1,(BG77+BG82),0)","v":0},null,{"$f":"IF(BI64=1,(BI77+BI82),0)","v":0},null,{"$f":"IF(BK64=1,(BK77+BK82),0)","v":0},null,{"$f":"IF(BM64=1,(BM77+BM82),0)","v":0},null,{"$f":"IF(BO64=1,(BO77+BO82),0)","v":0},null,{"$f":"IF(BQ64=1,(BQ77+BQ82),0)","v":0},null,{"$f":"IF(BS64=1,(BS77+BS82),0)","v":0},null,{"$f":"IF(BU64=1,(BU77+BU82),0)","v":0},null,{"$f":"IF(BW64=1,(BW77+BW82),0)","v":0},null,{"$f":"IF(BY64=1,(BY77+BY82),0)","v":0},null,{"$f":"IF(CA64=1,(CA77+CA82),0)","v":0},null,{"$f":"IF(CC64=1,(CC77+CC82),0)","v":0}]
[8,0,{"$f":"IF(C11=\"8\",1,0)","v":0},null,{"$f":"IF(E11=\"8\",1,0)","v":0},null,0,null,0,null,0,null,0,null,0,null,0,null,0,null,0,null,0,null,0,null,0,null,0,null,0,null,0,null,0,null,0,null,0,null,0,null,0,null,0,null,0,null,0,null,0,null,0,null,0,null,0,null,0,null,0,null,0,null,0,null,0,null,{"$f":"IF(BQ11=\"8\",1,0)","v":0},null,0,null,0,null,0,null,0,null,0,null,0]
[null,0,{"$f":"IF(C66=1,(C77+C82),0)","v":0},null,{"$f":"IF(E66=1,(E77+E82),0)","v":0},null,{"$f":"IF(G66=1,(G77+G82),0)","v":0},null,{"$f":"IF(I66=1,(I77+I82),0)","v":0},null,{"$f":"IF(K66=1,(K77+K82),0)","v":0},null,{"$f":"IF(M66=1,(M77+M82),0)","v":0},null,{"$f":"IF(O66=1,(O77+O82),0)","v":0},null,{"$f":"IF(Q66=1,(Q77+Q82),0)","v":0},null,{"$f":"IF(S66=1,(S77+S82),0)","v":0},null,{"$f":"IF(U66=1,(U77+U82),0)","v":0},null,{"$f":"IF(W66=1,(W77+W82),0)","v":0},null,{"$f":"IF(Y66=1,(Y77+Y82),0)","v":0},null,{"$f":"IF(AA66=1,(AA77+AA82),0)","v":0},null,{"$f":"IF(AC66=1,(AC77+AC82),0)","v":0},null,{"$f":"IF(AE66=1,(AE77+AE82),0)","v":0},null,{"$f":"IF(AG66=1,(AG77+AG82),0)","v":0},null,{"$f":"IF(AI66=1,(AI77+AI82),0)","v":0},null,{"$f":"IF(AK66=1,(AK77+AK82),0)","v":0},null,{"$f":"IF(AM66=1,(AM77+AM82),0)","v":0},null,{"$f":"IF(AO66=1,(AO77+AO82),0)","v":0},null,{"$f":"IF(AQ66=1,(AQ77+AQ82),0)","v":0},null,{"$f":"IF(AS66=1,(AS77+AS82),0)","v":0},null,{"$f":"IF(AU66=1,(AU77+AU82),0)","v":0},null,{"$f":"IF(AW66=1,(AW77+AW82),0)","v":0},null,{"$f":"IF(AY66=1,(AY77+AY82),0)","v":0},null,{"$f":"IF(BA66=1,(BA77+BA82),0)","v":0},null,{"$f":"IF(BC66=1,(BC77+BC82),0)","v":0},null,{"$f":"IF(BE66=1,(BE77+BE82),0)","v":0},null,{"$f":"IF(BG66=1,(BG77+BG82),0)","v":0},null,{"$f":"IF(BI66=1,(BI77+BI82),0)","v":0},null,{"$f":"IF(BK66=1,(BK77+BK82),0)","v":0},null,{"$f":"IF(BM66=1,(BM77+BM82),0)","v":0},null,{"$f":"IF(BO66=1,(BO77+BO82),0)","v":0},null,{"$f":"IF(BQ66=1,(BQ77+BQ82),0)","v":0},null,{"$f":"IF(BS66=1,(BS77+BS82),0)","v":0},null,{"$f":"IF(BU66=1,(BU77+BU82),0)","v":0},null,{"$f":"IF(BW66=1,(BW77+BW82),0)","v":0},null,{"$f":"IF(BY66=1,(BY77+BY82),0)","v":0},null,{"$f":"IF(CA66=1,(CA77+CA82),0)","v":0},null,{"$f":"IF(CC66=1,(CC77+CC82),0)","v":0}]
[9,0,{"$f":"IF(C11=\"9\",1,0)","v":0},null,{"$f":"IF(E11=\"9\",1,0)","v":0},null,0,null,0,null,0,null,0,null,0,null,0,null,0,null,0,null,0,null,0,null,0,null,0,null,0,null,0,null,0,null,0,null,0,null,0,null,0,null,0,null,0,null,0,null,0,null,0,null,0,null,0,null,0,null,0,null,0,null,0,null,0,null,{"$f":"IF(BQ11=\"9\",1,0)","v":0},null,0,null,0,null,0,null,0,null,0,null,0]
[null,0,{"$f":"IF(C68=1,(C77+C82),0)","v":0},null,{"$f":"IF(E68=1,(E77+E82),0)","v":0},null,{"$f":"IF(G68=1,(G77+G82),0)","v":0},null,{"$f":"IF(I68=1,(I77+I82),0)","v":0},null,{"$f":"IF(K68=1,(K77+K82),0)","v":0},null,{"$f":"IF(M68=1,(M77+M82),0)","v":0},null,{"$f":"IF(O68=1,(O77+O82),0)","v":0},null,{"$f":"IF(Q68=1,(Q77+Q82),0)","v":0},null,{"$f":"IF(S68=1,(S77+S82),0)","v":0},null,{"$f":"IF(U68=1,(U77+U82),0)","v":0},null,{"$f":"IF(W68=1,(W77+W82),0)","v":0},null,{"$f":"IF(Y68=1,(Y77+Y82),0)","v":0},null,{"$f":"IF(AA68=1,(AA77+AA82),0)","v":0},null,{"$f":"IF(AC68=1,(AC77+AC82),0)","v":0},null,{"$f":"IF(AE68=1,(AE77+AE82),0)","v":0},null,{"$f":"IF(AG68=1,(AG77+AG82),0)","v":0},null,{"$f":"IF(AI68=1,(AI77+AI82),0)","v":0},null,{"$f":"IF(AK68=1,(AK77+AK82),0)","v":0},null,{"$f":"IF(AM68=1,(AM77+AM82),0)","v":0},null,{"$f":"IF(AO68=1,(AO77+AO82),0)","v":0},null,{"$f":"IF(AQ68=1,(AQ77+AQ82),0)","v":0},null,{"$f":"IF(AS68=1,(AS77+AS82),0)","v":0},null,{"$f":"IF(AU68=1,(AU77+AU82),0)","v":0},null,{"$f":"IF(AW68=1,(AW77+AW82),0)","v":0},null,{"$f":"IF(AY68=1,(AY77+AY82),0)","v":0},null,{"$f":"IF(BA68=1,(BA77+BA82),0)","v":0},null,{"$f":"IF(BC68=1,(BC77+BC82),0)","v":0},null,{"$f":"IF(BE68=1,(BE77+BE82),0)","v":0},null,{"$f":"IF(BG68=1,(BG77+BG82),0)","v":0},null,{"$f":"IF(BI68=1,(BI77+BI82),0)","v":0},null,{"$f":"IF(BK68=1,(BK77+BK82),0)","v":0},null,{"$f":"IF(BM68=1,(BM77+BM82),0)","v":0},null,{"$f":"IF(BO68=1,(BO77+BO82),0)","v":0},null,{"$f":"IF(BQ68=1,(BQ77+BQ82),0)","v":0},null,{"$f":"IF(BS68=1,(BS77+BS82),0)","v":0},null,{"$f":"IF(BU68=1,(BU77+BU82),0)","v":0},null,{"$f":"IF(BW68=1,(BW77+BW82),0)","v":0},null,{"$f":"IF(BY68=1,(BY77+BY82),0)","v":0},null,{"$f":"IF(CA68=1,(CA77+CA82),0)","v":0},null,{"$f":"IF(CC68=1,(CC77+CC82),0)","v":0}]
[10,0,{"$f":"IF(C11=\"10\",1,0)","v":0},null,{"$f":"IF(E11=\"10\",1,0)","v":0},null,0,null,0,null,0,null,0,null,0,null,0,null,0,null,0,null,0,null,0,null,0,null,0,null,0,null,0,null,0,null,0,null,0,null,0,null,0,null,0,null,0,null,0,null,0,null,0,null,0,null,0,null,0,null,0,null,0,null,0,null,0,null,{"$f":"IF(BQ11=\"10\",1,0)","v":0},null,0,null,0,null,0,null,0,null,0,null,0]
[null,0,{"$f":"IF(C70=1,(C77+C82),0)","v":0},null,{"$f":"IF(E70=1,(E77+E82),0)","v":0},null,{"$f":"IF(G70=1,(G77+G82),0)","v":0},null,{"$f":"IF(I70=1,(I77+I82),0)","v":0},null,{"$f":"IF(K70=1,(K77+K82),0)","v":0},null,{"$f":"IF(M70=1,(M77+M82),0)","v":0},null,{"$f":"IF(O70=1,(O77+O82),0)","v":0},null,{"$f":"IF(Q70=1,(Q77+Q82),0)","v":0},null,{"$f":"IF(S70=1,(S77+S82),0)","v":0},null,{"$f":"IF(U70=1,(U77+U82),0)","v":0},null,{"$f":"IF(W70=1,(W77+W82),0)","v":0},null,{"$f":"IF(Y70=1,(Y77+Y82),0)","v":0},null,{"$f":"IF(AA70=1,(AA77+AA82),0)","v":0},null,{"$f":"IF(AC70=1,(AC77+AC82),0)","v":0},null,{"$f":"IF(AE70=1,(AE77+AE82),0)","v":0},null,{"$f":"IF(AG70=1,(AG77+AG82),0)","v":0},null,{"$f":"IF(AI70=1,(AI77+AI82),0)","v":0},null,{"$f":"IF(AK70=1,(AK77+AK82),0)","v":0},null,{"$f":"IF(AM70=1,(AM77+AM82),0)","v":0},null,{"$f":"IF(AO70=1,(AO77+AO82),0)","v":0},null,{"$f":"IF(AQ70=1,(AQ77+AQ82),0)","v":0},null,{"$f":"IF(AS70=1,(AS77+AS82),0)","v":0},null,{"$f":"IF(AU70=1,(AU77+AU82),0)","v":0},null,{"$f":"IF(AW70=1,(AW77+AW82),0)","v":0},null,{"$f":"IF(AY70=1,(AY77+AY82),0)","v":0},null,{"$f":"IF(BA70=1,(BA77+BA82),0)","v":0},null,{"$f":"IF(BC70=1,(BC77+BC82),0)","v":0},null,{"$f":"IF(BE70=1,(BE77+BE82),0)","v":0},null,{"$f":"IF(BG70=1,(BG77+BG82),0)","v":0},null,{"$f":"IF(BI70=1,(BI77+BI82),0)","v":0},null,{"$f":"IF(BK70=1,(BK77+BK82),0)","v":0},null,{"$f":"IF(BM70=1,(BM77+BM82),0)","v":0},null,{"$f":"IF(BO70=1,(BO77+BO82),0)","v":0},null,{"$f":"IF(BQ70=1,(BQ77+BQ82),0)","v":0},null,{"$f":"IF(BS70=1,(BS77+BS82),0)","v":0},null,{"$f":"IF(BU70=1,(BU77+BU82),0)","v":0},null,{"$f":"IF(BW70=1,(BW77+BW82),0)","v":0},null,{"$f":"IF(BY70=1,(BY77+BY82),0)","v":0},null,{"$f":"IF(CA70=1,(CA77+CA82),0)","v":0},null,{"$f":"IF(CC70=1,(CC77+CC82),0)","v":0}]
[]
["Linge sale"]
["Evacuation",{"$f":"SUM(C74:CC74)","v":0},{"$f":"(2*C15)+C17+C21+C23","v":0},null,{"$f":"(2*E15)+E17+E21+E23","v":0},null,{"$f":"(2*G15)+G17+G21+G23","v":0},null,{"$f":"(2*I15)+I17+I21+I23","v":0},null,{"$f":"(2*K15)+K17+K21+K23","v":0},null,{"$f":"(2*M15)+M17+M21+M23","v":0},null,{"$f":"(2*O15)+O17+O21+O23","v":0},null,{"$f":"(2*Q15)+Q17+Q21+Q23","v":0},null,{"$f":"(2*S15)+S17+S21+S23","v":0},null,{"$f":"(2*U15)+U17+U21+U23","v":0},null,{"$f":"(2*W15)+W17+W21+W23","v":0},null,{"$f":"(2*Y15)+Y17+Y21+Y23","v":0},null,{"$f":"(2*AA15)+AA17+AA21+AA23","v":0},null,{"$f":"(2*AC15)+AC17+AC21+AC23","v":0},null,{"$f":"(2*AE15)+AE17+AE21+AE23","v":0},null,{"$f":"(2*AG15)+AG17+AG21+AG23","v":0},null,{"$f":"(2*AI15)+AI17+AI21+AI23","v":0},null,{"$f":"(2*AK15)+AK17+AK21+AK23","v":0},null,{"$f":"(2*AM15)+AM17+AM21+AM23","v":0},null,{"$f":"(2*AO15)+AO17+AO21+AO23","v":0},null,{"$f":"(2*AQ15)+AQ17+AQ21+AQ23","v":0},null,{"$f":"(2*AS15)+AS17+AS21+AS23","v":0},null,{"$f":"(2*AU15)+AU17+AU21+AU23","v":0},null,{"$f":"(2*AW15)+AW17+AW21+AW23","v":0},null,{"$f":"(2*AY15)+AY17+AY21+AY23","v":0},null,{"$f":"(2*BA15)+BA17+BA21+BA23","v":0},null,{"$f":"(2*BC15)+BC17+BC21+BC23","v":0},null,{"$f":"(2*BE15)+BE17+BE21+BE23","v":0},null,{"$f":"(2*BG15)+BG17+BG21+BG23","v":0},null,{"$f":"(2*BI15)+BI17+BI21+BI23","v":0},null,{"$f":"(2*BK15)+BK17+BK21+BK23","v":0},null,{"$f":"(2*BM15)+BM17+BM21+BM23","v":0},null,{"$f":"(2*BO15)+BO17+BO21+BO23","v":0},null,{"$f":"(2*BQ15)+BQ17+BQ21+BQ23","v":0},null,{"$f":"(2*BS15)+BS17+BS21+BS23","v":0},null,{"$f":"(2*BU15)+BU17+BU21+BU23","v":0},null,{"$f":"(2*BW15)+BW17+BW21+BW23","v":0},null,{"$f":"(2*BY15)+BY17+BY21+BY23","v":0},null,{"$f":"(2*CA15)+CA17+CA21+CA23","v":0},null,{"$f":"(2*CC15)+CC17+CC21+CC23","v":0}]
["Protection",{"$f":"SUM(C75:CC75)","v":0},{"$f":"C19+(2*C25)+(2*C27)+(2*C29)+(2*C35)","v":0},null,{"$f":"E19+(2*E25)+(2*E27)+(2*E29)+(2*E35)","v":0},null,{"$f":"G19+(2*G25)+(2*G27)+(2*G29)+(2*G35)","v":0},null,{"$f":"I19+(2*I25)+(2*I27)+(2*I29)+(2*I35)","v":0},null,{"$f":"K19+(2*K25)+(2*K27)+(2*K29)+(2*K35)","v":0},null,{"$f":"M19+(2*M25)+(2*M27)+(2*M29)+(2*M35)","v":0},null,{"$f":"O19+(2*O25)+(2*O27)+(2*O29)+(2*O35)","v":0},null,{"$f":"Q19+(2*Q25)+(2*Q27)+(2*Q29)+(2*Q35)","v":0},null,{"$f":"S19+(2*S25)+(2*S27)+(2*S29)+(2*S35)","v":0},null,{"$f":"U19+(2*U25)+(2*U27)+(2*U29)+(2*U35)","v":0},null,{"$f":"W19+(2*W25)+(2*W27)+(2*W29)+(2*W35)","v":0},null,{"$f":"Y19+(2*Y25)+(2*Y27)+(2*Y29)+(2*Y35)","v":0},null,{"$f":"AA19+(2*AA25)+(2*AA27)+(2*AA29)+(2*AA35)","v":0},null,{"$f":"AC19+(2*AC25)+(2*AC27)+(2*AC29)+(2*AC35)","v":0},null,{"$f":"AE19+(2*AE25)+(2*AE27)+(2*AE29)+(2*AE35)","v":0},null,{"$f":"AG19+(2*AG25)+(2*AG27)+(2*AG29)+(2*AG35)","v":0},null,{"$f":"AI19+(2*AI25)+(2*AI27)+(2*AI29)+(2*AI35)","v":0},null,{"$f":"AK19+(2*AK25)+(2*AK27)+(2*AK29)+(2*AK35)","v":0},null,{"$f":"AM19+(2*AM25)+(2*AM27)+(2*AM29)+(2*AM35)","v":0},null,{"$f":"AO19+(2*AO25)+(2*AO27)+(2*AO29)+(2*AO35)","v":0},null,{"$f":"AQ19+(2*AQ25)+(2*AQ27)+(2*AQ29)+(2*AQ35)","v":0},null,{"$f":"AS19+(2*AS25)+(2*AS27)+(2*AS29)+(2*AS35)","v":0},null,{"$f":"AU19+(2*AU25)+(2*AU27)+(2*AU29)+(2*AU35)","v":0},null,{"$f":"AW19+(2*AW25)+(2*AW27)+(2*AW29)+(2*AW35)","v":0},null,{"$f":"AY19+(2*AY25)+(2*AY27)+(2*AY29)+(2*AY35)","v":0},null,{"$f":"BA19+(2*BA25)+(2*BA27)+(2*BA29)+(2*BA35)","v":0},null,{"$f":"BC19+(2*BC25)+(2*BC27)+(2*BC29)+(2*BC35)","v":0},null,{"$f":"BE19+(2*BE25)+(2*BE27)+(2*BE29)+(2*BE35)","v":0},null,{"$f":"BG19+(2*BG25)+(2*BG27)+(2*BG29)+(2*BG35)","v":0},null,{"$f":"BI19+(2*BI25)+(2*BI27)+(2*BI29)+(2*BI35)","v":0},null,{"$f":"BK19+(2*BK25)+(2*BK27)+(2*BK29)+(2*BK35)","v":0},null,{"$f":"BM19+(2*BM25)+(2*BM27)+(2*BM29)+(2*BM35)","v":0},null,{"$f":"BO19+(2*BO25)+(2*BO27)+(2*BO29)+(2*BO35)","v":0},null,{"$f":"BQ19+(2*BQ25)+(2*BQ27)+(2*BQ29)+(2*BQ35)","v":0},null,{"$f":"BS19+(2*BS25)+(2*BS27)+(2*BS29)+(2*BS35)","v":0},null,{"$f":"BU19+(2*BU25)+(2*BU27)+(2*BU29)+(2*BU35)","v":0},null,{"$f":"BW19+(2*BW25)+(2*BW27)+(2*BW29)+(2*BW35)","v":0},null,{"$f":"BY19+(2*BY25)+(2*BY27)+(2*BY29)+(2*BY35)","v":0},null,{"$f":"CA19+(2*CA25)+(2*CA27)+(2*CA29)+(2*CA35)","v":0},null,{"$f":"CC19+(2*CC25)+(2*CC27)+(2*CC29)+(2*CC35)","v":0}]
["Transport",{"$f":"SUM(C76:CC76)","v":0},{"$f":"C31+C33","v":0},null,{"$f":"E31+E33","v":0},null,{"$f":"G31+G33","v":0},null,{"$f":"I31+I33","v":0},null,{"$f":"K31+K33","v":0},null,{"$f":"M31+M33","v":0},null,{"$f":"O31+O33","v":0},null,{"$f":"Q31+Q33","v":0},null,{"$f":"S31+S33","v":0},null,{"$f":"U31+U33","v":0},null,{"$f":"W31+W33","v":0},null,{"$f":"Y31+Y33","v":0},null,{"$f":"AA31+AA33","v":0},null,{"$f":"AC31+AC33","v":0},null,{"$f":"AE31+AE33","v":0},null,{"$f":"AG31+AG33","v":0},null,{"$f":"AI31+AI33","v":0},null,{"$f":"AK31+AK33","v":0},null,{"$f":"AM31+AM33","v":0},null,{"$f":"AO31+AO33","v":0},null,{"$f":"AQ31+AQ33","v":0},null,{"$f":"AS31+AS33","v":0},null,{"$f":"AU31+AU33","v":0},null,{"$f":"AW31+AW33","v":0},null,{"$f":"AY31+AY33","v":0},null,{"$f":"BA31+BA33","v":0},null,{"$f":"BC31+BC33","v":0},null,{"$f":"BE31+BE33","v":0},null,{"$f":"BG31+BG33","v":0},null,{"$f":"BI31+BI33","v":0},null,{"$f":"BK31+BK33","v":0},null,{"$f":"BM31+BM33","v":0},null,{"$f":"BO31+BO33","v":0},null,{"$f":"BQ31+BQ33","v":0},null,{"$f":"BS31+BS33","v":0},null,{"$f":"BU31+BU33","v":0},null,{"$f":"BW31+BW33","v":0},null,{"$f":"BY31+BY33","v":0},null,{"$f":"CA31+CA33","v":0},null,{"$f":"CC31+CC33","v":0}]
["Tot linge sale",{"$f":"SUM(C77:CC77)","v":0},{"$f":"SUM(C74:C76)","v":0},null,{"$f":"SUM(E74:E76)","v":0},null,{"$f":"SUM(G74:G76)","v":0},null,{"$f":"SUM(I74:I76)","v":0},null,{"$f":"SUM(K74:K76)","v":0},null,{"$f":"SUM(M74:M76)","v":0},null,{"$f":"SUM(O74:O76)","v":0},null,{"$f":"SUM(Q74:Q76)","v":0},null,{"$f":"SUM(S74:S76)","v":0},null,{"$f":"SUM(U74:U76)","v":0},null,{"$f":"SUM(W74:W76)","v":0},null,{"$f":"SUM(Y74:Y76)","v":0},null,{"$f":"SUM(AA74:AA76)","v":0},null,{"$f":"SUM(AC74:AC76)","v":0},null,{"$f":"SUM(AE74:AE76)","v":0},null,{"$f":"SUM(AG74:AG76)","v":0},null,{"$f":"SUM(AI74:AI76)","v":0},null,{"$f":"SUM(AK74:AK76)","v":0},null,{"$f":"SUM(AM74:AM76)","v":0},null,{"$f":"SUM(AO74:AO76)","v":0},null,{"$f":"SUM(AQ74:AQ76)","v":0},null,{"$f":"SUM(AS74:AS76)","v":0},null,{"$f":"SUM(AU74:AU76)","v":0},null,{"$f":"SUM(AW74:AW76)","v":0},null,{"$f":"SUM(AY74:AY76)","v":0},null,{"$f":"SUM(BA74:BA76)","v":0},null,{"$f":"SUM(BC74:BC76)","v":0},null,{"$f":"SUM(BE74:BE76)","v":0},null,{"$f":"SUM(BG74:BG76)","v":0},null,{"$f":"SUM(BI74:BI76)","v":0},null,{"$f":"SUM(BK74:BK76)","v":0},null,{"$f":"SUM(BM74:BM76)","v":0},null,{"$f":"SUM(BO74:BO76)","v":0},null,{"$f":"SUM(BQ74:BQ76)","v":0},null,{"$f":"SUM(BS74:BS76)","v":0},null,{"$f":"SUM(BU74:BU76)","v":0},null,{"$f":"SUM(BW74:BW76)","v":0},null,{"$f":"SUM(BY74:BY76)","v":0},null,{"$f":"SUM(CA74:CA76)","v":0},null,{"$f":"SUM(CC74:CC76)","v":0}]
[]
["Linge propre"]
["Hygiène",{"$f":"SUM(C80:CC80)","v":0},{"$f":"(2*C39)","v":0},null,{"$f":"(2*E39)","v":0},null,{"$f":"(2*G39)","v":0},null,{"$f":"(2*I39)","v":0},null,{"$f":"(2*K39)","v":0},null,{"$f":"(2*M39)","v":0},null,{"$f":"(2*O39)","v":0},null,{"$f":"(2*Q39)","v":0},null,{"$f":"(2*S39)","v":0},null,{"$f":"(2*U39)","v":0},null,{"$f":"(2*W39)","v":0},null,{"$f":"(2*Y39)","v":0},null,{"$f":"(2*AA39)","v":0},null,{"$f":"(2*AC39)","v":0},null,{"$f":"(2*AE39)","v":0},null,{"$f":"(2*AG39)","v":0},null,{"$f":"(2*AI39)","v":0},null,{"$f":"(2*AK39)","v":0},null,{"$f":"(2*AM39)","v":0},null,{"$f":"(2*AO39)","v":0},null,{"$f":"(2*AQ39)","v":0},null,{"$f":"(2*AS39)","v":0},null,{"$f":"(2*AU39)","v":0},null,{"$f":"(2*AW39)","v":0},null,{"$f":"(2*AY39)","v":0},null,{"$f":"(2*BA39)","v":0},null,{"$f":"(2*BC39)","v":0},null,{"$f":"(2*BE39)","v":0},null,{"$f":"(2*BG39)","v":0},null,{"$f":"(2*BI39)","v":0},null,{"$f":"(2*BK39)","v":0},null,{"$f":"(2*BM39)","v":0},null,{"$f":"(2*BO39)","v":0},null,{"$f":"(2*BQ39)","v":0},null,{"$f":"(2*BS39)","v":0},null,{"$f":"(2*BU39)","v":0},null,{"$f":"(2*BW39)","v":0},null,{"$f":"(2*BY39)","v":0},null,{"$f":"(2*CA39)","v":0},null,{"$f":"(2*CC39)","v":0}]
["Utilisation",{"$f":"SUM(C81:CC81)","v":0},{"$f":"C41+C43","v":0},null,{"$f":"E41+E43","v":0},null,{"$f":"G41+G43","v":0},null,{"$f":"I41+I43","v":0},null,{"$f":"K41+K43","v":0},null,{"$f":"M41+M43","v":0},null,{"$f":"O41+O43","v":0},null,{"$f":"Q41+Q43","v":0},null,{"$f":"S41+S43","v":0},null,{"$f":"U41+U43","v":0},null,{"$f":"W41+W43","v":0},null,{"$f":"Y41+Y43","v":0},null,{"$f":"AA41+AA43","v":0},null,{"$f":"AC41+AC43","v":0},null,{"$f":"AE41+AE43","v":0},null,{"$f":"AG41+AG43","v":0},null,{"$f":"AI41+AI43","v":0},null,{"$f":"AK41+AK43","v":0},null,{"$f":"AM41+AM43","v":0},null,{"$f":"AO41+AO43","v":0},null,{"$f":"AQ41+AQ43","v":0},null,{"$f":"AS41+AS43","v":0},null,{"$f":"AU41+AU43","v":0},null,{"$f":"AW41+AW43","v":0},null,{"$f":"AY41+AY43","v":0},null,{"$f":"BA41+BA43","v":0},null,{"$f":"BC41+BC43","v":0},null,{"$f":"BE41+BE43","v":0},null,{"$f":"BG41+BG43","v":0},null,{"$f":"BI41+BI43","v":0},null,{"$f":"BK41+BK43","v":0},null,{"$f":"BM41+BM43","v":0},null,{"$f":"BO41+BO43","v":0},null,{"$f":"BQ41+BQ43","v":0},null,{"$f":"BS41+BS43","v":0},null,{"$f":"BU41+BU43","v":0},null,{"$f":"BW41+BW43","v":0},null,{"$f":"BY41+BY43","v":0},null,{"$f":"CA41+CA43","v":0},null,{"$f":"CC41+CC43","v":0}]
["Tot linge prop",{"$f":"SUM(C82:CC82)","v":0},{"$f":"SUM(C80:C81)","v":0},null,{"$f":"SUM(E80:E81)","v":0},null,{"$f":"SUM(G80:G81)","v":0},null,{"$f":"SUM(I80:I81)","v":0},null,{"$f":"SUM(K80:K81)","v":0},null,{"$f":"SUM(M80:M81)","v":0},null,{"$f":"SUM(O80:O81)","v":0},null,{"$f":"SUM(Q80:Q81)","v":0},null,{"$f":"SUM(S80:S81)","v":0},null,{"$f":"SUM(U80:U81)","v":0},null,{"$f":"SUM(W80:W81)","v":0},null,{"$f":"SUM(Y80:Y81)","v":0},null,{"$f":"SUM(AA80:AA81)","v":0},null,{"$f":"SUM(AC80:AC81)","v":0},null,{"$f":"SUM(AE80:AE81)","v":0},null,{"$f":"SUM(AG80:AG81)","v":0},null,{"$f":"SUM(AI80:AI81)","v":0},null,{"$f":"SUM(AK80:AK81)","v":0},null,{"$f":"SUM(AM80:AM81)","v":0},null,{"$f":"SUM(AO80:AO81)","v":0},null,{"$f":"SUM(AQ80:AQ81)","v":0},null,{"$f":"SUM(AS80:AS81)","v":0},null,{"$f":"SUM(AU80:AU81)","v":0},null,{"$f":"SUM(AW80:AW81)","v":0},null,{"$f":"SUM(AY80:AY81)","v":0},null,{"$f":"SUM(BA80:BA81)","v":0},null,{"$f":"SUM(BC80:BC81)","v":0},null,{"$f":"SUM(BE80:BE81)","v":0},null,{"$f":"SUM(BG80:BG81)","v":0},null,{"$f":"SUM(BI80:BI81)","v":0},null,{"$f":"SUM(BK80:BK81)","v":0},null,{"$f":"SUM(BM80:BM81)","v":0},null,{"$f":"SUM(BO80:BO81)","v":0},null,{"$f":"SUM(BQ80:BQ81)","v":0},null,{"$f":"SUM(BS80:BS81)","v":0},null,{"$f":"SUM(BU80:BU81)","v":0},null,{"$f":"SUM(BW80:BW81)","v":0},null,{"$f":"SUM(BY80:BY81)","v":0},null,{"$f":"SUM(CA80:CA81)","v":0},null,{"$f":"SUM(CC80:CC81)","v":0}]

{"sheet":"Poster_Service#4","index":18,"n_rows":46,"n_cols":16,"rows_kept":46,"cut":false,"hidden":true,"merged":[[19,5,19,6],[18,5,18,6],[0,1,0,13],[5,0,5,6],[11,0,11,6],[12,0,12,6],[1,12,1,13],[23,5,23,6],[24,5,24,6],[28,0,33,13],[15,5,15,6],[15,2,15,4],[16,5,16,6],[22,5,22,6],[21,5,21,6],[21,2,21,4],[17,5,17,6]]}
[null,"Audit de la fonction linge en établissement de santé et en EHPAD",null,null,null,null,null,null,null,null,null,null,null,null,"   Pour imprimer le poster:"]
[null,null,null,null,null,null,null,null,"ETABLISSEMENT :",{"$f":"IF(NOM=\"\",\"à préciser\",NOM)","v":"à préciser"},null,null,"Date de réalisation",null,"   Menu \"Fichier\" puis \"Imprimer\""]
[null,null,null,null,null,null,null,null,"SERVICE : ",{"$f":"IF(SERVICE4=\"\",\"à préciser\",SERVICE4)","v":"à préciser"},null,null,"de : ",{"$f":"IF(SERVICE4=\"\",\"à préciser\",(MIN(Fiches_Services!I9,'Fiches_Utilisateurs_Service#4'!C7:CC7)))","v":"à préciser"}]
[null,null,null,null,null,null,null,null,null,null,null,null,"au : ",{"$f":"IF(SERVICE4=\"\",\"à préciser\",(MAX(Fiches_Services!I9,'Fiches_Utilisateurs_Service#4'!C7:CC7)))","v":"à préciser"},"Vous ne pourrez imprimer le poster que"]
["Méthodologie",null,null,null,null,null,null,null,"Score \"utilisateur\" du service par catégories professionnelles",null,null,null,null,null,"si vous avez saisi vos axes d'amélioration"]
["Le recueil des données a été réalisé au niveau:",null,null,null,null,null,null,null,null,null,null,null,null,null,"et commentaires dans l'encadré jaune."]
["       Du service : ",null,null,null,null,null,"le recensement des locaux, du matériel et des procédures   "]
[null,null,null,null,null,null,"disponibles dans les services en lien avec la fonction linge.  "]
["De l'utilisateur : ",null,null,null,null,null,"l'observation des pratiques afin de vérifier l'adéquation avec"]
[null,null,null,null,null,null,"avec les recommandations de bonnes pratiques.                   "]
["Résultats"]
["Les pourcentages d'objectifs atteints sont présentés pour le service."]
[" Les résultats détaillés figurent dans le rapport d'analyse finale."]
[null,null,"Services évalués de l'établissement n =",{"$f":"(\" \"&SERVICES&\" services\")","v":" 0 services"}]
[]
["► Score \"service\"",null,"Service",null,null,"Etablissement"]
["Gestion du linge sale",null,{"$f":"IF(Rapport!F445=\"non saisi\",\"-\",Rapport!F445)","v":"-"},16,{"$f":"Rapport!H445","v":"non saisi"},{"$f":"IF(Rapport!H158=\"non saisi\",\"-\",Rapport!H158)","v":"-"}]
["Gestion du linge propre",null,{"$f":"IF(Rapport!F446=\"non saisi\",\"-\",Rapport!F446)","v":"-"},12,{"$f":"Rapport!H446","v":"non saisi"},{"$f":"IF(Rapport!H159=\"non saisi\",\"-\",Rapport!H159)","v":"-"}]
["Bionettoyage et traçabilité ",null,{"$f":"IF(Rapport!F447=\"non saisi\",\"-\",Rapport!F447)","v":"-"},12,{"$f":"Rapport!H447","v":"non saisi"},{"$f":"IF(Rapport!H160=\"non saisi\",\"-\",Rapport!H160)","v":"-"}]
["Score total",null,{"$f":"IF(Rapport!F448=\"non saisi\",\"-\",Rapport!F448)","v":"-"},40,{"$f":"Rapport!H448","v":"non saisi"},{"$f":"IF(Rapport!H161=\"non saisi\",\"-\",Rapport!H161)","v":"-"}]
[]
["► Score \"utilisateur\"",null,"Service",null,null,"Etablissement"]
["Evacuation du linge sale",null,{"$f":"IF(Rapport!F499=\"non saisi\",\"-\",Rapport!F499)","v":"-"},16,{"$f":"IF(Rapport!H499=\"non saisi\",\"-\",Rapport!H499)","v":"-"},{"$f":"IF(Rapport!H200=\"non saisi\",\"-\",Rapport!H200)","v":"-"}]
["Utilisation du linge propre",null,{"$f":"IF(Rapport!F500=\"non saisi\",\"-\",Rapport!F500)","v":"-"},4,{"$f":"IF(Rapport!H500=\"non saisi\",\"-\",Rapport!H500)","v":"-"},{"$f":"IF(Rapport!H201=\"non saisi\",\"-\",Rapport!H201)","v":"-"}]
["Score total",null,{"$f":"IF(Rapport!F501=\"non saisi\",\"-\",Rapport!F501)","v":"-"},20,{"$f":"IF(Rapport!H501=\"non saisi\",\"-\",Rapport!H501)","v":"-"},{"$f":"IF(Rapport!H202=\"non saisi\",\"-\",Rapport!H202)","v":"-"}]
[]
["Axes d'amélioration et commentaires"]
[]
[null,null,null,null,null,null,null,null,null,null,null,null,null,null,"◄ avant d'imprimer, veuillez"]
[null,null,null,null,null,null,null,null,null,null,null,null,null,null,"tapez vos axes d'amélioration"]
[null,null,null,null,null,null,null,null,null,null,null,null,null,null,"et commentaires dans le cadre"]
[null,null,null,null,null,null,null,null,null,null,null,null,null,null,"ci-contre."]
[]
[]
[]
[null,null,null,null,null,null,null,null,"La mise en œuvre d'actions d'amélioration avant une nouvelle évaluation contribue au processus d'amélioration de la qualité des soins"]
[null,null,null,null,null,null,null,null,null,null,null,null,null,null,"Autre",{"$f":"Rapport!H539","v":"non saisi"}]
[null,null,null,null,null,null,null,null,null,null,null,null,null,null,"Etudiant",{"$f":"Rapport!H538","v":"non saisi"}]
["L'établissement est en retard et doit assurer les meilleures conditions d’hygiène et de protection des patients et des personnels vis-à-vis du risque infectieux. ",null,null,null,null,null,null,null,null,null,null,null,null,null,"Brancardier",{"$f":"Rapport!H537","v":"non saisi"}]
[null,null,null,null,null,null,null,null,null,null,null,null,null,null,"Ambulancier",{"$f":"Rapport!H536","v":"non saisi"}]
["l'établissement a mis en place une politique qualité des activités et des prestations relatives aux articles de linge, il doit poursuivre ses actions",null,null,null,null,null,null,null,null,null,null,null,null,null,"Agent hospitalier",{"$f":"Rapport!H535","v":"non saisi"}]
["L'établissement est fortement engagé dans la qualité des activités relatives aux articles de linge, il doit poursuivre ses actions",null,null,null,null,null,null,null,null,null,null,null,null,null,"Aide-soignante/aux. puériculture",{"$f":"Rapport!H534","v":"non saisi"}]
[null,null,null,null,null,null,null,null,null,null,null,null,null,null,"Manipulateur radio",{"$f":"Rapport!H533","v":"non saisi"}]
[null,null,null,null,null,null,null,null,null,null,null,null,null,null,"Kinésithérapeute",{"$f":"Rapport!H532","v":"non saisi"}]
[null,null,null,null,null,null,null,null,null,null,null,null,null,null,"Sage-femme",{"$f":"Rapport!H531","v":"non saisi"}]
[null,null,null,null,null,null,null,null,null,null,null,null,null,null,"Infirmière et IDE spécialisée",{"$f":"Rapport!H530","v":"non saisi"}]

{"sheet":"Fiches_Utilisateurs_Service#5","index":19,"n_rows":47,"n_cols":82,"rows_kept":47,"cut":false,"hidden":false,"merged":[[0,0,0,2],[1,0,1,2]]}
["FICHE N° 2"]
["UTILISATEURS SERVICE #5"]
[null,null,"Utilisateur #1",null,"Utilisateur #2",null,"Utilisateur #3",null,"Utilisateur #4",null,"Utilisateur #5",null,"Utilisateur #6",null,"Utilisateur #7",null,"Utilisateur #8",null,"Utilisateur #9",null,"Utilisateur #10",null,"Utilisateur #11",null,"Utilisateur #12",null,"Utilisateur #13",null,"Utilisateur #14",null,"Utilisateur #15",null,"Utilisateur #16",null,"Utilisateur #17",null,"Utilisateur #18",null,"Utilisateur #19",null,"Utilisateur #20",null,"Utilisateur #21",null,"Utilisateur #22",null,"Utilisateur #23",null,"Utilisateur #24",null,"Utilisateur #25",null,"Utilisateur #26",null,"Utilisateur #27",null,"Utilisateur #28",null,"Utilisateur #29",null,"Utilisateur #30",null,"Utilisateur #31",null,"Utilisateur #32",null,"Utilisateur #33",null,"Utilisateur #34",null,"Utilisateur #35",null,"Utilisateur #36",null,"Utilisateur #37",null,"Utilisateur #38",null,"Utilisateur #39",null,"Utilisateur #40"]
[]
[null,"VERIFICATION DONNEES NON SAISIES/N° DE SAISIE DE FICHE",{"$f":"C45","v":"non saisies"},null,{"$f":"E45","v":"non saisies"},null,{"$f":"G45","v":"non saisies"},null,{"$f":"I45","v":"non saisies"},null,{"$f":"K45","v":"non saisies"},null,{"$f":"M45","v":"non saisies"},null,{"$f":"O45","v":"non saisies"},null,{"$f":"Q45","v":"non saisies"},null,{"$f":"S45","v":"non saisies"},null,{"$f":"U45","v":"non saisies"},null,{"$f":"W45","v":"non saisies"},null,{"$f":"Y45","v":"non saisies"},null,{"$f":"AA45","v":"non saisies"},null,{"$f":"AC45","v":"non saisies"},null,{"$f":"AE45","v":"non saisies"},null,{"$f":"AG45","v":"non saisies"},null,{"$f":"AI45","v":"non saisies"},null,{"$f":"AK45","v":"non saisies"},null,{"$f":"AM45","v":"non saisies"},null,{"$f":"AO45","v":"non saisies"},null,{"$f":"AQ45","v":"non saisies"},null,{"$f":"AS45","v":"non saisies"},null,{"$f":"AU45","v":"non saisies"},null,{"$f":"AW45","v":"non saisies"},null,{"$f":"AY45","v":"non saisies"},null,{"$f":"BA45","v":"non saisies"},null,{"$f":"BC45","v":"non saisies"},null,{"$f":"BE45","v":"non saisies"},null,{"$f":"BG45","v":"non saisies"},null,{"$f":"BI45","v":"non saisies"},null,{"$f":"BK45","v":"non saisies"},null,{"$f":"BM45","v":"non saisies"},null,{"$f":"BO45","v":"non saisies"},null,{"$f":"BQ45","v":"non saisies"},null,{"$f":"BS45","v":"non saisies"},null,{"$f":"BU45","v":"non saisies"},null,{"$f":"BW45","v":"non saisies"},null,{"$f":"BY45","v":"non saisies"},null,{"$f":"CA45","v":"non saisies"},null,{"$f":"CC45","v":"non saisies"}]
[]
[null,"Date"]
[]
[null,"Nom du service",{"$f":"IF(SERVICE5=\"\",\"non saisi\",SERVICE5)","v":"non saisi"},null,{"$f":"IF(SERVICE5=\"\",\"non saisi\",SERVICE5)","v":"non saisi"},null,{"$f":"IF(SERVICE5=\"\",\"non saisi\",SERVICE5)","v":"non saisi"},null,{"$f":"IF(SERVICE5=\"\",\"non saisi\",SERVICE5)","v":"non saisi"},null,{"$f":"IF(SERVICE5=\"\",\"non saisi\",SERVICE5)","v":"non saisi"},null,{"$f":"IF(SERVICE5=\"\",\"non saisi\",SERVICE5)","v":"non saisi"},null,{"$f":"IF(SERVICE5=\"\",\"non saisi\",SERVICE5)","v":"non saisi"},null,{"$f":"IF(SERVICE5=\"\",\"non saisi\",SERVICE5)","v":"non saisi"},null,{"$f":"IF(SERVICE5=\"\",\"non saisi\",SERVICE5)","v":"non saisi"},null,{"$f":"IF(SERVICE5=\"\",\"non saisi\",SERVICE5)","v":"non saisi"},null,{"$f":"IF(SERVICE5=\"\",\"non saisi\",SERVICE5)","v":"non saisi"},null,{"$f":"IF(SERVICE5=\"\",\"non saisi\",SERVICE5)","v":"non saisi"},null,{"$f":"IF(SERVICE5=\"\",\"non saisi\",SERVICE5)","v":"non saisi"},null,{"$f":"IF(SERVICE5=\"\",\"non saisi\",SERVICE5)","v":"non saisi"},null,{"$f":"IF(SERVICE5=\"\",\"non saisi\",SERVICE5)","v":"non saisi"},null,{"$f":"IF(SERVICE5=\"\",\"non saisi\",SERVICE5)","v":"non saisi"},null,{"$f":"IF(SERVICE5=\"\",\"non saisi\",SERVICE5)","v":"non saisi"},null,{"$f":"IF(SERVICE5=\"\",\"non saisi\",SERVICE5)","v":"non saisi"},null,{"$f":"IF(SERVICE5=\"\",\"non saisi\",SERVICE5)","v":"non saisi"},null,{"$f":"IF(SERVICE5=\"\",\"non saisi\",SERVICE5)","v":"non saisi"},null,{"$f":"IF(SERVICE5=\"\",\"non saisi\",SERVICE5)","v":"non saisi"},null,{"$f":"IF(SERVICE5=\"\",\"non saisi\",SERVICE5)","v":"non saisi"},null,{"$f":"IF(SERVICE5=\"\",\"non saisi\",SERVICE5)","v":"non saisi"},null,{"$f":"IF(SERVICE5=\"\",\"non saisi\",SERVICE5)","v":"non saisi"},null,{"$f":"IF(SERVICE5=\"\",\"non saisi\",SERVICE5)","v":"non saisi"},null,{"$f":"IF(SERVICE5=\"\",\"non saisi\",SERVICE5)","v":"non saisi"},null,{"$f":"IF(SERVICE5=\"\",\"non saisi\",SERVICE5)","v":"non saisi"},null,{"$f":"IF(SERVICE5=\"\",\"non saisi\",SERVICE5)","v":"non saisi"},null,{"$f":"IF(SERVICE5=\"\",\"non saisi\",SERVICE5)","v":"non saisi"},null,{"$f":"IF(SERVICE5=\"\",\"non saisi\",SERVICE5)","v":"non saisi"},null,{"$f":"IF(SERVICE5=\"\",\"non saisi\",SERVICE5)","v":"non saisi"},null,{"$f":"IF(SERVICE5=\"\",\"non saisi\",SERVICE5)","v":"non saisi"},null,{"$f":"IF(SERVICE5=\"\",\"non saisi\",SERVICE5)","v":"non saisi"},null,{"$f":"IF(SERVICE5=\"\",\"non saisi\",SERVICE5)","v":"non saisi"},null,{"$f":"IF(SERVICE5=\"\",\"non saisi\",SERVICE5)","v":"non saisi"},null,{"$f":"IF(SERVICE5=\"\",\"non saisi\",SERVICE5)","v":"non saisi"},null,{"$f":"IF(SERVICE5=\"\",\"non saisi\",SERVICE5)","v":"non saisi"},null,{"$f":"IF(SERVICE5=\"\",\"non saisi\",SERVICE5)","v":"non saisi"},null,{"$f":"IF(SERVICE5=\"\",\"non saisi\",SERVICE5)","v":"non saisi"},null,{"$f":"IF(SERVICE5=\"\",\"non saisi\",SERVICE5)","v":"non saisi"}]
[]
[null,"Fonction du personnel",null,null,null,null,null,null,null,null,null,null,null,null,null,null,null,null,null,null,null,null,null,null,null,null,null,null,null,null,null,null,null,null,null,null,null,null,null,null,null,null,null,null,null,null,null,null,null,null,null,null,null,null,null,null,null,null,null,null,null,null,null,null,null,null,null,null,null,null,null,null,null,null,null,null,null,null,null,null,null,"1 Infirmière et IDE spécialisée"]
[null,null,null,null,null,null,null,null,null,null,null,null,null,null,null,null,null,null,null,null,null,null,null,null,null,null,null,null,null,null,null,null,null,null,null,null,null,null,null,null,null,null,null,null,null,null,null,null,null,null,null,null,null,null,null,null,null,null,null,null,null,null,null,null,null,null,null,null,null,null,null,null,null,null,null,null,null,null,null,null,null,"2 Sage Femme"]
["Linge sale",null,"1 Oui - 2 Non",null,"1 Oui - 2 Non",null,"1 Oui - 2 Non",null,"1 Oui - 2 Non",null,"1 Oui - 2 Non",null,"1 Oui - 2 Non",null,"1 Oui - 2 Non",null,"1 Oui - 2 Non",null,"1 Oui - 2 Non",null,"1 Oui - 2 Non",null,"1 Oui - 2 Non",null,"1 Oui - 2 Non",null,"1 Oui - 2 Non",null,"1 Oui - 2 Non",null,"1 Oui - 2 Non",null,"1 Oui - 2 Non",null,"1 Oui - 2 Non",null,"1 Oui - 2 Non",null,"1 Oui - 2 Non",null,"1 Oui - 2 Non",null,"1 Oui - 2 Non",null,"1 Oui - 2 Non",null,"1 Oui - 2 Non",null,"1 Oui - 2 Non",null,"1 Oui - 2 Non",null,"1 Oui - 2 Non",null,"1 Oui - 2 Non",null,"1 Oui - 2 Non",null,"1 Oui - 2 Non",null,"1 Oui - 2 Non",null,"1 Oui - 2 Non",null,"1 Oui - 2 Non",null,"1 Oui - 2 Non",null,"1 Oui - 2 Non",null,"1 Oui - 2 Non",null,"1 Oui - 2 Non",null,"1 Oui - 2 Non",null,"1 Oui - 2 Non",null,"1 Oui - 2 Non",null,"1 Oui - 2 Non","3 Kinésithérapeute"]
[null,null,null,null,null,null,null,null,null,null,null,null,null,null,null,null,null,null,null,null,null,null,null,null,null,null,null,null,null,null,null,null,null,null,null,null,null,null,null,null,null,null,null,null,null,null,null,null,null,null,null,null,null,null,null,null,null,null,null,null,null,null,null,null,null,null,null,null,null,null,null,null,null,null,null,null,null,null,null,null,null,"4 Manipulateur Radio"]
[1,"Le linge sale est évacué à la fin du soin, sans dépose sur le sol",null,null,null,null,null,null,null,null,null,null,null,null,null,null,null,null,null,null,null,null,null,null,null,null,null,null,null,null,null,null,null,null,null,null,null,null,null,null,null,null,null,null,null,null,null,null,null,null,null,null,null,null,null,null,null,null,null,null,null,null,null,null,null,null,null,null,null,null,null,null,null,null,null,null,null,null,null,null,null,"5 Aide soignante/aux. de puériculture"]
[null,null,null,null,null,null,null,null,null,null,null,null,null,null,null,null,null,null,null,null,null,null,null,null,null,null,null,null,null,null,null,null,null,null,null,null,null,null,null,null,null,null,null,null,null,null,null,null,null,null,null,null,null,null,null,null,null,null,null,null,null,null,null,null,null,null,null,null,null,null,null,null,null,null,null,null,null,null,null,null,null,"6 Agent Hospitalier"]
[2,"Le professionnel vérifie l’absence d’objet étranger",null,null,null,null,null,null,null,null,null,null,null,null,null,null,null,null,null,null,null,null,null,null,null,null,null,null,null,null,null,null,null,null,null,null,null,null,null,null,null,null,null,null,null,null,null,null,null,null,null,null,null,null,null,null,null,null,null,null,null,null,null,null,null,null,null,null,null,null,null,null,null,null,null,null,null,null,null,null,null,"7 Ambulancier"]
[null,null,null,null,null,null,null,null,null,null,null,null,null,null,null,null,null,null,null,null,null,null,null,null,null,null,null,null,null,null,null,null,null,null,null,null,null,null,null,null,null,null,null,null,null,null,null,null,null,null,null,null,null,null,null,null,null,null,null,null,null,null,null,null,null,null,null,null,null,null,null,null,null,null,null,null,null,null,null,null,null,"8 Brancardier"]
[3,"Le professionnel porte des gants lors de la manipulation de linge souillé par des liquides biologiques",null,null,null,null,null,null,null,null,null,null,null,null,null,null,null,null,null,null,null,null,null,null,null,null,null,null,null,null,null,null,null,null,null,null,null,null,null,null,null,null,null,null,null,null,null,null,null,null,null,null,null,null,null,null,null,null,null,null,null,null,null,null,null,null,null,null,null,null,null,null,null,null,null,null,null,null,null,null,null,"9 Etudiant"]
[null,null,null,null,null,null,null,null,null,null,null,null,null,null,null,null,null,null,null,null,null,null,null,null,null,null,null,null,null,null,null,null,null,null,null,null,null,null,null,null,null,null,null,null,null,null,null,null,null,null,null,null,null,null,null,null,null,null,null,null,null,null,null,null,null,null,null,null,null,null,null,null,null,null,null,null,null,null,null,null,null,"10 Autre"]
[4,"Le professionnel manipule le linge sale avec des gestes mesurés pour limiter la contamination de l'environnement",null,null,null,null,null,null,null,null,null,null,null,null,null,null,null,null,null,null,null,null,null,null,null,null,null,null,null,null,null,null,null,null,null,null,null,null,null,null,null,null,null,null,null,null,null,null,null,null,null,null,null,null,null,null,null,null,null,null,null,null,null,null,null,null,null,null,null,null,null,null,null,null,null,null,null,null,null,null,null,1]
[null,null,null,null,null,null,null,null,null,null,null,null,null,null,null,null,null,null,null,null,null,null,null,null,null,null,null,null,null,null,null,null,null,null,null,null,null,null,null,null,null,null,null,null,null,null,null,null,null,null,null,null,null,null,null,null,null,null,null,null,null,null,null,null,null,null,null,null,null,null,null,null,null,null,null,null,null,null,null,null,null,2]
[5,"Les articles sont répartis selon la procédure de tri de l'établissement",null,null,null,null,null,null,null,null,null,null,null,null,null,null,null,null,null,null,null,null,null,null,null,null,null,null,null,null,null,null,null,null,null,null,null,null,null,null,null,null,null,null,null,null,null,null,null,null,null,null,null,null,null,null,null,null,null,null,null,null,null,null,null,null,null,null,null,null,null,null,null,null,null,null,null,null,null,null,null,3]
[null,null,null,null,null,null,null,null,null,null,null,null,null,null,null,null,null,null,null,null,null,null,null,null,null,null,null,null,null,null,null,null,null,null,null,null,null,null,null,null,null,null,null,null,null,null,null,null,null,null,null,null,null,null,null,null,null,null,null,null,null,null,null,null,null,null,null,null,null,null,null,null,null,null,null,null,null,null,null,null,null,4]
[6,"Le linge est tenu à distance de la tenue professionnelle",null,null,null,null,null,null,null,null,null,null,null,null,null,null,null,null,null,null,null,null,null,null,null,null,null,null,null,null,null,null,null,null,null,null,null,null,null,null,null,null,null,null,null,null,null,null,null,null,null,null,null,null,null,null,null,null,null,null,null,null,null,null,null,null,null,null,null,null,null,null,null,null,null,null,null,null,null,null,null,5]
[null,null,null,null,null,null,null,null,null,null,null,null,null,null,null,null,null,null,null,null,null,null,null,null,null,null,null,null,null,null,null,null,null,null,null,null,null,null,null,null,null,null,null,null,null,null,null,null,null,null,null,null,null,null,null,null,null,null,null,null,null,null,null,null,null,null,null,null,null,null,null,null,null,null,null,null,null,null,null,null,null,6]
[7,"Le système d'ouverture du chariot des sacs collecteurs de linge sale est manipulé sans les mains",null,null,null,null,null,null,null,null,null,null,null,null,null,null,null,null,null,null,null,null,null,null,null,null,null,null,null,null,null,null,null,null,null,null,null,null,null,null,null,null,null,null,null,null,null,null,null,null,null,null,null,null,null,null,null,null,null,null,null,null,null,null,null,null,null,null,null,null,null,null,null,null,null,null,null,null,null,null,null,7]
[null,null,null,null,null,null,null,null,null,null,null,null,null,null,null,null,null,null,null,null,null,null,null,null,null,null,null,null,null,null,null,null,null,null,null,null,null,null,null,null,null,null,null,null,null,null,null,null,null,null,null,null,null,null,null,null,null,null,null,null,null,null,null,null,null,null,null,null,null,null,null,null,null,null,null,null,null,null,null,null,null,8]
[8,"Le professionnel réalise une hygiène des mains après avoir manipulé le linge sale",null,null,null,null,null,null,null,null,null,null,null,null,null,null,null,null,null,null,null,null,null,null,null,null,null,null,null,null,null,null,null,null,null,null,null,null,null,null,null,null,null,null,null,null,null,null,null,null,null,null,null,null,null,null,null,null,null,null,null,null,null,null,null,null,null,null,null,null,null,null,null,null,null,null,null,null,null,null,null,9]
[null,null,null,null,null,null,null,null,null,null,null,null,null,null,null,null,null,null,null,null,null,null,null,null,null,null,null,null,null,null,null,null,null,null,null,null,null,null,null,null,null,null,null,null,null,null,null,null,null,null,null,null,null,null,null,null,null,null,null,null,null,null,null,null,null,null,null,null,null,null,null,null,null,null,null,null,null,null,null,null,null,10]
[9,"Dès la fin de l'activité, les sacs de linge sale sont évacués vers un local de stockage réservé"]
[null,"Si Non Observé (NO) coder 3"]
[10,"Les sacs de linge sale sont transportés sans être traînés par terre lors de transport"]
[null,"Si Non Observé (NO) coder 3"]
[11,"Le professionnel réalise une hygiène des mains après avoir manipulé les sacs de linge"]
[null,"Si Non Observé (NO) coder 3"]
["Linge propre",null,"1 Oui - 2 Non",null,"1 Oui - 2 Non",null,"1 Oui - 2 Non",null,"1 Oui - 2 Non",null,"1 Oui - 2 Non",null,"1 Oui - 2 Non",null,"1 Oui - 2 Non",null,"1 Oui - 2 Non",null,"1 Oui - 2 Non",null,"1 Oui - 2 Non",null,"1 Oui - 2 Non",null,"1 Oui - 2 Non",null,"1 Oui - 2 Non",null,"1 Oui - 2 Non",null,"1 Oui - 2 Non",null,"1 Oui - 2 Non",null,"1 Oui - 2 Non",null,"1 Oui - 2 Non",null,"1 Oui - 2 Non",null,"1 Oui - 2 Non",null,"1 Oui - 2 Non",null,"1 Oui - 2 Non",null,"1 Oui - 2 Non",null,"1 Oui - 2 Non",null,"1 Oui - 2 Non",null,"1 Oui - 2 Non",null,"1 Oui - 2 Non",null,"1 Oui - 2 Non",null,"1 Oui - 2 Non",null,"1 Oui - 2 Non",null,"1 Oui - 2 Non",null,"1 Oui - 2 Non",null,"1 Oui - 2 Non",null,"1 Oui - 2 Non",null,"1 Oui - 2 Non",null,"1 Oui - 2 Non",null,"1 Oui - 2 Non",null,"1 Oui - 2 Non",null,"1 Oui - 2 Non",null,"1 Oui - 2 Non"]
[]
[12,"Le professionnel réalise une hygiène des mains avant de manipuler le linge propre "]
[]
[13,"Le linge est déconditionné au fur et à mesure des besoins"]
[]
[14,"Le linge entré dans la chambre et non utilisé est évacué (considéré comme sale)"]
[]
[null,"VERIFICATION DONNEES NON SAISIES/N° DE SAISIE DE FICHE",{"$f":"IF(OR(C7=\"\",C9=\"non saisi\",C11=\"\",C15=\"\",C17=\"\",C19=\"\",C21=\"\",C23=\"\",C25=\"\",C27=\"\",C29=\"\",C31=\"\",C33=\"\",C35=\"\",C39=\"\",C41=\"\",C43=\"\"),\"non saisies\",(SERVICES+_OBS1+_OBS2+_OBS3+_OBS4+1))","v":"non saisies"},null,{"$f":"IF(OR(E7=\"\",E9=\"non saisi\",E11=\"\",E15=\"\",E17=\"\",E19=\"\",E21=\"\",E23=\"\",E25=\"\",E27=\"\",E29=\"\",E31=\"\",E33=\"\",E35=\"\",E39=\"\",E41=\"\",E43=\"\"),\"non saisies\",(SERVICES+_OBS1+_OBS2+_OBS3+_OBS4+2))","v":"non saisies"},null,{"$f":"IF(OR(G7=\"\",G9=\"non saisi\",G11=\"\",G15=\"\",G17=\"\",G19=\"\",G21=\"\",G23=\"\",G25=\"\",G27=\"\",G29=\"\",G31=\"\",G33=\"\",G35=\"\",G39=\"\",G41=\"\",G43=\"\"),\"non saisies\",(SERVICES+_OBS1+_OBS2+_OBS3+_OBS4+3))","v":"non saisies"},null,{"$f":"IF(OR(I7=\"\",I9=\"non saisi\",I11=\"\",I15=\"\",I17=\"\",I19=\"\",I21=\"\",I23=\"\",I25=\"\",I27=\"\",I29=\"\",I31=\"\",I33=\"\",I35=\"\",I39=\"\",I41=\"\",I43=\"\"),\"non saisies\",(SERVICES+_OBS1+_OBS2+_OBS3+_OBS4+4))","v":"non saisies"},null,{"$f":"IF(OR(K7=\"\",K9=\"non saisi\",K11=\"\",K15=\"\",K17=\"\",K19=\"\",K21=\"\",K23=\"\",K25=\"\",K27=\"\",K29=\"\",K31=\"\",K33=\"\",K35=\"\",K39=\"\",K41=\"\",K43=\"\"),\"non saisies\",(SERVICES+_OBS1+_OBS2+_OBS3+_OBS4+5))","v":"non saisies"},null,{"$f":"IF(OR(M7=\"\",M9=\"non saisi\",M11=\"\",M15=\"\",M17=\"\",M19=\"\",M21=\"\",M23=\"\",M25=\"\",M27=\"\",M29=\"\",M31=\"\",M33=\"\",M35=\"\",M39=\"\",M41=\"\",M43=\"\"),\"non saisies\",(SERVICES+_OBS1+_OBS2+_OBS3+_OBS4+6))","v":"non saisies"},null,{"$f":"IF(OR(O7=\"\",O9=\"non saisi\",O11=\"\",O15=\"\",O17=\"\",O19=\"\",O21=\"\",O23=\"\",O25=\"\",O27=\"\",O29=\"\",O31=\"\",O33=\"\",O35=\"\",O39=\"\",O41=\"\",O43=\"\"),\"non saisies\",(SERVICES+_OBS1+_OBS2+_OBS3+_OBS4+7))","v":"non saisies"},null,{"$f":"IF(OR(Q7=\"\",Q9=\"non saisi\",Q11=\"\",Q15=\"\",Q17=\"\",Q19=\"\",Q21=\"\",Q23=\"\",Q25=\"\",Q27=\"\",Q29=\"\",Q31=\"\",Q33=\"\",Q35=\"\",Q39=\"\",Q41=\"\",Q43=\"\"),\"non saisies\",(SERVICES+_OBS1+_OBS2+_OBS3+_OBS4+8))","v":"non saisies"},null,{"$f":"IF(OR(S7=\"\",S9=\"non saisi\",S11=\"\",S15=\"\",S17=\"\",S19=\"\",S21=\"\",S23=\"\",S25=\"\",S27=\"\",S29=\"\",S31=\"\",S33=\"\",S35=\"\",S39=\"\",S41=\"\",S43=\"\"),\"non saisies\",(SERVICES+_OBS1+_OBS2+_OBS3+_OBS4+9))","v":"non saisies"},null,{"$f":"IF(OR(U7=\"\",U9=\"non saisi\",U11=\"\",U15=\"\",U17=\"\",U19=\"\",U21=\"\",U23=\"\",U25=\"\",U27=\"\",U29=\"\",U31=\"\",U33=\"\",U35=\"\",U39=\"\",U41=\"\",U43=\"\"),\"non saisies\",(SERVICES+_OBS1+_OBS2+_OBS3+_OBS4+10))","v":"non saisies"},null,{"$f":"IF(OR(W7=\"\",W9=\"non saisi\",W11=\"\",W15=\"\",W17=\"\",W19=\"\",W21=\"\",W23=\"\",W25=\"\",W27=\"\",W29=\"\",W31=\"\",W33=\"\",W35=\"\",W39=\"\",W41=\"\",W43=\"\"),\"non saisies\",(SERVICES+_OBS1+_OBS2+_OBS3+_OBS4+11))","v":"non saisies"},null,{"$f":"IF(OR(Y7=\"\",Y9=\"non saisi\",Y11=\"\",Y15=\"\",Y17=\"\",Y19=\"\",Y21=\"\",Y23=\"\",Y25=\"\",Y27=\"\",Y29=\"\",Y31=\"\",Y33=\"\",Y35=\"\",Y39=\"\",Y41=\"\",Y43=\"\"),\"non saisies\",(SERVICES+_OBS1+_OBS2+_OBS3+_OBS4+12))","v":"non saisies"},null,{"$f":"IF(OR(AA7=\"\",AA9=\"non saisi\",AA11=\"\",AA15=\"\",AA17=\"\",AA19=\"\",AA21=\"\",AA23=\"\",AA25=\"\",AA27=\"\",AA29=\"\",AA31=\"\",AA33=\"\",AA35=\"\",AA39=\"\",AA41=\"\",AA43=\"\"),\"non saisies\",(SERVICES+_OBS1+_OBS2+_OBS3+_OBS4+13))","v":"non saisies"},null,{"$f":"IF(OR(AC7=\"\",AC9=\"non saisi\",AC11=\"\",AC15=\"\",AC17=\"\",AC19=\"\",AC21=\"\",AC23=\"\",AC25=\"\",AC27=\"\",AC29=\"\",AC31=\"\",AC33=\"\",AC35=\"\",AC39=\"\",AC41=\"\",AC43=\"\"),\"non saisies\",(SERVICES+_OBS1+_OBS2+_OBS3+_OBS4+14))","v":"non saisies"},null,{"$f":"IF(OR(AE7=\"\",AE9=\"non saisi\",AE11=\"\",AE15=\"\",AE17=\"\",AE19=\"\",AE21=\"\",AE23=\"\",AE25=\"\",AE27=\"\",AE29=\"\",AE31=\"\",AE33=\"\",AE35=\"\",AE39=\"\",AE41=\"\",AE43=\"\"),\"non saisies\",(SERVICES+_OBS1+_OBS2+_OBS3+_OBS4+15))","v":"non saisies"},null,{"$f":"IF(OR(AG7=\"\",AG9=\"non saisi\",AG11=\"\",AG15=\"\",AG17=\"\",AG19=\"\",AG21=\"\",AG23=\"\",AG25=\"\",AG27=\"\",AG29=\"\",AG31=\"\",AG33=\"\",AG35=\"\",AG39=\"\",AG41=\"\",AG43=\"\"),\"non saisies\",(SERVICES+_OBS1+_OBS2+_OBS3+_OBS4+16))","v":"non saisies"},null,{"$f":"IF(OR(AI7=\"\",AI9=\"non saisi\",AI11=\"\",AI15=\"\",AI17=\"\",AI19=\"\",AI21=\"\",AI23=\"\",AI25=\"\",AI27=\"\",AI29=\"\",AI31=\"\",AI33=\"\",AI35=\"\",AI39=\"\",AI41=\"\",AI43=\"\"),\"non saisies\",(SERVICES+_OBS1+_OBS2+_OBS3+_OBS4+17))","v":"non saisies"},null,{"$f":"IF(OR(AK7=\"\",AK9=\"non saisi\",AK11=\"\",AK15=\"\",AK17=\"\",AK19=\"\",AK21=\"\",AK23=\"\",AK25=\"\",AK27=\"\",AK29=\"\",AK31=\"\",AK33=\"\",AK35=\"\",AK39=\"\",AK41=\"\",AK43=\"\"),\"non saisies\",(SERVICES+_OBS1+_OBS2+_OBS3+_OBS4+18))","v":"non saisies"},null,{"$f":"IF(OR(AM7=\"\",AM9=\"non saisi\",AM11=\"\",AM15=\"\",AM17=\"\",AM19=\"\",AM21=\"\",AM23=\"\",AM25=\"\",AM27=\"\",AM29=\"\",AM31=\"\",AM33=\"\",AM35=\"\",AM39=\"\",AM41=\"\",AM43=\"\"),\"non saisies\",(SERVICES+_OBS1+_OBS2+_OBS3+_OBS4+19))","v":"non saisies"},null,{"$f":"IF(OR(AO7=\"\",AO9=\"non saisi\",AO11=\"\",AO15=\"\",AO17=\"\",AO19=\"\",AO21=\"\",AO23=\"\",AO25=\"\",AO27=\"\",AO29=\"\",AO31=\"\",AO33=\"\",AO35=\"\",AO39=\"\",AO41=\"\",AO43=\"\"),\"non saisies\",(SERVICES+_OBS1+_OBS2+_OBS3+_OBS4+20))","v":"non saisies"},null,{"$f":"IF(OR(AQ7=\"\",AQ9=\"non saisi\",AQ11=\"\",AQ15=\"\",AQ17=\"\",AQ19=\"\",AQ21=\"\",AQ23=\"\",AQ25=\"\",AQ27=\"\",AQ29=\"\",AQ31=\"\",AQ33=\"\",AQ35=\"\",AQ39=\"\",AQ41=\"\",AQ43=\"\"),\"non saisies\",(SERVICES+_OBS1+_OBS2+_OBS3+_OBS4+21))","v":"non saisies"},null,{"$f":"IF(OR(AS7=\"\",AS9=\"non saisi\",AS11=\"\",AS15=\"\",AS17=\"\",AS19=\"\",AS21=\"\",AS23=\"\",AS25=\"\",AS27=\"\",AS29=\"\",AS31=\"\",AS33=\"\",AS35=\"\",AS39=\"\",AS41=\"\",AS43=\"\"),\"non saisies\",(SERVICES+_OBS1+_OBS2+_OBS3+_OBS4+22))","v":"non saisies"},null,{"$f":"IF(OR(AU7=\"\",AU9=\"non saisi\",AU11=\"\",AU15=\"\",AU17=\"\",AU19=\"\",AU21=\"\",AU23=\"\",AU25=\"\",AU27=\"\",AU29=\"\",AU31=\"\",AU33=\"\",AU35=\"\",AU39=\"\",AU41=\"\",AU43=\"\"),\"non saisies\",(SERVICES+_OBS1+_OBS2+_OBS3+_OBS4+23))","v":"non saisies"},null,{"$f":"IF(OR(AW7=\"\",AW9=\"non saisi\",AW11=\"\",AW15=\"\",AW17=\"\",AW19=\"\",AW21=\"\",AW23=\"\",AW25=\"\",AW27=\"\",AW29=\"\",AW31=\"\",AW33=\"\",AW35=\"\",AW39=\"\",AW41=\"\",AW43=\"\"),\"non saisies\",(SERVICES+_OBS1+_OBS2+_OBS3+_OBS4+24))","v":"non saisies"},null,{"$f":"IF(OR(AY7=\"\",AY9=\"non saisi\",AY11=\"\",AY15=\"\",AY17=\"\",AY19=\"\",AY21=\"\",AY23=\"\",AY25=\"\",AY27=\"\",AY29=\"\",AY31=\"\",AY33=\"\",AY35=\"\",AY39=\"\",AY41=\"\",AY43=\"\"),\"non saisies\",(SERVICES+_OBS1+_OBS2+_OBS3+_OBS4+25))","v":"non saisies"},null,{"$f":"IF(OR(BA7=\"\",BA9=\"non saisi\",BA11=\"\",BA15=\"\",BA17=\"\",BA19=\"\",BA21=\"\",BA23=\"\",BA25=\"\",BA27=\"\",BA29=\"\",BA31=\"\",BA33=\"\",BA35=\"\",BA39=\"\",BA41=\"\",BA43=\"\"),\"non saisies\",(SERVICES+_OBS1+_OBS2+_OBS3+_OBS4+26))","v":"non saisies"},null,{"$f":"IF(OR(BC7=\"\",BC9=\"non saisi\",BC11=\"\",BC15=\"\",BC17=\"\",BC19=\"\",BC21=\"\",BC23=\"\",BC25=\"\",BC27=\"\",BC29=\"\",BC31=\"\",BC33=\"\",BC35=\"\",BC39=\"\",BC41=\"\",BC43=\"\"),\"non saisies\",(SERVICES+_OBS1+_OBS2+_OBS3+_OBS4+27))","v":"non saisies"},null,{"$f":"IF(OR(BE7=\"\",BE9=\"non saisi\",BE11=\"\",BE15=\"\",BE17=\"\",BE19=\"\",BE21=\"\",BE23=\"\",BE25=\"\",BE27=\"\",BE29=\"\",BE31=\"\",BE33=\"\",BE35=\"\",BE39=\"\",BE41=\"\",BE43=\"\"),\"non saisies\",(SERVICES+_OBS1+_OBS2+_OBS3+_OBS4+28))","v":"non saisies"},null,{"$f":"IF(OR(BG7=\"\",BG9=\"non saisi\",BG11=\"\",BG15=\"\",BG17=\"\",BG19=\"\",BG21=\"\",BG23=\"\",BG25=\"\",BG27=\"\",BG29=\"\",BG31=\"\",BG33=\"\",BG35=\"\",BG39=\"\",BG41=\"\",BG43=\"\"),\"non saisies\",(SERVICES+_OBS1+_OBS2+_OBS3+_OBS4+29))","v":"non saisies"},null,{"$f":"IF(OR(BI7=\"\",BI9=\"non saisi\",BI11=\"\",BI15=\"\",BI17=\"\",BI19=\"\",BI21=\"\",BI23=\"\",BI25=\"\",BI27=\"\",BI29=\"\",BI31=\"\",BI33=\"\",BI35=\"\",BI39=\"\",BI41=\"\",BI43=\"\"),\"non saisies\",(SERVICES+_OBS1+_OBS2+_OBS3+_OBS4+30))","v":"non saisies"},null,{"$f":"IF(OR(BK7=\"\",BK9=\"non saisi\",BK11=\"\",BK15=\"\",BK17=\"\",BK19=\"\",BK21=\"\",BK23=\"\",BK25=\"\",BK27=\"\",BK29=\"\",BK31=\"\",BK33=\"\",BK35=\"\",BK39=\"\",BK41=\"\",BK43=\"\"),\"non saisies\",(SERVICES+_OBS1+_OBS2+_OBS3+_OBS4+31))","v":"non saisies"},null,{"$f":"IF(OR(BM7=\"\",BM9=\"non saisi\",BM11=\"\",BM15=\"\",BM17=\"\",BM19=\"\",BM21=\"\",BM23=\"\",BM25=\"\",BM27=\"\",BM29=\"\",BM31=\"\",BM33=\"\",BM35=\"\",BM39=\"\",BM41=\"\",BM43=\"\"),\"non saisies\",(SERVICES+_OBS1+_OBS2+_OBS3+_OBS4+32))","v":"non saisies"},null,{"$f":"IF(OR(BO7=\"\",BO9=\"non saisi\",BO11=\"\",BO15=\"\",BO17=\"\",BO19=\"\",BO21=\"\",BO23=\"\",BO25=\"\",BO27=\"\",BO29=\"\",BO31=\"\",BO33=\"\",BO35=\"\",BO39=\"\",BO41=\"\",BO43=\"\"),\"non saisies\",(SERVICES+_OBS1+_OBS2+_OBS3+_OBS4+33))","v":"non saisies"},null,{"$f":"IF(OR(BQ7=\"\",BQ9=\"non saisi\",BQ11=\"\",BQ15=\"\",BQ17=\"\",BQ19=\"\",BQ21=\"\",BQ23=\"\",BQ25=\"\",BQ27=\"\",BQ29=\"\",BQ31=\"\",BQ33=\"\",BQ35=\"\",BQ39=\"\",BQ41=\"\",BQ43=\"\"),\"non saisies\",(SERVICES+_OBS1+_OBS2+_OBS3+_OBS4+34))","v":"non saisies"},null,{"$f":"IF(OR(BS7=\"\",BS9=\"non saisi\",BS11=\"\",BS15=\"\",BS17=\"\",BS19=\"\",BS21=\"\",BS23=\"\",BS25=\"\",BS27=\"\",BS29=\"\",BS31=\"\",BS33=\"\",BS35=\"\",BS39=\"\",BS41=\"\",BS43=\"\"),\"non saisies\",(SERVICES+_OBS1+_OBS2+_OBS3+_OBS4+35))","v":"non saisies"},null,{"$f":"IF(OR(BU7=\"\",BU9=\"non saisi\",BU11=\"\",BU15=\"\",BU17=\"\",BU19=\"\",BU21=\"\",BU23=\"\",BU25=\"\",BU27=\"\",BU29=\"\",BU31=\"\",BU33=\"\",BU35=\"\",BU39=\"\",BU41=\"\",BU43=\"\"),\"non saisies\",(SERVICES+_OBS1+_OBS2+_OBS3+_OBS4+36))","v":"non saisies"},null,{"$f":"IF(OR(BW7=\"\",BW9=\"non saisi\",BW11=\"\",BW15=\"\",BW17=\"\",BW19=\"\",BW21=\"\",BW23=\"\",BW25=\"\",BW27=\"\",BW29=\"\",BW31=\"\",BW33=\"\",BW35=\"\",BW39=\"\",BW41=\"\",BW43=\"\"),\"non saisies\",(SERVICES+_OBS1+_OBS2+_OBS3+_OBS4+37))","v":"non saisies"},null,{"$f":"IF(OR(BY7=\"\",BY9=\"non saisi\",BY11=\"\",BY15=\"\",BY17=\"\",BY19=\"\",BY21=\"\",BY23=\"\",BY25=\"\",BY27=\"\",BY29=\"\",BY31=\"\",BY33=\"\",BY35=\"\",BY39=\"\",BY41=\"\",BY43=\"\"),\"non saisies\",(SERVICES+_OBS1+_OBS2+_OBS3+_OBS4+38))","v":"non saisies"},null,{"$f":"IF(OR(CA7=\"\",CA9=\"non saisi\",CA11=\"\",CA15=\"\",CA17=\"\",CA19=\"\",CA21=\"\",CA23=\"\",CA25=\"\",CA27=\"\",CA29=\"\",CA31=\"\",CA33=\"\",CA35=\"\",CA39=\"\",CA41=\"\",CA43=\"\"),\"non saisies\",(SERVICES+_OBS1+_OBS2+_OBS3+_OBS4+39))","v":"non saisies"},null,{"$f":"IF(OR(CC7=\"\",CC9=\"non saisi\",CC11=\"\",CC15=\"\",CC17=\"\",CC19=\"\",CC21=\"\",CC23=\"\",CC25=\"\",CC27=\"\",CC29=\"\",CC31=\"\",CC33=\"\",CC35=\"\",CC39=\"\",CC41=\"\",CC43=\"\"),\"non saisies\",(SERVICES+_OBS1+_OBS2+_OBS3+_OBS4+40))","v":"non saisies"}]
[]
[null,"MENU"]

{"sheet":"Score5","index":20,"n_rows":82,"n_cols":81,"rows_kept":82,"cut":false,"hidden":true,"merged":[]}
[]
[]
[]
[]
[]
[]
[null,null,{"$f":"IF('Fiches_Utilisateurs_Service#5'!C7=\"\",0,1)","v":0},null,{"$f":"IF('Fiches_Utilisateurs_Service#5'!E7=\"\",0,1)","v":0},null,{"$f":"IF('Fiches_Utilisateurs_Service#5'!G7=\"\",0,1)","v":0},null,{"$f":"IF('Fiches_Utilisateurs_Service#5'!I7=\"\",0,1)","v":0},null,{"$f":"IF('Fiches_Utilisateurs_Service#5'!K7=\"\",0,1)","v":0},null,{"$f":"IF('Fiches_Utilisateurs_Service#5'!M7=\"\",0,1)","v":0},null,{"$f":"IF('Fiches_Utilisateurs_Service#5'!O7=\"\",0,1)","v":0},null,{"$f":"IF('Fiches_Utilisateurs_Service#5'!Q7=\"\",0,1)","v":0},null,{"$f":"IF('Fiches_Utilisateurs_Service#5'!S7=\"\",0,1)","v":0},null,{"$f":"IF('Fiches_Utilisateurs_Service#5'!U7=\"\",0,1)","v":0},null,{"$f":"IF('Fiches_Utilisateurs_Service#5'!W7=\"\",0,1)","v":0},null,{"$f":"IF('Fiches_Utilisateurs_Service#5'!Y7=\"\",0,1)","v":0},null,{"$f":"IF('Fiches_Utilisateurs_Service#5'!AA7=\"\",0,1)","v":0},null,{"$f":"IF('Fiches_Utilisateurs_Service#5'!AC7=\"\",0,1)","v":0},null,{"$f":"IF('Fiches_Utilisateurs_Service#5'!AE7=\"\",0,1)","v":0},null,{"$f":"IF('Fiches_Utilisateurs_Service#5'!AG7=\"\",0,1)","v":0},null,{"$f":"IF('Fiches_Utilisateurs_Service#5'!AI7=\"\",0,1)","v":0},null,{"$f":"IF('Fiches_Utilisateurs_Service#5'!AK7=\"\",0,1)","v":0},null,{"$f":"IF('Fiches_Utilisateurs_Service#5'!AM7=\"\",0,1)","v":0},null,{"$f":"IF('Fiches_Utilisateurs_Service#5'!AO7=\"\",0,1)","v":0},null,{"$f":"IF('Fiches_Utilisateurs_Service#5'!AQ7=\"\",0,1)","v":0},null,{"$f":"IF('Fiches_Utilisateurs_Service#5'!AS7=\"\",0,1)","v":0},null,{"$f":"IF('Fiches_Utilisateurs_Service#5'!AU7=\"\",0,1)","v":0},null,{"$f":"IF('Fiches_Utilisateurs_Service#5'!AW7=\"\",0,1)","v":0},null,{"$f":"IF('Fiches_Utilisateurs_Service#5'!AY7=\"\",0,1)","v":0},null,{"$f":"IF('Fiches_Utilisateurs_Service#5'!BA7=\"\",0,1)","v":0},null,{"$f":"IF('Fiches_Utilisateurs_Service#5'!BC7=\"\",0,1)","v":0},null,{"$f":"IF('Fiches_Utilisateurs_Service#5'!BE7=\"\",0,1)","v":0},null,{"$f":"IF('Fiches_Utilisateurs_Service#5'!BG7=\"\",0,1)","v":0},null,{"$f":"IF('Fiches_Utilisateurs_Service#5'!BI7=\"\",0,1)","v":0},null,{"$f":"IF('Fiches_Utilisateurs_Service#5'!BK7=\"\",0,1)","v":0},null,{"$f":"IF('Fiches_Utilisateurs_Service#5'!BM7=\"\",0,1)","v":0},null,{"$f":"IF('Fiches_Utilisateurs_Service#5'!BO7=\"\",0,1)","v":0},null,{"$f":"IF('Fiches_Utilisateurs_Service#5'!BQ7=\"\",0,1)","v":0},null,{"$f":"IF('Fiches_Utilisateurs_Service#5'!BS7=\"\",0,1)","v":0},null,{"$f":"IF('Fiches_Utilisateurs_Service#5'!BU7=\"\",0,1)","v":0},null,{"$f":"IF('Fiches_Utilisateurs_Service#5'!BW7=\"\",0,1)","v":0},null,{"$f":"IF('Fiches_Utilisateurs_Service#5'!BY7=\"\",0,1)","v":0},null,{"$f":"IF('Fiches_Utilisateurs_Service#5'!CA7=\"\",0,1)","v":0},null,{"$f":"IF('Fiches_Utilisateurs_Service#5'!CC7=\"\",0,1)","v":0}]
[]
[]
[]
[null,null,{"$f":"IF(LEFT('Fiches_Utilisateurs_Service#5'!C11,2)=\"10\",\"10\",(IF('Fiches_Utilisateurs_Service#5'!C11=\"\",\"0\",LEFT('Fiches_Utilisateurs_Service#5'!C11,1))))","v":"0"},null,{"$f":"IF(LEFT('Fiches_Utilisateurs_Service#5'!E11,2)=\"10\",\"10\",(IF('Fiches_Utilisateurs_Service#5'!E11=\"\",\"0\",LEFT('Fiches_Utilisateurs_Service#5'!E11,1))))","v":"0"},null,{"$f":"IF(LEFT('Fiches_Utilisateurs_Service#5'!G11,2)=\"10\",\"10\",(IF('Fiches_Utilisateurs_Service#5'!G11=\"\",\"0\",LEFT('Fiches_Utilisateurs_Service#5'!G11,1))))","v":"0"},null,{"$f":"IF(LEFT('Fiches_Utilisateurs_Service#5'!I11,2)=\"10\",\"10\",(IF('Fiches_Utilisateurs_Service#5'!I11=\"\",\"0\",LEFT('Fiches_Utilisateurs_Service#5'!I11,1))))","v":"0"},null,{"$f":"IF(LEFT('Fiches_Utilisateurs_Service#5'!K11,2)=\"10\",\"10\",(IF('Fiches_Utilisateurs_Service#5'!K11=\"\",\"0\",LEFT('Fiches_Utilisateurs_Service#5'!K11,1))))","v":"0"},null,{"$f":"IF(LEFT('Fiches_Utilisateurs_Service#5'!M11,2)=\"10\",\"10\",(IF('Fiches_Utilisateurs_Service#5'!M11=\"\",\"0\",LEFT('Fiches_Utilisateurs_Service#5'!M11,1))))","v":"0"},null,{"$f":"IF(LEFT('Fiches_Utilisateurs_Service#5'!O11,2)=\"10\",\"10\",(IF('Fiches_Utilisateurs_Service#5'!O11=\"\",\"0\",LEFT('Fiches_Utilisateurs_Service#5'!O11,1))))","v":"0"},null,{"$f":"IF(LEFT('Fiches_Utilisateurs_Service#5'!Q11,2)=\"10\",\"10\",(IF('Fiches_Utilisateurs_Service#5'!Q11=\"\",\"0\",LEFT('Fiches_Utilisateurs_Service#5'!Q11,1))))","v":"0"},null,{"$f":"IF(LEFT('Fiches_Utilisateurs_Service#5'!S11,2)=\"10\",\"10\",(IF('Fiches_Utilisateurs_Service#5'!S11=\"\",\"0\",LEFT('Fiches_Utilisateurs_Service#5'!S11,1))))","v":"0"},null,{"$f":"IF(LEFT('Fiches_Utilisateurs_Service#5'!U11,2)=\"10\",\"10\",(IF('Fiches_Utilisateurs_Service#5'!U11=\"\",\"0\",LEFT('Fiches_Utilisateurs_Service#5'!U11,1))))","v":"0"},null,{"$f":"IF(LEFT('Fiches_Utilisateurs_Service#5'!W11,2)=\"10\",\"10\",(IF('Fiches_Utilisateurs_Service#5'!W11=\"\",\"0\",LEFT('Fiches_Utilisateurs_Service#5'!W11,1))))","v":"0"},null,{"$f":"IF(LEFT('Fiches_Utilisateurs_Service#5'!Y11,2)=\"10\",\"10\",(IF('Fiches_Utilisateurs_Service#5'!Y11=\"\",\"0\",LEFT('Fiches_Utilisateurs_Service#5'!Y11,1))))","v":"0"},null,{"$f":"IF(LEFT('Fiches_Utilisateurs_Service#5'!AA11,2)=\"10\",\"10\",(IF('Fiches_Utilisateurs_Service#5'!AA11=\"\",\"0\",LEFT('Fiches_Utilisateurs_Service#5'!AA11,1))))","v":"0"},null,{"$f":"IF(LEFT('Fiches_Utilisateurs_Service#5'!AC11,2)=\"10\",\"10\",(IF('Fiches_Utilisateurs_Service#5'!AC11=\"\",\"0\",LEFT('Fiches_Utilisateurs_Service#5'!AC11,1))))","v":"0"},null,{"$f":"IF(LEFT('Fiches_Utilisateurs_Service#5'!AE11,2)=\"10\",\"10\",(IF('Fiches_Utilisateurs_Service#5'!AE11=\"\",\"0\",LEFT('Fiches_Utilisateurs_Service#5'!AE11,1))))","v":"0"},null,{"$f":"IF(LEFT('Fiches_Utilisateurs_Service#5'!AG11,2)=\"10\",\"10\",(IF('Fiches_Utilisateurs_Service#5'!AG11=\"\",\"0\",LEFT('Fiches_Utilisateurs_Service#5'!AG11,1))))","v":"0"},null,{"$f":"IF(LEFT('Fiches_Utilisateurs_Service#5'!AI11,2)=\"10\",\"10\",(IF('Fiches_Utilisateurs_Service#5'!AI11=\"\",\"0\",LEFT('Fiches_Utilisateurs_Service#5'!AI11,1))))","v":"0"},null,{"$f":"IF(LEFT('Fiches_Utilisateurs_Service#5'!AK11,2)=\"10\",\"10\",(IF('Fiches_Utilisateurs_Service#5'!AK11=\"\",\"0\",LEFT('Fiches_Utilisateurs_Service#5'!AK11,1))))","v":"0"},null,{"$f":"IF(LEFT('Fiches_Utilisateurs_Service#5'!AM11,2)=\"10\",\"10\",(IF('Fiches_Utilisateurs_Service#5'!AM11=\"\",\"0\",LEFT('Fiches_Utilisateurs_Service#5'!AM11,1))))","v":"0"},null,{"$f":"IF(LEFT('Fiches_Utilisateurs_Service#5'!AO11,2)=\"10\",\"10\",(IF('Fiches_Utilisateurs_Service#5'!AO11=\"\",\"0\",LEFT('Fiches_Utilisateurs_Service#5'!AO11,1))))","v":"0"},null,{"$f":"IF(LEFT('Fiches_Utilisateurs_Service#5'!AQ11,2)=\"10\",\"10\",(IF('Fiches_Utilisateurs_Service#5'!AQ11=\"\",\"0\",LEFT('Fiches_Utilisateurs_Service#5'!AQ11,1))))","v":"0"},null,{"$f":"IF(LEFT('Fiches_Utilisateurs_Service#5'!AS11,2)=\"10\",\"10\",(IF('Fiches_Utilisateurs_Service#5'!AS11=\"\",\"0\",LEFT('Fiches_Utilisateurs_Service#5'!AS11,1))))","v":"0"},null,{"$f":"IF(LEFT('Fiches_Utilisateurs_Service#5'!AU11,2)=\"10\",\"10\",(IF('Fiches_Utilisateurs_Service#5'!AU11=\"\",\"0\",LEFT('Fiches_Utilisateurs_Service#5'!AU11,1))))","v":"0"},null,{"$f":"IF(LEFT('Fiches_Utilisateurs_Service#5'!AW11,2)=\"10\",\"10\",(IF('Fiches_Utilisateurs_Service#5'!AW11=\"\",\"0\",LEFT('Fiches_Utilisateurs_Service#5'!AW11,1))))","v":"0"},null,{"$f":"IF(LEFT('Fiches_Utilisateurs_Service#5'!AY11,2)=\"10\",\"10\",(IF('Fiches_Utilisateurs_Service#5'!AY11=\"\",\"0\",LEFT('Fiches_Utilisateurs_Service#5'!AY11,1))))","v":"0"},null,{"$f":"IF(LEFT('Fiches_Utilisateurs_Service#5'!BA11,2)=\"10\",\"10\",(IF('Fiches_Utilisateurs_Service#5'!BA11=\"\",\"0\",LEFT('Fiches_Utilisateurs_Service#5'!BA11,1))))","v":"0"},null,{"$f":"IF(LEFT('Fiches_Utilisateurs_Service#5'!BC11,2)=\"10\",\"10\",(IF('Fiches_Utilisateurs_Service#5'!BC11=\"\",\"0\",LEFT('Fiches_Utilisateurs_Service#5'!BC11,1))))","v":"0"},null,{"$f":"IF(LEFT('Fiches_Utilisateurs_Service#5'!BE11,2)=\"10\",\"10\",(IF('Fiches_Utilisateurs_Service#5'!BE11=\"\",\"0\",LEFT('Fiches_Utilisateurs_Service#5'!BE11,1))))","v":"0"},null,{"$f":"IF(LEFT('Fiches_Utilisateurs_Service#5'!BG11,2)=\"10\",\"10\",(IF('Fiches_Utilisateurs_Service#5'!BG11=\"\",\"0\",LEFT('Fiches_Utilisateurs_Service#5'!BG11,1))))","v":"0"},null,{"$f":"IF(LEFT('Fiches_Utilisateurs_Service#5'!BI11,2)=\"10\",\"10\",(IF('Fiches_Utilisateurs_Service#5'!BI11=\"\",\"0\",LEFT('Fiches_Utilisateurs_Service#5'!BI11,1))))","v":"0"},null,{"$f":"IF(LEFT('Fiches_Utilisateurs_Service#5'!BK11,2)=\"10\",\"10\",(IF('Fiches_Utilisateurs_Service#5'!BK11=\"\",\"0\",LEFT('Fiches_Utilisateurs_Service#5'!BK11,1))))","v":"0"},null,{"$f":"IF(LEFT('Fiches_Utilisateurs_Service#5'!BM11,2)=\"10\",\"10\",(IF('Fiches_Utilisateurs_Service#5'!BM11=\"\",\"0\",LEFT('Fiches_Utilisateurs_Service#5'!BM11,1))))","v":"0"},null,{"$f":"IF(LEFT('Fiches_Utilisateurs_Service#5'!BO11,2)=\"10\",\"10\",(IF('Fiches_Utilisateurs_Service#5'!BO11=\"\",\"0\",LEFT('Fiches_Utilisateurs_Service#5'!BO11,1))))","v":"0"},null,{"$f":"IF(LEFT('Fiches_Utilisateurs_Service#5'!BQ11,2)=\"10\",\"10\",(IF('Fiches_Utilisateurs_Service#5'!BQ11=\"\",\"0\",LEFT('Fiches_Utilisateurs_Service#5'!BQ11,1))))","v":"0"},null,{"$f":"IF(LEFT('Fiches_Utilisateurs_Service#5'!BS11,2)=\"10\",\"10\",(IF('Fiches_Utilisateurs_Service#5'!BS11=\"\",\"0\",LEFT('Fiches_Utilisateurs_Service#5'!BS11,1))))","v":"0"},null,{"$f":"IF(LEFT('Fiches_Utilisateurs_Service#5'!BU11,2)=\"10\",\"10\",(IF('Fiches_Utilisateurs_Service#5'!BU11=\"\",\"0\",LEFT('Fiches_Utilisateurs_Service#5'!BU11,1))))","v":"0"},null,{"$f":"IF(LEFT('Fiches_Utilisateurs_Service#5'!BW11,2)=\"10\",\"10\",(IF('Fiches_Utilisateurs_Service#5'!BW11=\"\",\"0\",LEFT('Fiches_Utilisateurs_Service#5'!BW11,1))))","v":"0"},null,{"$f":"IF(LEFT('Fiches_Utilisateurs_Service#5'!BY11,2)=\"10\",\"10\",(IF('Fiches_Utilisateurs_Service#5'!BY11=\"\",\"0\",LEFT('Fiches_Utilisateurs_Service#5'!BY11,1))))","v":"0"},null,{"$f":"IF(LEFT('Fiches_Utilisateurs_Service#5'!CA11,2)=\"10\",\"10\",(IF('Fiches_Utilisateurs_Service#5'!CA11=\"\",\"0\",LEFT('Fiches_Utilisateurs_Service#5'!CA11,1))))","v":"0"},null,{"$f":"IF(LEFT('Fiches_Utilisateurs_Service#5'!CC11,2)=\"10\",\"10\",(IF('Fiches_Utilisateurs_Service#5'!CC11=\"\",\"0\",LEFT('Fiches_Utilisateurs_Service#5'!CC11,1))))","v":"0"}]
[]
[]
[null,"glob tots"]
[null,null,{"$f":"IF('Fiches_Utilisateurs_Service#5'!C15=1,1,0)","v":0},null,{"$f":"IF('Fiches_Utilisateurs_Service#5'!E15=1,1,0)","v":0},null,{"$f":"IF('Fiches_Utilisateurs_Service#5'!G15=1,1,0)","v":0},null,{"$f":"IF('Fiches_Utilisateurs_Service#5'!I15=1,1,0)","v":0},null,{"$f":"IF('Fiches_Utilisateurs_Service#5'!K15=1,1,0)","v":0},null,{"$f":"IF('Fiches_Utilisateurs_Service#5'!M15=1,1,0)","v":0},null,{"$f":"IF('Fiches_Utilisateurs_Service#5'!O15=1,1,0)","v":0},null,{"$f":"IF('Fiches_Utilisateurs_Service#5'!Q15=1,1,0)","v":0},null,{"$f":"IF('Fiches_Utilisateurs_Service#5'!S15=1,1,0)","v":0},null,{"$f":"IF('Fiches_Utilisateurs_Service#5'!U15=1,1,0)","v":0},null,{"$f":"IF('Fiches_Utilisateurs_Service#5'!W15=1,1,0)","v":0},null,{"$f":"IF('Fiches_Utilisateurs_Service#5'!Y15=1,1,0)","v":0},null,{"$f":"IF('Fiches_Utilisateurs_Service#5'!AA15=1,1,0)","v":0},null,{"$f":"IF('Fiches_Utilisateurs_Service#5'!AC15=1,1,0)","v":0},null,{"$f":"IF('Fiches_Utilisateurs_Service#5'!AE15=1,1,0)","v":0},null,{"$f":"IF('Fiches_Utilisateurs_Service#5'!AG15=1,1,0)","v":0},null,{"$f":"IF('Fiches_Utilisateurs_Service#5'!AI15=1,1,0)","v":0},null,{"$f":"IF('Fiches_Utilisateurs_Service#5'!AK15=1,1,0)","v":0},null,{"$f":"IF('Fiches_Utilisateurs_Service#5'!AM15=1,1,0)","v":0},null,{"$f":"IF('Fiches_Utilisateurs_Service#5'!AO15=1,1,0)","v":0},null,{"$f":"IF('Fiches_Utilisateurs_Service#5'!AQ15=1,1,0)","v":0},null,{"$f":"IF('Fiches_Utilisateurs_Service#5'!AS15=1,1,0)","v":0},null,{"$f":"IF('Fiches_Utilisateurs_Service#5'!AU15=1,1,0)","v":0},null,{"$f":"IF('Fiches_Utilisateurs_Service#5'!AW15=1,1,0)","v":0},null,{"$f":"IF('Fiches_Utilisateurs_Service#5'!AY15=1,1,0)","v":0},null,{"$f":"IF('Fiches_Utilisateurs_Service#5'!BA15=1,1,0)","v":0},null,{"$f":"IF('Fiches_Utilisateurs_Service#5'!BC15=1,1,0)","v":0},null,{"$f":"IF('Fiches_Utilisateurs_Service#5'!BE15=1,1,0)","v":0},null,{"$f":"IF('Fiches_Utilisateurs_Service#5'!BG15=1,1,0)","v":0},null,{"$f":"IF('Fiches_Utilisateurs_Service#5'!BI15=1,1,0)","v":0},null,{"$f":"IF('Fiches_Utilisateurs_Service#5'!BK15=1,1,0)","v":0},null,{"$f":"IF('Fiches_Utilisateurs_Service#5'!BM15=1,1,0)","v":0},null,{"$f":"IF('Fiches_Utilisateurs_Service#5'!BO15=1,1,0)","v":0},null,{"$f":"IF('Fiches_Utilisateurs_Service#5'!BQ15=1,1,0)","v":0},null,{"$f":"IF('Fiches_Utilisateurs_Service#5'!BS15=1,1,0)","v":0},null,{"$f":"IF('Fiches_Utilisateurs_Service#5'!BU15=1,1,0)","v":0},null,{"$f":"IF('Fiches_Utilisateurs_Service#5'!BW15=1,1,0)","v":0},null,{"$f":"IF('Fiches_Utilisateurs_Service#5'!BY15=1,1,0)","v":0},null,{"$f":"IF('Fiches_Utilisateurs_Service#5'!CA15=1,1,0)","v":0},null,{"$f":"IF('Fiches_Utilisateurs_Service#5'!CC15=1,1,0)","v":0}]
[]
[null,null,{"$f":"IF('Fiches_Utilisateurs_Service#5'!C17=1,1,0)","v":0},null,{"$f":"IF('Fiches_Utilisateurs_Service#5'!E17=1,1,0)","v":0},null,{"$f":"IF('Fiches_Utilisateurs_Service#5'!G17=1,1,0)","v":0},null,{"$f":"IF('Fiches_Utilisateurs_Service#5'!I17=1,1,0)","v":0},null,{"$f":"IF('Fiches_Utilisateurs_Service#5'!K17=1,1,0)","v":0},null,{"$f":"IF('Fiches_Utilisateurs_Service#5'!M17=1,1,0)","v":0},null,{"$f":"IF('Fiches_Utilisateurs_Service#5'!O17=1,1,0)","v":0},null,{"$f":"IF('Fiches_Utilisateurs_Service#5'!Q17=1,1,0)","v":0},null,{"$f":"IF('Fiches_Utilisateurs_Service#5'!S17=1,1,0)","v":0},null,{"$f":"IF('Fiches_Utilisateurs_Service#5'!U17=1,1,0)","v":0},null,{"$f":"IF('Fiches_Utilisateurs_Service#5'!W17=1,1,0)","v":0},null,{"$f":"IF('Fiches_Utilisateurs_Service#5'!Y17=1,1,0)","v":0},null,{"$f":"IF('Fiches_Utilisateurs_Service#5'!AA17=1,1,0)","v":0},null,{"$f":"IF('Fiches_Utilisateurs_Service#5'!AC17=1,1,0)","v":0},null,{"$f":"IF('Fiches_Utilisateurs_Service#5'!AE17=1,1,0)","v":0},null,{"$f":"IF('Fiches_Utilisateurs_Service#5'!AG17=1,1,0)","v":0},null,{"$f":"IF('Fiches_Utilisateurs_Service#5'!AI17=1,1,0)","v":0},null,{"$f":"IF('Fiches_Utilisateurs_Service#5'!AK17=1,1,0)","v":0},null,{"$f":"IF('Fiches_Utilisateurs_Service#5'!AM17=1,1,0)","v":0},null,{"$f":"IF('Fiches_Utilisateurs_Service#5'!AO17=1,1,0)","v":0},null,{"$f":"IF('Fiches_Utilisateurs_Service#5'!AQ17=1,1,0)","v":0},null,{"$f":"IF('Fiches_Utilisateurs_Service#5'!AS17=1,1,0)","v":0},null,{"$f":"IF('Fiches_Utilisateurs_Service#5'!AU17=1,1,0)","v":0},null,{"$f":"IF('Fiches_Utilisateurs_Service#5'!AW17=1,1,0)","v":0},null,{"$f":"IF('Fiches_Utilisateurs_Service#5'!AY17=1,1,0)","v":0},null,{"$f":"IF('Fiches_Utilisateurs_Service#5'!BA17=1,1,0)","v":0},null,{"$f":"IF('Fiches_Utilisateurs_Service#5'!BC17=1,1,0)","v":0},null,{"$f":"IF('Fiches_Utilisateurs_Service#5'!BE17=1,1,0)","v":0},null,{"$f":"IF('Fiches_Utilisateurs_Service#5'!BG17=1,1,0)","v":0},null,{"$f":"IF('Fiches_Utilisateurs_Service#5'!BI17=1,1,0)","v":0},null,{"$f":"IF('Fiches_Utilisateurs_Service#5'!BK17=1,1,0)","v":0},null,{"$f":"IF('Fiches_Utilisateurs_Service#5'!BM17=1,1,0)","v":0},null,{"$f":"IF('Fiches_Utilisateurs_Service#5'!BO17=1,1,0)","v":0},null,{"$f":"IF('Fiches_Utilisateurs_Service#5'!BQ17=1,1,0)","v":0},null,{"$f":"IF('Fiches_Utilisateurs_Service#5'!BS17=1,1,0)","v":0},null,{"$f":"IF('Fiches_Utilisateurs_Service#5'!BU17=1,1,0)","v":0},null,{"$f":"IF('Fiches_Utilisateurs_Service#5'!BW17=1,1,0)","v":0},null,{"$f":"IF('Fiches_Utilisateurs_Service#5'!BY17=1,1,0)","v":0},null,{"$f":"IF('Fiches_Utilisateurs_Service#5'!CA17=1,1,0)","v":0},null,{"$f":"IF('Fiches_Utilisateurs_Service#5'!CC17=1,1,0)","v":0}]
[]
[null,null,{"$f":"IF('Fiches_Utilisateurs_Service#5'!C19=1,1,0)","v":0},null,{"$f":"IF('Fiches_Utilisateurs_Service#5'!E19=1,1,0)","v":0},null,{"$f":"IF('Fiches_Utilisateurs_Service#5'!G19=1,1,0)","v":0},null,{"$f":"IF('Fiches_Utilisateurs_Service#5'!I19=1,1,0)","v":0},null,{"$f":"IF('Fiches_Utilisateurs_Service#5'!K19=1,1,0)","v":0},null,{"$f":"IF('Fiches_Utilisateurs_Service#5'!M19=1,1,0)","v":0},null,{"$f":"IF('Fiches_Utilisateurs_Service#5'!O19=1,1,0)","v":0},null,{"$f":"IF('Fiches_Utilisateurs_Service#5'!Q19=1,1,0)","v":0},null,{"$f":"IF('Fiches_Utilisateurs_Service#5'!S19=1,1,0)","v":0},null,{"$f":"IF('Fiches_Utilisateurs_Service#5'!U19=1,1,0)","v":0},null,{"$f":"IF('Fiches_Utilisateurs_Service#5'!W19=1,1,0)","v":0},null,{"$f":"IF('Fiches_Utilisateurs_Service#5'!Y19=1,1,0)","v":0},null,{"$f":"IF('Fiches_Utilisateurs_Service#5'!AA19=1,1,0)","v":0},null,{"$f":"IF('Fiches_Utilisateurs_Service#5'!AC19=1,1,0)","v":0},null,{"$f":"IF('Fiches_Utilisateurs_Service#5'!AE19=1,1,0)","v":0},null,{"$f":"IF('Fiches_Utilisateurs_Service#5'!AG19=1,1,0)","v":0},null,{"$f":"IF('Fiches_Utilisateurs_Service#5'!AI19=1,1,0)","v":0},null,{"$f":"IF('Fiches_Utilisateurs_Service#5'!AK19=1,1,0)","v":0},null,{"$f":"IF('Fiches_Utilisateurs_Service#5'!AM19=1,1,0)","v":0},null,{"$f":"IF('Fiches_Utilisateurs_Service#5'!AO19=1,1,0)","v":0},null,{"$f":"IF('Fiches_Utilisateurs_Service#5'!AQ19=1,1,0)","v":0},null,{"$f":"IF('Fiches_Utilisateurs_Service#5'!AS19=1,1,0)","v":0},null,{"$f":"IF('Fiches_Utilisateurs_Service#5'!AU19=1,1,0)","v":0},null,{"$f":"IF('Fiches_Utilisateurs_Service#5'!AW19=1,1,0)","v":0},null,{"$f":"IF('Fiches_Utilisateurs_Service#5'!AY19=1,1,0)","v":0},null,{"$f":"IF('Fiches_Utilisateurs_Service#5'!BA19=1,1,0)","v":0},null,{"$f":"IF('Fiches_Utilisateurs_Service#5'!BC19=1,1,0)","v":0},null,{"$f":"IF('Fiches_Utilisateurs_Service#5'!BE19=1,1,0)","v":0},null,{"$f":"IF('Fiches_Utilisateurs_Service#5'!BG19=1,1,0)","v":0},null,{"$f":"IF('Fiches_Utilisateurs_Service#5'!BI19=1,1,0)","v":0},null,{"$f":"IF('Fiches_Utilisateurs_Service#5'!BK19=1,1,0)","v":0},null,{"$f":"IF('Fiches_Utilisateurs_Service#5'!BM19=1,1,0)","v":0},null,{"$f":"IF('Fiches_Utilisateurs_Service#5'!BO19=1,1,0)","v":0},null,{"$f":"IF('Fiches_Utilisateurs_Service#5'!BQ19=1,1,0)","v":0},null,{"$f":"IF('Fiches_Utilisateurs_Service#5'!BS19=1,1,0)","v":0},null,{"$f":"IF('Fiches_Utilisateurs_Service#5'!BU19=1,1,0)","v":0},null,{"$f":"IF('Fiches_Utilisateurs_Service#5'!BW19=1,1,0)","v":0},null,{"$f":"IF('Fiches_Utilisateurs_Service#5'!BY19=1,1,0)","v":0},null,{"$f":"IF('Fiches_Utilisateurs_Service#5'!CA19=1,1,0)","v":0},null,{"$f":"IF('Fiches_Utilisateurs_Service#5'!CC19=1,1,0)","v":0}]
[]
[null,null,{"$f":"IF('Fiches_Utilisateurs_Service#5'!C21=1,1,0)","v":0},null,{"$f":"IF('Fiches_Utilisateurs_Service#5'!E21=1,1,0)","v":0},null,{"$f":"IF('Fiches_Utilisateurs_Service#5'!G21=1,1,0)","v":0},null,{"$f":"IF('Fiches_Utilisateurs_Service#5'!I21=1,1,0)","v":0},null,{"$f":"IF('Fiches_Utilisateurs_Service#5'!K21=1,1,0)","v":0},null,{"$f":"IF('Fiches_Utilisateurs_Service#5'!M21=1,1,0)","v":0},null,{"$f":"IF('Fiches_Utilisateurs_Service#5'!O21=1,1,0)","v":0},null,{"$f":"IF('Fiches_Utilisateurs_Service#5'!Q21=1,1,0)","v":0},null,{"$f":"IF('Fiches_Utilisateurs_Service#5'!S21=1,1,0)","v":0},null,{"$f":"IF('Fiches_Utilisateurs_Service#5'!U21=1,1,0)","v":0},null,{"$f":"IF('Fiches_Utilisateurs_Service#5'!W21=1,1,0)","v":0},null,{"$f":"IF('Fiches_Utilisateurs_Service#5'!Y21=1,1,0)","v":0},null,{"$f":"IF('Fiches_Utilisateurs_Service#5'!AA21=1,1,0)","v":0},null,{"$f":"IF('Fiches_Utilisateurs_Service#5'!AC21=1,1,0)","v":0},null,{"$f":"IF('Fiches_Utilisateurs_Service#5'!AE21=1,1,0)","v":0},null,{"$f":"IF('Fiches_Utilisateurs_Service#5'!AG21=1,1,0)","v":0},null,{"$f":"IF('Fiches_Utilisateurs_Service#5'!AI21=1,1,0)","v":0},null,{"$f":"IF('Fiches_Utilisateurs_Service#5'!AK21=1,1,0)","v":0},null,{"$f":"IF('Fiches_Utilisateurs_Service#5'!AM21=1,1,0)","v":0},null,{"$f":"IF('Fiches_Utilisateurs_Service#5'!AO21=1,1,0)","v":0},null,{"$f":"IF('Fiches_Utilisateurs_Service#5'!AQ21=1,1,0)","v":0},null,{"$f":"IF('Fiches_Utilisateurs_Service#5'!AS21=1,1,0)","v":0},null,{"$f":"IF('Fiches_Utilisateurs_Service#5'!AU21=1,1,0)","v":0},null,{"$f":"IF('Fiches_Utilisateurs_Service#5'!AW21=1,1,0)","v":0},null,{"$f":"IF('Fiches_Utilisateurs_Service#5'!AY21=1,1,0)","v":0},null,{"$f":"IF('Fiches_Utilisateurs_Service#5'!BA21=1,1,0)","v":0},null,{"$f":"IF('Fiches_Utilisateurs_Service#5'!BC21=1,1,0)","v":0},null,{"$f":"IF('Fiches_Utilisateurs_Service#5'!BE21=1,1,0)","v":0},null,{"$f":"IF('Fiches_Utilisateurs_Service#5'!BG21=1,1,0)","v":0},null,{"$f":"IF('Fiches_Utilisateurs_Service#5'!BI21=1,1,0)","v":0},null,{"$f":"IF('Fiches_Utilisateurs_Service#5'!BK21=1,1,0)","v":0},null,{"$f":"IF('Fiches_Utilisateurs_Service#5'!BM21=1,1,0)","v":0},null,{"$f":"IF('Fiches_Utilisateurs_Service#5'!BO21=1,1,0)","v":0},null,{"$f":"IF('Fiches_Utilisateurs_Service#5'!BQ21=1,1,0)","v":0},null,{"$f":"IF('Fiches_Utilisateurs_Service#5'!BS21=1,1,0)","v":0},null,{"$f":"IF('Fiches_Utilisateurs_Service#5'!BU21=1,1,0)","v":0},null,{"$f":"IF('Fiches_Utilisateurs_Service#5'!BW21=1,1,0)","v":0},null,{"$f":"IF('Fiches_Utilisateurs_Service#5'!BY21=1,1,0)","v":0},null,{"$f":"IF('Fiches_Utilisateurs_Service#5'!CA21=1,1,0)","v":0},null,{"$f":"IF('Fiches_Utilisateurs_Service#5'!CC21=1,1,0)","v":0}]
[]
[null,null,{"$f":"IF('Fiches_Utilisateurs_Service#5'!C23=1,1,0)","v":0},null,{"$f":"IF('Fiches_Utilisateurs_Service#5'!E23=1,1,0)","v":0},null,{"$f":"IF('Fiches_Utilisateurs_Service#5'!G23=1,1,0)","v":0},null,{"$f":"IF('Fiches_Utilisateurs_Service#5'!I23=1,1,0)","v":0},null,{"$f":"IF('Fiches_Utilisateurs_Service#5'!K23=1,1,0)","v":0},null,{"$f":"IF('Fiches_Utilisateurs_Service#5'!M23=1,1,0)","v":0},null,{"$f":"IF('Fiches_Utilisateurs_Service#5'!O23=1,1,0)","v":0},null,{"$f":"IF('Fiches_Utilisateurs_Service#5'!Q23=1,1,0)","v":0},null,{"$f":"IF('Fiches_Utilisateurs_Service#5'!S23=1,1,0)","v":0},null,{"$f":"IF('Fiches_Utilisateurs_Service#5'!U23=1,1,0)","v":0},null,{"$f":"IF('Fiches_Utilisateurs_Service#5'!W23=1,1,0)","v":0},null,{"$f":"IF('Fiches_Utilisateurs_Service#5'!Y23=1,1,0)","v":0},null,{"$f":"IF('Fiches_Utilisateurs_Service#5'!AA23=1,1,0)","v":0},null,{"$f":"IF('Fiches_Utilisateurs_Service#5'!AC23=1,1,0)","v":0},null,{"$f":"IF('Fiches_Utilisateurs_Service#5'!AE23=1,1,0)","v":0},null,{"$f":"IF('Fiches_Utilisateurs_Service#5'!AG23=1,1,0)","v":0},null,{"$f":"IF('Fiches_Utilisateurs_Service#5'!AI23=1,1,0)","v":0},null,{"$f":"IF('Fiches_Utilisateurs_Service#5'!AK23=1,1,0)","v":0},null,{"$f":"IF('Fiches_Utilisateurs_Service#5'!AM23=1,1,0)","v":0},null,{"$f":"IF('Fiches_Utilisateurs_Service#5'!AO23=1,1,0)","v":0},null,{"$f":"IF('Fiches_Utilisateurs_Service#5'!AQ23=1,1,0)","v":0},null,{"$f":"IF('Fiches_Utilisateurs_Service#5'!AS23=1,1,0)","v":0},null,{"$f":"IF('Fiches_Utilisateurs_Service#5'!AU23=1,1,0)","v":0},null,{"$f":"IF('Fiches_Utilisateurs_Service#5'!AW23=1,1,0)","v":0},null,{"$f":"IF('Fiches_Utilisateurs_Service#5'!AY23=1,1,0)","v":0},null,{"$f":"IF('Fiches_Utilisateurs_Service#5'!BA23=1,1,0)","v":0},null,{"$f":"IF('Fiches_Utilisateurs_Service#5'!BC23=1,1,0)","v":0},null,{"$f":"IF('Fiches_Utilisateurs_Service#5'!BE23=1,1,0)","v":0},null,{"$f":"IF('Fiches_Utilisateurs_Service#5'!BG23=1,1,0)","v":0},null,{"$f":"IF('Fiches_Utilisateurs_Service#5'!BI23=1,1,0)","v":0},null,{"$f":"IF('Fiches_Utilisateurs_Service#5'!BK23=1,1,0)","v":0},null,{"$f":"IF('Fiches_Utilisateurs_Service#5'!BM23=1,1,0)","v":0},null,{"$f":"IF('Fiches_Utilisateurs_Service#5'!BO23=1,1,0)","v":0},null,{"$f":"IF('Fiches_Utilisateurs_Service#5'!BQ23=1,1,0)","v":0},null,{"$f":"IF('Fiches_Utilisateurs_Service#5'!BS23=1,1,0)","v":0},null,{"$f":"IF('Fiches_Utilisateurs_Service#5'!BU23=1,1,0)","v":0},null,{"$f":"IF('Fiches_Utilisateurs_Service#5'!BW23=1,1,0)","v":0},null,{"$f":"IF('Fiches_Utilisateurs_Service#5'!BY23=1,1,0)","v":0},null,{"$f":"IF('Fiches_Utilisateurs_Service#5'!CA23=1,1,0)","v":0},null,{"$f":"IF('Fiches_Utilisateurs_Service#5'!CC23=1,1,0)","v":0}]
[]
[null,null,{"$f":"IF('Fiches_Utilisateurs_Service#5'!C25=1,1,0)","v":0},null,{"$f":"IF('Fiches_Utilisateurs_Service#5'!E25=1,1,0)","v":0},null,{"$f":"IF('Fiches_Utilisateurs_Service#5'!G25=1,1,0)","v":0},null,{"$f":"IF('Fiches_Utilisateurs_Service#5'!I25=1,1,0)","v":0},null,{"$f":"IF('Fiches_Utilisateurs_Service#5'!K25=1,1,0)","v":0},null,{"$f":"IF('Fiches_Utilisateurs_Service#5'!M25=1,1,0)","v":0},null,{"$f":"IF('Fiches_Utilisateurs_Service#5'!O25=1,1,0)","v":0},null,{"$f":"IF('Fiches_Utilisateurs_Service#5'!Q25=1,1,0)","v":0},null,{"$f":"IF('Fiches_Utilisateurs_Service#5'!S25=1,1,0)","v":0},null,{"$f":"IF('Fiches_Utilisateurs_Service#5'!U25=1,1,0)","v":0},null,{"$f":"IF('Fiches_Utilisateurs_Service#5'!W25=1,1,0)","v":0},null,{"$f":"IF('Fiches_Utilisateurs_Service#5'!Y25=1,1,0)","v":0},null,{"$f":"IF('Fiches_Utilisateurs_Service#5'!AA25=1,1,0)","v":0},null,{"$f":"IF('Fiches_Utilisateurs_Service#5'!AC25=1,1,0)","v":0},null,{"$f":"IF('Fiches_Utilisateurs_Service#5'!AE25=1,1,0)","v":0},null,{"$f":"IF('Fiches_Utilisateurs_Service#5'!AG25=1,1,0)","v":0},null,{"$f":"IF('Fiches_Utilisateurs_Service#5'!AI25=1,1,0)","v":0},null,{"$f":"IF('Fiches_Utilisateurs_Service#5'!AK25=1,1,0)","v":0},null,{"$f":"IF('Fiches_Utilisateurs_Service#5'!AM25=1,1,0)","v":0},null,{"$f":"IF('Fiches_Utilisateurs_Service#5'!AO25=1,1,0)","v":0},null,{"$f":"IF('Fiches_Utilisateurs_Service#5'!AQ25=1,1,0)","v":0},null,{"$f":"IF('Fiches_Utilisateurs_Service#5'!AS25=1,1,0)","v":0},null,{"$f":"IF('Fiches_Utilisateurs_Service#5'!AU25=1,1,0)","v":0},null,{"$f":"IF('Fiches_Utilisateurs_Service#5'!AW25=1,1,0)","v":0},null,{"$f":"IF('Fiches_Utilisateurs_Service#5'!AY25=1,1,0)","v":0},null,{"$f":"IF('Fiches_Utilisateurs_Service#5'!BA25=1,1,0)","v":0},null,{"$f":"IF('Fiches_Utilisateurs_Service#5'!BC25=1,1,0)","v":0},null,{"$f":"IF('Fiches_Utilisateurs_Service#5'!BE25=1,1,0)","v":0},null,{"$f":"IF('Fiches_Utilisateurs_Service#5'!BG25=1,1,0)","v":0},null,{"$f":"IF('Fiches_Utilisateurs_Service#5'!BI25=1,1,0)","v":0},null,{"$f":"IF('Fiches_Utilisateurs_Service#5'!BK25=1,1,0)","v":0},null,{"$f":"IF('Fiches_Utilisateurs_Service#5'!BM25=1,1,0)","v":0},null,{"$f":"IF('Fiches_Utilisateurs_Service#5'!BO25=1,1,0)","v":0},null,{"$f":"IF('Fiches_Utilisateurs_Service#5'!BQ25=1,1,0)","v":0},null,{"$f":"IF('Fiches_Utilisateurs_Service#5'!BS25=1,1,0)","v":0},null,{"$f":"IF('Fiches_Utilisateurs_Service#5'!BU25=1,1,0)","v":0},null,{"$f":"IF('Fiches_Utilisateurs_Service#5'!BW25=1,1,0)","v":0},null,{"$f":"IF('Fiches_Utilisateurs_Service#5'!BY25=1,1,0)","v":0},null,{"$f":"IF('Fiches_Utilisateurs_Service#5'!CA25=1,1,0)","v":0},null,{"$f":"IF('Fiches_Utilisateurs_Service#5'!CC25=1,1,0)","v":0}]
[]
[null,null,{"$f":"IF('Fiches_Utilisateurs_Service#5'!C27=1,1,0)","v":0},null,{"$f":"IF('Fiches_Utilisateurs_Service#5'!E27=1,1,0)","v":0},null,{"$f":"IF('Fiches_Utilisateurs_Service#5'!G27=1,1,0)","v":0},null,{"$f":"IF('Fiches_Utilisateurs_Service#5'!I27=1,1,0)","v":0},null,{"$f":"IF('Fiches_Utilisateurs_Service#5'!K27=1,1,0)","v":0},null,{"$f":"IF('Fiches_Utilisateurs_Service#5'!M27=1,1,0)","v":0},null,{"$f":"IF('Fiches_Utilisateurs_Service#5'!O27=1,1,0)","v":0},null,{"$f":"IF('Fiches_Utilisateurs_Service#5'!Q27=1,1,0)","v":0},null,{"$f":"IF('Fiches_Utilisateurs_Service#5'!S27=1,1,0)","v":0},null,{"$f":"IF('Fiches_Utilisateurs_Service#5'!U27=1,1,0)","v":0},null,{"$f":"IF('Fiches_Utilisateurs_Service#5'!W27=1,1,0)","v":0},null,{"$f":"IF('Fiches_Utilisateurs_Service#5'!Y27=1,1,0)","v":0},null,{"$f":"IF('Fiches_Utilisateurs_Service#5'!AA27=1,1,0)","v":0},null,{"$f":"IF('Fiches_Utilisateurs_Service#5'!AC27=1,1,0)","v":0},null,{"$f":"IF('Fiches_Utilisateurs_Service#5'!AE27=1,1,0)","v":0},null,{"$f":"IF('Fiches_Utilisateurs_Service#5'!AG27=1,1,0)","v":0},null,{"$f":"IF('Fiches_Utilisateurs_Service#5'!AI27=1,1,0)","v":0},null,{"$f":"IF('Fiches_Utilisateurs_Service#5'!AK27=1,1,0)","v":0},null,{"$f":"IF('Fiches_Utilisateurs_Service#5'!AM27=1,1,0)","v":0},null,{"$f":"IF('Fiches_Utilisateurs_Service#5'!AO27=1,1,0)","v":0},null,{"$f":"IF('Fiches_Utilisateurs_Service#5'!AQ27=1,1,0)","v":0},null,{"$f":"IF('Fiches_Utilisateurs_Service#5'!AS27=1,1,0)","v":0},null,{"$f":"IF('Fiches_Utilisateurs_Service#5'!AU27=1,1,0)","v":0},null,{"$f":"IF('Fiches_Utilisateurs_Service#5'!AW27=1,1,0)","v":0},null,{"$f":"IF('Fiches_Utilisateurs_Service#5'!AY27=1,1,0)","v":0},null,{"$f":"IF('Fiches_Utilisateurs_Service#5'!BA27=1,1,0)","v":0},null,{"$f":"IF('Fiches_Utilisateurs_Service#5'!BC27=1,1,0)","v":0},null,{"$f":"IF('Fiches_Utilisateurs_Service#5'!BE27=1,1,0)","v":0},null,{"$f":"IF('Fiches_Utilisateurs_Service#5'!BG27=1,1,0)","v":0},null,{"$f":"IF('Fiches_Utilisateurs_Service#5'!BI27=1,1,0)","v":0},null,{"$f":"IF('Fiches_Utilisateurs_Service#5'!BK27=1,1,0)","v":0},null,{"$f":"IF('Fiches_Utilisateurs_Service#5'!BM27=1,1,0)","v":0},null,{"$f":"IF('Fiches_Utilisateurs_Service#5'!BO27=1,1,0)","v":0},null,{"$f":"IF('Fiches_Utilisateurs_Service#5'!BQ27=1,1,0)","v":0},null,{"$f":"IF('Fiches_Utilisateurs_Service#5'!BS27=1,1,0)","v":0},null,{"$f":"IF('Fiches_Utilisateurs_Service#5'!BU27=1,1,0)","v":0},null,{"$f":"IF('Fiches_Utilisateurs_Service#5'!BW27=1,1,0)","v":0},null,{"$f":"IF('Fiches_Utilisateurs_Service#5'!BY27=1,1,0)","v":0},null,{"$f":"IF('Fiches_Utilisateurs_Service#5'!CA27=1,1,0)","v":0},null,{"$f":"IF('Fiches_Utilisateurs_Service#5'!CC27=1,1,0)","v":0}]
[]
[null,null,{"$f":"IF('Fiches_Utilisateurs_Service#5'!C29=1,1,0)","v":0},null,{"$f":"IF('Fiches_Utilisateurs_Service#5'!E29=1,1,0)","v":0},null,{"$f":"IF('Fiches_Utilisateurs_Service#5'!G29=1,1,0)","v":0},null,{"$f":"IF('Fiches_Utilisateurs_Service#5'!I29=1,1,0)","v":0},null,{"$f":"IF('Fiches_Utilisateurs_Service#5'!K29=1,1,0)","v":0},null,{"$f":"IF('Fiches_Utilisateurs_Service#5'!M29=1,1,0)","v":0},null,{"$f":"IF('Fiches_Utilisateurs_Service#5'!O29=1,1,0)","v":0},null,{"$f":"IF('Fiches_Utilisateurs_Service#5'!Q29=1,1,0)","v":0},null,{"$f":"IF('Fiches_Utilisateurs_Service#5'!S29=1,1,0)","v":0},null,{"$f":"IF('Fiches_Utilisateurs_Service#5'!U29=1,1,0)","v":0},null,{"$f":"IF('Fiches_Utilisateurs_Service#5'!W29=1,1,0)","v":0},null,{"$f":"IF('Fiches_Utilisateurs_Service#5'!Y29=1,1,0)","v":0},null,{"$f":"IF('Fiches_Utilisateurs_Service#5'!AA29=1,1,0)","v":0},null,{"$f":"IF('Fiches_Utilisateurs_Service#5'!AC29=1,1,0)","v":0},null,{"$f":"IF('Fiches_Utilisateurs_Service#5'!AE29=1,1,0)","v":0},null,{"$f":"IF('Fiches_Utilisateurs_Service#5'!AG29=1,1,0)","v":0},null,{"$f":"IF('Fiches_Utilisateurs_Service#5'!AI29=1,1,0)","v":0},null,{"$f":"IF('Fiches_Utilisateurs_Service#5'!AK29=1,1,0)","v":0},null,{"$f":"IF('Fiches_Utilisateurs_Service#5'!AM29=1,1,0)","v":0},null,{"$f":"IF('Fiches_Utilisateurs_Service#5'!AO29=1,1,0)","v":0},null,{"$f":"IF('Fiches_Utilisateurs_Service#5'!AQ29=1,1,0)","v":0},null,{"$f":"IF('Fiches_Utilisateurs_Service#5'!AS29=1,1,0)","v":0},null,{"$f":"IF('Fiches_Utilisateurs_Service#5'!AU29=1,1,0)","v":0},null,{"$f":"IF('Fiches_Utilisateurs_Service#5'!AW29=1,1,0)","v":0},null,{"$f":"IF('Fiches_Utilisateurs_Service#5'!AY29=1,1,0)","v":0},null,{"$f":"IF('Fiches_Utilisateurs_Service#5'!BA29=1,1,0)","v":0},null,{"$f":"IF('Fiches_Utilisateurs_Service#5'!BC29=1,1,0)","v":0},null,{"$f":"IF('Fiches_Utilisateurs_Service#5'!BE29=1,1,0)","v":0},null,{"$f":"IF('Fiches_Utilisateurs_Service#5'!BG29=1,1,0)","v":0},null,{"$f":"IF('Fiches_Utilisateurs_Service#5'!BI29=1,1,0)","v":0},null,{"$f":"IF('Fiches_Utilisateurs_Service#5'!BK29=1,1,0)","v":0},null,{"$f":"IF('Fiches_Utilisateurs_Service#5'!BM29=1,1,0)","v":0},null,{"$f":"IF('Fiches_Utilisateurs_Service#5'!BO29=1,1,0)","v":0},null,{"$f":"IF('Fiches_Utilisateurs_Service#5'!BQ29=1,1,0)","v":0},null,{"$f":"IF('Fiches_Utilisateurs_Service#5'!BS29=1,1,0)","v":0},null,{"$f":"IF('Fiches_Utilisateurs_Service#5'!BU29=1,1,0)","v":0},null,{"$f":"IF('Fiches_Utilisateurs_Service#5'!BW29=1,1,0)","v":0},null,{"$f":"IF('Fiches_Utilisateurs_Service#5'!BY29=1,1,0)","v":0},null,{"$f":"IF('Fiches_Utilisateurs_Service#5'!CA29=1,1,0)","v":0},null,{"$f":"IF('Fiches_Utilisateurs_Service#5'!CC29=1,1,0)","v":0}]
[]
[null,null,{"$f":"IF('Fiches_Utilisateurs_Service#5'!C31=1,1,0)","v":0},null,{"$f":"IF('Fiches_Utilisateurs_Service#5'!E31=1,1,0)","v":0},null,{"$f":"IF('Fiches_Utilisateurs_Service#5'!G31=1,1,0)","v":0},null,{"$f":"IF('Fiches_Utilisateurs_Service#5'!I31=1,1,0)","v":0},null,{"$f":"IF('Fiches_Utilisateurs_Service#5'!K31=1,1,0)","v":0},null,{"$f":"IF('Fiches_Utilisateurs_Service#5'!M31=1,1,0)","v":0},null,{"$f":"IF('Fiches_Utilisateurs_Service#5'!O31=1,1,0)","v":0},null,{"$f":"IF('Fiches_Utilisateurs_Service#5'!Q31=1,1,0)","v":0},null,{"$f":"IF('Fiches_Utilisateurs_Service#5'!S31=1,1,0)","v":0},null,{"$f":"IF('Fiches_Utilisateurs_Service#5'!U31=1,1,0)","v":0},null,{"$f":"IF('Fiches_Utilisateurs_Service#5'!W31=1,1,0)","v":0},null,{"$f":"IF('Fiches_Utilisateurs_Service#5'!Y31=1,1,0)","v":0},null,{"$f":"IF('Fiches_Utilisateurs_Service#5'!AA31=1,1,0)","v":0},null,{"$f":"IF('Fiches_Utilisateurs_Service#5'!AC31=1,1,0)","v":0},null,{"$f":"IF('Fiches_Utilisateurs_Service#5'!AE31=1,1,0)","v":0},null,{"$f":"IF('Fiches_Utilisateurs_Service#5'!AG31=1,1,0)","v":0},null,{"$f":"IF('Fiches_Utilisateurs_Service#5'!AI31=1,1,0)","v":0},null,{"$f":"IF('Fiches_Utilisateurs_Service#5'!AK31=1,1,0)","v":0},null,{"$f":"IF('Fiches_Utilisateurs_Service#5'!AM31=1,1,0)","v":0},null,{"$f":"IF('Fiches_Utilisateurs_Service#5'!AO31=1,1,0)","v":0},null,{"$f":"IF('Fiches_Utilisateurs_Service#5'!AQ31=1,1,0)","v":0},null,{"$f":"IF('Fiches_Utilisateurs_Service#5'!AS31=1,1,0)","v":0},null,{"$f":"IF('Fiches_Utilisateurs_Service#5'!AU31=1,1,0)","v":0},null,{"$f":"IF('Fiches_Utilisateurs_Service#5'!AW31=1,1,0)","v":0},null,{"$f":"IF('Fiches_Utilisateurs_Service#5'!AY31=1,1,0)","v":0},null,{"$f":"IF('Fiches_Utilisateurs_Service#5'!BA31=1,1,0)","v":0},null,{"$f":"IF('Fiches_Utilisateurs_Service#5'!BC31=1,1,0)","v":0},null,{"$f":"IF('Fiches_Utilisateurs_Service#5'!BE31=1,1,0)","v":0},null,{"$f":"IF('Fiches_Utilisateurs_Service#5'!BG31=1,1,0)","v":0},null,{"$f":"IF('Fiches_Utilisateurs_Service#5'!BI31=1,1,0)","v":0},null,{"$f":"IF('Fiches_Utilisateurs_Service#5'!BK31=1,1,0)","v":0},null,{"$f":"IF('Fiches_Utilisateurs_Service#5'!BM31=1,1,0)","v":0},null,{"$f":"IF('Fiches_Utilisateurs_Service#5'!BO31=1,1,0)","v":0},null,{"$f":"IF('Fiches_Utilisateurs_Service#5'!BQ31=1,1,0)","v":0},null,{"$f":"IF('Fiches_Utilisateurs_Service#5'!BS31=1,1,0)","v":0},null,{"$f":"IF('Fiches_Utilisateurs_Service#5'!BU31=1,1,0)","v":0},null,{"$f":"IF('Fiches_Utilisateurs_Service#5'!BW31=1,1,0)","v":0},null,{"$f":"IF('Fiches_Utilisateurs_Service#5'!BY31=1,1,0)","v":0},null,{"$f":"IF('Fiches_Utilisateurs_Service#5'!CA31=1,1,0)","v":0},null,{"$f":"IF('Fiches_Utilisateurs_Service#5'!CC31=1,1,0)","v":0}]
[]
[null,null,{"$f":"IF('Fiches_Utilisateurs_Service#5'!C33=1,1,0)","v":0},null,{"$f":"IF('Fiches_Utilisateurs_Service#5'!E33=1,1,0)","v":0},null,{"$f":"IF('Fiches_Utilisateurs_Service#5'!G33=1,1,0)","v":0},null,{"$f":"IF('Fiches_Utilisateurs_Service#5'!I33=1,1,0)","v":0},null,{"$f":"IF('Fiches_Utilisateurs_Service#5'!K33=1,1,0)","v":0},null,{"$f":"IF('Fiches_Utilisateurs_Service#5'!M33=1,1,0)","v":0},null,{"$f":"IF('Fiches_Utilisateurs_Service#5'!O33=1,1,0)","v":0},null,{"$f":"IF('Fiches_Utilisateurs_Service#5'!Q33=1,1,0)","v":0},null,{"$f":"IF('Fiches_Utilisateurs_Service#5'!S33=1,1,0)","v":0},null,{"$f":"IF('Fiches_Utilisateurs_Service#5'!U33=1,1,0)","v":0},null,{"$f":"IF('Fiches_Utilisateurs_Service#5'!W33=1,1,0)","v":0},null,{"$f":"IF('Fiches_Utilisateurs_Service#5'!Y33=1,1,0)","v":0},null,{"$f":"IF('Fiches_Utilisateurs_Service#5'!AA33=1,1,0)","v":0},null,{"$f":"IF('Fiches_Utilisateurs_Service#5'!AC33=1,1,0)","v":0},null,{"$f":"IF('Fiches_Utilisateurs_Service#5'!AE33=1,1,0)","v":0},null,{"$f":"IF('Fiches_Utilisateurs_Service#5'!AG33=1,1,0)","v":0},null,{"$f":"IF('Fiches_Utilisateurs_Service#5'!AI33=1,1,0)","v":0},null,{"$f":"IF('Fiches_Utilisateurs_Service#5'!AK33=1,1,0)","v":0},null,{"$f":"IF('Fiches_Utilisateurs_Service#5'!AM33=1,1,0)","v":0},null,{"$f":"IF('Fiches_Utilisateurs_Service#5'!AO33=1,1,0)","v":0},null,{"$f":"IF('Fiches_Utilisateurs_Service#5'!AQ33=1,1,0)","v":0},null,{"$f":"IF('Fiches_Utilisateurs_Service#5'!AS33=1,1,0)","v":0},null,{"$f":"IF('Fiches_Utilisateurs_Service#5'!AU33=1,1,0)","v":0},null,{"$f":"IF('Fiches_Utilisateurs_Service#5'!AW33=1,1,0)","v":0},null,{"$f":"IF('Fiches_Utilisateurs_Service#5'!AY33=1,1,0)","v":0},null,{"$f":"IF('Fiches_Utilisateurs_Service#5'!BA33=1,1,0)","v":0},null,{"$f":"IF('Fiches_Utilisateurs_Service#5'!BC33=1,1,0)","v":0},null,{"$f":"IF('Fiches_Utilisateurs_Service#5'!BE33=1,1,0)","v":0},null,{"$f":"IF('Fiches_Utilisateurs_Service#5'!BG33=1,1,0)","v":0},null,{"$f":"IF('Fiches_Utilisateurs_Service#5'!BI33=1,1,0)","v":0},null,{"$f":"IF('Fiches_Utilisateurs_Service#5'!BK33=1,1,0)","v":0},null,{"$f":"IF('Fiches_Utilisateurs_Service#5'!BM33=1,1,0)","v":0},null,{"$f":"IF('Fiches_Utilisateurs_Service#5'!BO33=1,1,0)","v":0},null,{"$f":"IF('Fiches_Utilisateurs_Service#5'!BQ33=1,1,0)","v":0},null,{"$f":"IF('Fiches_Utilisateurs_Service#5'!BS33=1,1,0)","v":0},null,{"$f":"IF('Fiches_Utilisateurs_Service#5'!BU33=1,1,0)","v":0},null,{"$f":"IF('Fiches_Utilisateurs_Service#5'!BW33=1,1,0)","v":0},null,{"$f":"IF('Fiches_Utilisateurs_Service#5'!BY33=1,1,0)","v":0},null,{"$f":"IF('Fiches_Utilisateurs_Service#5'!CA33=1,1,0)","v":0},null,{"$f":"IF('Fiches_Utilisateurs_Service#5'!CC33=1,1,0)","v":0}]
[]
[null,null,{"$f":"IF('Fiches_Utilisateurs_Service#5'!C35=1,1,0)","v":0},null,{"$f":"IF('Fiches_Utilisateurs_Service#5'!E35=1,1,0)","v":0},null,{"$f":"IF('Fiches_Utilisateurs_Service#5'!G35=1,1,0)","v":0},null,{"$f":"IF('Fiches_Utilisateurs_Service#5'!I35=1,1,0)","v":0},null,{"$f":"IF('Fiches_Utilisateurs_Service#5'!K35=1,1,0)","v":0},null,{"$f":"IF('Fiches_Utilisateurs_Service#5'!M35=1,1,0)","v":0},null,{"$f":"IF('Fiches_Utilisateurs_Service#5'!O35=1,1,0)","v":0},null,{"$f":"IF('Fiches_Utilisateurs_Service#5'!Q35=1,1,0)","v":0},null,{"$f":"IF('Fiches_Utilisateurs_Service#5'!S35=1,1,0)","v":0},null,{"$f":"IF('Fiches_Utilisateurs_Service#5'!U35=1,1,0)","v":0},null,{"$f":"IF('Fiches_Utilisateurs_Service#5'!W35=1,1,0)","v":0},null,{"$f":"IF('Fiches_Utilisateurs_Service#5'!Y35=1,1,0)","v":0},null,{"$f":"IF('Fiches_Utilisateurs_Service#5'!AA35=1,1,0)","v":0},null,{"$f":"IF('Fiches_Utilisateurs_Service#5'!AC35=1,1,0)","v":0},null,{"$f":"IF('Fiches_Utilisateurs_Service#5'!AE35=1,1,0)","v":0},null,{"$f":"IF('Fiches_Utilisateurs_Service#5'!AG35=1,1,0)","v":0},null,{"$f":"IF('Fiches_Utilisateurs_Service#5'!AI35=1,1,0)","v":0},null,{"$f":"IF('Fiches_Utilisateurs_Service#5'!AK35=1,1,0)","v":0},null,{"$f":"IF('Fiches_Utilisateurs_Service#5'!AM35=1,1,0)","v":0},null,{"$f":"IF('Fiches_Utilisateurs_Service#5'!AO35=1,1,0)","v":0},null,{"$f":"IF('Fiches_Utilisateurs_Service#5'!AQ35=1,1,0)","v":0},null,{"$f":"IF('Fiches_Utilisateurs_Service#5'!AS35=1,1,0)","v":0},null,{"$f":"IF('Fiches_Utilisateurs_Service#5'!AU35=1,1,0)","v":0},null,{"$f":"IF('Fiches_Utilisateurs_Service#5'!AW35=1,1,0)","v":0},null,{"$f":"IF('Fiches_Utilisateurs_Service#5'!AY35=1,1,0)","v":0},null,{"$f":"IF('Fiches_Utilisateurs_Service#5'!BA35=1,1,0)","v":0},null,{"$f":"IF('Fiches_Utilisateurs_Service#5'!BC35=1,1,0)","v":0},null,{"$f":"IF('Fiches_Utilisateurs_Service#5'!BE35=1,1,0)","v":0},null,{"$f":"IF('Fiches_Utilisateurs_Service#5'!BG35=1,1,0)","v":0},null,{"$f":"IF('Fiches_Utilisateurs_Service#5'!BI35=1,1,0)","v":0},null,{"$f":"IF('Fiches_Utilisateurs_Service#5'!BK35=1,1,0)","v":0},null,{"$f":"IF('Fiches_Utilisateurs_Service#5'!BM35=1,1,0)","v":0},null,{"$f":"IF('Fiches_Utilisateurs_Service#5'!BO35=1,1,0)","v":0},null,{"$f":"IF('Fiches_Utilisateurs_Service#5'!BQ35=1,1,0)","v":0},null,{"$f":"IF('Fiches_Utilisateurs_Service#5'!BS35=1,1,0)","v":0},null,{"$f":"IF('Fiches_Utilisateurs_Service#5'!BU35=1,1,0)","v":0},null,{"$f":"IF('Fiches_Utilisateurs_Service#5'!BW35=1,1,0)","v":0},null,{"$f":"IF('Fiches_Utilisateurs_Service#5'!BY35=1,1,0)","v":0},null,{"$f":"IF('Fiches_Utilisateurs_Service#5'!CA35=1,1,0)","v":0},null,{"$f":"IF('Fiches_Utilisateurs_Service#5'!CC35=1,1,0)","v":0}]
[]
["tot sale",{"$f":"SUM(C37:CC37)","v":0},{"$f":"SUM(C15:C35)","v":0},null,{"$f":"SUM(E15:E35)","v":0},null,{"$f":"SUM(G15:G35)","v":0},null,{"$f":"SUM(I15:I35)","v":0},null,{"$f":"SUM(K15:K35)","v":0},null,{"$f":"SUM(M15:M35)","v":0},null,{"$f":"SUM(O15:O35)","v":0},null,{"$f":"SUM(Q15:Q35)","v":0},null,{"$f":"SUM(S15:S35)","v":0},null,{"$f":"SUM(U15:U35)","v":0},null,{"$f":"SUM(W15:W35)","v":0},null,{"$f":"SUM(Y15:Y35)","v":0},null,{"$f":"SUM(AA15:AA35)","v":0},null,{"$f":"SUM(AC15:AC35)","v":0},null,{"$f":"SUM(AE15:AE35)","v":0},null,{"$f":"SUM(AG15:AG35)","v":0},null,{"$f":"SUM(AI15:AI35)","v":0},null,{"$f":"SUM(AK15:AK35)","v":0},null,{"$f":"SUM(AM15:AM35)","v":0},null,{"$f":"SUM(AO15:AO35)","v":0},null,{"$f":"SUM(AQ15:AQ35)","v":0},null,{"$f":"SUM(AS15:AS35)","v":0},null,{"$f":"SUM(AU15:AU35)","v":0},null,{"$f":"SUM(AW15:AW35)","v":0},null,{"$f":"SUM(AY15:AY35)","v":0},null,{"$f":"SUM(BA15:BA35)","v":0},null,{"$f":"SUM(BC15:BC35)","v":0},null,{"$f":"SUM(BE15:BE35)","v":0},null,{"$f":"SUM(BG15:BG35)","v":0},null,{"$f":"SUM(BI15:BI35)","v":0},null,{"$f":"SUM(BK15:BK35)","v":0},null,{"$f":"SUM(BM15:BM35)","v":0},null,{"$f":"SUM(BO15:BO35)","v":0},null,{"$f":"SUM(BQ15:BQ35)","v":0},null,{"$f":"SUM(BS15:BS35)","v":0},null,{"$f":"SUM(BU15:BU35)","v":0},null,{"$f":"SUM(BW15:BW35)","v":0},null,{"$f":"SUM(BY15:BY35)","v":0},null,{"$f":"SUM(CA15:CA35)","v":0},null,{"$f":"SUM(CC15:CC35)","v":0}]
[]
[null,null,{"$f":"IF('Fiches_Utilisateurs_Service#5'!C39=1,1,0)","v":0},null,{"$f":"IF('Fiches_Utilisateurs_Service#5'!E39=1,1,0)","v":0},null,{"$f":"IF('Fiches_Utilisateurs_Service#5'!G39=1,1,0)","v":0},null,{"$f":"IF('Fiches_Utilisateurs_Service#5'!I39=1,1,0)","v":0},null,{"$f":"IF('Fiches_Utilisateurs_Service#5'!K39=1,1,0)","v":0},null,{"$f":"IF('Fiches_Utilisateurs_Service#5'!M39=1,1,0)","v":0},null,{"$f":"IF('Fiches_Utilisateurs_Service#5'!O39=1,1,0)","v":0},null,{"$f":"IF('Fiches_Utilisateurs_Service#5'!Q39=1,1,0)","v":0},null,{"$f":"IF('Fiches_Utilisateurs_Service#5'!S39=1,1,0)","v":0},null,{"$f":"IF('Fiches_Utilisateurs_Service#5'!U39=1,1,0)","v":0},null,{"$f":"IF('Fiches_Utilisateurs_Service#5'!W39=1,1,0)","v":0},null,{"$f":"IF('Fiches_Utilisateurs_Service#5'!Y39=1,1,0)","v":0},null,{"$f":"IF('Fiches_Utilisateurs_Service#5'!AA39=1,1,0)","v":0},null,{"$f":"IF('Fiches_Utilisateurs_Service#5'!AC39=1,1,0)","v":0},null,{"$f":"IF('Fiches_Utilisateurs_Service#5'!AE39=1,1,0)","v":0},null,{"$f":"IF('Fiches_Utilisateurs_Service#5'!AG39=1,1,0)","v":0},null,{"$f":"IF('Fiches_Utilisateurs_Service#5'!AI39=1,1,0)","v":0},null,{"$f":"IF('Fiches_Utilisateurs_Service#5'!AK39=1,1,0)","v":0},null,{"$f":"IF('Fiches_Utilisateurs_Service#5'!AM39=1,1,0)","v":0},null,{"$f":"IF('Fiches_Utilisateurs_Service#5'!AO39=1,1,0)","v":0},null,{"$f":"IF('Fiches_Utilisateurs_Service#5'!AQ39=1,1,0)","v":0},null,{"$f":"IF('Fiches_Utilisateurs_Service#5'!AS39=1,1,0)","v":0},null,{"$f":"IF('Fiches_Utilisateurs_Service#5'!AU39=1,1,0)","v":0},null,{"$f":"IF('Fiches_Utilisateurs_Service#5'!AW39=1,1,0)","v":0},null,{"$f":"IF('Fiches_Utilisateurs_Service#5'!AY39=1,1,0)","v":0},null,{"$f":"IF('Fiches_Utilisateurs_Service#5'!BA39=1,1,0)","v":0},null,{"$f":"IF('Fiches_Utilisateurs_Service#5'!BC39=1,1,0)","v":0},null,{"$f":"IF('Fiches_Utilisateurs_Service#5'!BE39=1,1,0)","v":0},null,{"$f":"IF('Fiches_Utilisateurs_Service#5'!BG39=1,1,0)","v":0},null,{"$f":"IF('Fiches_Utilisateurs_Service#5'!BI39=1,1,0)","v":0},null,{"$f":"IF('Fiches_Utilisateurs_Service#5'!BK39=1,1,0)","v":0},null,{"$f":"IF('Fiches_Utilisateurs_Service#5'!BM39=1,1,0)","v":0},null,{"$f":"IF('Fiches_Utilisateurs_Service#5'!BO39=1,1,0)","v":0},null,{"$f":"IF('Fiches_Utilisateurs_Service#5'!BQ39=1,1,0)","v":0},null,{"$f":"IF('Fiches_Utilisateurs_Service#5'!BS39=1,1,0)","v":0},null,{"$f":"IF('Fiches_Utilisateurs_Service#5'!BU39=1,1,0)","v":0},null,{"$f":"IF('Fiches_Utilisateurs_Service#5'!BW39=1,1,0)","v":0},null,{"$f":"IF('Fiches_Utilisateurs_Service#5'!BY39=1,1,0)","v":0},null,{"$f":"IF('Fiches_Utilisateurs_Service#5'!CA39=1,1,0)","v":0},null,{"$f":"IF('Fiches_Utilisateurs_Service#5'!CC39=1,1,0)","v":0}]
[]
[null,null,{"$f":"IF('Fiches_Utilisateurs_Service#5'!C41=1,1,0)","v":0},null,{"$f":"IF('Fiches_Utilisateurs_Service#5'!E41=1,1,0)","v":0},null,{"$f":"IF('Fiches_Utilisateurs_Service#5'!G41=1,1,0)","v":0},null,{"$f":"IF('Fiches_Utilisateurs_Service#5'!I41=1,1,0)","v":0},null,{"$f":"IF('Fiches_Utilisateurs_Service#5'!K41=1,1,0)","v":0},null,{"$f":"IF('Fiches_Utilisateurs_Service#5'!M41=1,1,0)","v":0},null,{"$f":"IF('Fiches_Utilisateurs_Service#5'!O41=1,1,0)","v":0},null,{"$f":"IF('Fiches_Utilisateurs_Service#5'!Q41=1,1,0)","v":0},null,{"$f":"IF('Fiches_Utilisateurs_Service#5'!S41=1,1,0)","v":0},null,{"$f":"IF('Fiches_Utilisateurs_Service#5'!U41=1,1,0)","v":0},null,{"$f":"IF('Fiches_Utilisateurs_Service#5'!W41=1,1,0)","v":0},null,{"$f":"IF('Fiches_Utilisateurs_Service#5'!Y41=1,1,0)","v":0},null,{"$f":"IF('Fiches_Utilisateurs_Service#5'!AA41=1,1,0)","v":0},null,{"$f":"IF('Fiches_Utilisateurs_Service#5'!AC41=1,1,0)","v":0},null,{"$f":"IF('Fiches_Utilisateurs_Service#5'!AE41=1,1,0)","v":0},null,{"$f":"IF('Fiches_Utilisateurs_Service#5'!AG41=1,1,0)","v":0},null,{"$f":"IF('Fiches_Utilisateurs_Service#5'!AI41=1,1,0)","v":0},null,{"$f":"IF('Fiches_Utilisateurs_Service#5'!AK41=1,1,0)","v":0},null,{"$f":"IF('Fiches_Utilisateurs_Service#5'!AM41=1,1,0)","v":0},null,{"$f":"IF('Fiches_Utilisateurs_Service#5'!AO41=1,1,0)","v":0},null,{"$f":"IF('Fiches_Utilisateurs_Service#5'!AQ41=1,1,0)","v":0},null,{"$f":"IF('Fiches_Utilisateurs_Service#5'!AS41=1,1,0)","v":0},null,{"$f":"IF('Fiches_Utilisateurs_Service#5'!AU41=1,1,0)","v":0},null,{"$f":"IF('Fiches_Utilisateurs_Service#5'!AW41=1,1,0)","v":0},null,{"$f":"IF('Fiches_Utilisateurs_Service#5'!AY41=1,1,0)","v":0},null,{"$f":"IF('Fiches_Utilisateurs_Service#5'!BA41=1,1,0)","v":0},null,{"$f":"IF('Fiches_Utilisateurs_Service#5'!BC41=1,1,0)","v":0},null,{"$f":"IF('Fiches_Utilisateurs_Service#5'!BE41=1,1,0)","v":0},null,{"$f":"IF('Fiches_Utilisateurs_Service#5'!BG41=1,1,0)","v":0},null,{"$f":"IF('Fiches_Utilisateurs_Service#5'!BI41=1,1,0)","v":0},null,{"$f":"IF('Fiches_Utilisateurs_Service#5'!BK41=1,1,0)","v":0},null,{"$f":"IF('Fiches_Utilisateurs_Service#5'!BM41=1,1,0)","v":0},null,{"$f":"IF('Fiches_Utilisateurs_Service#5'!BO41=1,1,0)","v":0},null,{"$f":"IF('Fiches_Utilisateurs_Service#5'!BQ41=1,1,0)","v":0},null,{"$f":"IF('Fiches_Utilisateurs_Service#5'!BS41=1,1,0)","v":0},null,{"$f":"IF('Fiches_Utilisateurs_Service#5'!BU41=1,1,0)","v":0},null,{"$f":"IF('Fiches_Utilisateurs_Service#5'!BW41=1,1,0)","v":0},null,{"$f":"IF('Fiches_Utilisateurs_Service#5'!BY41=1,1,0)","v":0},null,{"$f":"IF('Fiches_Utilisateurs_Service#5'!CA41=1,1,0)","v":0},null,{"$f":"IF('Fiches_Utilisateurs_Service#5'!CC41=1,1,0)","v":0}]
[]
[null,null,{"$f":"IF('Fiches_Utilisateurs_Service#5'!C43=1,1,0)","v":0},null,{"$f":"IF('Fiches_Utilisateurs_Service#5'!E43=1,1,0)","v":0},null,{"$f":"IF('Fiches_Utilisateurs_Service#5'!G43=1,1,0)","v":0},null,{"$f":"IF('Fiches_Utilisateurs_Service#5'!I43=1,1,0)","v":0},null,{"$f":"IF('Fiches_Utilisateurs_Service#5'!K43=1,1,0)","v":0},null,{"$f":"IF('Fiches_Utilisateurs_Service#5'!M43=1,1,0)","v":0},null,{"$f":"IF('Fiches_Utilisateurs_Service#5'!O43=1,1,0)","v":0},null,{"$f":"IF('Fiches_Utilisateurs_Service#5'!Q43=1,1,0)","v":0},null,{"$f":"IF('Fiches_Utilisateurs_Service#5'!S43=1,1,0)","v":0},null,{"$f":"IF('Fiches_Utilisateurs_Service#5'!U43=1,1,0)","v":0},null,{"$f":"IF('Fiches_Utilisateurs_Service#5'!W43=1,1,0)","v":0},null,{"$f":"IF('Fiches_Utilisateurs_Service#5'!Y43=1,1,0)","v":0},null,{"$f":"IF('Fiches_Utilisateurs_Service#5'!AA43=1,1,0)","v":0},null,{"$f":"IF('Fiches_Utilisateurs_Service#5'!AC43=1,1,0)","v":0},null,{"$f":"IF('Fiches_Utilisateurs_Service#5'!AE43=1,1,0)","v":0},null,{"$f":"IF('Fiches_Utilisateurs_Service#5'!AG43=1,1,0)","v":0},null,{"$f":"IF('Fiches_Utilisateurs_Service#5'!AI43=1,1,0)","v":0},null,{"$f":"IF('Fiches_Utilisateurs_Service#5'!AK43=1,1,0)","v":0},null,{"$f":"IF('Fiches_Utilisateurs_Service#5'!AM43=1,1,0)","v":0},null,{"$f":"IF('Fiches_Utilisateurs_Service#5'!AO43=1,1,0)","v":0},null,{"$f":"IF('Fiches_Utilisateurs_Service#5'!AQ43=1,1,0)","v":0},null,{"$f":"IF('Fiches_Utilisateurs_Service#5'!AS43=1,1,0)","v":0},null,{"$f":"IF('Fiches_Utilisateurs_Service#5'!AU43=1,1,0)","v":0},null,{"$f":"IF('Fiches_Utilisateurs_Service#5'!AW43=1,1,0)","v":0},null,{"$f":"IF('Fiches_Utilisateurs_Service#5'!AY43=1,1,0)","v":0},null,{"$f":"IF('Fiches_Utilisateurs_Service#5'!BA43=1,1,0)","v":0},null,{"$f":"IF('Fiches_Utilisateurs_Service#5'!BC43=1,1,0)","v":0},null,{"$f":"IF('Fiches_Utilisateurs_Service#5'!BE43=1,1,0)","v":0},null,{"$f":"IF('Fiches_Utilisateurs_Service#5'!BG43=1,1,0)","v":0},null,{"$f":"IF('Fiches_Utilisateurs_Service#5'!BI43=1,1,0)","v":0},null,{"$f":"IF('Fiches_Utilisateurs_Service#5'!BK43=1,1,0)","v":0},null,{"$f":"IF('Fiches_Utilisateurs_Service#5'!BM43=1,1,0)","v":0},null,{"$f":"IF('Fiches_Utilisateurs_Service#5'!BO43=1,1,0)","v":0},null,{"$f":"IF('Fiches_Utilisateurs_Service#5'!BQ43=1,1,0)","v":0},null,{"$f":"IF('Fiches_Utilisateurs_Service#5'!BS43=1,1,0)","v":0},null,{"$f":"IF('Fiches_Utilisateurs_Service#5'!BU43=1,1,0)","v":0},null,{"$f":"IF('Fiches_Utilisateurs_Service#5'!BW43=1,1,0)","v":0},null,{"$f":"IF('Fiches_Utilisateurs_Service#5'!BY43=1,1,0)","v":0},null,{"$f":"IF('Fiches_Utilisateurs_Service#5'!CA43=1,1,0)","v":0},null,{"$f":"IF('Fiches_Utilisateurs_Service#5'!CC43=1,1,0)","v":0}]
[]
["tot propre",{"$f":"SUM(C45:CC45)","v":0},{"$f":"SUM(C39:C43)","v":0},null,{"$f":"SUM(E39:E43)","v":0},null,{"$f":"SUM(G39:G43)","v":0},null,{"$f":"SUM(I39:I43)","v":0},null,{"$f":"SUM(K39:K43)","v":0},null,{"$f":"SUM(M39:M43)","v":0},null,{"$f":"SUM(O39:O43)","v":0},null,{"$f":"SUM(Q39:Q43)","v":0},null,{"$f":"SUM(S39:S43)","v":0},null,{"$f":"SUM(U39:U43)","v":0},null,{"$f":"SUM(W39:W43)","v":0},null,{"$f":"SUM(Y39:Y43)","v":0},null,{"$f":"SUM(AA39:AA43)","v":0},null,{"$f":"SUM(AC39:AC43)","v":0},null,{"$f":"SUM(AE39:AE43)","v":0},null,{"$f":"SUM(AG39:AG43)","v":0},null,{"$f":"SUM(AI39:AI43)","v":0},null,{"$f":"SUM(AK39:AK43)","v":0},null,{"$f":"SUM(AM39:AM43)","v":0},null,{"$f":"SUM(AO39:AO43)","v":0},null,{"$f":"SUM(AQ39:AQ43)","v":0},null,{"$f":"SUM(AS39:AS43)","v":0},null,{"$f":"SUM(AU39:AU43)","v":0},null,{"$f":"SUM(AW39:AW43)","v":0},null,{"$f":"SUM(AY39:AY43)","v":0},null,{"$f":"SUM(BA39:BA43)","v":0},null,{"$f":"SUM(BC39:BC43)","v":0},null,{"$f":"SUM(BE39:BE43)","v":0},null,{"$f":"SUM(BG39:BG43)","v":0},null,{"$f":"SUM(BI39:BI43)","v":0},null,{"$f":"SUM(BK39:BK43)","v":0},null,{"$f":"SUM(BM39:BM43)","v":0},null,{"$f":"SUM(BO39:BO43)","v":0},null,{"$f":"SUM(BQ39:BQ43)","v":0},null,{"$f":"SUM(BS39:BS43)","v":0},null,{"$f":"SUM(BU39:BU43)","v":0},null,{"$f":"SUM(BW39:BW43)","v":0},null,{"$f":"SUM(BY39:BY43)","v":0},null,{"$f":"SUM(CA39:CA43)","v":0},null,{"$f":"SUM(CC39:CC43)","v":0}]
[]
["tot tot",{"$f":"SUM(C47:CC47)","v":0},{"$f":"C45+C37","v":0},null,{"$f":"E45+E37","v":0},null,{"$f":"G45+G37","v":0},null,{"$f":"I45+I37","v":0},null,{"$f":"K45+K37","v":0},null,{"$f":"M45+M37","v":0},null,{"$f":"O45+O37","v":0},null,{"$f":"Q45+Q37","v":0},null,{"$f":"S45+S37","v":0},null,{"$f":"U45+U37","v":0},null,{"$f":"W45+W37","v":0},null,{"$f":"Y45+Y37","v":0},null,{"$f":"AA45+AA37","v":0},null,{"$f":"AC45+AC37","v":0},null,{"$f":"AE45+AE37","v":0},null,{"$f":"AG45+AG37","v":0},null,{"$f":"AI45+AI37","v":0},null,{"$f":"AK45+AK37","v":0},null,{"$f":"AM45+AM37","v":0},null,{"$f":"AO45+AO37","v":0},null,{"$f":"AQ45+AQ37","v":0},null,{"$f":"AS45+AS37","v":0},null,{"$f":"AU45+AU37","v":0},null,{"$f":"AW45+AW37","v":0},null,{"$f":"AY45+AY37","v":0},null,{"$f":"BA45+BA37","v":0},null,{"$f":"BC45+BC37","v":0},null,{"$f":"BE45+BE37","v":0},null,{"$f":"BG45+BG37","v":0},null,{"$f":"BI45+BI37","v":0},null,{"$f":"BK45+BK37","v":0},null,{"$f":"BM45+BM37","v":0},null,{"$f":"BO45+BO37","v":0},null,{"$f":"BQ45+BQ37","v":0},null,{"$f":"BS45+BS37","v":0},null,{"$f":"BU45+BU37","v":0},null,{"$f":"BW45+BW37","v":0},null,{"$f":"BY45+BY37","v":0},null,{"$f":"CA45+CA37","v":0},null,{"$f":"CC45+CC37","v":0}]
[]
[]
[]
[]
[1,{"$f":"SUM(C52:CC52)","v":0},{"$f":"IF(C11=\"1\",1,0)","v":0},null,{"$f":"IF(E11=\"1\",1,0)","v":0},null,0,null,0,null,0,null,0,null,0,null,0,null,0,null,0,null,0,null,0,null,0,null,0,null,0,null,0,null,0,null,0,null,0,null,0,null,0,null,0,null,0,null,0,null,0,null,0,null,0,null,0,null,0,null,0,null,0,null,0,null,0,null,{"$f":"IF(BQ11=\"1\",1,0)","v":0},null,0,null,0,null,0,null,0,null,0,null,0]
[null,0,{"$f":"IF(C52=1,(C77+C82),0)","v":0},null,{"$f":"IF(E52=1,(E77+E82),0)","v":0},null,{"$f":"IF(G52=1,(G77+G82),0)","v":0},null,{"$f":"IF(I52=1,(I77+I82),0)","v":0},null,{"$f":"IF(K52=1,(K77+K82),0)","v":0},null,{"$f":"IF(M52=1,(M77+M82),0)","v":0},null,{"$f":"IF(O52=1,(O77+O82),0)","v":0},null,{"$f":"IF(Q52=1,(Q77+Q82),0)","v":0},null,{"$f":"IF(S52=1,(S77+S82),0)","v":0},null,{"$f":"IF(U52=1,(U77+U82),0)","v":0},null,{"$f":"IF(W52=1,(W77+W82),0)","v":0},null,{"$f":"IF(Y52=1,(Y77+Y82),0)","v":0},null,{"$f":"IF(AA52=1,(AA77+AA82),0)","v":0},null,{"$f":"IF(AC52=1,(AC77+AC82),0)","v":0},null,{"$f":"IF(AE52=1,(AE77+AE82),0)","v":0},null,{"$f":"IF(AG52=1,(AG77+AG82),0)","v":0},null,{"$f":"IF(AI52=1,(AI77+AI82),0)","v":0},null,{"$f":"IF(AK52=1,(AK77+AK82),0)","v":0},null,{"$f":"IF(AM52=1,(AM77+AM82),0)","v":0},null,{"$f":"IF(AO52=1,(AO77+AO82),0)","v":0},null,{"$f":"IF(AQ52=1,(AQ77+AQ82),0)","v":0},null,{"$f":"IF(AS52=1,(AS77+AS82),0)","v":0},null,{"$f":"IF(AU52=1,(AU77+AU82),0)","v":0},null,{"$f":"IF(AW52=1,(AW77+AW82),0)","v":0},null,{"$f":"IF(AY52=1,(AY77+AY82),0)","v":0},null,{"$f":"IF(BA52=1,(BA77+BA82),0)","v":0},null,{"$f":"IF(BC52=1,(BC77+BC82),0)","v":0},null,{"$f":"IF(BE52=1,(BE77+BE82),0)","v":0},null,{"$f":"IF(BG52=1,(BG77+BG82),0)","v":0},null,{"$f":"IF(BI52=1,(BI77+BI82),0)","v":0},null,{"$f":"IF(BK52=1,(BK77+BK82),0)","v":0},null,{"$f":"IF(BM52=1,(BM77+BM82),0)","v":0},null,{"$f":"IF(BO52=1,(BO77+BO82),0)","v":0},null,{"$f":"IF(BQ52=1,(BQ77+BQ82),0)","v":0},null,{"$f":"IF(BS52=1,(BS77+BS82),0)","v":0},null,{"$f":"IF(BU52=1,(BU77+BU82),0)","v":0},null,{"$f":"IF(BW52=1,(BW77+BW82),0)","v":0},null,{"$f":"IF(BY52=1,(BY77+BY82),0)","v":0},null,{"$f":"IF(CA52=1,(CA77+CA82),0)","v":0},null,{"$f":"IF(CC52=1,(CC77+CC82),0)","v":0}]
[2,0,{"$f":"IF(C11=\"2\",1,0)","v":0},null,{"$f":"IF(E11=\"2\",1,0)","v":0},null,0,null,0,null,0,null,0,null,0,null,0,null,0,null,0,null,0,null,0,null,0,null,0,null,0,null,0,null,0,null,0,null,0,null,0,null,0,null,0,null,0,null,0,null,0,null,0,null,0,null,0,null,0,null,0,null,0,null,0,null,0,null,{"$f":"IF(BQ11=\"2\",1,0)","v":0},null,0,null,0,null,0,null,0,null,0,null,0]
[null,0,{"$f":"IF(C54=1,(C77+C82),0)","v":0},null,{"$f":"IF(E54=1,(E77+E82),0)","v":0},null,{"$f":"IF(G54=1,(G77+G82),0)","v":0},null,{"$f":"IF(I54=1,(I77+I82),0)","v":0},null,{"$f":"IF(K54=1,(K77+K82),0)","v":0},null,{"$f":"IF(M54=1,(M77+M82),0)","v":0},null,{"$f":"IF(O54=1,(O77+O82),0)","v":0},null,{"$f":"IF(Q54=1,(Q77+Q82),0)","v":0},null,{"$f":"IF(S54=1,(S77+S82),0)","v":0},null,{"$f":"IF(U54=1,(U77+U82),0)","v":0},null,{"$f":"IF(W54=1,(W77+W82),0)","v":0},null,{"$f":"IF(Y54=1,(Y77+Y82),0)","v":0},null,{"$f":"IF(AA54=1,(AA77+AA82),0)","v":0},null,{"$f":"IF(AC54=1,(AC77+AC82),0)","v":0},null,{"$f":"IF(AE54=1,(AE77+AE82),0)","v":0},null,{"$f":"IF(AG54=1,(AG77+AG82),0)","v":0},null,{"$f":"IF(AI54=1,(AI77+AI82),0)","v":0},null,{"$f":"IF(AK54=1,(AK77+AK82),0)","v":0},null,{"$f":"IF(AM54=1,(AM77+AM82),0)","v":0},null,{"$f":"IF(AO54=1,(AO77+AO82),0)","v":0},null,{"$f":"IF(AQ54=1,(AQ77+AQ82),0)","v":0},null,{"$f":"IF(AS54=1,(AS77+AS82),0)","v":0},null,{"$f":"IF(AU54=1,(AU77+AU82),0)","v":0},null,{"$f":"IF(AW54=1,(AW77+AW82),0)","v":0},null,{"$f":"IF(AY54=1,(AY77+AY82),0)","v":0},null,{"$f":"IF(BA54=1,(BA77+BA82),0)","v":0},null,{"$f":"IF(BC54=1,(BC77+BC82),0)","v":0},null,{"$f":"IF(BE54=1,(BE77+BE82),0)","v":0},null,{"$f":"IF(BG54=1,(BG77+BG82),0)","v":0},null,{"$f":"IF(BI54=1,(BI77+BI82),0)","v":0},null,{"$f":"IF(BK54=1,(BK77+BK82),0)","v":0},null,{"$f":"IF(BM54=1,(BM77+BM82),0)","v":0},null,{"$f":"IF(BO54=1,(BO77+BO82),0)","v":0},null,{"$f":"IF(BQ54=1,(BQ77+BQ82),0)","v":0},null,{"$f":"IF(BS54=1,(BS77+BS82),0)","v":0},null,{"$f":"IF(BU54=1,(BU77+BU82),0)","v":0},null,{"$f":"IF(BW54=1,(BW77+BW82),0)","v":0},null,{"$f":"IF(BY54=1,(BY77+BY82),0)","v":0},null,{"$f":"IF(CA54=1,(CA77+CA82),0)","v":0},null,{"$f":"IF(CC54=1,(CC77+CC82),0)","v":0}]
[3,0,{"$f":"IF(C11=\"3\",1,0)","v":0},null,{"$f":"IF(E11=\"3\",1,0)","v":0},null,0,null,0,null,0,null,0,null,0,null,0,null,0,null,0,null,0,null,0,null,0,null,0,null,0,null,0,null,0,null,0,null,0,null,0,null,0,null,0,null,0,null,0,null,0,null,0,null,0,null,0,null,0,null,0,null,0,null,0,null,0,null,{"$f":"IF(BQ11=\"3\",1,0)","v":0},null,0,null,0,null,0,null,0,null,0,null,0]
[null,0,{"$f":"IF(C56=1,(C77+C82),0)","v":0},null,{"$f":"IF(E56=1,(E77+E82),0)","v":0},null,{"$f":"IF(G56=1,(G77+G82),0)","v":0},null,{"$f":"IF(I56=1,(I77+I82),0)","v":0},null,{"$f":"IF(K56=1,(K77+K82),0)","v":0},null,{"$f":"IF(M56=1,(M77+M82),0)","v":0},null,{"$f":"IF(O56=1,(O77+O82),0)","v":0},null,{"$f":"IF(Q56=1,(Q77+Q82),0)","v":0},null,{"$f":"IF(S56=1,(S77+S82),0)","v":0},null,{"$f":"IF(U56=1,(U77+U82),0)","v":0},null,{"$f":"IF(W56=1,(W77+W82),0)","v":0},null,{"$f":"IF(Y56=1,(Y77+Y82),0)","v":0},null,{"$f":"IF(AA56=1,(AA77+AA82),0)","v":0},null,{"$f":"IF(AC56=1,(AC77+AC82),0)","v":0},null,{"$f":"IF(AE56=1,(AE77+AE82),0)","v":0},null,{"$f":"IF(AG56=1,(AG77+AG82),0)","v":0},null,{"$f":"IF(AI56=1,(AI77+AI82),0)","v":0},null,{"$f":"IF(AK56=1,(AK77+AK82),0)","v":0},null,{"$f":"IF(AM56=1,(AM77+AM82),0)","v":0},null,{"$f":"IF(AO56=1,(AO77+AO82),0)","v":0},null,{"$f":"IF(AQ56=1,(AQ77+AQ82),0)","v":0},null,{"$f":"IF(AS56=1,(AS77+AS82),0)","v":0},null,{"$f":"IF(AU56=1,(AU77+AU82),0)","v":0},null,{"$f":"IF(AW56=1,(AW77+AW82),0)","v":0},null,{"$f":"IF(AY56=1,(AY77+AY82),0)","v":0},null,{"$f":"IF(BA56=1,(BA77+BA82),0)","v":0},null,{"$f":"IF(BC56=1,(BC77+BC82),0)","v":0},null,{"$f":"IF(BE56=1,(BE77+BE82),0)","v":0},null,{"$f":"IF(BG56=1,(BG77+BG82),0)","v":0},null,{"$f":"IF(BI56=1,(BI77+BI82),0)","v":0},null,{"$f":"IF(BK56=1,(BK77+BK82),0)","v":0},null,{"$f":"IF(BM56=1,(BM77+BM82),0)","v":0},null,{"$f":"IF(BO56=1,(BO77+BO82),0)","v":0},null,{"$f":"IF(BQ56=1,(BQ77+BQ82),0)","v":0},null,{"$f":"IF(BS56=1,(BS77+BS82),0)","v":0},null,{"$f":"IF(BU56=1,(BU77+BU82),0)","v":0},null,{"$f":"IF(BW56=1,(BW77+BW82),0)","v":0},null,{"$f":"IF(BY56=1,(BY77+BY82),0)","v":0},null,{"$f":"IF(CA56=1,(CA77+CA82),0)","v":0},null,{"$f":"IF(CC56=1,(CC77+CC82),0)","v":0}]
[4,0,{"$f":"IF(C11=\"4\",1,0)","v":0},null,{"$f":"IF(E11=\"4\",1,0)","v":0},null,0,null,0,null,0,null,0,null,0,null,0,null,0,null,0,null,0,null,0,null,0,null,0,null,0,null,0,null,0,null,0,null,0,null,0,null,0,null,0,null,0,null,0,null,0,null,0,null,0,null,0,null,0,null,0,null,0,null,0,null,0,null,{"$f":"IF(BQ11=\"4\",1,0)","v":0},null,0,null,0,null,0,null,0,null,0,null,0]
[null,0,{"$f":"IF(C58=1,(C77+C82),0)","v":0},null,{"$f":"IF(E58=1,(E77+E82),0)","v":0},null,{"$f":"IF(G58=1,(G77+G82),0)","v":0},null,{"$f":"IF(I58=1,(I77+I82),0)","v":0},null,{"$f":"IF(K58=1,(K77+K82),0)","v":0},null,{"$f":"IF(M58=1,(M77+M82),0)","v":0},null,{"$f":"IF(O58=1,(O77+O82),0)","v":0},null,{"$f":"IF(Q58=1,(Q77+Q82),0)","v":0},null,{"$f":"IF(S58=1,(S77+S82),0)","v":0},null,{"$f":"IF(U58=1,(U77+U82),0)","v":0},null,{"$f":"IF(W58=1,(W77+W82),0)","v":0},null,{"$f":"IF(Y58=1,(Y77+Y82),0)","v":0},null,{"$f":"IF(AA58=1,(AA77+AA82),0)","v":0},null,{"$f":"IF(AC58=1,(AC77+AC82),0)","v":0},null,{"$f":"IF(AE58=1,(AE77+AE82),0)","v":0},null,{"$f":"IF(AG58=1,(AG77+AG82),0)","v":0},null,{"$f":"IF(AI58=1,(AI77+AI82),0)","v":0},null,{"$f":"IF(AK58=1,(AK77+AK82),0)","v":0},null,{"$f":"IF(AM58=1,(AM77+AM82),0)","v":0},null,{"$f":"IF(AO58=1,(AO77+AO82),0)","v":0},null,{"$f":"IF(AQ58=1,(AQ77+AQ82),0)","v":0},null,{"$f":"IF(AS58=1,(AS77+AS82),0)","v":0},null,{"$f":"IF(AU58=1,(AU77+AU82),0)","v":0},null,{"$f":"IF(AW58=1,(AW77+AW82),0)","v":0},null,{"$f":"IF(AY58=1,(AY77+AY82),0)","v":0},null,{"$f":"IF(BA58=1,(BA77+BA82),0)","v":0},null,{"$f":"IF(BC58=1,(BC77+BC82),0)","v":0},null,{"$f":"IF(BE58=1,(BE77+BE82),0)","v":0},null,{"$f":"IF(BG58=1,(BG77+BG82),0)","v":0},null,{"$f":"IF(BI58=1,(BI77+BI82),0)","v":0},null,{"$f":"IF(BK58=1,(BK77+BK82),0)","v":0},null,{"$f":"IF(BM58=1,(BM77+BM82),0)","v":0},null,{"$f":"IF(BO58=1,(BO77+BO82),0)","v":0},null,{"$f":"IF(BQ58=1,(BQ77+BQ82),0)","v":0},null,{"$f":"IF(BS58=1,(BS77+BS82),0)","v":0},null,{"$f":"IF(BU58=1,(BU77+BU82),0)","v":0},null,{"$f":"IF(BW58=1,(BW77+BW82),0)","v":0},null,{"$f":"IF(BY58=1,(BY77+BY82),0)","v":0},null,{"$f":"IF(CA58=1,(CA77+CA82),0)","v":0},null,{"$f":"IF(CC58=1,(CC77+CC82),0)","v":0}]
[5,0,{"$f":"IF(C11=\"5\",1,0)","v":0},null,{"$f":"IF(E11=\"5\",1,0)","v":0},null,0,null,0,null,0,null,0,null,0,null,0,null,0,null,0,null,0,null,0,null,0,null,0,null,0,null,0,null,0,null,0,null,0,null,0,null,0,null,0,null,0,null,0,null,0,null,0,null,0,null,0,null,0,null,0,null,0,null,0,null,0,null,{"$f":"IF(BQ11=\"5\",1,0)","v":0},null,0,null,0,null,0,null,0,null,0,null,0]
[null,0,{"$f":"IF(C60=1,(C77+C82),0)","v":0},null,{"$f":"IF(E60=1,(E77+E82),0)","v":0},null,{"$f":"IF(G60=1,(G77+G82),0)","v":0},null,{"$f":"IF(I60=1,(I77+I82),0)","v":0},null,{"$f":"IF(K60=1,(K77+K82),0)","v":0},null,{"$f":"IF(M60=1,(M77+M82),0)","v":0},null,{"$f":"IF(O60=1,(O77+O82),0)","v":0},null,{"$f":"IF(Q60=1,(Q77+Q82),0)","v":0},null,{"$f":"IF(S60=1,(S77+S82),0)","v":0},null,{"$f":"IF(U60=1,(U77+U82),0)","v":0},null,{"$f":"IF(W60=1,(W77+W82),0)","v":0},null,{"$f":"IF(Y60=1,(Y77+Y82),0)","v":0},null,{"$f":"IF(AA60=1,(AA77+AA82),0)","v":0},null,{"$f":"IF(AC60=1,(AC77+AC82),0)","v":0},null,{"$f":"IF(AE60=1,(AE77+AE82),0)","v":0},null,{"$f":"IF(AG60=1,(AG77+AG82),0)","v":0},null,{"$f":"IF(AI60=1,(AI77+AI82),0)","v":0},null,{"$f":"IF(AK60=1,(AK77+AK82),0)","v":0},null,{"$f":"IF(AM60=1,(AM77+AM82),0)","v":0},null,{"$f":"IF(AO60=1,(AO77+AO82),0)","v":0},null,{"$f":"IF(AQ60=1,(AQ77+AQ82),0)","v":0},null,{"$f":"IF(AS60=1,(AS77+AS82),0)","v":0},null,{"$f":"IF(AU60=1,(AU77+AU82),0)","v":0},null,{"$f":"IF(AW60=1,(AW77+AW82),0)","v":0},null,{"$f":"IF(AY60=1,(AY77+AY82),0)","v":0},null,{"$f":"IF(BA60=1,(BA77+BA82),0)","v":0},null,{"$f":"IF(BC60=1,(BC77+BC82),0)","v":0},null,{"$f":"IF(BE60=1,(BE77+BE82),0)","v":0},null,{"$f":"IF(BG60=1,(BG77+BG82),0)","v":0},null,{"$f":"IF(BI60=1,(BI77+BI82),0)","v":0},null,{"$f":"IF(BK60=1,(BK77+BK82),0)","v":0},null,{"$f":"IF(BM60=1,(BM77+BM82),0)","v":0},null,{"$f":"IF(BO60=1,(BO77+BO82),0)","v":0},null,{"$f":"IF(BQ60=1,(BQ77+BQ82),0)","v":0},null,{"$f":"IF(BS60=1,(BS77+BS82),0)","v":0},null,{"$f":"IF(BU60=1,(BU77+BU82),0)","v":0},null,{"$f":"IF(BW60=1,(BW77+BW82),0)","v":0},null,{"$f":"IF(BY60=1,(BY77+BY82),0)","v":0},null,{"$f":"IF(CA60=1,(CA77+CA82),0)","v":0},null,{"$f":"IF(CC60=1,(CC77+CC82),0)","v":0}]
[6,0,{"$f":"IF(C11=\"6\",1,0)","v":0},null,{"$f":"IF(E11=\"6\",1,0)","v":0},null,0,null,0,null,0,null,0,null,0,null,0,null,0,null,0,null,0,null,0,null,0,null,0,null,0,null,0,null,0,null,0,null,0,null,0,null,0,null,0,null,0,null,0,null,0,null,0,null,0,null,0,null,0,null,0,null,0,null,0,null,0,null,{"$f":"IF(BQ11=\"6\",1,0)","v":0},null,0,null,0,null,0,null,0,null,0,null,0]
[null,0,{"$f":"IF(C62=1,(C77+C82),0)","v":0},null,{"$f":"IF(E62=1,(E77+E82),0)","v":0},null,{"$f":"IF(G62=1,(G77+G82),0)","v":0},null,{"$f":"IF(I62=1,(I77+I82),0)","v":0},null,{"$f":"IF(K62=1,(K77+K82),0)","v":0},null,{"$f":"IF(M62=1,(M77+M82),0)","v":0},null,{"$f":"IF(O62=1,(O77+O82),0)","v":0},null,{"$f":"IF(Q62=1,(Q77+Q82),0)","v":0},null,{"$f":"IF(S62=1,(S77+S82),0)","v":0},null,{"$f":"IF(U62=1,(U77+U82),0)","v":0},null,{"$f":"IF(W62=1,(W77+W82),0)","v":0},null,{"$f":"IF(Y62=1,(Y77+Y82),0)","v":0},null,{"$f":"IF(AA62=1,(AA77+AA82),0)","v":0},null,{"$f":"IF(AC62=1,(AC77+AC82),0)","v":0},null,{"$f":"IF(AE62=1,(AE77+AE82),0)","v":0},null,{"$f":"IF(AG62=1,(AG77+AG82),0)","v":0},null,{"$f":"IF(AI62=1,(AI77+AI82),0)","v":0},null,{"$f":"IF(AK62=1,(AK77+AK82),0)","v":0},null,{"$f":"IF(AM62=1,(AM77+AM82),0)","v":0},null,{"$f":"IF(AO62=1,(AO77+AO82),0)","v":0},null,{"$f":"IF(AQ62=1,(AQ77+AQ82),0)","v":0},null,{"$f":"IF(AS62=1,(AS77+AS82),0)","v":0},null,{"$f":"IF(AU62=1,(AU77+AU82),0)","v":0},null,{"$f":"IF(AW62=1,(AW77+AW82),0)","v":0},null,{"$f":"IF(AY62=1,(AY77+AY82),0)","v":0},null,{"$f":"IF(BA62=1,(BA77+BA82),0)","v":0},null,{"$f":"IF(BC62=1,(BC77+BC82),0)","v":0},null,{"$f":"IF(BE62=1,(BE77+BE82),0)","v":0},null,{"$f":"IF(BG62=1,(BG77+BG82),0)","v":0},null,{"$f":"IF(BI62=1,(BI77+BI82),0)","v":0},null,{"$f":"IF(BK62=1,(BK77+BK82),0)","v":0},null,{"$f":"IF(BM62=1,(BM77+BM82),0)","v":0},null,{"$f":"IF(BO62=1,(BO77+BO82),0)","v":0},null,{"$f":"IF(BQ62=1,(BQ77+BQ82),0)","v":0},null,{"$f":"IF(BS62=1,(BS77+BS82),0)","v":0},null,{"$f":"IF(BU62=1,(BU77+BU82),0)","v":0},null,{"$f":"IF(BW62=1,(BW77+BW82),0)","v":0},null,{"$f":"IF(BY62=1,(BY77+BY82),0)","v":0},null,{"$f":"IF(CA62=1,(CA77+CA82),0)","v":0},null,{"$f":"IF(CC62=1,(CC77+CC82),0)","v":0}]
[7,0,{"$f":"IF(C11=\"7\",1,0)","v":0},null,{"$f":"IF(E11=\"7\",1,0)","v":0},null,0,null,0,null,0,null,0,null,0,null,0,null,0,null,0,null,0,null,0,null,0,null,0,null,0,null,0,null,0,null,0,null,0,null,0,null,0,null,0,null,0,null,0,null,0,null,0,null,0,null,0,null,0,null,0,null,0,null,0,null,0,null,{"$f":"IF(BQ11=\"7\",1,0)","v":0},null,0,null,0,null,0,null,0,null,0,null,0]
[null,0,{"$f":"IF(C64=1,(C77+C82),0)","v":0},null,{"$f":"IF(E64=1,(E77+E82),0)","v":0},null,{"$f":"IF(G64=1,(G77+G82),0)","v":0},null,{"$f":"IF(I64=1,(I77+I82),0)","v":0},null,{"$f":"IF(K64=1,(K77+K82),0)","v":0},null,{"$f":"IF(M64=1,(M77+M82),0)","v":0},null,{"$f":"IF(O64=1,(O77+O82),0)","v":0},null,{"$f":"IF(Q64=1,(Q77+Q82),0)","v":0},null,{"$f":"IF(S64=1,(S77+S82),0)","v":0},null,{"$f":"IF(U64=1,(U77+U82),0)","v":0},null,{"$f":"IF(W64=1,(W77+W82),0)","v":0},null,{"$f":"IF(Y64=1,(Y77+Y82),0)","v":0},null,{"$f":"IF(AA64=1,(AA77+AA82),0)","v":0},null,{"$f":"IF(AC64=1,(AC77+AC82),0)","v":0},null,{"$f":"IF(AE64=1,(AE77+AE82),0)","v":0},null,{"$f":"IF(AG64=1,(AG77+AG82),0)","v":0},null,{"$f":"IF(AI64=1,(AI77+AI82),0)","v":0},null,{"$f":"IF(AK64=1,(AK77+AK82),0)","v":0},null,{"$f":"IF(AM64=1,(AM77+AM82),0)","v":0},null,{"$f":"IF(AO64=1,(AO77+AO82),0)","v":0},null,{"$f":"IF(AQ64=1,(AQ77+AQ82),0)","v":0},null,{"$f":"IF(AS64=1,(AS77+AS82),0)","v":0},null,{"$f":"IF(AU64=1,(AU77+AU82),0)","v":0},null,{"$f":"IF(AW64=1,(AW77+AW82),0)","v":0},null,{"$f":"IF(AY64=1,(AY77+AY82),0)","v":0},null,{"$f":"IF(BA64=1,(BA77+BA82),0)","v":0},null,{"$f":"IF(BC64=1,(BC77+BC82),0)","v":0},null,{"$f":"IF(BE64=1,(BE77+BE82),0)","v":0},null,{"$f":"IF(BG64=1,(BG77+BG82),0)","v":0},null,{"$f":"IF(BI64=1,(BI77+BI82),0)","v":0},null,{"$f":"IF(BK64=1,(BK77+BK82),0)","v":0},null,{"$f":"IF(BM64=1,(BM77+BM82),0)","v":0},null,{"$f":"IF(BO64=1,(BO77+BO82),0)","v":0},null,{"$f":"IF(BQ64=1,(BQ77+BQ82),0)","v":0},null,{"$f":"IF(BS64=1,(BS77+BS82),0)","v":0},null,{"$f":"IF(BU64=1,(BU77+BU82),0)","v":0},null,{"$f":"IF(BW64=1,(BW77+BW82),0)","v":0},null,{"$f":"IF(BY64=1,(BY77+BY82),0)","v":0},null,{"$f":"IF(CA64=1,(CA77+CA82),0)","v":0},null,{"$f":"IF(CC64=1,(CC77+CC82),0)","v":0}]
[8,0,{"$f":"IF(C11=\"8\",1,0)","v":0},null,{"$f":"IF(E11=\"8\",1,0)","v":0},null,0,null,0,null,0,null,0,null,0,null,0,null,0,null,0,null,0,null,0,null,0,null,0,null,0,null,0,null,0,null,0,null,0,null,0,null,0,null,0,null,0,null,0,null,0,null,0,null,0,null,0,null,0,null,0,null,0,null,0,null,0,null,{"$f":"IF(BQ11=\"8\",1,0)","v":0},null,0,null,0,null,0,null,0,null,0,null,0]
[null,0,{"$f":"IF(C66=1,(C77+C82),0)","v":0},null,{"$f":"IF(E66=1,(E77+E82),0)","v":0},null,{"$f":"IF(G66=1,(G77+G82),0)","v":0},null,{"$f":"IF(I66=1,(I77+I82),0)","v":0},null,{"$f":"IF(K66=1,(K77+K82),0)","v":0},null,{"$f":"IF(M66=1,(M77+M82),0)","v":0},null,{"$f":"IF(O66=1,(O77+O82),0)","v":0},null,{"$f":"IF(Q66=1,(Q77+Q82),0)","v":0},null,{"$f":"IF(S66=1,(S77+S82),0)","v":0},null,{"$f":"IF(U66=1,(U77+U82),0)","v":0},null,{"$f":"IF(W66=1,(W77+W82),0)","v":0},null,{"$f":"IF(Y66=1,(Y77+Y82),0)","v":0},null,{"$f":"IF(AA66=1,(AA77+AA82),0)","v":0},null,{"$f":"IF(AC66=1,(AC77+AC82),0)","v":0},null,{"$f":"IF(AE66=1,(AE77+AE82),0)","v":0},null,{"$f":"IF(AG66=1,(AG77+AG82),0)","v":0},null,{"$f":"IF(AI66=1,(AI77+AI82),0)","v":0},null,{"$f":"IF(AK66=1,(AK77+AK82),0)","v":0},null,{"$f":"IF(AM66=1,(AM77+AM82),0)","v":0},null,{"$f":"IF(AO66=1,(AO77+AO82),0)","v":0},null,{"$f":"IF(AQ66=1,(AQ77+AQ82),0)","v":0},null,{"$f":"IF(AS66=1,(AS77+AS82),0)","v":0},null,{"$f":"IF(AU66=1,(AU77+AU82),0)","v":0},null,{"$f":"IF(AW66=1,(AW77+AW82),0)","v":0},null,{"$f":"IF(AY66=1,(AY77+AY82),0)","v":0},null,{"$f":"IF(BA66=1,(BA77+BA82),0)","v":0},null,{"$f":"IF(BC66=1,(BC77+BC82),0)","v":0},null,{"$f":"IF(BE66=1,(BE77+BE82),0)","v":0},null,{"$f":"IF(BG66=1,(BG77+BG82),0)","v":0},null,{"$f":"IF(BI66=1,(BI77+BI82),0)","v":0},null,{"$f":"IF(BK66=1,(BK77+BK82),0)","v":0},null,{"$f":"IF(BM66=1,(BM77+BM82),0)","v":0},null,{"$f":"IF(BO66=1,(BO77+BO82),0)","v":0},null,{"$f":"IF(BQ66=1,(BQ77+BQ82),0)","v":0},null,{"$f":"IF(BS66=1,(BS77+BS82),0)","v":0},null,{"$f":"IF(BU66=1,(BU77+BU82),0)","v":0},null,{"$f":"IF(BW66=1,(BW77+BW82),0)","v":0},null,{"$f":"IF(BY66=1,(BY77+BY82),0)","v":0},null,{"$f":"IF(CA66=1,(CA77+CA82),0)","v":0},null,{"$f":"IF(CC66=1,(CC77+CC82),0)","v":0}]
[9,0,{"$f":"IF(C11=\"9\",1,0)","v":0},null,{"$f":"IF(E11=\"9\",1,0)","v":0},null,0,null,0,null,0,null,0,null,0,null,0,null,0,null,0,null,0,null,0,null,0,null,0,null,0,null,0,null,0,null,0,null,0,null,0,null,0,null,0,null,0,null,0,null,0,null,0,null,0,null,0,null,0,null,0,null,0,null,0,null,0,null,{"$f":"IF(BQ11=\"9\",1,0)","v":0},null,0,null,0,null,0,null,0,null,0,null,0]
[null,0,{"$f":"IF(C68=1,(C77+C82),0)","v":0},null,{"$f":"IF(E68=1,(E77+E82),0)","v":0},null,{"$f":"IF(G68=1,(G77+G82),0)","v":0},null,{"$f":"IF(I68=1,(I77+I82),0)","v":0},null,{"$f":"IF(K68=1,(K77+K82),0)","v":0},null,{"$f":"IF(M68=1,(M77+M82),0)","v":0},null,{"$f":"IF(O68=1,(O77+O82),0)","v":0},null,{"$f":"IF(Q68=1,(Q77+Q82),0)","v":0},null,{"$f":"IF(S68=1,(S77+S82),0)","v":0},null,{"$f":"IF(U68=1,(U77+U82),0)","v":0},null,{"$f":"IF(W68=1,(W77+W82),0)","v":0},null,{"$f":"IF(Y68=1,(Y77+Y82),0)","v":0},null,{"$f":"IF(AA68=1,(AA77+AA82),0)","v":0},null,{"$f":"IF(AC68=1,(AC77+AC82),0)","v":0},null,{"$f":"IF(AE68=1,(AE77+AE82),0)","v":0},null,{"$f":"IF(AG68=1,(AG77+AG82),0)","v":0},null,{"$f":"IF(AI68=1,(AI77+AI82),0)","v":0},null,{"$f":"IF(AK68=1,(AK77+AK82),0)","v":0},null,{"$f":"IF(AM68=1,(AM77+AM82),0)","v":0},null,{"$f":"IF(AO68=1,(AO77+AO82),0)","v":0},null,{"$f":"IF(AQ68=1,(AQ77+AQ82),0)","v":0},null,{"$f":"IF(AS68=1,(AS77+AS82),0)","v":0},null,{"$f":"IF(AU68=1,(AU77+AU82),0)","v":0},null,{"$f":"IF(AW68=1,(AW77+AW82),0)","v":0},null,{"$f":"IF(AY68=1,(AY77+AY82),0)","v":0},null,{"$f":"IF(BA68=1,(BA77+BA82),0)","v":0},null,{"$f":"IF(BC68=1,(BC77+BC82),0)","v":0},null,{"$f":"IF(BE68=1,(BE77+BE82),0)","v":0},null,{"$f":"IF(BG68=1,(BG77+BG82),0)","v":0},null,{"$f":"IF(BI68=1,(BI77+BI82),0)","v":0},null,{"$f":"IF(BK68=1,(BK77+BK82),0)","v":0},null,{"$f":"IF(BM68=1,(BM77+BM82),0)","v":0},null,{"$f":"IF(BO68=1,(BO77+BO82),0)","v":0},null,{"$f":"IF(BQ68=1,(BQ77+BQ82),0)","v":0},null,{"$f":"IF(BS68=1,(BS77+BS82),0)","v":0},null,{"$f":"IF(BU68=1,(BU77+BU82),0)","v":0},null,{"$f":"IF(BW68=1,(BW77+BW82),0)","v":0},null,{"$f":"IF(BY68=1,(BY77+BY82),0)","v":0},null,{"$f":"IF(CA68=1,(CA77+CA82),0)","v":0},null,{"$f":"IF(CC68=1,(CC77+CC82),0)","v":0}]
[10,0,{"$f":"IF(C11=\"10\",1,0)","v":0},null,{"$f":"IF(E11=\"10\",1,0)","v":0},null,0,null,0,null,0,null,0,null,0,null,0,null,0,null,0,null,0,null,0,null,0,null,0,null,0,null,0,null,0,null,0,null,0,null,0,null,0,null,0,null,0,null,0,null,0,null,0,null,0,null,0,null,0,null,0,null,0,null,0,null,0,null,{"$f":"IF(BQ11=\"10\",1,0)","v":0},null,0,null,0,null,0,null,0,null,0,null,0]
[null,0,{"$f":"IF(C70=1,(C77+C82),0)","v":0},null,{"$f":"IF(E70=1,(E77+E82),0)","v":0},null,{"$f":"IF(G70=1,(G77+G82),0)","v":0},null,{"$f":"IF(I70=1,(I77+I82),0)","v":0},null,{"$f":"IF(K70=1,(K77+K82),0)","v":0},null,{"$f":"IF(M70=1,(M77+M82),0)","v":0},null,{"$f":"IF(O70=1,(O77+O82),0)","v":0},null,{"$f":"IF(Q70=1,(Q77+Q82),0)","v":0},null,{"$f":"IF(S70=1,(S77+S82),0)","v":0},null,{"$f":"IF(U70=1,(U77+U82),0)","v":0},null,{"$f":"IF(W70=1,(W77+W82),0)","v":0},null,{"$f":"IF(Y70=1,(Y77+Y82),0)","v":0},null,{"$f":"IF(AA70=1,(AA77+AA82),0)","v":0},null,{"$f":"IF(AC70=1,(AC77+AC82),0)","v":0},null,{"$f":"IF(AE70=1,(AE77+AE82),0)","v":0},null,{"$f":"IF(AG70=1,(AG77+AG82),0)","v":0},null,{"$f":"IF(AI70=1,(AI77+AI82),0)","v":0},null,{"$f":"IF(AK70=1,(AK77+AK82),0)","v":0},null,{"$f":"IF(AM70=1,(AM77+AM82),0)","v":0},null,{"$f":"IF(AO70=1,(AO77+AO82),0)","v":0},null,{"$f":"IF(AQ70=1,(AQ77+AQ82),0)","v":0},null,{"$f":"IF(AS70=1,(AS77+AS82),0)","v":0},null,{"$f":"IF(AU70=1,(AU77+AU82),0)","v":0},null,{"$f":"IF(AW70=1,(AW77+AW82),0)","v":0},null,{"$f":"IF(AY70=1,(AY77+AY82),0)","v":0},null,{"$f":"IF(BA70=1,(BA77+BA82),0)","v":0},null,{"$f":"IF(BC70=1,(BC77+BC82),0)","v":0},null,{"$f":"IF(BE70=1,(BE77+BE82),0)","v":0},null,{"$f":"IF(BG70=1,(BG77+BG82),0)","v":0},null,{"$f":"IF(BI70=1,(BI77+BI82),0)","v":0},null,{"$f":"IF(BK70=1,(BK77+BK82),0)","v":0},null,{"$f":"IF(BM70=1,(BM77+BM82),0)","v":0},null,{"$f":"IF(BO70=1,(BO77+BO82),0)","v":0},null,{"$f":"IF(BQ70=1,(BQ77+BQ82),0)","v":0},null,{"$f":"IF(BS70=1,(BS77+BS82),0)","v":0},null,{"$f":"IF(BU70=1,(BU77+BU82),0)","v":0},null,{"$f":"IF(BW70=1,(BW77+BW82),0)","v":0},null,{"$f":"IF(BY70=1,(BY77+BY82),0)","v":0},null,{"$f":"IF(CA70=1,(CA77+CA82),0)","v":0},null,{"$f":"IF(CC70=1,(CC77+CC82),0)","v":0}]
[]
["Linge sale"]
["Evacuation",{"$f":"SUM(C74:CC74)","v":0},{"$f":"(2*C15)+C17+C21+C23","v":0},null,{"$f":"(2*E15)+E17+E21+E23","v":0},null,{"$f":"(2*G15)+G17+G21+G23","v":0},null,{"$f":"(2*I15)+I17+I21+I23","v":0},null,{"$f":"(2*K15)+K17+K21+K23","v":0},null,{"$f":"(2*M15)+M17+M21+M23","v":0},null,{"$f":"(2*O15)+O17+O21+O23","v":0},null,{"$f":"(2*Q15)+Q17+Q21+Q23","v":0},null,{"$f":"(2*S15)+S17+S21+S23","v":0},null,{"$f":"(2*U15)+U17+U21+U23","v":0},null,{"$f":"(2*W15)+W17+W21+W23","v":0},null,{"$f":"(2*Y15)+Y17+Y21+Y23","v":0},null,{"$f":"(2*AA15)+AA17+AA21+AA23","v":0},null,{"$f":"(2*AC15)+AC17+AC21+AC23","v":0},null,{"$f":"(2*AE15)+AE17+AE21+AE23","v":0},null,{"$f":"(2*AG15)+AG17+AG21+AG23","v":0},null,{"$f":"(2*AI15)+AI17+AI21+AI23","v":0},null,{"$f":"(2*AK15)+AK17+AK21+AK23","v":0},null,{"$f":"(2*AM15)+AM17+AM21+AM23","v":0},null,{"$f":"(2*AO15)+AO17+AO21+AO23","v":0},null,{"$f":"(2*AQ15)+AQ17+AQ21+AQ23","v":0},null,{"$f":"(2*AS15)+AS17+AS21+AS23","v":0},null,{"$f":"(2*AU15)+AU17+AU21+AU23","v":0},null,{"$f":"(2*AW15)+AW17+AW21+AW23","v":0},null,{"$f":"(2*AY15)+AY17+AY21+AY23","v":0},null,{"$f":"(2*BA15)+BA17+BA21+BA23","v":0},null,{"$f":"(2*BC15)+BC17+BC21+BC23","v":0},null,{"$f":"(2*BE15)+BE17+BE21+BE23","v":0},null,{"$f":"(2*BG15)+BG17+BG21+BG23","v":0},null,{"$f":"(2*BI15)+BI17+BI21+BI23","v":0},null,{"$f":"(2*BK15)+BK17+BK21+BK23","v":0},null,{"$f":"(2*BM15)+BM17+BM21+BM23","v":0},null,{"$f":"(2*BO15)+BO17+BO21+BO23","v":0},null,{"$f":"(2*BQ15)+BQ17+BQ21+BQ23","v":0},null,{"$f":"(2*BS15)+BS17+BS21+BS23","v":0},null,{"$f":"(2*BU15)+BU17+BU21+BU23","v":0},null,{"$f":"(2*BW15)+BW17+BW21+BW23","v":0},null,{"$f":"(2*BY15)+BY17+BY21+BY23","v":0},null,{"$f":"(2*CA15)+CA17+CA21+CA23","v":0},null,{"$f":"(2*CC15)+CC17+CC21+CC23","v":0}]
["Protection",{"$f":"SUM(C75:CC75)","v":0},{"$f":"C19+(2*C25)+(2*C27)+(2*C29)+(2*C35)","v":0},null,{"$f":"E19+(2*E25)+(2*E27)+(2*E29)+(2*E35)","v":0},null,{"$f":"G19+(2*G25)+(2*G27)+(2*G29)+(2*G35)","v":0},null,{"$f":"I19+(2*I25)+(2*I27)+(2*I29)+(2*I35)","v":0},null,{"$f":"K19+(2*K25)+(2*K27)+(2*K29)+(2*K35)","v":0},null,{"$f":"M19+(2*M25)+(2*M27)+(2*M29)+(2*M35)","v":0},null,{"$f":"O19+(2*O25)+(2*O27)+(2*O29)+(2*O35)","v":0},null,{"$f":"Q19+(2*Q25)+(2*Q27)+(2*Q29)+(2*Q35)","v":0},null,{"$f":"S19+(2*S25)+(2*S27)+(2*S29)+(2*S35)","v":0},null,{"$f":"U19+(2*U25)+(2*U27)+(2*U29)+(2*U35)","v":0},null,{"$f":"W19+(2*W25)+(2*W27)+(2*W29)+(2*W35)","v":0},null,{"$f":"Y19+(2*Y25)+(2*Y27)+(2*Y29)+(2*Y35)","v":0},null,{"$f":"AA19+(2*AA25)+(2*AA27)+(2*AA29)+(2*AA35)","v":0},null,{"$f":"AC19+(2*AC25)+(2*AC27)+(2*AC29)+(2*AC35)","v":0},null,{"$f":"AE19+(2*AE25)+(2*AE27)+(2*AE29)+(2*AE35)","v":0},null,{"$f":"AG19+(2*AG25)+(2*AG27)+(2*AG29)+(2*AG35)","v":0},null,{"$f":"AI19+(2*AI25)+(2*AI27)+(2*AI29)+(2*AI35)","v":0},null,{"$f":"AK19+(2*AK25)+(2*AK27)+(2*AK29)+(2*AK35)","v":0},null,{"$f":"AM19+(2*AM25)+(2*AM27)+(2*AM29)+(2*AM35)","v":0},null,{"$f":"AO19+(2*AO25)+(2*AO27)+(2*AO29)+(2*AO35)","v":0},null,{"$f":"AQ19+(2*AQ25)+(2*AQ27)+(2*AQ29)+(2*AQ35)","v":0},null,{"$f":"AS19+(2*AS25)+(2*AS27)+(2*AS29)+(2*AS35)","v":0},null,{"$f":"AU19+(2*AU25)+(2*AU27)+(2*AU29)+(2*AU35)","v":0},null,{"$f":"AW19+(2*AW25)+(2*AW27)+(2*AW29)+(2*AW35)","v":0},null,{"$f":"AY19+(2*AY25)+(2*AY27)+(2*AY29)+(2*AY35)","v":0},null,{"$f":"BA19+(2*BA25)+(2*BA27)+(2*BA29)+(2*BA35)","v":0},null,{"$f":"BC19+(2*BC25)+(2*BC27)+(2*BC29)+(2*BC35)","v":0},null,{"$f":"BE19+(2*BE25)+(2*BE27)+(2*BE29)+(2*BE35)","v":0},null,{"$f":"BG19+(2*BG25)+(2*BG27)+(2*BG29)+(2*BG35)","v":0},null,{"$f":"BI19+(2*BI25)+(2*BI27)+(2*BI29)+(2*BI35)","v":0},null,{"$f":"BK19+(2*BK25)+(2*BK27)+(2*BK29)+(2*BK35)","v":0},null,{"$f":"BM19+(2*BM25)+(2*BM27)+(2*BM29)+(2*BM35)","v":0},null,{"$f":"BO19+(2*BO25)+(2*BO27)+(2*BO29)+(2*BO35)","v":0},null,{"$f":"BQ19+(2*BQ25)+(2*BQ27)+(2*BQ29)+(2*BQ35)","v":0},null,{"$f":"BS19+(2*BS25)+(2*BS27)+(2*BS29)+(2*BS35)","v":0},null,{"$f":"BU19+(2*BU25)+(2*BU27)+(2*BU29)+(2*BU35)","v":0},null,{"$f":"BW19+(2*BW25)+(2*BW27)+(2*BW29)+(2*BW35)","v":0},null,{"$f":"BY19+(2*BY25)+(2*BY27)+(2*BY29)+(2*BY35)","v":0},null,{"$f":"CA19+(2*CA25)+(2*CA27)+(2*CA29)+(2*CA35)","v":0},null,{"$f":"CC19+(2*CC25)+(2*CC27)+(2*CC29)+(2*CC35)","v":0}]
["Transport",{"$f":"SUM(C76:CC76)","v":0},{"$f":"C31+C33","v":0},null,{"$f":"E31+E33","v":0},null,{"$f":"G31+G33","v":0},null,{"$f":"I31+I33","v":0},null,{"$f":"K31+K33","v":0},null,{"$f":"M31+M33","v":0},null,{"$f":"O31+O33","v":0},null,{"$f":"Q31+Q33","v":0},null,{"$f":"S31+S33","v":0},null,{"$f":"U31+U33","v":0},null,{"$f":"W31+W33","v":0},null,{"$f":"Y31+Y33","v":0},null,{"$f":"AA31+AA33","v":0},null,{"$f":"AC31+AC33","v":0},null,{"$f":"AE31+AE33","v":0},null,{"$f":"AG31+AG33","v":0},null,{"$f":"AI31+AI33","v":0},null,{"$f":"AK31+AK33","v":0},null,{"$f":"AM31+AM33","v":0},null,{"$f":"AO31+AO33","v":0},null,{"$f":"AQ31+AQ33","v":0},null,{"$f":"AS31+AS33","v":0},null,{"$f":"AU31+AU33","v":0},null,{"$f":"AW31+AW33","v":0},null,{"$f":"AY31+AY33","v":0},null,{"$f":"BA31+BA33","v":0},null,{"$f":"BC31+BC33","v":0},null,{"$f":"BE31+BE33","v":0},null,{"$f":"BG31+BG33","v":0},null,{"$f":"BI31+BI33","v":0},null,{"$f":"BK31+BK33","v":0},null,{"$f":"BM31+BM33","v":0},null,{"$f":"BO31+BO33","v":0},null,{"$f":"BQ31+BQ33","v":0},null,{"$f":"BS31+BS33","v":0},null,{"$f":"BU31+BU33","v":0},null,{"$f":"BW31+BW33","v":0},null,{"$f":"BY31+BY33","v":0},null,{"$f":"CA31+CA33","v":0},null,{"$f":"CC31+CC33","v":0}]
["Tot linge sale",{"$f":"SUM(C77:CC77)","v":0},{"$f":"SUM(C74:C76)","v":0},null,{"$f":"SUM(E74:E76)","v":0},null,{"$f":"SUM(G74:G76)","v":0},null,{"$f":"SUM(I74:I76)","v":0},null,{"$f":"SUM(K74:K76)","v":0},null,{"$f":"SUM(M74:M76)","v":0},null,{"$f":"SUM(O74:O76)","v":0},null,{"$f":"SUM(Q74:Q76)","v":0},null,{"$f":"SUM(S74:S76)","v":0},null,{"$f":"SUM(U74:U76)","v":0},null,{"$f":"SUM(W74:W76)","v":0},null,{"$f":"SUM(Y74:Y76)","v":0},null,{"$f":"SUM(AA74:AA76)","v":0},null,{"$f":"SUM(AC74:AC76)","v":0},null,{"$f":"SUM(AE74:AE76)","v":0},null,{"$f":"SUM(AG74:AG76)","v":0},null,{"$f":"SUM(AI74:AI76)","v":0},null,{"$f":"SUM(AK74:AK76)","v":0},null,{"$f":"SUM(AM74:AM76)","v":0},null,{"$f":"SUM(AO74:AO76)","v":0},null,{"$f":"SUM(AQ74:AQ76)","v":0},null,{"$f":"SUM(AS74:AS76)","v":0},null,{"$f":"SUM(AU74:AU76)","v":0},null,{"$f":"SUM(AW74:AW76)","v":0},null,{"$f":"SUM(AY74:AY76)","v":0},null,{"$f":"SUM(BA74:BA76)","v":0},null,{"$f":"SUM(BC74:BC76)","v":0},null,{"$f":"SUM(BE74:BE76)","v":0},null,{"$f":"SUM(BG74:BG76)","v":0},null,{"$f":"SUM(BI74:BI76)","v":0},null,{"$f":"SUM(BK74:BK76)","v":0},null,{"$f":"SUM(BM74:BM76)","v":0},null,{"$f":"SUM(BO74:BO76)","v":0},null,{"$f":"SUM(BQ74:BQ76)","v":0},null,{"$f":"SUM(BS74:BS76)","v":0},null,{"$f":"SUM(BU74:BU76)","v":0},null,{"$f":"SUM(BW74:BW76)","v":0},null,{"$f":"SUM(BY74:BY76)","v":0},null,{"$f":"SUM(CA74:CA76)","v":0},null,{"$f":"SUM(CC74:CC76)","v":0}]
[]
["Linge propre"]
["Hygiène",{"$f":"SUM(C80:CC80)","v":0},{"$f":"(2*C39)","v":0},null,{"$f":"(2*E39)","v":0},null,{"$f":"(2*G39)","v":0},null,{"$f":"(2*I39)","v":0},null,{"$f":"(2*K39)","v":0},null,{"$f":"(2*M39)","v":0},null,{"$f":"(2*O39)","v":0},null,{"$f":"(2*Q39)","v":0},null,{"$f":"(2*S39)","v":0},null,{"$f":"(2*U39)","v":0},null,{"$f":"(2*W39)","v":0},null,{"$f":"(2*Y39)","v":0},null,{"$f":"(2*AA39)","v":0},null,{"$f":"(2*AC39)","v":0},null,{"$f":"(2*AE39)","v":0},null,{"$f":"(2*AG39)","v":0},null,{"$f":"(2*AI39)","v":0},null,{"$f":"(2*AK39)","v":0},null,{"$f":"(2*AM39)","v":0},null,{"$f":"(2*AO39)","v":0},null,{"$f":"(2*AQ39)","v":0},null,{"$f":"(2*AS39)","v":0},null,{"$f":"(2*AU39)","v":0},null,{"$f":"(2*AW39)","v":0},null,{"$f":"(2*AY39)","v":0},null,{"$f":"(2*BA39)","v":0},null,{"$f":"(2*BC39)","v":0},null,{"$f":"(2*BE39)","v":0},null,{"$f":"(2*BG39)","v":0},null,{"$f":"(2*BI39)","v":0},null,{"$f":"(2*BK39)","v":0},null,{"$f":"(2*BM39)","v":0},null,{"$f":"(2*BO39)","v":0},null,{"$f":"(2*BQ39)","v":0},null,{"$f":"(2*BS39)","v":0},null,{"$f":"(2*BU39)","v":0},null,{"$f":"(2*BW39)","v":0},null,{"$f":"(2*BY39)","v":0},null,{"$f":"(2*CA39)","v":0},null,{"$f":"(2*CC39)","v":0}]
["Utilisation",{"$f":"SUM(C81:CC81)","v":0},{"$f":"C41+C43","v":0},null,{"$f":"E41+E43","v":0},null,{"$f":"G41+G43","v":0},null,{"$f":"I41+I43","v":0},null,{"$f":"K41+K43","v":0},null,{"$f":"M41+M43","v":0},null,{"$f":"O41+O43","v":0},null,{"$f":"Q41+Q43","v":0},null,{"$f":"S41+S43","v":0},null,{"$f":"U41+U43","v":0},null,{"$f":"W41+W43","v":0},null,{"$f":"Y41+Y43","v":0},null,{"$f":"AA41+AA43","v":0},null,{"$f":"AC41+AC43","v":0},null,{"$f":"AE41+AE43","v":0},null,{"$f":"AG41+AG43","v":0},null,{"$f":"AI41+AI43","v":0},null,{"$f":"AK41+AK43","v":0},null,{"$f":"AM41+AM43","v":0},null,{"$f":"AO41+AO43","v":0},null,{"$f":"AQ41+AQ43","v":0},null,{"$f":"AS41+AS43","v":0},null,{"$f":"AU41+AU43","v":0},null,{"$f":"AW41+AW43","v":0},null,{"$f":"AY41+AY43","v":0},null,{"$f":"BA41+BA43","v":0},null,{"$f":"BC41+BC43","v":0},null,{"$f":"BE41+BE43","v":0},null,{"$f":"BG41+BG43","v":0},null,{"$f":"BI41+BI43","v":0},null,{"$f":"BK41+BK43","v":0},null,{"$f":"BM41+BM43","v":0},null,{"$f":"BO41+BO43","v":0},null,{"$f":"BQ41+BQ43","v":0},null,{"$f":"BS41+BS43","v":0},null,{"$f":"BU41+BU43","v":0},null,{"$f":"BW41+BW43","v":0},null,{"$f":"BY41+BY43","v":0},null,{"$f":"CA41+CA43","v":0},null,{"$f":"CC41+CC43","v":0}]
["Tot linge prop",{"$f":"SUM(C82:CC82)","v":0},{"$f":"SUM(C80:C81)","v":0},null,{"$f":"SUM(E80:E81)","v":0},null,{"$f":"SUM(G80:G81)","v":0},null,{"$f":"SUM(I80:I81)","v":0},null,{"$f":"SUM(K80:K81)","v":0},null,{"$f":"SUM(M80:M81)","v":0},null,{"$f":"SUM(O80:O81)","v":0},null,{"$f":"SUM(Q80:Q81)","v":0},null,{"$f":"SUM(S80:S81)","v":0},null,{"$f":"SUM(U80:U81)","v":0},null,{"$f":"SUM(W80:W81)","v":0},null,{"$f":"SUM(Y80:Y81)","v":0},null,{"$f":"SUM(AA80:AA81)","v":0},null,{"$f":"SUM(AC80:AC81)","v":0},null,{"$f":"SUM(AE80:AE81)","v":0},null,{"$f":"SUM(AG80:AG81)","v":0},null,{"$f":"SUM(AI80:AI81)","v":0},null,{"$f":"SUM(AK80:AK81)","v":0},null,{"$f":"SUM(AM80:AM81)","v":0},null,{"$f":"SUM(AO80:AO81)","v":0},null,{"$f":"SUM(AQ80:AQ81)","v":0},null,{"$f":"SUM(AS80:AS81)","v":0},null,{"$f":"SUM(AU80:AU81)","v":0},null,{"$f":"SUM(AW80:AW81)","v":0},null,{"$f":"SUM(AY80:AY81)","v":0},null,{"$f":"SUM(BA80:BA81)","v":0},null,{"$f":"SUM(BC80:BC81)","v":0},null,{"$f":"SUM(BE80:BE81)","v":0},null,{"$f":"SUM(BG80:BG81)","v":0},null,{"$f":"SUM(BI80:BI81)","v":0},null,{"$f":"SUM(BK80:BK81)","v":0},null,{"$f":"SUM(BM80:BM81)","v":0},null,{"$f":"SUM(BO80:BO81)","v":0},null,{"$f":"SUM(BQ80:BQ81)","v":0},null,{"$f":"SUM(BS80:BS81)","v":0},null,{"$f":"SUM(BU80:BU81)","v":0},null,{"$f":"SUM(BW80:BW81)","v":0},null,{"$f":"SUM(BY80:BY81)","v":0},null,{"$f":"SUM(CA80:CA81)","v":0},null,{"$f":"SUM(CC80:CC81)","v":0}]

{"sheet":"Poster_Service#5","index":21,"n_rows":46,"n_cols":16,"rows_kept":46,"cut":false,"hidden":true,"merged":[[23,5,23,6],[24,5,24,6],[28,0,33,13],[15,5,15,6],[15,2,15,4],[16,5,16,6],[22,5,22,6],[21,5,21,6],[21,2,21,4],[17,5,17,6],[19,5,19,6],[18,5,18,6],[0,1,0,13],[5,0,5,6],[11,0,11,6],[12,0,12,6],[1,12,1,13]]}
[null,"Audit de la fonction linge en établissement de santé et en EHPAD",null,null,null,null,null,null,null,null,null,null,null,null,"   Pour imprimer le poster:"]
[null,null,null,null,null,null,null,null,"ETABLISSEMENT :",{"$f":"IF(NOM=\"\",\"à préciser\",NOM)","v":"à préciser"},null,null,"Date de réalisation",null,"   Menu \"Fichier\" puis \"Imprimer\""]
[null,null,null,null,null,null,null,null,"SERVICE : ",{"$f":"IF(SERVICE5=\"\",\"à préciser\",SERVICE5)","v":"à préciser"},null,null,"de : ",{"$f":"IF(SERVICE5=\"\",\"à préciser\",(MIN(Fiches_Services!K9,'Fiches_Utilisateurs_Service#5'!C7:CC7)))","v":"à préciser"}]
[null,null,null,null,null,null,null,null,null,null,null,null,"au : ",{"$f":"IF(SERVICE5=\"\",\"à préciser\",(MAX(Fiches_Services!K9,'Fiches_Utilisateurs_Service#5'!C7:CC7)))","v":"à préciser"},"Vous ne pourrez imprimer le poster que"]
["Méthodologie",null,null,null,null,null,null,null,"Score \"utilisateur\" du service par catégories professionnelles",null,null,null,null,null,"si vous avez saisi vos axes d'amélioration"]
["Le recueil des données a été réalisé au niveau:",null,null,null,null,null,null,null,null,null,null,null,null,null,"et commentaires dans l'encadré jaune."]
["       Du service : ",null,null,null,null,null,"le recensement des locaux, du matériel et des procédures   "]
[null,null,null,null,null,null,"disponibles dans les services en lien avec la fonction linge.  "]
["De l'utilisateur : ",null,null,null,null,null,"l'observation des pratiques afin de vérifier l'adéquation avec"]
[null,null,null,null,null,null,"avec les recommandations de bonnes pratiques.                   "]
["Résultats"]
["Les pourcentages d'objectifs atteints sont présentés pour le service."]
[" Les résultats détaillés figurent dans le rapport d'analyse finale."]
[null,null,"Services évalués de l'établissement n =",{"$f":"(\" \"&SERVICES&\" services\")","v":" 0 services"}]
[]
["► Score \"service\"",null,"Service",null,null,"Etablissement"]
["Gestion du linge sale",null,{"$f":"IF(Rapport!F553=\"non saisi\",\"-\",Rapport!F553)","v":"-"},16,{"$f":"Rapport!H553","v":"non saisi"},{"$f":"IF(Rapport!H158=\"non saisi\",\"-\",Rapport!H158)","v":"-"}]
["Gestion du linge propre",null,{"$f":"IF(Rapport!F554=\"non saisi\",\"-\",Rapport!F554)","v":"-"},12,{"$f":"Rapport!H554","v":"non saisi"},{"$f":"IF(Rapport!H159=\"non saisi\",\"-\",Rapport!H159)","v":"-"}]
["Bionettoyage et traçabilité ",null,{"$f":"IF(Rapport!F555=\"non saisi\",\"-\",Rapport!F555)","v":"-"},12,{"$f":"Rapport!H555","v":"non saisi"},{"$f":"IF(Rapport!H160=\"non saisi\",\"-\",Rapport!H160)","v":"-"}]
["Score total",null,{"$f":"IF(Rapport!F556=\"non saisi\",\"-\",Rapport!F556)","v":"-"},40,{"$f":"Rapport!H556","v":"non saisi"},{"$f":"IF(Rapport!H161=\"non saisi\",\"-\",Rapport!H161)","v":"-"}]
[]
["► Score \"utilisateur\"",null,"Service",null,null,"Etablissement"]
["Evacuation du linge sale",null,{"$f":"IF(Rapport!F607=\"non saisi\",\"-\",Rapport!F607)","v":"-"},16,{"$f":"IF(Rapport!H607=\"non saisi\",\"-\",Rapport!H607)","v":"-"},{"$f":"IF(Rapport!H200=\"non saisi\",\"-\",Rapport!H200)","v":"-"}]
["Utilisation du linge propre",null,{"$f":"IF(Rapport!F608=\"non saisi\",\"-\",Rapport!F608)","v":"-"},4,{"$f":"IF(Rapport!H608=\"non saisi\",\"-\",Rapport!H608)","v":"-"},{"$f":"IF(Rapport!H201=\"non saisi\",\"-\",Rapport!H201)","v":"-"}]
["Score total",null,{"$f":"IF(Rapport!F609=\"non saisi\",\"-\",Rapport!F609)","v":"-"},20,{"$f":"IF(Rapport!H609=\"non saisi\",\"-\",Rapport!H609)","v":"-"},{"$f":"IF(Rapport!H202=\"non saisi\",\"-\",Rapport!H202)","v":"-"}]
[]
["Axes d'amélioration et commentaires"]
[]
[null,null,null,null,null,null,null,null,null,null,null,null,null,null,"◄ avant d'imprimer, veuillez"]
[null,null,null,null,null,null,null,null,null,null,null,null,null,null,"tapez vos axes d'amélioration"]
[null,null,null,null,null,null,null,null,null,null,null,null,null,null,"et commentaires dans le cadre"]
[null,null,null,null,null,null,null,null,null,null,null,null,null,null,"ci-contre."]
[]
[]
[]
[null,null,null,null,null,null,null,null,"La mise en œuvre d'actions d'amélioration avant une nouvelle évaluation contribue au processus d'amélioration de la qualité des soins"]
[null,null,null,null,null,null,null,null,null,null,null,null,null,null,"Autre",{"$f":"Rapport!H647","v":"non saisi"}]
[null,null,null,null,null,null,null,null,null,null,null,null,null,null,"Etudiant",{"$f":"Rapport!H646","v":"non saisi"}]
["L'établissement est en retard et doit assurer les meilleures conditions d’hygiène et de protection des patients et des personnels vis-à-vis du risque infectieux. ",null,null,null,null,null,null,null,null,null,null,null,null,null,"Brancardier",{"$f":"Rapport!H645","v":"non saisi"}]
[null,null,null,null,null,null,null,null,null,null,null,null,null,null,"Ambulancier",{"$f":"Rapport!H644","v":"non saisi"}]
["l'établissement a mis en place une politique qualité des activités et des prestations relatives aux articles de linge, il doit poursuivre ses actions",null,null,null,null,null,null,null,null,null,null,null,null,null,"Agent hospitalier",{"$f":"Rapport!H643","v":"non saisi"}]
["L'établissement est fortement engagé dans la qualité des activités relatives aux articles de linge, il doit poursuivre ses actions",null,null,null,null,null,null,null,null,null,null,null,null,null,"Aide-soignante/aux. puériculture",{"$f":"Rapport!H642","v":"non saisi"}]
[null,null,null,null,null,null,null,null,null,null,null,null,null,null,"Manipulateur radio",{"$f":"Rapport!H641","v":"non saisi"}]
[null,null,null,null,null,null,null,null,null,null,null,null,null,null,"Kinésithérapeute",{"$f":"Rapport!H640","v":"non saisi"}]
[null,null,null,null,null,null,null,null,null,null,null,null,null,null,"Sage-femme",{"$f":"Rapport!H639","v":"non saisi"}]
[null,null,null,null,null,null,null,null,null,null,null,null,null,null,"Infirmière et IDE spécialisée",{"$f":"Rapport!H638","v":"non saisi"}]

{"sheet":"Fiches_Utilisateurs_Service#6","index":22,"n_rows":47,"n_cols":82,"rows_kept":47,"cut":false,"hidden":false,"merged":[[0,0,0,2],[1,0,1,2]]}
["FICHE N° 2"]
["UTILISATEURS SERVICE #6"]
[null,null,"Utilisateur #1",null,"Utilisateur #2",null,"Utilisateur #3",null,"Utilisateur #4",null,"Utilisateur #5",null,"Utilisateur #6",null,"Utilisateur #7",null,"Utilisateur #8",null,"Utilisateur #9",null,"Utilisateur #10",null,"Utilisateur #11",null,"Utilisateur #12",null,"Utilisateur #13",null,"Utilisateur #14",null,"Utilisateur #15",null,"Utilisateur #16",null,"Utilisateur #17",null,"Utilisateur #18",null,"Utilisateur #19",null,"Utilisateur #20",null,"Utilisateur #21",null,"Utilisateur #22",null,"Utilisateur #23",null,"Utilisateur #24",null,"Utilisateur #25",null,"Utilisateur #26",null,"Utilisateur #27",null,"Utilisateur #28",null,"Utilisateur #29",null,"Utilisateur #30",null,"Utilisateur #31",null,"Utilisateur #32",null,"Utilisateur #33",null,"Utilisateur #34",null,"Utilisateur #35",null,"Utilisateur #36",null,"Utilisateur #37",null,"Utilisateur #38",null,"Utilisateur #39",null,"Utilisateur #40"]
[]
[null,"VERIFICATION DONNEES NON SAISIES/N° DE SAISIE DE FICHE",{"$f":"C45","v":"non saisies"},null,{"$f":"E45","v":"non saisies"},null,{"$f":"G45","v":"non saisies"},null,{"$f":"I45","v":"non saisies"},null,{"$f":"K45","v":"non saisies"},null,{"$f":"M45","v":"non saisies"},null,{"$f":"O45","v":"non saisies"},null,{"$f":"Q45","v":"non saisies"},null,{"$f":"S45","v":"non saisies"},null,{"$f":"U45","v":"non saisies"},null,{"$f":"W45","v":"non saisies"},null,{"$f":"Y45","v":"non saisies"},null,{"$f":"AA45","v":"non saisies"},null,{"$f":"AC45","v":"non saisies"},null,{"$f":"AE45","v":"non saisies"},null,{"$f":"AG45","v":"non saisies"},null,{"$f":"AI45","v":"non saisies"},null,{"$f":"AK45","v":"non saisies"},null,{"$f":"AM45","v":"non saisies"},null,{"$f":"AO45","v":"non saisies"},null,{"$f":"AQ45","v":"non saisies"},null,{"$f":"AS45","v":"non saisies"},null,{"$f":"AU45","v":"non saisies"},null,{"$f":"AW45","v":"non saisies"},null,{"$f":"AY45","v":"non saisies"},null,{"$f":"BA45","v":"non saisies"},null,{"$f":"BC45","v":"non saisies"},null,{"$f":"BE45","v":"non saisies"},null,{"$f":"BG45","v":"non saisies"},null,{"$f":"BI45","v":"non saisies"},null,{"$f":"BK45","v":"non saisies"},null,{"$f":"BM45","v":"non saisies"},null,{"$f":"BO45","v":"non saisies"},null,{"$f":"BQ45","v":"non saisies"},null,{"$f":"BS45","v":"non saisies"},null,{"$f":"BU45","v":"non saisies"},null,{"$f":"BW45","v":"non saisies"},null,{"$f":"BY45","v":"non saisies"},null,{"$f":"CA45","v":"non saisies"},null,{"$f":"CC45","v":"non saisies"}]
[]
[null,"Date"]
[]
[null,"Nom du service",{"$f":"IF(SERVICE6=\"\",\"non saisi\",SERVICE6)","v":"non saisi"},null,{"$f":"IF(SERVICE6=\"\",\"non saisi\",SERVICE6)","v":"non saisi"},null,{"$f":"IF(SERVICE6=\"\",\"non saisi\",SERVICE6)","v":"non saisi"},null,{"$f":"IF(SERVICE6=\"\",\"non saisi\",SERVICE6)","v":"non saisi"},null,{"$f":"IF(SERVICE6=\"\",\"non saisi\",SERVICE6)","v":"non saisi"},null,{"$f":"IF(SERVICE6=\"\",\"non saisi\",SERVICE6)","v":"non saisi"},null,{"$f":"IF(SERVICE6=\"\",\"non saisi\",SERVICE6)","v":"non saisi"},null,{"$f":"IF(SERVICE6=\"\",\"non saisi\",SERVICE6)","v":"non saisi"},null,{"$f":"IF(SERVICE6=\"\",\"non saisi\",SERVICE6)","v":"non saisi"},null,{"$f":"IF(SERVICE6=\"\",\"non saisi\",SERVICE6)","v":"non saisi"},null,{"$f":"IF(SERVICE6=\"\",\"non saisi\",SERVICE6)","v":"non saisi"},null,{"$f":"IF(SERVICE6=\"\",\"non saisi\",SERVICE6)","v":"non saisi"},null,{"$f":"IF(SERVICE6=\"\",\"non saisi\",SERVICE6)","v":"non saisi"},null,{"$f":"IF(SERVICE6=\"\",\"non saisi\",SERVICE6)","v":"non saisi"},null,{"$f":"IF(SERVICE6=\"\",\"non saisi\",SERVICE6)","v":"non saisi"},null,{"$f":"IF(SERVICE6=\"\",\"non saisi\",SERVICE6)","v":"non saisi"},null,{"$f":"IF(SERVICE6=\"\",\"non saisi\",SERVICE6)","v":"non saisi"},null,{"$f":"IF(SERVICE6=\"\",\"non saisi\",SERVICE6)","v":"non saisi"},null,{"$f":"IF(SERVICE6=\"\",\"non saisi\",SERVICE6)","v":"non saisi"},null,{"$f":"IF(SERVICE6=\"\",\"non saisi\",SERVICE6)","v":"non saisi"},null,{"$f":"IF(SERVICE6=\"\",\"non saisi\",SERVICE6)","v":"non saisi"},null,{"$f":"IF(SERVICE6=\"\",\"non saisi\",SERVICE6)","v":"non saisi"},null,{"$f":"IF(SERVICE6=\"\",\"non saisi\",SERVICE6)","v":"non saisi"},null,{"$f":"IF(SERVICE6=\"\",\"non saisi\",SERVICE6)","v":"non saisi"},null,{"$f":"IF(SERVICE6=\"\",\"non saisi\",SERVICE6)","v":"non saisi"},null,{"$f":"IF(SERVICE6=\"\",\"non saisi\",SERVICE6)","v":"non saisi"},null,{"$f":"IF(SERVICE6=\"\",\"non saisi\",SERVICE6)","v":"non saisi"},null,{"$f":"IF(SERVICE6=\"\",\"non saisi\",SERVICE6)","v":"non saisi"},null,{"$f":"IF(SERVICE6=\"\",\"non saisi\",SERVICE6)","v":"non saisi"},null,{"$f":"IF(SERVICE6=\"\",\"non saisi\",SERVICE6)","v":"non saisi"},null,{"$f":"IF(SERVICE6=\"\",\"non saisi\",SERVICE6)","v":"non saisi"},null,{"$f":"IF(SERVICE6=\"\",\"non saisi\",SERVICE6)","v":"non saisi"},null,{"$f":"IF(SERVICE6=\"\",\"non saisi\",SERVICE6)","v":"non saisi"},null,{"$f":"IF(SERVICE6=\"\",\"non saisi\",SERVICE6)","v":"non saisi"},null,{"$f":"IF(SERVICE6=\"\",\"non saisi\",SERVICE6)","v":"non saisi"},null,{"$f":"IF(SERVICE6=\"\",\"non saisi\",SERVICE6)","v":"non saisi"},null,{"$f":"IF(SERVICE6=\"\",\"non saisi\",SERVICE6)","v":"non saisi"},null,{"$f":"IF(SERVICE6=\"\",\"non saisi\",SERVICE6)","v":"non saisi"},null,{"$f":"IF(SERVICE6=\"\",\"non saisi\",SERVICE6)","v":"non saisi"},null,{"$f":"IF(SERVICE6=\"\",\"non saisi\",SERVICE6)","v":"non saisi"}]
[]
[null,"Fonction du personnel",null,null,null,null,null,null,null,null,null,null,null,null,null,null,null,null,null,null,null,null,null,null,null,null,null,null,null,null,null,null,null,null,null,null,null,null,null,null,null,null,null,null,null,null,null,null,null,null,null,null,null,null,null,null,null,null,null,null,null,null,null,null,null,null,null,null,null,null,null,null,null,null,null,null,null,null,null,null,null,"1 Infirmière et IDE spécialisée"]
[null,null,null,null,null,null,null,null,null,null,null,null,null,null,null,null,null,null,null,null,null,null,null,null,null,null,null,null,null,null,null,null,null,null,null,null,null,null,null,null,null,null,null,null,null,null,null,null,null,null,null,null,null,null,null,null,null,null,null,null,null,null,null,null,null,null,null,null,null,null,null,null,null,null,null,null,null,null,null,null,null,"2 Sage Femme"]
["Linge sale",null,"1 Oui - 2 Non",null,"1 Oui - 2 Non",null,"1 Oui - 2 Non",null,"1 Oui - 2 Non",null,"1 Oui - 2 Non",null,"1 Oui - 2 Non",null,"1 Oui - 2 Non",null,"1 Oui - 2 Non",null,"1 Oui - 2 Non",null,"1 Oui - 2 Non",null,"1 Oui - 2 Non",null,"1 Oui - 2 Non",null,"1 Oui - 2 Non",null,"1 Oui - 2 Non",null,"1 Oui - 2 Non",null,"1 Oui - 2 Non",null,"1 Oui - 2 Non",null,"1 Oui - 2 Non",null,"1 Oui - 2 Non",null,"1 Oui - 2 Non",null,"1 Oui - 2 Non",null,"1 Oui - 2 Non",null,"1 Oui - 2 Non",null,"1 Oui - 2 Non",null,"1 Oui - 2 Non",null,"1 Oui - 2 Non",null,"1 Oui - 2 Non",null,"1 Oui - 2 Non",null,"1 Oui - 2 Non",null,"1 Oui - 2 Non",null,"1 Oui - 2 Non",null,"1 Oui - 2 Non",null,"1 Oui - 2 Non",null,"1 Oui - 2 Non",null,"1 Oui - 2 Non",null,"1 Oui - 2 Non",null,"1 Oui - 2 Non",null,"1 Oui - 2 Non",null,"1 Oui - 2 Non",null,"1 Oui - 2 Non","3 Kinésithérapeute"]
[null,null,null,null,null,null,null,null,null,null,null,null,null,null,null,null,null,null,null,null,null,null,null,null,null,null,null,null,null,null,null,null,null,null,null,null,null,null,null,null,null,null,null,null,null,null,null,null,null,null,null,null,null,null,null,null,null,null,null,null,null,null,null,null,null,null,null,null,null,null,null,null,null,null,null,null,null,null,null,null,null,"4 Manipulateur Radio"]
[1,"Le linge sale est évacué à la fin du soin, sans dépose sur le sol",null,null,null,null,null,null,null,null,null,null,null,null,null,null,null,null,null,null,null,null,null,null,null,null,null,null,null,null,null,null,null,null,null,null,null,null,null,null,null,null,null,null,null,null,null,null,null,null,null,null,null,null,null,null,null,null,null,null,null,null,null,null,null,null,null,null,null,null,null,null,null,null,null,null,null,null,null,null,null,"5 Aide soignante/aux. de puériculture"]
[null,null,null,null,null,null,null,null,null,null,null,null,null,null,null,null,null,null,null,null,null,null,null,null,null,null,null,null,null,null,null,null,null,null,null,null,null,null,null,null,null,null,null,null,null,null,null,null,null,null,null,null,null,null,null,null,null,null,null,null,null,null,null,null,null,null,null,null,null,null,null,null,null,null,null,null,null,null,null,null,null,"6 Agent Hospitalier"]
[2,"Le professionnel vérifie l’absence d’objet étranger",null,null,null,null,null,null,null,null,null,null,null,null,null,null,null,null,null,null,null,null,null,null,null,null,null,null,null,null,null,null,null,null,null,null,null,null,null,null,null,null,null,null,null,null,null,null,null,null,null,null,null,null,null,null,null,null,null,null,null,null,null,null,null,null,null,null,null,null,null,null,null,null,null,null,null,null,null,null,null,"7 Ambulancier"]
[null,null,null,null,null,null,null,null,null,null,null,null,null,null,null,null,null,null,null,null,null,null,null,null,null,null,null,null,null,null,null,null,null,null,null,null,null,null,null,null,null,null,null,null,null,null,null,null,null,null,null,null,null,null,null,null,null,null,null,null,null,null,null,null,null,null,null,null,null,null,null,null,null,null,null,null,null,null,null,null,null,"8 Brancardier"]
[3,"Le professionnel porte des gants lors de la manipulation de linge souillé par des liquides biologiques",null,null,null,null,null,null,null,null,null,null,null,null,null,null,null,null,null,null,null,null,null,null,null,null,null,null,null,null,null,null,null,null,null,null,null,null,null,null,null,null,null,null,null,null,null,null,null,null,null,null,null,null,null,null,null,null,null,null,null,null,null,null,null,null,null,null,null,null,null,null,null,null,null,null,null,null,null,null,null,"9 Etudiant"]
[null,null,null,null,null,null,null,null,null,null,null,null,null,null,null,null,null,null,null,null,null,null,null,null,null,null,null,null,null,null,null,null,null,null,null,null,null,null,null,null,null,null,null,null,null,null,null,null,null,null,null,null,null,null,null,null,null,null,null,null,null,null,null,null,null,null,null,null,null,null,null,null,null,null,null,null,null,null,null,null,null,"10 Autre"]
[4,"Le professionnel manipule le linge sale avec des gestes mesurés pour limiter la contamination de l'environnement",null,null,null,null,null,null,null,null,null,null,null,null,null,null,null,null,null,null,null,null,null,null,null,null,null,null,null,null,null,null,null,null,null,null,null,null,null,null,null,null,null,null,null,null,null,null,null,null,null,null,null,null,null,null,null,null,null,null,null,null,null,null,null,null,null,null,null,null,null,null,null,null,null,null,null,null,null,null,null,1]
[null,null,null,null,null,null,null,null,null,null,null,null,null,null,null,null,null,null,null,null,null,null,null,null,null,null,null,null,null,null,null,null,null,null,null,null,null,null,null,null,null,null,null,null,null,null,null,null,null,null,null,null,null,null,null,null,null,null,null,null,null,null,null,null,null,null,null,null,null,null,null,null,null,null,null,null,null,null,null,null,null,2]
[5,"Les articles sont répartis selon la procédure de tri de l'établissement",null,null,null,null,null,null,null,null,null,null,null,null,null,null,null,null,null,null,null,null,null,null,null,null,null,null,null,null,null,null,null,null,null,null,null,null,null,null,null,null,null,null,null,null,null,null,null,null,null,null,null,null,null,null,null,null,null,null,null,null,null,null,null,null,null,null,null,null,null,null,null,null,null,null,null,null,null,null,null,3]
[null,null,null,null,null,null,null,null,null,null,null,null,null,null,null,null,null,null,null,null,null,null,null,null,null,null,null,null,null,null,null,null,null,null,null,null,null,null,null,null,null,null,null,null,null,null,null,null,null,null,null,null,null,null,null,null,null,null,null,null,null,null,null,null,null,null,null,null,null,null,null,null,null,null,null,null,null,null,null,null,null,4]
[6,"Le linge est tenu à distance de la tenue professionnelle",null,null,null,null,null,null,null,null,null,null,null,null,null,null,null,null,null,null,null,null,null,null,null,null,null,null,null,null,null,null,null,null,null,null,null,null,null,null,null,null,null,null,null,null,null,null,null,null,null,null,null,null,null,null,null,null,null,null,null,null,null,null,null,null,null,null,null,null,null,null,null,null,null,null,null,null,null,null,null,5]
[null,null,null,null,null,null,null,null,null,null,null,null,null,null,null,null,null,null,null,null,null,null,null,null,null,null,null,null,null,null,null,null,null,null,null,null,null,null,null,null,null,null,null,null,null,null,null,null,null,null,null,null,null,null,null,null,null,null,null,null,null,null,null,null,null,null,null,null,null,null,null,null,null,null,null,null,null,null,null,null,null,6]
[7,"Le système d'ouverture du chariot des sacs collecteurs de linge sale est manipulé sans les mains",null,null,null,null,null,null,null,null,null,null,null,null,null,null,null,null,null,null,null,null,null,null,null,null,null,null,null,null,null,null,null,null,null,null,null,null,null,null,null,null,null,null,null,null,null,null,null,null,null,null,null,null,null,null,null,null,null,null,null,null,null,null,null,null,null,null,null,null,null,null,null,null,null,null,null,null,null,null,null,7]
[null,null,null,null,null,null,null,null,null,null,null,null,null,null,null,null,null,null,null,null,null,null,null,null,null,null,null,null,null,null,null,null,null,null,null,null,null,null,null,null,null,null,null,null,null,null,null,null,null,null,null,null,null,null,null,null,null,null,null,null,null,null,null,null,null,null,null,null,null,null,null,null,null,null,null,null,null,null,null,null,null,8]
[8,"Le professionnel réalise une hygiène des mains après avoir manipulé le linge sale",null,null,null,null,null,null,null,null,null,null,null,null,null,null,null,null,null,null,null,null,null,null,null,null,null,null,null,null,null,null,null,null,null,null,null,null,null,null,null,null,null,null,null,null,null,null,null,null,null,null,null,null,null,null,null,null,null,null,null,null,null,null,null,null,null,null,null,null,null,null,null,null,null,null,null,null,null,null,null,9]
[null,null,null,null,null,null,null,null,null,null,null,null,null,null,null,null,null,null,null,null,null,null,null,null,null,null,null,null,null,null,null,null,null,null,null,null,null,null,null,null,null,null,null,null,null,null,null,null,null,null,null,null,null,null,null,null,null,null,null,null,null,null,null,null,null,null,null,null,null,null,null,null,null,null,null,null,null,null,null,null,null,10]
[9,"Dès la fin de l'activité, les sacs de linge sale sont évacués vers un local de stockage réservé"]
[null,"Si Non Observé (NO) coder 3"]
[10,"Les sacs de linge sale sont transportés sans être traînés par terre lors de transport"]
[null,"Si Non Observé (NO) coder 3"]
[11,"Le professionnel réalise une hygiène des mains après avoir manipulé les sacs de linge"]
[null,"Si Non Observé (NO) coder 3"]
["Linge propre",null,"1 Oui - 2 Non",null,"1 Oui - 2 Non",null,"1 Oui - 2 Non",null,"1 Oui - 2 Non",null,"1 Oui - 2 Non",null,"1 Oui - 2 Non",null,"1 Oui - 2 Non",null,"1 Oui - 2 Non",null,"1 Oui - 2 Non",null,"1 Oui - 2 Non",null,"1 Oui - 2 Non",null,"1 Oui - 2 Non",null,"1 Oui - 2 Non",null,"1 Oui - 2 Non",null,"1 Oui - 2 Non",null,"1 Oui - 2 Non",null,"1 Oui - 2 Non",null,"1 Oui - 2 Non",null,"1 Oui - 2 Non",null,"1 Oui - 2 Non",null,"1 Oui - 2 Non",null,"1 Oui - 2 Non",null,"1 Oui - 2 Non",null,"1 Oui - 2 Non",null,"1 Oui - 2 Non",null,"1 Oui - 2 Non",null,"1 Oui - 2 Non",null,"1 Oui - 2 Non",null,"1 Oui - 2 Non",null,"1 Oui - 2 Non",null,"1 Oui - 2 Non",null,"1 Oui - 2 Non",null,"1 Oui - 2 Non",null,"1 Oui - 2 Non",null,"1 Oui - 2 Non",null,"1 Oui - 2 Non",null,"1 Oui - 2 Non",null,"1 Oui - 2 Non",null,"1 Oui - 2 Non",null,"1 Oui - 2 Non"]
[]
[12,"Le professionnel réalise une hygiène des mains avant de manipuler le linge propre "]
[]
[13,"Le linge est déconditionné au fur et à mesure des besoins"]
[]
[14,"Le linge entré dans la chambre et non utilisé est évacué (considéré comme sale)"]
[]
[null,"VERIFICATION DONNEES NON SAISIES/N° DE SAISIE DE FICHE",{"$f":"IF(OR(C7=\"\",C9=\"non saisi\",C11=\"\",C15=\"\",C17=\"\",C19=\"\",C21=\"\",C23=\"\",C25=\"\",C27=\"\",C29=\"\",C31=\"\",C33=\"\",C35=\"\",C39=\"\",C41=\"\",C43=\"\"),\"non saisies\",(SERVICES+_OBS1+_OBS2+_OBS3+_OBS4+_OBS5+1))","v":"non saisies"},null,{"$f":"IF(OR(E7=\"\",E9=\"non saisi\",E11=\"\",E15=\"\",E17=\"\",E19=\"\",E21=\"\",E23=\"\",E25=\"\",E27=\"\",E29=\"\",E31=\"\",E33=\"\",E35=\"\",E39=\"\",E41=\"\",E43=\"\"),\"non saisies\",(SERVICES+_OBS1+_OBS2+_OBS3+_OBS4+_OBS5+2))","v":"non saisies"},null,{"$f":"IF(OR(G7=\"\",G9=\"non saisi\",G11=\"\",G15=\"\",G17=\"\",G19=\"\",G21=\"\",G23=\"\",G25=\"\",G27=\"\",G29=\"\",G31=\"\",G33=\"\",G35=\"\",G39=\"\",G41=\"\",G43=\"\"),\"non saisies\",(SERVICES+_OBS1+_OBS2+_OBS3+_OBS4+_OBS5+3))","v":"non saisies"},null,{"$f":"IF(OR(I7=\"\",I9=\"non saisi\",I11=\"\",I15=\"\",I17=\"\",I19=\"\",I21=\"\",I23=\"\",I25=\"\",I27=\"\",I29=\"\",I31=\"\",I33=\"\",I35=\"\",I39=\"\",I41=\"\",I43=\"\"),\"non saisies\",(SERVICES+_OBS1+_OBS2+_OBS3+_OBS4+_OBS5+4))","v":"non saisies"},null,{"$f":"IF(OR(K7=\"\",K9=\"non saisi\",K11=\"\",K15=\"\",K17=\"\",K19=\"\",K21=\"\",K23=\"\",K25=\"\",K27=\"\",K29=\"\",K31=\"\",K33=\"\",K35=\"\",K39=\"\",K41=\"\",K43=\"\"),\"non saisies\",(SERVICES+_OBS1+_OBS2+_OBS3+_OBS4+_OBS5+5))","v":"non saisies"},null,{"$f":"IF(OR(M7=\"\",M9=\"non saisi\",M11=\"\",M15=\"\",M17=\"\",M19=\"\",M21=\"\",M23=\"\",M25=\"\",M27=\"\",M29=\"\",M31=\"\",M33=\"\",M35=\"\",M39=\"\",M41=\"\",M43=\"\"),\"non saisies\",(SERVICES+_OBS1+_OBS2+_OBS3+_OBS4+_OBS5+6))","v":"non saisies"},null,{"$f":"IF(OR(O7=\"\",O9=\"non saisi\",O11=\"\",O15=\"\",O17=\"\",O19=\"\",O21=\"\",O23=\"\",O25=\"\",O27=\"\",O29=\"\",O31=\"\",O33=\"\",O35=\"\",O39=\"\",O41=\"\",O43=\"\"),\"non saisies\",(SERVICES+_OBS1+_OBS2+_OBS3+_OBS4+_OBS5+7))","v":"non saisies"},null,{"$f":"IF(OR(Q7=\"\",Q9=\"non saisi\",Q11=\"\",Q15=\"\",Q17=\"\",Q19=\"\",Q21=\"\",Q23=\"\",Q25=\"\",Q27=\"\",Q29=\"\",Q31=\"\",Q33=\"\",Q35=\"\",Q39=\"\",Q41=\"\",Q43=\"\"),\"non saisies\",(SERVICES+_OBS1+_OBS2+_OBS3+_OBS4+_OBS5+8))","v":"non saisies"},null,{"$f":"IF(OR(S7=\"\",S9=\"non saisi\",S11=\"\",S15=\"\",S17=\"\",S19=\"\",S21=\"\",S23=\"\",S25=\"\",S27=\"\",S29=\"\",S31=\"\",S33=\"\",S35=\"\",S39=\"\",S41=\"\",S43=\"\"),\"non saisies\",(SERVICES+_OBS1+_OBS2+_OBS3+_OBS4+_OBS5+9))","v":"non saisies"},null,{"$f":"IF(OR(U7=\"\",U9=\"non saisi\",U11=\"\",U15=\"\",U17=\"\",U19=\"\",U21=\"\",U23=\"\",U25=\"\",U27=\"\",U29=\"\",U31=\"\",U33=\"\",U35=\"\",U39=\"\",U41=\"\",U43=\"\"),\"non saisies\",(SERVICES+_OBS1+_OBS2+_OBS3+_OBS4+_OBS5+10))","v":"non saisies"},null,{"$f":"IF(OR(W7=\"\",W9=\"non saisi\",W11=\"\",W15=\"\",W17=\"\",W19=\"\",W21=\"\",W23=\"\",W25=\"\",W27=\"\",W29=\"\",W31=\"\",W33=\"\",W35=\"\",W39=\"\",W41=\"\",W43=\"\"),\"non saisies\",(SERVICES+_OBS1+_OBS2+_OBS3+_OBS4+_OBS5+11))","v":"non saisies"},null,{"$f":"IF(OR(Y7=\"\",Y9=\"non saisi\",Y11=\"\",Y15=\"\",Y17=\"\",Y19=\"\",Y21=\"\",Y23=\"\",Y25=\"\",Y27=\"\",Y29=\"\",Y31=\"\",Y33=\"\",Y35=\"\",Y39=\"\",Y41=\"\",Y43=\"\"),\"non saisies\",(SERVICES+_OBS1+_OBS2+_OBS3+_OBS4+_OBS5+12))","v":"non saisies"},null,{"$f":"IF(OR(AA7=\"\",AA9=\"non saisi\",AA11=\"\",AA15=\"\",AA17=\"\",AA19=\"\",AA21=\"\",AA23=\"\",AA25=\"\",AA27=\"\",AA29=\"\",AA31=\"\",AA33=\"\",AA35=\"\",AA39=\"\",AA41=\"\",AA43=\"\"),\"non saisies\",(SERVICES+_OBS1+_OBS2+_OBS3+_OBS4+_OBS5+13))","v":"non saisies"},null,{"$f":"IF(OR(AC7=\"\",AC9=\"non saisi\",AC11=\"\",AC15=\"\",AC17=\"\",AC19=\"\",AC21=\"\",AC23=\"\",AC25=\"\",AC27=\"\",AC29=\"\",AC31=\"\",AC33=\"\",AC35=\"\",AC39=\"\",AC41=\"\",AC43=\"\"),\"non saisies\",(SERVICES+_OBS1+_OBS2+_OBS3+_OBS4+_OBS5+14))","v":"non saisies"},null,{"$f":"IF(OR(AE7=\"\",AE9=\"non saisi\",AE11=\"\",AE15=\"\",AE17=\"\",AE19=\"\",AE21=\"\",AE23=\"\",AE25=\"\",AE27=\"\",AE29=\"\",AE31=\"\",AE33=\"\",AE35=\"\",AE39=\"\",AE41=\"\",AE43=\"\"),\"non saisies\",(SERVICES+_OBS1+_OBS2+_OBS3+_OBS4+_OBS5+15))","v":"non saisies"},null,{"$f":"IF(OR(AG7=\"\",AG9=\"non saisi\",AG11=\"\",AG15=\"\",AG17=\"\",AG19=\"\",AG21=\"\",AG23=\"\",AG25=\"\",AG27=\"\",AG29=\"\",AG31=\"\",AG33=\"\",AG35=\"\",AG39=\"\",AG41=\"\",AG43=\"\"),\"non saisies\",(SERVICES+_OBS1+_OBS2+_OBS3+_OBS4+_OBS5+16))","v":"non saisies"},null,{"$f":"IF(OR(AI7=\"\",AI9=\"non saisi\",AI11=\"\",AI15=\"\",AI17=\"\",AI19=\"\",AI21=\"\",AI23=\"\",AI25=\"\",AI27=\"\",AI29=\"\",AI31=\"\",AI33=\"\",AI35=\"\",AI39=\"\",AI41=\"\",AI43=\"\"),\"non saisies\",(SERVICES+_OBS1+_OBS2+_OBS3+_OBS4+_OBS5+17))","v":"non saisies"},null,{"$f":"IF(OR(AK7=\"\",AK9=\"non saisi\",AK11=\"\",AK15=\"\",AK17=\"\",AK19=\"\",AK21=\"\",AK23=\"\",AK25=\"\",AK27=\"\",AK29=\"\",AK31=\"\",AK33=\"\",AK35=\"\",AK39=\"\",AK41=\"\",AK43=\"\"),\"non saisies\",(SERVICES+_OBS1+_OBS2+_OBS3+_OBS4+_OBS5+18))","v":"non saisies"},null,{"$f":"IF(OR(AM7=\"\",AM9=\"non saisi\",AM11=\"\",AM15=\"\",AM17=\"\",AM19=\"\",AM21=\"\",AM23=\"\",AM25=\"\",AM27=\"\",AM29=\"\",AM31=\"\",AM33=\"\",AM35=\"\",AM39=\"\",AM41=\"\",AM43=\"\"),\"non saisies\",(SERVICES+_OBS1+_OBS2+_OBS3+_OBS4+_OBS5+19))","v":"non saisies"},null,{"$f":"IF(OR(AO7=\"\",AO9=\"non saisi\",AO11=\"\",AO15=\"\",AO17=\"\",AO19=\"\",AO21=\"\",AO23=\"\",AO25=\"\",AO27=\"\",AO29=\"\",AO31=\"\",AO33=\"\",AO35=\"\",AO39=\"\",AO41=\"\",AO43=\"\"),\"non saisies\",(SERVICES+_OBS1+_OBS2+_OBS3+_OBS4+_OBS5+20))","v":"non saisies"},null,{"$f":"IF(OR(AQ7=\"\",AQ9=\"non saisi\",AQ11=\"\",AQ15=\"\",AQ17=\"\",AQ19=\"\",AQ21=\"\",AQ23=\"\",AQ25=\"\",AQ27=\"\",AQ29=\"\",AQ31=\"\",AQ33=\"\",AQ35=\"\",AQ39=\"\",AQ41=\"\",AQ43=\"\"),\"non saisies\",(SERVICES+_OBS1+_OBS2+_OBS3+_OBS4+_OBS5+21))","v":"non saisies"},null,{"$f":"IF(OR(AS7=\"\",AS9=\"non saisi\",AS11=\"\",AS15=\"\",AS17=\"\",AS19=\"\",AS21=\"\",AS23=\"\",AS25=\"\",AS27=\"\",AS29=\"\",AS31=\"\",AS33=\"\",AS35=\"\",AS39=\"\",AS41=\"\",AS43=\"\"),\"non saisies\",(SERVICES+_OBS1+_OBS2+_OBS3+_OBS4+_OBS5+22))","v":"non saisies"},null,{"$f":"IF(OR(AU7=\"\",AU9=\"non saisi\",AU11=\"\",AU15=\"\",AU17=\"\",AU19=\"\",AU21=\"\",AU23=\"\",AU25=\"\",AU27=\"\",AU29=\"\",AU31=\"\",AU33=\"\",AU35=\"\",AU39=\"\",AU41=\"\",AU43=\"\"),\"non saisies\",(SERVICES+_OBS1+_OBS2+_OBS3+_OBS4+_OBS5+23))","v":"non saisies"},null,{"$f":"IF(OR(AW7=\"\",AW9=\"non saisi\",AW11=\"\",AW15=\"\",AW17=\"\",AW19=\"\",AW21=\"\",AW23=\"\",AW25=\"\",AW27=\"\",AW29=\"\",AW31=\"\",AW33=\"\",AW35=\"\",AW39=\"\",AW41=\"\",AW43=\"\"),\"non saisies\",(SERVICES+_OBS1+_OBS2+_OBS3+_OBS4+_OBS5+24))","v":"non saisies"},null,{"$f":"IF(OR(AY7=\"\",AY9=\"non saisi\",AY11=\"\",AY15=\"\",AY17=\"\",AY19=\"\",AY21=\"\",AY23=\"\",AY25=\"\",AY27=\"\",AY29=\"\",AY31=\"\",AY33=\"\",AY35=\"\",AY39=\"\",AY41=\"\",AY43=\"\"),\"non saisies\",(SERVICES+_OBS1+_OBS2+_OBS3+_OBS4+_OBS5+25))","v":"non saisies"},null,{"$f":"IF(OR(BA7=\"\",BA9=\"non saisi\",BA11=\"\",BA15=\"\",BA17=\"\",BA19=\"\",BA21=\"\",BA23=\"\",BA25=\"\",BA27=\"\",BA29=\"\",BA31=\"\",BA33=\"\",BA35=\"\",BA39=\"\",BA41=\"\",BA43=\"\"),\"non saisies\",(SERVICES+_OBS1+_OBS2+_OBS3+_OBS4+_OBS5+26))","v":"non saisies"},null,{"$f":"IF(OR(BC7=\"\",BC9=\"non saisi\",BC11=\"\",BC15=\"\",BC17=\"\",BC19=\"\",BC21=\"\",BC23=\"\",BC25=\"\",BC27=\"\",BC29=\"\",BC31=\"\",BC33=\"\",BC35=\"\",BC39=\"\",BC41=\"\",BC43=\"\"),\"non saisies\",(SERVICES+_OBS1+_OBS2+_OBS3+_OBS4+_OBS5+27))","v":"non saisies"},null,{"$f":"IF(OR(BE7=\"\",BE9=\"non saisi\",BE11=\"\",BE15=\"\",BE17=\"\",BE19=\"\",BE21=\"\",BE23=\"\",BE25=\"\",BE27=\"\",BE29=\"\",BE31=\"\",BE33=\"\",BE35=\"\",BE39=\"\",BE41=\"\",BE43=\"\"),\"non saisies\",(SERVICES+_OBS1+_OBS2+_OBS3+_OBS4+_OBS5+28))","v":"non saisies"},null,{"$f":"IF(OR(BG7=\"\",BG9=\"non saisi\",BG11=\"\",BG15=\"\",BG17=\"\",BG19=\"\",BG21=\"\",BG23=\"\",BG25=\"\",BG27=\"\",BG29=\"\",BG31=\"\",BG33=\"\",BG35=\"\",BG39=\"\",BG41=\"\",BG43=\"\"),\"non saisies\",(SERVICES+_OBS1+_OBS2+_OBS3+_OBS4+_OBS5+29))","v":"non saisies"},null,{"$f":"IF(OR(BI7=\"\",BI9=\"non saisi\",BI11=\"\",BI15=\"\",BI17=\"\",BI19=\"\",BI21=\"\",BI23=\"\",BI25=\"\",BI27=\"\",BI29=\"\",BI31=\"\",BI33=\"\",BI35=\"\",BI39=\"\",BI41=\"\",BI43=\"\"),\"non saisies\",(SERVICES+_OBS1+_OBS2+_OBS3+_OBS4+_OBS5+30))","v":"non saisies"},null,{"$f":"IF(OR(BK7=\"\",BK9=\"non saisi\",BK11=\"\",BK15=\"\",BK17=\"\",BK19=\"\",BK21=\"\",BK23=\"\",BK25=\"\",BK27=\"\",BK29=\"\",BK31=\"\",BK33=\"\",BK35=\"\",BK39=\"\",BK41=\"\",BK43=\"\"),\"non saisies\",(SERVICES+_OBS1+_OBS2+_OBS3+_OBS4+_OBS5+31))","v":"non saisies"},null,{"$f":"IF(OR(BM7=\"\",BM9=\"non saisi\",BM11=\"\",BM15=\"\",BM17=\"\",BM19=\"\",BM21=\"\",BM23=\"\",BM25=\"\",BM27=\"\",BM29=\"\",BM31=\"\",BM33=\"\",BM35=\"\",BM39=\"\",BM41=\"\",BM43=\"\"),\"non saisies\",(SERVICES+_OBS1+_OBS2+_OBS3+_OBS4+_OBS5+32))","v":"non saisies"},null,{"$f":"IF(OR(BO7=\"\",BO9=\"non saisi\",BO11=\"\",BO15=\"\",BO17=\"\",BO19=\"\",BO21=\"\",BO23=\"\",BO25=\"\",BO27=\"\",BO29=\"\",BO31=\"\",BO33=\"\",BO35=\"\",BO39=\"\",BO41=\"\",BO43=\"\"),\"non saisies\",(SERVICES+_OBS1+_OBS2+_OBS3+_OBS4+_OBS5+33))","v":"non saisies"},null,{"$f":"IF(OR(BQ7=\"\",BQ9=\"non saisi\",BQ11=\"\",BQ15=\"\",BQ17=\"\",BQ19=\"\",BQ21=\"\",BQ23=\"\",BQ25=\"\",BQ27=\"\",BQ29=\"\",BQ31=\"\",BQ33=\"\",BQ35=\"\",BQ39=\"\",BQ41=\"\",BQ43=\"\"),\"non saisies\",(SERVICES+_OBS1+_OBS2+_OBS3+_OBS4+_OBS5+34))","v":"non saisies"},null,{"$f":"IF(OR(BS7=\"\",BS9=\"non saisi\",BS11=\"\",BS15=\"\",BS17=\"\",BS19=\"\",BS21=\"\",BS23=\"\",BS25=\"\",BS27=\"\",BS29=\"\",BS31=\"\",BS33=\"\",BS35=\"\",BS39=\"\",BS41=\"\",BS43=\"\"),\"non saisies\",(SERVICES+_OBS1+_OBS2+_OBS3+_OBS4+_OBS5+35))","v":"non saisies"},null,{"$f":"IF(OR(BU7=\"\",BU9=\"non saisi\",BU11=\"\",BU15=\"\",BU17=\"\",BU19=\"\",BU21=\"\",BU23=\"\",BU25=\"\",BU27=\"\",BU29=\"\",BU31=\"\",BU33=\"\",BU35=\"\",BU39=\"\",BU41=\"\",BU43=\"\"),\"non saisies\",(SERVICES+_OBS1+_OBS2+_OBS3+_OBS4+_OBS5+36))","v":"non saisies"},null,{"$f":"IF(OR(BW7=\"\",BW9=\"non saisi\",BW11=\"\",BW15=\"\",BW17=\"\",BW19=\"\",BW21=\"\",BW23=\"\",BW25=\"\",BW27=\"\",BW29=\"\",BW31=\"\",BW33=\"\",BW35=\"\",BW39=\"\",BW41=\"\",BW43=\"\"),\"non saisies\",(SERVICES+_OBS1+_OBS2+_OBS3+_OBS4+_OBS5+37))","v":"non saisies"},null,{"$f":"IF(OR(BY7=\"\",BY9=\"non saisi\",BY11=\"\",BY15=\"\",BY17=\"\",BY19=\"\",BY21=\"\",BY23=\"\",BY25=\"\",BY27=\"\",BY29=\"\",BY31=\"\",BY33=\"\",BY35=\"\",BY39=\"\",BY41=\"\",BY43=\"\"),\"non saisies\",(SERVICES+_OBS1+_OBS2+_OBS3+_OBS4+_OBS5+38))","v":"non saisies"},null,{"$f":"IF(OR(CA7=\"\",CA9=\"non saisi\",CA11=\"\",CA15=\"\",CA17=\"\",CA19=\"\",CA21=\"\",CA23=\"\",CA25=\"\",CA27=\"\",CA29=\"\",CA31=\"\",CA33=\"\",CA35=\"\",CA39=\"\",CA41=\"\",CA43=\"\"),\"non saisies\",(SERVICES+_OBS1+_OBS2+_OBS3+_OBS4+_OBS5+39))","v":"non saisies"},null,{"$f":"IF(OR(CC7=\"\",CC9=\"non saisi\",CC11=\"\",CC15=\"\",CC17=\"\",CC19=\"\",CC21=\"\",CC23=\"\",CC25=\"\",CC27=\"\",CC29=\"\",CC31=\"\",CC33=\"\",CC35=\"\",CC39=\"\",CC41=\"\",CC43=\"\"),\"non saisies\",(SERVICES+_OBS1+_OBS2+_OBS3+_OBS4+_OBS5+40))","v":"non saisies"}]
[]
[null,"MENU"]

{"sheet":"Score6","index":23,"n_rows":82,"n_cols":81,"rows_kept":82,"cut":false,"hidden":true,"merged":[]}
[]
[]
[]
[]
[]
[]
[null,null,{"$f":"IF('Fiches_Utilisateurs_Service#6'!C7=\"\",0,1)","v":0},null,{"$f":"IF('Fiches_Utilisateurs_Service#6'!E7=\"\",0,1)","v":0},null,{"$f":"IF('Fiches_Utilisateurs_Service#6'!G7=\"\",0,1)","v":0},null,{"$f":"IF('Fiches_Utilisateurs_Service#6'!I7=\"\",0,1)","v":0},null,{"$f":"IF('Fiches_Utilisateurs_Service#6'!K7=\"\",0,1)","v":0},null,{"$f":"IF('Fiches_Utilisateurs_Service#6'!M7=\"\",0,1)","v":0},null,{"$f":"IF('Fiches_Utilisateurs_Service#6'!O7=\"\",0,1)","v":0},null,{"$f":"IF('Fiches_Utilisateurs_Service#6'!Q7=\"\",0,1)","v":0},null,{"$f":"IF('Fiches_Utilisateurs_Service#6'!S7=\"\",0,1)","v":0},null,{"$f":"IF('Fiches_Utilisateurs_Service#6'!U7=\"\",0,1)","v":0},null,{"$f":"IF('Fiches_Utilisateurs_Service#6'!W7=\"\",0,1)","v":0},null,{"$f":"IF('Fiches_Utilisateurs_Service#6'!Y7=\"\",0,1)","v":0},null,{"$f":"IF('Fiches_Utilisateurs_Service#6'!AA7=\"\",0,1)","v":0},null,{"$f":"IF('Fiches_Utilisateurs_Service#6'!AC7=\"\",0,1)","v":0},null,{"$f":"IF('Fiches_Utilisateurs_Service#6'!AE7=\"\",0,1)","v":0},null,{"$f":"IF('Fiches_Utilisateurs_Service#6'!AG7=\"\",0,1)","v":0},null,{"$f":"IF('Fiches_Utilisateurs_Service#6'!AI7=\"\",0,1)","v":0},null,{"$f":"IF('Fiches_Utilisateurs_Service#6'!AK7=\"\",0,1)","v":0},null,{"$f":"IF('Fiches_Utilisateurs_Service#6'!AM7=\"\",0,1)","v":0},null,{"$f":"IF('Fiches_Utilisateurs_Service#6'!AO7=\"\",0,1)","v":0},null,{"$f":"IF('Fiches_Utilisateurs_Service#6'!AQ7=\"\",0,1)","v":0},null,{"$f":"IF('Fiches_Utilisateurs_Service#6'!AS7=\"\",0,1)","v":0},null,{"$f":"IF('Fiches_Utilisateurs_Service#6'!AU7=\"\",0,1)","v":0},null,{"$f":"IF('Fiches_Utilisateurs_Service#6'!AW7=\"\",0,1)","v":0},null,{"$f":"IF('Fiches_Utilisateurs_Service#6'!AY7=\"\",0,1)","v":0},null,{"$f":"IF('Fiches_Utilisateurs_Service#6'!BA7=\"\",0,1)","v":0},null,{"$f":"IF('Fiches_Utilisateurs_Service#6'!BC7=\"\",0,1)","v":0},null,{"$f":"IF('Fiches_Utilisateurs_Service#6'!BE7=\"\",0,1)","v":0},null,{"$f":"IF('Fiches_Utilisateurs_Service#6'!BG7=\"\",0,1)","v":0},null,{"$f":"IF('Fiches_Utilisateurs_Service#6'!BI7=\"\",0,1)","v":0},null,{"$f":"IF('Fiches_Utilisateurs_Service#6'!BK7=\"\",0,1)","v":0},null,{"$f":"IF('Fiches_Utilisateurs_Service#6'!BM7=\"\",0,1)","v":0},null,{"$f":"IF('Fiches_Utilisateurs_Service#6'!BO7=\"\",0,1)","v":0},null,{"$f":"IF('Fiches_Utilisateurs_Service#6'!BQ7=\"\",0,1)","v":0},null,{"$f":"IF('Fiches_Utilisateurs_Service#6'!BS7=\"\",0,1)","v":0},null,{"$f":"IF('Fiches_Utilisateurs_Service#6'!BU7=\"\",0,1)","v":0},null,{"$f":"IF('Fiches_Utilisateurs_Service#6'!BW7=\"\",0,1)","v":0},null,{"$f":"IF('Fiches_Utilisateurs_Service#6'!BY7=\"\",0,1)","v":0},null,{"$f":"IF('Fiches_Utilisateurs_Service#6'!CA7=\"\",0,1)","v":0},null,{"$f":"IF('Fiches_Utilisateurs_Service#6'!CC7=\"\",0,1)","v":0}]
[]
[]
[]
[null,null,{"$f":"IF(LEFT('Fiches_Utilisateurs_Service#6'!C11,2)=\"10\",\"10\",(IF('Fiches_Utilisateurs_Service#6'!C11=\"\",\"0\",LEFT('Fiches_Utilisateurs_Service#6'!C11,1))))","v":"0"},null,{"$f":"IF(LEFT('Fiches_Utilisateurs_Service#6'!E11,2)=\"10\",\"10\",(IF('Fiches_Utilisateurs_Service#6'!E11=\"\",\"0\",LEFT('Fiches_Utilisateurs_Service#6'!E11,1))))","v":"0"},null,{"$f":"IF(LEFT('Fiches_Utilisateurs_Service#6'!G11,2)=\"10\",\"10\",(IF('Fiches_Utilisateurs_Service#6'!G11=\"\",\"0\",LEFT('Fiches_Utilisateurs_Service#6'!G11,1))))","v":"0"},null,{"$f":"IF(LEFT('Fiches_Utilisateurs_Service#6'!I11,2)=\"10\",\"10\",(IF('Fiches_Utilisateurs_Service#6'!I11=\"\",\"0\",LEFT('Fiches_Utilisateurs_Service#6'!I11,1))))","v":"0"},null,{"$f":"IF(LEFT('Fiches_Utilisateurs_Service#6'!K11,2)=\"10\",\"10\",(IF('Fiches_Utilisateurs_Service#6'!K11=\"\",\"0\",LEFT('Fiches_Utilisateurs_Service#6'!K11,1))))","v":"0"},null,{"$f":"IF(LEFT('Fiches_Utilisateurs_Service#6'!M11,2)=\"10\",\"10\",(IF('Fiches_Utilisateurs_Service#6'!M11=\"\",\"0\",LEFT('Fiches_Utilisateurs_Service#6'!M11,1))))","v":"0"},null,{"$f":"IF(LEFT('Fiches_Utilisateurs_Service#6'!O11,2)=\"10\",\"10\",(IF('Fiches_Utilisateurs_Service#6'!O11=\"\",\"0\",LEFT('Fiches_Utilisateurs_Service#6'!O11,1))))","v":"0"},null,{"$f":"IF(LEFT('Fiches_Utilisateurs_Service#6'!Q11,2)=\"10\",\"10\",(IF('Fiches_Utilisateurs_Service#6'!Q11=\"\",\"0\",LEFT('Fiches_Utilisateurs_Service#6'!Q11,1))))","v":"0"},null,{"$f":"IF(LEFT('Fiches_Utilisateurs_Service#6'!S11,2)=\"10\",\"10\",(IF('Fiches_Utilisateurs_Service#6'!S11=\"\",\"0\",LEFT('Fiches_Utilisateurs_Service#6'!S11,1))))","v":"0"},null,{"$f":"IF(LEFT('Fiches_Utilisateurs_Service#6'!U11,2)=\"10\",\"10\",(IF('Fiches_Utilisateurs_Service#6'!U11=\"\",\"0\",LEFT('Fiches_Utilisateurs_Service#6'!U11,1))))","v":"0"},null,{"$f":"IF(LEFT('Fiches_Utilisateurs_Service#6'!W11,2)=\"10\",\"10\",(IF('Fiches_Utilisateurs_Service#6'!W11=\"\",\"0\",LEFT('Fiches_Utilisateurs_Service#6'!W11,1))))","v":"0"},null,{"$f":"IF(LEFT('Fiches_Utilisateurs_Service#6'!Y11,2)=\"10\",\"10\",(IF('Fiches_Utilisateurs_Service#6'!Y11=\"\",\"0\",LEFT('Fiches_Utilisateurs_Service#6'!Y11,1))))","v":"0"},null,{"$f":"IF(LEFT('Fiches_Utilisateurs_Service#6'!AA11,2)=\"10\",\"10\",(IF('Fiches_Utilisateurs_Service#6'!AA11=\"\",\"0\",LEFT('Fiches_Utilisateurs_Service#6'!AA11,1))))","v":"0"},null,{"$f":"IF(LEFT('Fiches_Utilisateurs_Service#6'!AC11,2)=\"10\",\"10\",(IF('Fiches_Utilisateurs_Service#6'!AC11=\"\",\"0\",LEFT('Fiches_Utilisateurs_Service#6'!AC11,1))))","v":"0"},null,{"$f":"IF(LEFT('Fiches_Utilisateurs_Service#6'!AE11,2)=\"10\",\"10\",(IF('Fiches_Utilisateurs_Service#6'!AE11=\"\",\"0\",LEFT('Fiches_Utilisateurs_Service#6'!AE11,1))))","v":"0"},null,{"$f":"IF(LEFT('Fiches_Utilisateurs_Service#6'!AG11,2)=\"10\",\"10\",(IF('Fiches_Utilisateurs_Service#6'!AG11=\"\",\"0\",LEFT('Fiches_Utilisateurs_Service#6'!AG11,1))))","v":"0"},null,{"$f":"IF(LEFT('Fiches_Utilisateurs_Service#6'!AI11,2)=\"10\",\"10\",(IF('Fiches_Utilisateurs_Service#6'!AI11=\"\",\"0\",LEFT('Fiches_Utilisateurs_Service#6'!AI11,1))))","v":"0"},null,{"$f":"IF(LEFT('Fiches_Utilisateurs_Service#6'!AK11,2)=\"10\",\"10\",(IF('Fiches_Utilisateurs_Service#6'!AK11=\"\",\"0\",LEFT('Fiches_Utilisateurs_Service#6'!AK11,1))))","v":"0"},null,{"$f":"IF(LEFT('Fiches_Utilisateurs_Service#6'!AM11,2)=\"10\",\"10\",(IF('Fiches_Utilisateurs_Service#6'!AM11=\"\",\"0\",LEFT('Fiches_Utilisateurs_Service#6'!AM11,1))))","v":"0"},null,{"$f":"IF(LEFT('Fiches_Utilisateurs_Service#6'!AO11,2)=\"10\",\"10\",(IF('Fiches_Utilisateurs_Service#6'!AO11=\"\",\"0\",LEFT('Fiches_Utilisateurs_Service#6'!AO11,1))))","v":"0"},null,{"$f":"IF(LEFT('Fiches_Utilisateurs_Service#6'!AQ11,2)=\"10\",\"10\",(IF('Fiches_Utilisateurs_Service#6'!AQ11=\"\",\"0\",LEFT('Fiches_Utilisateurs_Service#6'!AQ11,1))))","v":"0"},null,{"$f":"IF(LEFT('Fiches_Utilisateurs_Service#6'!AS11,2)=\"10\",\"10\",(IF('Fiches_Utilisateurs_Service#6'!AS11=\"\",\"0\",LEFT('Fiches_Utilisateurs_Service#6'!AS11,1))))","v":"0"},null,{"$f":"IF(LEFT('Fiches_Utilisateurs_Service#6'!AU11,2)=\"10\",\"10\",(IF('Fiches_Utilisateurs_Service#6'!AU11=\"\",\"0\",LEFT('Fiches_Utilisateurs_Service#6'!AU11,1))))","v":"0"},null,{"$f":"IF(LEFT('Fiches_Utilisateurs_Service#6'!AW11,2)=\"10\",\"10\",(IF('Fiches_Utilisateurs_Service#6'!AW11=\"\",\"0\",LEFT('Fiches_Utilisateurs_Service#6'!AW11,1))))","v":"0"},null,{"$f":"IF(LEFT('Fiches_Utilisateurs_Service#6'!AY11,2)=\"10\",\"10\",(IF('Fiches_Utilisateurs_Service#6'!AY11=\"\",\"0\",LEFT('Fiches_Utilisateurs_Service#6'!AY11,1))))","v":"0"},null,{"$f":"IF(LEFT('Fiches_Utilisateurs_Service#6'!BA11,2)=\"10\",\"10\",(IF('Fiches_Utilisateurs_Service#6'!BA11=\"\",\"0\",LEFT('Fiches_Utilisateurs_Service#6'!BA11,1))))","v":"0"},null,{"$f":"IF(LEFT('Fiches_Utilisateurs_Service#6'!BC11,2)=\"10\",\"10\",(IF('Fiches_Utilisateurs_Service#6'!BC11=\"\",\"0\",LEFT('Fiches_Utilisateurs_Service#6'!BC11,1))))","v":"0"},null,{"$f":"IF(LEFT('Fiches_Utilisateurs_Service#6'!BE11,2)=\"10\",\"10\",(IF('Fiches_Utilisateurs_Service#6'!BE11=\"\",\"0\",LEFT('Fiches_Utilisateurs_Service#6'!BE11,1))))","v":"0"},null,{"$f":"IF(LEFT('Fiches_Utilisateurs_Service#6'!BG11,2)=\"10\",\"10\",(IF('Fiches_Utilisateurs_Service#6'!BG11=\"\",\"0\",LEFT('Fiches_Utilisateurs_Service#6'!BG11,1))))","v":"0"},null,{"$f":"IF(LEFT('Fiches_Utilisateurs_Service#6'!BI11,2)=\"10\",\"10\",(IF('Fiches_Utilisateurs_Service#6'!BI11=\"\",\"0\",LEFT('Fiches_Utilisateurs_Service#6'!BI11,1))))","v":"0"},null,{"$f":"IF(LEFT('Fiches_Utilisateurs_Service#6'!BK11,2)=\"10\",\"10\",(IF('Fiches_Utilisateurs_Service#6'!BK11=\"\",\"0\",LEFT('Fiches_Utilisateurs_Service#6'!BK11,1))))","v":"0"},null,{"$f":"IF(LEFT('Fiches_Utilisateurs_Service#6'!BM11,2)=\"10\",\"10\",(IF('Fiches_Utilisateurs_Service#6'!BM11=\"\",\"0\",LEFT('Fiches_Utilisateurs_Service#6'!BM11,1))))","v":"0"},null,{"$f":"IF(LEFT('Fiches_Utilisateurs_Service#6'!BO11,2)=\"10\",\"10\",(IF('Fiches_Utilisateurs_Service#6'!BO11=\"\",\"0\",LEFT('Fiches_Utilisateurs_Service#6'!BO11,1))))","v":"0"},null,{"$f":"IF(LEFT('Fiches_Utilisateurs_Service#6'!BQ11,2)=\"10\",\"10\",(IF('Fiches_Utilisateurs_Service#6'!BQ11=\"\",\"0\",LEFT('Fiches_Utilisateurs_Service#6'!BQ11,1))))","v":"0"},null,{"$f":"IF(LEFT('Fiches_Utilisateurs_Service#6'!BS11,2)=\"10\",\"10\",(IF('Fiches_Utilisateurs_Service#6'!BS11=\"\",\"0\",LEFT('Fiches_Utilisateurs_Service#6'!BS11,1))))","v":"0"},null,{"$f":"IF(LEFT('Fiches_Utilisateurs_Service#6'!BU11,2)=\"10\",\"10\",(IF('Fiches_Utilisateurs_Service#6'!BU11=\"\",\"0\",LEFT('Fiches_Utilisateurs_Service#6'!BU11,1))))","v":"0"},null,{"$f":"IF(LEFT('Fiches_Utilisateurs_Service#6'!BW11,2)=\"10\",\"10\",(IF('Fiches_Utilisateurs_Service#6'!BW11=\"\",\"0\",LEFT('Fiches_Utilisateurs_Service#6'!BW11,1))))","v":"0"},null,{"$f":"IF(LEFT('Fiches_Utilisateurs_Service#6'!BY11,2)=\"10\",\"10\",(IF('Fiches_Utilisateurs_Service#6'!BY11=\"\",\"0\",LEFT('Fiches_Utilisateurs_Service#6'!BY11,1))))","v":"0"},null,{"$f":"IF(LEFT('Fiches_Utilisateurs_Service#6'!CA11,2)=\"10\",\"10\",(IF('Fiches_Utilisateurs_Service#6'!CA11=\"\",\"0\",LEFT('Fiches_Utilisateurs_Service#6'!CA11,1))))","v":"0"},null,{"$f":"IF(LEFT('Fiches_Utilisateurs_Service#6'!CC11,2)=\"10\",\"10\",(IF('Fiches_Utilisateurs_Service#6'!CC11=\"\",\"0\",LEFT('Fiches_Utilisateurs_Service#6'!CC11,1))))","v":"0"}]
[]
[]
[null,"glob tots"]
[null,null,{"$f":"IF('Fiches_Utilisateurs_Service#6'!C15=1,1,0)","v":0},null,{"$f":"IF('Fiches_Utilisateurs_Service#6'!E15=1,1,0)","v":0},null,{"$f":"IF('Fiches_Utilisateurs_Service#6'!G15=1,1,0)","v":0},null,{"$f":"IF('Fiches_Utilisateurs_Service#6'!I15=1,1,0)","v":0},null,{"$f":"IF('Fiches_Utilisateurs_Service#6'!K15=1,1,0)","v":0},null,{"$f":"IF('Fiches_Utilisateurs_Service#6'!M15=1,1,0)","v":0},null,{"$f":"IF('Fiches_Utilisateurs_Service#6'!O15=1,1,0)","v":0},null,{"$f":"IF('Fiches_Utilisateurs_Service#6'!Q15=1,1,0)","v":0},null,{"$f":"IF('Fiches_Utilisateurs_Service#6'!S15=1,1,0)","v":0},null,{"$f":"IF('Fiches_Utilisateurs_Service#6'!U15=1,1,0)","v":0},null,{"$f":"IF('Fiches_Utilisateurs_Service#6'!W15=1,1,0)","v":0},null,{"$f":"IF('Fiches_Utilisateurs_Service#6'!Y15=1,1,0)","v":0},null,{"$f":"IF('Fiches_Utilisateurs_Service#6'!AA15=1,1,0)","v":0},null,{"$f":"IF('Fiches_Utilisateurs_Service#6'!AC15=1,1,0)","v":0},null,{"$f":"IF('Fiches_Utilisateurs_Service#6'!AE15=1,1,0)","v":0},null,{"$f":"IF('Fiches_Utilisateurs_Service#6'!AG15=1,1,0)","v":0},null,{"$f":"IF('Fiches_Utilisateurs_Service#6'!AI15=1,1,0)","v":0},null,{"$f":"IF('Fiches_Utilisateurs_Service#6'!AK15=1,1,0)","v":0},null,{"$f":"IF('Fiches_Utilisateurs_Service#6'!AM15=1,1,0)","v":0},null,{"$f":"IF('Fiches_Utilisateurs_Service#6'!AO15=1,1,0)","v":0},null,{"$f":"IF('Fiches_Utilisateurs_Service#6'!AQ15=1,1,0)","v":0},null,{"$f":"IF('Fiches_Utilisateurs_Service#6'!AS15=1,1,0)","v":0},null,{"$f":"IF('Fiches_Utilisateurs_Service#6'!AU15=1,1,0)","v":0},null,{"$f":"IF('Fiches_Utilisateurs_Service#6'!AW15=1,1,0)","v":0},null,{"$f":"IF('Fiches_Utilisateurs_Service#6'!AY15=1,1,0)","v":0},null,{"$f":"IF('Fiches_Utilisateurs_Service#6'!BA15=1,1,0)","v":0},null,{"$f":"IF('Fiches_Utilisateurs_Service#6'!BC15=1,1,0)","v":0},null,{"$f":"IF('Fiches_Utilisateurs_Service#6'!BE15=1,1,0)","v":0},null,{"$f":"IF('Fiches_Utilisateurs_Service#6'!BG15=1,1,0)","v":0},null,{"$f":"IF('Fiches_Utilisateurs_Service#6'!BI15=1,1,0)","v":0},null,{"$f":"IF('Fiches_Utilisateurs_Service#6'!BK15=1,1,0)","v":0},null,{"$f":"IF('Fiches_Utilisateurs_Service#6'!BM15=1,1,0)","v":0},null,{"$f":"IF('Fiches_Utilisateurs_Service#6'!BO15=1,1,0)","v":0},null,{"$f":"IF('Fiches_Utilisateurs_Service#6'!BQ15=1,1,0)","v":0},null,{"$f":"IF('Fiches_Utilisateurs_Service#6'!BS15=1,1,0)","v":0},null,{"$f":"IF('Fiches_Utilisateurs_Service#6'!BU15=1,1,0)","v":0},null,{"$f":"IF('Fiches_Utilisateurs_Service#6'!BW15=1,1,0)","v":0},null,{"$f":"IF('Fiches_Utilisateurs_Service#6'!BY15=1,1,0)","v":0},null,{"$f":"IF('Fiches_Utilisateurs_Service#6'!CA15=1,1,0)","v":0},null,{"$f":"IF('Fiches_Utilisateurs_Service#6'!CC15=1,1,0)","v":0}]
[]
[null,null,{"$f":"IF('Fiches_Utilisateurs_Service#6'!C17=1,1,0)","v":0},null,{"$f":"IF('Fiches_Utilisateurs_Service#6'!E17=1,1,0)","v":0},null,{"$f":"IF('Fiches_Utilisateurs_Service#6'!G17=1,1,0)","v":0},null,{"$f":"IF('Fiches_Utilisateurs_Service#6'!I17=1,1,0)","v":0},null,{"$f":"IF('Fiches_Utilisateurs_Service#6'!K17=1,1,0)","v":0},null,{"$f":"IF('Fiches_Utilisateurs_Service#6'!M17=1,1,0)","v":0},null,{"$f":"IF('Fiches_Utilisateurs_Service#6'!O17=1,1,0)","v":0},null,{"$f":"IF('Fiches_Utilisateurs_Service#6'!Q17=1,1,0)","v":0},null,{"$f":"IF('Fiches_Utilisateurs_Service#6'!S17=1,1,0)","v":0},null,{"$f":"IF('Fiches_Utilisateurs_Service#6'!U17=1,1,0)","v":0},null,{"$f":"IF('Fiches_Utilisateurs_Service#6'!W17=1,1,0)","v":0},null,{"$f":"IF('Fiches_Utilisateurs_Service#6'!Y17=1,1,0)","v":0},null,{"$f":"IF('Fiches_Utilisateurs_Service#6'!AA17=1,1,0)","v":0},null,{"$f":"IF('Fiches_Utilisateurs_Service#6'!AC17=1,1,0)","v":0},null,{"$f":"IF('Fiches_Utilisateurs_Service#6'!AE17=1,1,0)","v":0},null,{"$f":"IF('Fiches_Utilisateurs_Service#6'!AG17=1,1,0)","v":0},null,{"$f":"IF('Fiches_Utilisateurs_Service#6'!AI17=1,1,0)","v":0},null,{"$f":"IF('Fiches_Utilisateurs_Service#6'!AK17=1,1,0)","v":0},null,{"$f":"IF('Fiches_Utilisateurs_Service#6'!AM17=1,1,0)","v":0},null,{"$f":"IF('Fiches_Utilisateurs_Service#6'!AO17=1,1,0)","v":0},null,{"$f":"IF('Fiches_Utilisateurs_Service#6'!AQ17=1,1,0)","v":0},null,{"$f":"IF('Fiches_Utilisateurs_Service#6'!AS17=1,1,0)","v":0},null,{"$f":"IF('Fiches_Utilisateurs_Service#6'!AU17=1,1,0)","v":0},null,{"$f":"IF('Fiches_Utilisateurs_Service#6'!AW17=1,1,0)","v":0},null,{"$f":"IF('Fiches_Utilisateurs_Service#6'!AY17=1,1,0)","v":0},null,{"$f":"IF('Fiches_Utilisateurs_Service#6'!BA17=1,1,0)","v":0},null,{"$f":"IF('Fiches_Utilisateurs_Service#6'!BC17=1,1,0)","v":0},null,{"$f":"IF('Fiches_Utilisateurs_Service#6'!BE17=1,1,0)","v":0},null,{"$f":"IF('Fiches_Utilisateurs_Service#6'!BG17=1,1,0)","v":0},null,{"$f":"IF('Fiches_Utilisateurs_Service#6'!BI17=1,1,0)","v":0},null,{"$f":"IF('Fiches_Utilisateurs_Service#6'!BK17=1,1,0)","v":0},null,{"$f":"IF('Fiches_Utilisateurs_Service#6'!BM17=1,1,0)","v":0},null,{"$f":"IF('Fiches_Utilisateurs_Service#6'!BO17=1,1,0)","v":0},null,{"$f":"IF('Fiches_Utilisateurs_Service#6'!BQ17=1,1,0)","v":0},null,{"$f":"IF('Fiches_Utilisateurs_Service#6'!BS17=1,1,0)","v":0},null,{"$f":"IF('Fiches_Utilisateurs_Service#6'!BU17=1,1,0)","v":0},null,{"$f":"IF('Fiches_Utilisateurs_Service#6'!BW17=1,1,0)","v":0},null,{"$f":"IF('Fiches_Utilisateurs_Service#6'!BY17=1,1,0)","v":0},null,{"$f":"IF('Fiches_Utilisateurs_Service#6'!CA17=1,1,0)","v":0},null,{"$f":"IF('Fiches_Utilisateurs_Service#6'!CC17=1,1,0)","v":0}]
[]
[null,null,{"$f":"IF('Fiches_Utilisateurs_Service#6'!C19=1,1,0)","v":0},null,{"$f":"IF('Fiches_Utilisateurs_Service#6'!E19=1,1,0)","v":0},null,{"$f":"IF('Fiches_Utilisateurs_Service#6'!G19=1,1,0)","v":0},null,{"$f":"IF('Fiches_Utilisateurs_Service#6'!I19=1,1,0)","v":0},null,{"$f":"IF('Fiches_Utilisateurs_Service#6'!K19=1,1,0)","v":0},null,{"$f":"IF('Fiches_Utilisateurs_Service#6'!M19=1,1,0)","v":0},null,{"$f":"IF('Fiches_Utilisateurs_Service#6'!O19=1,1,0)","v":0},null,{"$f":"IF('Fiches_Utilisateurs_Service#6'!Q19=1,1,0)","v":0},null,{"$f":"IF('Fiches_Utilisateurs_Service#6'!S19=1,1,0)","v":0},null,{"$f":"IF('Fiches_Utilisateurs_Service#6'!U19=1,1,0)","v":0},null,{"$f":"IF('Fiches_Utilisateurs_Service#6'!W19=1,1,0)","v":0},null,{"$f":"IF('Fiches_Utilisateurs_Service#6'!Y19=1,1,0)","v":0},null,{"$f":"IF('Fiches_Utilisateurs_Service#6'!AA19=1,1,0)","v":0},null,{"$f":"IF('Fiches_Utilisateurs_Service#6'!AC19=1,1,0)","v":0},null,{"$f":"IF('Fiches_Utilisateurs_Service#6'!AE19=1,1,0)","v":0},null,{"$f":"IF('Fiches_Utilisateurs_Service#6'!AG19=1,1,0)","v":0},null,{"$f":"IF('Fiches_Utilisateurs_Service#6'!AI19=1,1,0)","v":0},null,{"$f":"IF('Fiches_Utilisateurs_Service#6'!AK19=1,1,0)","v":0},null,{"$f":"IF('Fiches_Utilisateurs_Service#6'!AM19=1,1,0)","v":0},null,{"$f":"IF('Fiches_Utilisateurs_Service#6'!AO19=1,1,0)","v":0},null,{"$f":"IF('Fiches_Utilisateurs_Service#6'!AQ19=1,1,0)","v":0},null,{"$f":"IF('Fiches_Utilisateurs_Service#6'!AS19=1,1,0)","v":0},null,{"$f":"IF('Fiches_Utilisateurs_Service#6'!AU19=1,1,0)","v":0},null,{"$f":"IF('Fiches_Utilisateurs_Service#6'!AW19=1,1,0)","v":0},null,{"$f":"IF('Fiches_Utilisateurs_Service#6'!AY19=1,1,0)","v":0},null,{"$f":"IF('Fiches_Utilisateurs_Service#6'!BA19=1,1,0)","v":0},null,{"$f":"IF('Fiches_Utilisateurs_Service#6'!BC19=1,1,0)","v":0},null,{"$f":"IF('Fiches_Utilisateurs_Service#6'!BE19=1,1,0)","v":0},null,{"$f":"IF('Fiches_Utilisateurs_Service#6'!BG19=1,1,0)","v":0},null,{"$f":"IF('Fiches_Utilisateurs_Service#6'!BI19=1,1,0)","v":0},null,{"$f":"IF('Fiches_Utilisateurs_Service#6'!BK19=1,1,0)","v":0},null,{"$f":"IF('Fiches_Utilisateurs_Service#6'!BM19=1,1,0)","v":0},null,{"$f":"IF('Fiches_Utilisateurs_Service#6'!BO19=1,1,0)","v":0},null,{"$f":"IF('Fiches_Utilisateurs_Service#6'!BQ19=1,1,0)","v":0},null,{"$f":"IF('Fiches_Utilisateurs_Service#6'!BS19=1,1,0)","v":0},null,{"$f":"IF('Fiches_Utilisateurs_Service#6'!BU19=1,1,0)","v":0},null,{"$f":"IF('Fiches_Utilisateurs_Service#6'!BW19=1,1,0)","v":0},null,{"$f":"IF('Fiches_Utilisateurs_Service#6'!BY19=1,1,0)","v":0},null,{"$f":"IF('Fiches_Utilisateurs_Service#6'!CA19=1,1,0)","v":0},null,{"$f":"IF('Fiches_Utilisateurs_Service#6'!CC19=1,1,0)","v":0}]
[]
[null,null,{"$f":"IF('Fiches_Utilisateurs_Service#6'!C21=1,1,0)","v":0},null,{"$f":"IF('Fiches_Utilisateurs_Service#6'!E21=1,1,0)","v":0},null,{"$f":"IF('Fiches_Utilisateurs_Service#6'!G21=1,1,0)","v":0},null,{"$f":"IF('Fiches_Utilisateurs_Service#6'!I21=1,1,0)","v":0},null,{"$f":"IF('Fiches_Utilisateurs_Service#6'!K21=1,1,0)","v":0},null,{"$f":"IF('Fiches_Utilisateurs_Service#6'!M21=1,1,0)","v":0},null,{"$f":"IF('Fiches_Utilisateurs_Service#6'!O21=1,1,0)","v":0},null,{"$f":"IF('Fiches_Utilisateurs_Service#6'!Q21=1,1,0)","v":0},null,{"$f":"IF('Fiches_Utilisateurs_Service#6'!S21=1,1,0)","v":0},null,{"$f":"IF('Fiches_Utilisateurs_Service#6'!U21=1,1,0)","v":0},null,{"$f":"IF('Fiches_Utilisateurs_Service#6'!W21=1,1,0)","v":0},null,{"$f":"IF('Fiches_Utilisateurs_Service#6'!Y21=1,1,0)","v":0},null,{"$f":"IF('Fiches_Utilisateurs_Service#6'!AA21=1,1,0)","v":0},null,{"$f":"IF('Fiches_Utilisateurs_Service#6'!AC21=1,1,0)","v":0},null,{"$f":"IF('Fiches_Utilisateurs_Service#6'!AE21=1,1,0)","v":0},null,{"$f":"IF('Fiches_Utilisateurs_Service#6'!AG21=1,1,0)","v":0},null,{"$f":"IF('Fiches_Utilisateurs_Service#6'!AI21=1,1,0)","v":0},null,{"$f":"IF('Fiches_Utilisateurs_Service#6'!AK21=1,1,0)","v":0},null,{"$f":"IF('Fiches_Utilisateurs_Service#6'!AM21=1,1,0)","v":0},null,{"$f":"IF('Fiches_Utilisateurs_Service#6'!AO21=1,1,0)","v":0},null,{"$f":"IF('Fiches_Utilisateurs_Service#6'!AQ21=1,1,0)","v":0},null,{"$f":"IF('Fiches_Utilisateurs_Service#6'!AS21=1,1,0)","v":0},null,{"$f":"IF('Fiches_Utilisateurs_Service#6'!AU21=1,1,0)","v":0},null,{"$f":"IF('Fiches_Utilisateurs_Service#6'!AW21=1,1,0)","v":0},null,{"$f":"IF('Fiches_Utilisateurs_Service#6'!AY21=1,1,0)","v":0},null,{"$f":"IF('Fiches_Utilisateurs_Service#6'!BA21=1,1,0)","v":0},null,{"$f":"IF('Fiches_Utilisateurs_Service#6'!BC21=1,1,0)","v":0},null,{"$f":"IF('Fiches_Utilisateurs_Service#6'!BE21=1,1,0)","v":0},null,{"$f":"IF('Fiches_Utilisateurs_Service#6'!BG21=1,1,0)","v":0},null,{"$f":"IF('Fiches_Utilisateurs_Service#6'!BI21=1,1,0)","v":0},null,{"$f":"IF('Fiches_Utilisateurs_Service#6'!BK21=1,1,0)","v":0},null,{"$f":"IF('Fiches_Utilisateurs_Service#6'!BM21=1,1,0)","v":0},null,{"$f":"IF('Fiches_Utilisateurs_Service#6'!BO21=1,1,0)","v":0},null,{"$f":"IF('Fiches_Utilisateurs_Service#6'!BQ21=1,1,0)","v":0},null,{"$f":"IF('Fiches_Utilisateurs_Service#6'!BS21=1,1,0)","v":0},null,{"$f":"IF('Fiches_Utilisateurs_Service#6'!BU21=1,1,0)","v":0},null,{"$f":"IF('Fiches_Utilisateurs_Service#6'!BW21=1,1,0)","v":0},null,{"$f":"IF('Fiches_Utilisateurs_Service#6'!BY21=1,1,0)","v":0},null,{"$f":"IF('Fiches_Utilisateurs_Service#6'!CA21=1,1,0)","v":0},null,{"$f":"IF('Fiches_Utilisateurs_Service#6'!CC21=1,1,0)","v":0}]
[]
[null,null,{"$f":"IF('Fiches_Utilisateurs_Service#6'!C23=1,1,0)","v":0},null,{"$f":"IF('Fiches_Utilisateurs_Service#6'!E23=1,1,0)","v":0},null,{"$f":"IF('Fiches_Utilisateurs_Service#6'!G23=1,1,0)","v":0},null,{"$f":"IF('Fiches_Utilisateurs_Service#6'!I23=1,1,0)","v":0},null,{"$f":"IF('Fiches_Utilisateurs_Service#6'!K23=1,1,0)","v":0},null,{"$f":"IF('Fiches_Utilisateurs_Service#6'!M23=1,1,0)","v":0},null,{"$f":"IF('Fiches_Utilisateurs_Service#6'!O23=1,1,0)","v":0},null,{"$f":"IF('Fiches_Utilisateurs_Service#6'!Q23=1,1,0)","v":0},null,{"$f":"IF('Fiches_Utilisateurs_Service#6'!S23=1,1,0)","v":0},null,{"$f":"IF('Fiches_Utilisateurs_Service#6'!U23=1,1,0)","v":0},null,{"$f":"IF('Fiches_Utilisateurs_Service#6'!W23=1,1,0)","v":0},null,{"$f":"IF('Fiches_Utilisateurs_Service#6'!Y23=1,1,0)","v":0},null,{"$f":"IF('Fiches_Utilisateurs_Service#6'!AA23=1,1,0)","v":0},null,{"$f":"IF('Fiches_Utilisateurs_Service#6'!AC23=1,1,0)","v":0},null,{"$f":"IF('Fiches_Utilisateurs_Service#6'!AE23=1,1,0)","v":0},null,{"$f":"IF('Fiches_Utilisateurs_Service#6'!AG23=1,1,0)","v":0},null,{"$f":"IF('Fiches_Utilisateurs_Service#6'!AI23=1,1,0)","v":0},null,{"$f":"IF('Fiches_Utilisateurs_Service#6'!AK23=1,1,0)","v":0},null,{"$f":"IF('Fiches_Utilisateurs_Service#6'!AM23=1,1,0)","v":0},null,{"$f":"IF('Fiches_Utilisateurs_Service#6'!AO23=1,1,0)","v":0},null,{"$f":"IF('Fiches_Utilisateurs_Service#6'!AQ23=1,1,0)","v":0},null,{"$f":"IF('Fiches_Utilisateurs_Service#6'!AS23=1,1,0)","v":0},null,{"$f":"IF('Fiches_Utilisateurs_Service#6'!AU23=1,1,0)","v":0},null,{"$f":"IF('Fiches_Utilisateurs_Service#6'!AW23=1,1,0)","v":0},null,{"$f":"IF('Fiches_Utilisateurs_Service#6'!AY23=1,1,0)","v":0},null,{"$f":"IF('Fiches_Utilisateurs_Service#6'!BA23=1,1,0)","v":0},null,{"$f":"IF('Fiches_Utilisateurs_Service#6'!BC23=1,1,0)","v":0},null,{"$f":"IF('Fiches_Utilisateurs_Service#6'!BE23=1,1,0)","v":0},null,{"$f":"IF('Fiches_Utilisateurs_Service#6'!BG23=1,1,0)","v":0},null,{"$f":"IF('Fiches_Utilisateurs_Service#6'!BI23=1,1,0)","v":0},null,{"$f":"IF('Fiches_Utilisateurs_Service#6'!BK23=1,1,0)","v":0},null,{"$f":"IF('Fiches_Utilisateurs_Service#6'!BM23=1,1,0)","v":0},null,{"$f":"IF('Fiches_Utilisateurs_Service#6'!BO23=1,1,0)","v":0},null,{"$f":"IF('Fiches_Utilisateurs_Service#6'!BQ23=1,1,0)","v":0},null,{"$f":"IF('Fiches_Utilisateurs_Service#6'!BS23=1,1,0)","v":0},null,{"$f":"IF('Fiches_Utilisateurs_Service#6'!BU23=1,1,0)","v":0},null,{"$f":"IF('Fiches_Utilisateurs_Service#6'!BW23=1,1,0)","v":0},null,{"$f":"IF('Fiches_Utilisateurs_Service#6'!BY23=1,1,0)","v":0},null,{"$f":"IF('Fiches_Utilisateurs_Service#6'!CA23=1,1,0)","v":0},null,{"$f":"IF('Fiches_Utilisateurs_Service#6'!CC23=1,1,0)","v":0}]
[]
[null,null,{"$f":"IF('Fiches_Utilisateurs_Service#6'!C25=1,1,0)","v":0},null,{"$f":"IF('Fiches_Utilisateurs_Service#6'!E25=1,1,0)","v":0},null,{"$f":"IF('Fiches_Utilisateurs_Service#6'!G25=1,1,0)","v":0},null,{"$f":"IF('Fiches_Utilisateurs_Service#6'!I25=1,1,0)","v":0},null,{"$f":"IF('Fiches_Utilisateurs_Service#6'!K25=1,1,0)","v":0},null,{"$f":"IF('Fiches_Utilisateurs_Service#6'!M25=1,1,0)","v":0},null,{"$f":"IF('Fiches_Utilisateurs_Service#6'!O25=1,1,0)","v":0},null,{"$f":"IF('Fiches_Utilisateurs_Service#6'!Q25=1,1,0)","v":0},null,{"$f":"IF('Fiches_Utilisateurs_Service#6'!S25=1,1,0)","v":0},null,{"$f":"IF('Fiches_Utilisateurs_Service#6'!U25=1,1,0)","v":0},null,{"$f":"IF('Fiches_Utilisateurs_Service#6'!W25=1,1,0)","v":0},null,{"$f":"IF('Fiches_Utilisateurs_Service#6'!Y25=1,1,0)","v":0},null,{"$f":"IF('Fiches_Utilisateurs_Service#6'!AA25=1,1,0)","v":0},null,{"$f":"IF('Fiches_Utilisateurs_Service#6'!AC25=1,1,0)","v":0},null,{"$f":"IF('Fiches_Utilisateurs_Service#6'!AE25=1,1,0)","v":0},null,{"$f":"IF('Fiches_Utilisateurs_Service#6'!AG25=1,1,0)","v":0},null,{"$f":"IF('Fiches_Utilisateurs_Service#6'!AI25=1,1,0)","v":0},null,{"$f":"IF('Fiches_Utilisateurs_Service#6'!AK25=1,1,0)","v":0},null,{"$f":"IF('Fiches_Utilisateurs_Service#6'!AM25=1,1,0)","v":0},null,{"$f":"IF('Fiches_Utilisateurs_Service#6'!AO25=1,1,0)","v":0},null,{"$f":"IF('Fiches_Utilisateurs_Service#6'!AQ25=1,1,0)","v":0},null,{"$f":"IF('Fiches_Utilisateurs_Service#6'!AS25=1,1,0)","v":0},null,{"$f":"IF('Fiches_Utilisateurs_Service#6'!AU25=1,1,0)","v":0},null,{"$f":"IF('Fiches_Utilisateurs_Service#6'!AW25=1,1,0)","v":0},null,{"$f":"IF('Fiches_Utilisateurs_Service#6'!AY25=1,1,0)","v":0},null,{"$f":"IF('Fiches_Utilisateurs_Service#6'!BA25=1,1,0)","v":0},null,{"$f":"IF('Fiches_Utilisateurs_Service#6'!BC25=1,1,0)","v":0},null,{"$f":"IF('Fiches_Utilisateurs_Service#6'!BE25=1,1,0)","v":0},null,{"$f":"IF('Fiches_Utilisateurs_Service#6'!BG25=1,1,0)","v":0},null,{"$f":"IF('Fiches_Utilisateurs_Service#6'!BI25=1,1,0)","v":0},null,{"$f":"IF('Fiches_Utilisateurs_Service#6'!BK25=1,1,0)","v":0},null,{"$f":"IF('Fiches_Utilisateurs_Service#6'!BM25=1,1,0)","v":0},null,{"$f":"IF('Fiches_Utilisateurs_Service#6'!BO25=1,1,0)","v":0},null,{"$f":"IF('Fiches_Utilisateurs_Service#6'!BQ25=1,1,0)","v":0},null,{"$f":"IF('Fiches_Utilisateurs_Service#6'!BS25=1,1,0)","v":0},null,{"$f":"IF('Fiches_Utilisateurs_Service#6'!BU25=1,1,0)","v":0},null,{"$f":"IF('Fiches_Utilisateurs_Service#6'!BW25=1,1,0)","v":0},null,{"$f":"IF('Fiches_Utilisateurs_Service#6'!BY25=1,1,0)","v":0},null,{"$f":"IF('Fiches_Utilisateurs_Service#6'!CA25=1,1,0)","v":0},null,{"$f":"IF('Fiches_Utilisateurs_Service#6'!CC25=1,1,0)","v":0}]
[]
[null,null,{"$f":"IF('Fiches_Utilisateurs_Service#6'!C27=1,1,0)","v":0},null,{"$f":"IF('Fiches_Utilisateurs_Service#6'!E27=1,1,0)","v":0},null,{"$f":"IF('Fiches_Utilisateurs_Service#6'!G27=1,1,0)","v":0},null,{"$f":"IF('Fiches_Utilisateurs_Service#6'!I27=1,1,0)","v":0},null,{"$f":"IF('Fiches_Utilisateurs_Service#6'!K27=1,1,0)","v":0},null,{"$f":"IF('Fiches_Utilisateurs_Service#6'!M27=1,1,0)","v":0},null,{"$f":"IF('Fiches_Utilisateurs_Service#6'!O27=1,1,0)","v":0},null,{"$f":"IF('Fiches_Utilisateurs_Service#6'!Q27=1,1,0)","v":0},null,{"$f":"IF('Fiches_Utilisateurs_Service#6'!S27=1,1,0)","v":0},null,{"$f":"IF('Fiches_Utilisateurs_Service#6'!U27=1,1,0)","v":0},null,{"$f":"IF('Fiches_Utilisateurs_Service#6'!W27=1,1,0)","v":0},null,{"$f":"IF('Fiches_Utilisateurs_Service#6'!Y27=1,1,0)","v":0},null,{"$f":"IF('Fiches_Utilisateurs_Service#6'!AA27=1,1,0)","v":0},null,{"$f":"IF('Fiches_Utilisateurs_Service#6'!AC27=1,1,0)","v":0},null,{"$f":"IF('Fiches_Utilisateurs_Service#6'!AE27=1,1,0)","v":0},null,{"$f":"IF('Fiches_Utilisateurs_Service#6'!AG27=1,1,0)","v":0},null,{"$f":"IF('Fiches_Utilisateurs_Service#6'!AI27=1,1,0)","v":0},null,{"$f":"IF('Fiches_Utilisateurs_Service#6'!AK27=1,1,0)","v":0},null,{"$f":"IF('Fiches_Utilisateurs_Service#6'!AM27=1,1,0)","v":0},null,{"$f":"IF('Fiches_Utilisateurs_Service#6'!AO27=1,1,0)","v":0},null,{"$f":"IF('Fiches_Utilisateurs_Service#6'!AQ27=1,1,0)","v":0},null,{"$f":"IF('Fiches_Utilisateurs_Service#6'!AS27=1,1,0)","v":0},null,{"$f":"IF('Fiches_Utilisateurs_Service#6'!AU27=1,1,0)","v":0},null,{"$f":"IF('Fiches_Utilisateurs_Service#6'!AW27=1,1,0)","v":0},null,{"$f":"IF('Fiches_Utilisateurs_Service#6'!AY27=1,1,0)","v":0},null,{"$f":"IF('Fiches_Utilisateurs_Service#6'!BA27=1,1,0)","v":0},null,{"$f":"IF('Fiches_Utilisateurs_Service#6'!BC27=1,1,0)","v":0},null,{"$f":"IF('Fiches_Utilisateurs_Service#6'!BE27=1,1,0)","v":0},null,{"$f":"IF('Fiches_Utilisateurs_Service#6'!BG27=1,1,0)","v":0},null,{"$f":"IF('Fiches_Utilisateurs_Service#6'!BI27=1,1,0)","v":0},null,{"$f":"IF('Fiches_Utilisateurs_Service#6'!BK27=1,1,0)","v":0},null,{"$f":"IF('Fiches_Utilisateurs_Service#6'!BM27=1,1,0)","v":0},null,{"$f":"IF('Fiches_Utilisateurs_Service#6'!BO27=1,1,0)","v":0},null,{"$f":"IF('Fiches_Utilisateurs_Service#6'!BQ27=1,1,0)","v":0},null,{"$f":"IF('Fiches_Utilisateurs_Service#6'!BS27=1,1,0)","v":0},null,{"$f":"IF('Fiches_Utilisateurs_Service#6'!BU27=1,1,0)","v":0},null,{"$f":"IF('Fiches_Utilisateurs_Service#6'!BW27=1,1,0)","v":0},null,{"$f":"IF('Fiches_Utilisateurs_Service#6'!BY27=1,1,0)","v":0},null,{"$f":"IF('Fiches_Utilisateurs_Service#6'!CA27=1,1,0)","v":0},null,{"$f":"IF('Fiches_Utilisateurs_Service#6'!CC27=1,1,0)","v":0}]
[]
[null,null,{"$f":"IF('Fiches_Utilisateurs_Service#6'!C29=1,1,0)","v":0},null,{"$f":"IF('Fiches_Utilisateurs_Service#6'!E29=1,1,0)","v":0},null,{"$f":"IF('Fiches_Utilisateurs_Service#6'!G29=1,1,0)","v":0},null,{"$f":"IF('Fiches_Utilisateurs_Service#6'!I29=1,1,0)","v":0},null,{"$f":"IF('Fiches_Utilisateurs_Service#6'!K29=1,1,0)","v":0},null,{"$f":"IF('Fiches_Utilisateurs_Service#6'!M29=1,1,0)","v":0},null,{"$f":"IF('Fiches_Utilisateurs_Service#6'!O29=1,1,0)","v":0},null,{"$f":"IF('Fiches_Utilisateurs_Service#6'!Q29=1,1,0)","v":0},null,{"$f":"IF('Fiches_Utilisateurs_Service#6'!S29=1,1,0)","v":0},null,{"$f":"IF('Fiches_Utilisateurs_Service#6'!U29=1,1,0)","v":0},null,{"$f":"IF('Fiches_Utilisateurs_Service#6'!W29=1,1,0)","v":0},null,{"$f":"IF('Fiches_Utilisateurs_Service#6'!Y29=1,1,0)","v":0},null,{"$f":"IF('Fiches_Utilisateurs_Service#6'!AA29=1,1,0)","v":0},null,{"$f":"IF('Fiches_Utilisateurs_Service#6'!AC29=1,1,0)","v":0},null,{"$f":"IF('Fiches_Utilisateurs_Service#6'!AE29=1,1,0)","v":0},null,{"$f":"IF('Fiches_Utilisateurs_Service#6'!AG29=1,1,0)","v":0},null,{"$f":"IF('Fiches_Utilisateurs_Service#6'!AI29=1,1,0)","v":0},null,{"$f":"IF('Fiches_Utilisateurs_Service#6'!AK29=1,1,0)","v":0},null,{"$f":"IF('Fiches_Utilisateurs_Service#6'!AM29=1,1,0)","v":0},null,{"$f":"IF('Fiches_Utilisateurs_Service#6'!AO29=1,1,0)","v":0},null,{"$f":"IF('Fiches_Utilisateurs_Service#6'!AQ29=1,1,0)","v":0},null,{"$f":"IF('Fiches_Utilisateurs_Service#6'!AS29=1,1,0)","v":0},null,{"$f":"IF('Fiches_Utilisateurs_Service#6'!AU29=1,1,0)","v":0},null,{"$f":"IF('Fiches_Utilisateurs_Service#6'!AW29=1,1,0)","v":0},null,{"$f":"IF('Fiches_Utilisateurs_Service#6'!AY29=1,1,0)","v":0},null,{"$f":"IF('Fiches_Utilisateurs_Service#6'!BA29=1,1,0)","v":0},null,{"$f":"IF('Fiches_Utilisateurs_Service#6'!BC29=1,1,0)","v":0},null,{"$f":"IF('Fiches_Utilisateurs_Service#6'!BE29=1,1,0)","v":0},null,{"$f":"IF('Fiches_Utilisateurs_Service#6'!BG29=1,1,0)","v":0},null,{"$f":"IF('Fiches_Utilisateurs_Service#6'!BI29=1,1,0)","v":0},null,{"$f":"IF('Fiches_Utilisateurs_Service#6'!BK29=1,1,0)","v":0},null,{"$f":"IF('Fiches_Utilisateurs_Service#6'!BM29=1,1,0)","v":0},null,{"$f":"IF('Fiches_Utilisateurs_Service#6'!BO29=1,1,0)","v":0},null,{"$f":"IF('Fiches_Utilisateurs_Service#6'!BQ29=1,1,0)","v":0},null,{"$f":"IF('Fiches_Utilisateurs_Service#6'!BS29=1,1,0)","v":0},null,{"$f":"IF('Fiches_Utilisateurs_Service#6'!BU29=1,1,0)","v":0},null,{"$f":"IF('Fiches_Utilisateurs_Service#6'!BW29=1,1,0)","v":0},null,{"$f":"IF('Fiches_Utilisateurs_Service#6'!BY29=1,1,0)","v":0},null,{"$f":"IF('Fiches_Utilisateurs_Service#6'!CA29=1,1,0)","v":0},null,{"$f":"IF('Fiches_Utilisateurs_Service#6'!CC29=1,1,0)","v":0}]
[]
[null,null,{"$f":"IF('Fiches_Utilisateurs_Service#6'!C31=1,1,0)","v":0},null,{"$f":"IF('Fiches_Utilisateurs_Service#6'!E31=1,1,0)","v":0},null,{"$f":"IF('Fiches_Utilisateurs_Service#6'!G31=1,1,0)","v":0},null,{"$f":"IF('Fiches_Utilisateurs_Service#6'!I31=1,1,0)","v":0},null,{"$f":"IF('Fiches_Utilisateurs_Service#6'!K31=1,1,0)","v":0},null,{"$f":"IF('Fiches_Utilisateurs_Service#6'!M31=1,1,0)","v":0},null,{"$f":"IF('Fiches_Utilisateurs_Service#6'!O31=1,1,0)","v":0},null,{"$f":"IF('Fiches_Utilisateurs_Service#6'!Q31=1,1,0)","v":0},null,{"$f":"IF('Fiches_Utilisateurs_Service#6'!S31=1,1,0)","v":0},null,{"$f":"IF('Fiches_Utilisateurs_Service#6'!U31=1,1,0)","v":0},null,{"$f":"IF('Fiches_Utilisateurs_Service#6'!W31=1,1,0)","v":0},null,{"$f":"IF('Fiches_Utilisateurs_Service#6'!Y31=1,1,0)","v":0},null,{"$f":"IF('Fiches_Utilisateurs_Service#6'!AA31=1,1,0)","v":0},null,{"$f":"IF('Fiches_Utilisateurs_Service#6'!AC31=1,1,0)","v":0},null,{"$f":"IF('Fiches_Utilisateurs_Service#6'!AE31=1,1,0)","v":0},null,{"$f":"IF('Fiches_Utilisateurs_Service#6'!AG31=1,1,0)","v":0},null,{"$f":"IF('Fiches_Utilisateurs_Service#6'!AI31=1,1,0)","v":0},null,{"$f":"IF('Fiches_Utilisateurs_Service#6'!AK31=1,1,0)","v":0},null,{"$f":"IF('Fiches_Utilisateurs_Service#6'!AM31=1,1,0)","v":0},null,{"$f":"IF('Fiches_Utilisateurs_Service#6'!AO31=1,1,0)","v":0},null,{"$f":"IF('Fiches_Utilisateurs_Service#6'!AQ31=1,1,0)","v":0},null,{"$f":"IF('Fiches_Utilisateurs_Service#6'!AS31=1,1,0)","v":0},null,{"$f":"IF('Fiches_Utilisateurs_Service#6'!AU31=1,1,0)","v":0},null,{"$f":"IF('Fiches_Utilisateurs_Service#6'!AW31=1,1,0)","v":0},null,{"$f":"IF('Fiches_Utilisateurs_Service#6'!AY31=1,1,0)","v":0},null,{"$f":"IF('Fiches_Utilisateurs_Service#6'!BA31=1,1,0)","v":0},null,{"$f":"IF('Fiches_Utilisateurs_Service#6'!BC31=1,1,0)","v":0},null,{"$f":"IF('Fiches_Utilisateurs_Service#6'!BE31=1,1,0)","v":0},null,{"$f":"IF('Fiches_Utilisateurs_Service#6'!BG31=1,1,0)","v":0},null,{"$f":"IF('Fiches_Utilisateurs_Service#6'!BI31=1,1,0)","v":0},null,{"$f":"IF('Fiches_Utilisateurs_Service#6'!BK31=1,1,0)","v":0},null,{"$f":"IF('Fiches_Utilisateurs_Service#6'!BM31=1,1,0)","v":0},null,{"$f":"IF('Fiches_Utilisateurs_Service#6'!BO31=1,1,0)","v":0},null,{"$f":"IF('Fiches_Utilisateurs_Service#6'!BQ31=1,1,0)","v":0},null,{"$f":"IF('Fiches_Utilisateurs_Service#6'!BS31=1,1,0)","v":0},null,{"$f":"IF('Fiches_Utilisateurs_Service#6'!BU31=1,1,0)","v":0},null,{"$f":"IF('Fiches_Utilisateurs_Service#6'!BW31=1,1,0)","v":0},null,{"$f":"IF('Fiches_Utilisateurs_Service#6'!BY31=1,1,0)","v":0},null,{"$f":"IF('Fiches_Utilisateurs_Service#6'!CA31=1,1,0)","v":0},null,{"$f":"IF('Fiches_Utilisateurs_Service#6'!CC31=1,1,0)","v":0}]
[]
[null,null,{"$f":"IF('Fiches_Utilisateurs_Service#6'!C33=1,1,0)","v":0},null,{"$f":"IF('Fiches_Utilisateurs_Service#6'!E33=1,1,0)","v":0},null,{"$f":"IF('Fiches_Utilisateurs_Service#6'!G33=1,1,0)","v":0},null,{"$f":"IF('Fiches_Utilisateurs_Service#6'!I33=1,1,0)","v":0},null,{"$f":"IF('Fiches_Utilisateurs_Service#6'!K33=1,1,0)","v":0},null,{"$f":"IF('Fiches_Utilisateurs_Service#6'!M33=1,1,0)","v":0},null,{"$f":"IF('Fiches_Utilisateurs_Service#6'!O33=1,1,0)","v":0},null,{"$f":"IF('Fiches_Utilisateurs_Service#6'!Q33=1,1,0)","v":0},null,{"$f":"IF('Fiches_Utilisateurs_Service#6'!S33=1,1,0)","v":0},null,{"$f":"IF('Fiches_Utilisateurs_Service#6'!U33=1,1,0)","v":0},null,{"$f":"IF('Fiches_Utilisateurs_Service#6'!W33=1,1,0)","v":0},null,{"$f":"IF('Fiches_Utilisateurs_Service#6'!Y33=1,1,0)","v":0},null,{"$f":"IF('Fiches_Utilisateurs_Service#6'!AA33=1,1,0)","v":0},null,{"$f":"IF('Fiches_Utilisateurs_Service#6'!AC33=1,1,0)","v":0},null,{"$f":"IF('Fiches_Utilisateurs_Service#6'!AE33=1,1,0)","v":0},null,{"$f":"IF('Fiches_Utilisateurs_Service#6'!AG33=1,1,0)","v":0},null,{"$f":"IF('Fiches_Utilisateurs_Service#6'!AI33=1,1,0)","v":0},null,{"$f":"IF('Fiches_Utilisateurs_Service#6'!AK33=1,1,0)","v":0},null,{"$f":"IF('Fiches_Utilisateurs_Service#6'!AM33=1,1,0)","v":0},null,{"$f":"IF('Fiches_Utilisateurs_Service#6'!AO33=1,1,0)","v":0},null,{"$f":"IF('Fiches_Utilisateurs_Service#6'!AQ33=1,1,0)","v":0},null,{"$f":"IF('Fiches_Utilisateurs_Service#6'!AS33=1,1,0)","v":0},null,{"$f":"IF('Fiches_Utilisateurs_Service#6'!AU33=1,1,0)","v":0},null,{"$f":"IF('Fiches_Utilisateurs_Service#6'!AW33=1,1,0)","v":0},null,{"$f":"IF('Fiches_Utilisateurs_Service#6'!AY33=1,1,0)","v":0},null,{"$f":"IF('Fiches_Utilisateurs_Service#6'!BA33=1,1,0)","v":0},null,{"$f":"IF('Fiches_Utilisateurs_Service#6'!BC33=1,1,0)","v":0},null,{"$f":"IF('Fiches_Utilisateurs_Service#6'!BE33=1,1,0)","v":0},null,{"$f":"IF('Fiches_Utilisateurs_Service#6'!BG33=1,1,0)","v":0},null,{"$f":"IF('Fiches_Utilisateurs_Service#6'!BI33=1,1,0)","v":0},null,{"$f":"IF('Fiches_Utilisateurs_Service#6'!BK33=1,1,0)","v":0},null,{"$f":"IF('Fiches_Utilisateurs_Service#6'!BM33=1,1,0)","v":0},null,{"$f":"IF('Fiches_Utilisateurs_Service#6'!BO33=1,1,0)","v":0},null,{"$f":"IF('Fiches_Utilisateurs_Service#6'!BQ33=1,1,0)","v":0},null,{"$f":"IF('Fiches_Utilisateurs_Service#6'!BS33=1,1,0)","v":0},null,{"$f":"IF('Fiches_Utilisateurs_Service#6'!BU33=1,1,0)","v":0},null,{"$f":"IF('Fiches_Utilisateurs_Service#6'!BW33=1,1,0)","v":0},null,{"$f":"IF('Fiches_Utilisateurs_Service#6'!BY33=1,1,0)","v":0},null,{"$f":"IF('Fiches_Utilisateurs_Service#6'!CA33=1,1,0)","v":0},null,{"$f":"IF('Fiches_Utilisateurs_Service#6'!CC33=1,1,0)","v":0}]
[]
[null,null,{"$f":"IF('Fiches_Utilisateurs_Service#6'!C35=1,1,0)","v":0},null,{"$f":"IF('Fiches_Utilisateurs_Service#6'!E35=1,1,0)","v":0},null,{"$f":"IF('Fiches_Utilisateurs_Service#6'!G35=1,1,0)","v":0},null,{"$f":"IF('Fiches_Utilisateurs_Service#6'!I35=1,1,0)","v":0},null,{"$f":"IF('Fiches_Utilisateurs_Service#6'!K35=1,1,0)","v":0},null,{"$f":"IF('Fiches_Utilisateurs_Service#6'!M35=1,1,0)","v":0},null,{"$f":"IF('Fiches_Utilisateurs_Service#6'!O35=1,1,0)","v":0},null,{"$f":"IF('Fiches_Utilisateurs_Service#6'!Q35=1,1,0)","v":0},null,{"$f":"IF('Fiches_Utilisateurs_Service#6'!S35=1,1,0)","v":0},null,{"$f":"IF('Fiches_Utilisateurs_Service#6'!U35=1,1,0)","v":0},null,{"$f":"IF('Fiches_Utilisateurs_Service#6'!W35=1,1,0)","v":0},null,{"$f":"IF('Fiches_Utilisateurs_Service#6'!Y35=1,1,0)","v":0},null,{"$f":"IF('Fiches_Utilisateurs_Service#6'!AA35=1,1,0)","v":0},null,{"$f":"IF('Fiches_Utilisateurs_Service#6'!AC35=1,1,0)","v":0},null,{"$f":"IF('Fiches_Utilisateurs_Service#6'!AE35=1,1,0)","v":0},null,{"$f":"IF('Fiches_Utilisateurs_Service#6'!AG35=1,1,0)","v":0},null,{"$f":"IF('Fiches_Utilisateurs_Service#6'!AI35=1,1,0)","v":0},null,{"$f":"IF('Fiches_Utilisateurs_Service#6'!AK35=1,1,0)","v":0},null,{"$f":"IF('Fiches_Utilisateurs_Service#6'!AM35=1,1,0)","v":0},null,{"$f":"IF('Fiches_Utilisateurs_Service#6'!AO35=1,1,0)","v":0},null,{"$f":"IF('Fiches_Utilisateurs_Service#6'!AQ35=1,1,0)","v":0},null,{"$f":"IF('Fiches_Utilisateurs_Service#6'!AS35=1,1,0)","v":0},null,{"$f":"IF('Fiches_Utilisateurs_Service#6'!AU35=1,1,0)","v":0},null,{"$f":"IF('Fiches_Utilisateurs_Service#6'!AW35=1,1,0)","v":0},null,{"$f":"IF('Fiches_Utilisateurs_Service#6'!AY35=1,1,0)","v":0},null,{"$f":"IF('Fiches_Utilisateurs_Service#6'!BA35=1,1,0)","v":0},null,{"$f":"IF('Fiches_Utilisateurs_Service#6'!BC35=1,1,0)","v":0},null,{"$f":"IF('Fiches_Utilisateurs_Service#6'!BE35=1,1,0)","v":0},null,{"$f":"IF('Fiches_Utilisateurs_Service#6'!BG35=1,1,0)","v":0},null,{"$f":"IF('Fiches_Utilisateurs_Service#6'!BI35=1,1,0)","v":0},null,{"$f":"IF('Fiches_Utilisateurs_Service#6'!BK35=1,1,0)","v":0},null,{"$f":"IF('Fiches_Utilisateurs_Service#6'!BM35=1,1,0)","v":0},null,{"$f":"IF('Fiches_Utilisateurs_Service#6'!BO35=1,1,0)","v":0},null,{"$f":"IF('Fiches_Utilisateurs_Service#6'!BQ35=1,1,0)","v":0},null,{"$f":"IF('Fiches_Utilisateurs_Service#6'!BS35=1,1,0)","v":0},null,{"$f":"IF('Fiches_Utilisateurs_Service#6'!BU35=1,1,0)","v":0},null,{"$f":"IF('Fiches_Utilisateurs_Service#6'!BW35=1,1,0)","v":0},null,{"$f":"IF('Fiches_Utilisateurs_Service#6'!BY35=1,1,0)","v":0},null,{"$f":"IF('Fiches_Utilisateurs_Service#6'!CA35=1,1,0)","v":0},null,{"$f":"IF('Fiches_Utilisateurs_Service#6'!CC35=1,1,0)","v":0}]
[]
["tot sale",{"$f":"SUM(C37:CC37)","v":0},{"$f":"SUM(C15:C35)","v":0},null,{"$f":"SUM(E15:E35)","v":0},null,{"$f":"SUM(G15:G35)","v":0},null,{"$f":"SUM(I15:I35)","v":0},null,{"$f":"SUM(K15:K35)","v":0},null,{"$f":"SUM(M15:M35)","v":0},null,{"$f":"SUM(O15:O35)","v":0},null,{"$f":"SUM(Q15:Q35)","v":0},null,{"$f":"SUM(S15:S35)","v":0},null,{"$f":"SUM(U15:U35)","v":0},null,{"$f":"SUM(W15:W35)","v":0},null,{"$f":"SUM(Y15:Y35)","v":0},null,{"$f":"SUM(AA15:AA35)","v":0},null,{"$f":"SUM(AC15:AC35)","v":0},null,{"$f":"SUM(AE15:AE35)","v":0},null,{"$f":"SUM(AG15:AG35)","v":0},null,{"$f":"SUM(AI15:AI35)","v":0},null,{"$f":"SUM(AK15:AK35)","v":0},null,{"$f":"SUM(AM15:AM35)","v":0},null,{"$f":"SUM(AO15:AO35)","v":0},null,{"$f":"SUM(AQ15:AQ35)","v":0},null,{"$f":"SUM(AS15:AS35)","v":0},null,{"$f":"SUM(AU15:AU35)","v":0},null,{"$f":"SUM(AW15:AW35)","v":0},null,{"$f":"SUM(AY15:AY35)","v":0},null,{"$f":"SUM(BA15:BA35)","v":0},null,{"$f":"SUM(BC15:BC35)","v":0},null,{"$f":"SUM(BE15:BE35)","v":0},null,{"$f":"SUM(BG15:BG35)","v":0},null,{"$f":"SUM(BI15:BI35)","v":0},null,{"$f":"SUM(BK15:BK35)","v":0},null,{"$f":"SUM(BM15:BM35)","v":0},null,{"$f":"SUM(BO15:BO35)","v":0},null,{"$f":"SUM(BQ15:BQ35)","v":0},null,{"$f":"SUM(BS15:BS35)","v":0},null,{"$f":"SUM(BU15:BU35)","v":0},null,{"$f":"SUM(BW15:BW35)","v":0},null,{"$f":"SUM(BY15:BY35)","v":0},null,{"$f":"SUM(CA15:CA35)","v":0},null,{"$f":"SUM(CC15:CC35)","v":0}]
[]
[null,null,{"$f":"IF('Fiches_Utilisateurs_Service#6'!C39=1,1,0)","v":0},null,{"$f":"IF('Fiches_Utilisateurs_Service#6'!E39=1,1,0)","v":0},null,{"$f":"IF('Fiches_Utilisateurs_Service#6'!G39=1,1,0)","v":0},null,{"$f":"IF('Fiches_Utilisateurs_Service#6'!I39=1,1,0)","v":0},null,{"$f":"IF('Fiches_Utilisateurs_Service#6'!K39=1,1,0)","v":0},null,{"$f":"IF('Fiches_Utilisateurs_Service#6'!M39=1,1,0)","v":0},null,{"$f":"IF('Fiches_Utilisateurs_Service#6'!O39=1,1,0)","v":0},null,{"$f":"IF('Fiches_Utilisateurs_Service#6'!Q39=1,1,0)","v":0},null,{"$f":"IF('Fiches_Utilisateurs_Service#6'!S39=1,1,0)","v":0},null,{"$f":"IF('Fiches_Utilisateurs_Service#6'!U39=1,1,0)","v":0},null,{"$f":"IF('Fiches_Utilisateurs_Service#6'!W39=1,1,0)","v":0},null,{"$f":"IF('Fiches_Utilisateurs_Service#6'!Y39=1,1,0)","v":0},null,{"$f":"IF('Fiches_Utilisateurs_Service#6'!AA39=1,1,0)","v":0},null,{"$f":"IF('Fiches_Utilisateurs_Service#6'!AC39=1,1,0)","v":0},null,{"$f":"IF('Fiches_Utilisateurs_Service#6'!AE39=1,1,0)","v":0},null,{"$f":"IF('Fiches_Utilisateurs_Service#6'!AG39=1,1,0)","v":0},null,{"$f":"IF('Fiches_Utilisateurs_Service#6'!AI39=1,1,0)","v":0},null,{"$f":"IF('Fiches_Utilisateurs_Service#6'!AK39=1,1,0)","v":0},null,{"$f":"IF('Fiches_Utilisateurs_Service#6'!AM39=1,1,0)","v":0},null,{"$f":"IF('Fiches_Utilisateurs_Service#6'!AO39=1,1,0)","v":0},null,{"$f":"IF('Fiches_Utilisateurs_Service#6'!AQ39=1,1,0)","v":0},null,{"$f":"IF('Fiches_Utilisateurs_Service#6'!AS39=1,1,0)","v":0},null,{"$f":"IF('Fiches_Utilisateurs_Service#6'!AU39=1,1,0)","v":0},null,{"$f":"IF('Fiches_Utilisateurs_Service#6'!AW39=1,1,0)","v":0},null,{"$f":"IF('Fiches_Utilisateurs_Service#6'!AY39=1,1,0)","v":0},null,{"$f":"IF('Fiches_Utilisateurs_Service#6'!BA39=1,1,0)","v":0},null,{"$f":"IF('Fiches_Utilisateurs_Service#6'!BC39=1,1,0)","v":0},null,{"$f":"IF('Fiches_Utilisateurs_Service#6'!BE39=1,1,0)","v":0},null,{"$f":"IF('Fiches_Utilisateurs_Service#6'!BG39=1,1,0)","v":0},null,{"$f":"IF('Fiches_Utilisateurs_Service#6'!BI39=1,1,0)","v":0},null,{"$f":"IF('Fiches_Utilisateurs_Service#6'!BK39=1,1,0)","v":0},null,{"$f":"IF('Fiches_Utilisateurs_Service#6'!BM39=1,1,0)","v":0},null,{"$f":"IF('Fiches_Utilisateurs_Service#6'!BO39=1,1,0)","v":0},null,{"$f":"IF('Fiches_Utilisateurs_Service#6'!BQ39=1,1,0)","v":0},null,{"$f":"IF('Fiches_Utilisateurs_Service#6'!BS39=1,1,0)","v":0},null,{"$f":"IF('Fiches_Utilisateurs_Service#6'!BU39=1,1,0)","v":0},null,{"$f":"IF('Fiches_Utilisateurs_Service#6'!BW39=1,1,0)","v":0},null,{"$f":"IF('Fiches_Utilisateurs_Service#6'!BY39=1,1,0)","v":0},null,{"$f":"IF('Fiches_Utilisateurs_Service#6'!CA39=1,1,0)","v":0},null,{"$f":"IF('Fiches_Utilisateurs_Service#6'!CC39=1,1,0)","v":0}]
[]
[null,null,{"$f":"IF('Fiches_Utilisateurs_Service#6'!C41=1,1,0)","v":0},null,{"$f":"IF('Fiches_Utilisateurs_Service#6'!E41=1,1,0)","v":0},null,{"$f":"IF('Fiches_Utilisateurs_Service#6'!G41=1,1,0)","v":0},null,{"$f":"IF('Fiches_Utilisateurs_Service#6'!I41=1,1,0)","v":0},null,{"$f":"IF('Fiches_Utilisateurs_Service#6'!K41=1,1,0)","v":0},null,{"$f":"IF('Fiches_Utilisateurs_Service#6'!M41=1,1,0)","v":0},null,{"$f":"IF('Fiches_Utilisateurs_Service#6'!O41=1,1,0)","v":0},null,{"$f":"IF('Fiches_Utilisateurs_Service#6'!Q41=1,1,0)","v":0},null,{"$f":"IF('Fiches_Utilisateurs_Service#6'!S41=1,1,0)","v":0},null,{"$f":"IF('Fiches_Utilisateurs_Service#6'!U41=1,1,0)","v":0},null,{"$f":"IF('Fiches_Utilisateurs_Service#6'!W41=1,1,0)","v":0},null,{"$f":"IF('Fiches_Utilisateurs_Service#6'!Y41=1,1,0)","v":0},null,{"$f":"IF('Fiches_Utilisateurs_Service#6'!AA41=1,1,0)","v":0},null,{"$f":"IF('Fiches_Utilisateurs_Service#6'!AC41=1,1,0)","v":0},null,{"$f":"IF('Fiches_Utilisateurs_Service#6'!AE41=1,1,0)","v":0},null,{"$f":"IF('Fiches_Utilisateurs_Service#6'!AG41=1,1,0)","v":0},null,{"$f":"IF('Fiches_Utilisateurs_Service#6'!AI41=1,1,0)","v":0},null,{"$f":"IF('Fiches_Utilisateurs_Service#6'!AK41=1,1,0)","v":0},null,{"$f":"IF('Fiches_Utilisateurs_Service#6'!AM41=1,1,0)","v":0},null,{"$f":"IF('Fiches_Utilisateurs_Service#6'!AO41=1,1,0)","v":0},null,{"$f":"IF('Fiches_Utilisateurs_Service#6'!AQ41=1,1,0)","v":0},null,{"$f":"IF('Fiches_Utilisateurs_Service#6'!AS41=1,1,0)","v":0},null,{"$f":"IF('Fiches_Utilisateurs_Service#6'!AU41=1,1,0)","v":0},null,{"$f":"IF('Fiches_Utilisateurs_Service#6'!AW41=1,1,0)","v":0},null,{"$f":"IF('Fiches_Utilisateurs_Service#6'!AY41=1,1,0)","v":0},null,{"$f":"IF('Fiches_Utilisateurs_Service#6'!BA41=1,1,0)","v":0},null,{"$f":"IF('Fiches_Utilisateurs_Service#6'!BC41=1,1,0)","v":0},null,{"$f":"IF('Fiches_Utilisateurs_Service#6'!BE41=1,1,0)","v":0},null,{"$f":"IF('Fiches_Utilisateurs_Service#6'!BG41=1,1,0)","v":0},null,{"$f":"IF('Fiches_Utilisateurs_Service#6'!BI41=1,1,0)","v":0},null,{"$f":"IF('Fiches_Utilisateurs_Service#6'!BK41=1,1,0)","v":0},null,{"$f":"IF('Fiches_Utilisateurs_Service#6'!BM41=1,1,0)","v":0},null,{"$f":"IF('Fiches_Utilisateurs_Service#6'!BO41=1,1,0)","v":0},null,{"$f":"IF('Fiches_Utilisateurs_Service#6'!BQ41=1,1,0)","v":0},null,{"$f":"IF('Fiches_Utilisateurs_Service#6'!BS41=1,1,0)","v":0},null,{"$f":"IF('Fiches_Utilisateurs_Service#6'!BU41=1,1,0)","v":0},null,{"$f":"IF('Fiches_Utilisateurs_Service#6'!BW41=1,1,0)","v":0},null,{"$f":"IF('Fiches_Utilisateurs_Service#6'!BY41=1,1,0)","v":0},null,{"$f":"IF('Fiches_Utilisateurs_Service#6'!CA41=1,1,0)","v":0},null,{"$f":"IF('Fiches_Utilisateurs_Service#6'!CC41=1,1,0)","v":0}]
[]
[null,null,{"$f":"IF('Fiches_Utilisateurs_Service#6'!C43=1,1,0)","v":0},null,{"$f":"IF('Fiches_Utilisateurs_Service#6'!E43=1,1,0)","v":0},null,{"$f":"IF('Fiches_Utilisateurs_Service#6'!G43=1,1,0)","v":0},null,{"$f":"IF('Fiches_Utilisateurs_Service#6'!I43=1,1,0)","v":0},null,{"$f":"IF('Fiches_Utilisateurs_Service#6'!K43=1,1,0)","v":0},null,{"$f":"IF('Fiches_Utilisateurs_Service#6'!M43=1,1,0)","v":0},null,{"$f":"IF('Fiches_Utilisateurs_Service#6'!O43=1,1,0)","v":0},null,{"$f":"IF('Fiches_Utilisateurs_Service#6'!Q43=1,1,0)","v":0},null,{"$f":"IF('Fiches_Utilisateurs_Service#6'!S43=1,1,0)","v":0},null,{"$f":"IF('Fiches_Utilisateurs_Service#6'!U43=1,1,0)","v":0},null,{"$f":"IF('Fiches_Utilisateurs_Service#6'!W43=1,1,0)","v":0},null,{"$f":"IF('Fiches_Utilisateurs_Service#6'!Y43=1,1,0)","v":0},null,{"$f":"IF('Fiches_Utilisateurs_Service#6'!AA43=1,1,0)","v":0},null,{"$f":"IF('Fiches_Utilisateurs_Service#6'!AC43=1,1,0)","v":0},null,{"$f":"IF('Fiches_Utilisateurs_Service#6'!AE43=1,1,0)","v":0},null,{"$f":"IF('Fiches_Utilisateurs_Service#6'!AG43=1,1,0)","v":0},null,{"$f":"IF('Fiches_Utilisateurs_Service#6'!AI43=1,1,0)","v":0},null,{"$f":"IF('Fiches_Utilisateurs_Service#6'!AK43=1,1,0)","v":0},null,{"$f":"IF('Fiches_Utilisateurs_Service#6'!AM43=1,1,0)","v":0},null,{"$f":"IF('Fiches_Utilisateurs_Service#6'!AO43=1,1,0)","v":0},null,{"$f":"IF('Fiches_Utilisateurs_Service#6'!AQ43=1,1,0)","v":0},null,{"$f":"IF('Fiches_Utilisateurs_Service#6'!AS43=1,1,0)","v":0},null,{"$f":"IF('Fiches_Utilisateurs_Service#6'!AU43=1,1,0)","v":0},null,{"$f":"IF('Fiches_Utilisateurs_Service#6'!AW43=1,1,0)","v":0},null,{"$f":"IF('Fiches_Utilisateurs_Service#6'!AY43=1,1,0)","v":0},null,{"$f":"IF('Fiches_Utilisateurs_Service#6'!BA43=1,1,0)","v":0},null,{"$f":"IF('Fiches_Utilisateurs_Service#6'!BC43=1,1,0)","v":0},null,{"$f":"IF('Fiches_Utilisateurs_Service#6'!BE43=1,1,0)","v":0},null,{"$f":"IF('Fiches_Utilisateurs_Service#6'!BG43=1,1,0)","v":0},null,{"$f":"IF('Fiches_Utilisateurs_Service#6'!BI43=1,1,0)","v":0},null,{"$f":"IF('Fiches_Utilisateurs_Service#6'!BK43=1,1,0)","v":0},null,{"$f":"IF('Fiches_Utilisateurs_Service#6'!BM43=1,1,0)","v":0},null,{"$f":"IF('Fiches_Utilisateurs_Service#6'!BO43=1,1,0)","v":0},null,{"$f":"IF('Fiches_Utilisateurs_Service#6'!BQ43=1,1,0)","v":0},null,{"$f":"IF('Fiches_Utilisateurs_Service#6'!BS43=1,1,0)","v":0},null,{"$f":"IF('Fiches_Utilisateurs_Service#6'!BU43=1,1,0)","v":0},null,{"$f":"IF('Fiches_Utilisateurs_Service#6'!BW43=1,1,0)","v":0},null,{"$f":"IF('Fiches_Utilisateurs_Service#6'!BY43=1,1,0)","v":0},null,{"$f":"IF('Fiches_Utilisateurs_Service#6'!CA43=1,1,0)","v":0},null,{"$f":"IF('Fiches_Utilisateurs_Service#6'!CC43=1,1,0)","v":0}]
[]
["tot propre",{"$f":"SUM(C45:CC45)","v":0},{"$f":"SUM(C39:C43)","v":0},null,{"$f":"SUM(E39:E43)","v":0},null,{"$f":"SUM(G39:G43)","v":0},null,{"$f":"SUM(I39:I43)","v":0},null,{"$f":"SUM(K39:K43)","v":0},null,{"$f":"SUM(M39:M43)","v":0},null,{"$f":"SUM(O39:O43)","v":0},null,{"$f":"SUM(Q39:Q43)","v":0},null,{"$f":"SUM(S39:S43)","v":0},null,{"$f":"SUM(U39:U43)","v":0},null,{"$f":"SUM(W39:W43)","v":0},null,{"$f":"SUM(Y39:Y43)","v":0},null,{"$f":"SUM(AA39:AA43)","v":0},null,{"$f":"SUM(AC39:AC43)","v":0},null,{"$f":"SUM(AE39:AE43)","v":0},null,{"$f":"SUM(AG39:AG43)","v":0},null,{"$f":"SUM(AI39:AI43)","v":0},null,{"$f":"SUM(AK39:AK43)","v":0},null,{"$f":"SUM(AM39:AM43)","v":0},null,{"$f":"SUM(AO39:AO43)","v":0},null,{"$f":"SUM(AQ39:AQ43)","v":0},null,{"$f":"SUM(AS39:AS43)","v":0},null,{"$f":"SUM(AU39:AU43)","v":0},null,{"$f":"SUM(AW39:AW43)","v":0},null,{"$f":"SUM(AY39:AY43)","v":0},null,{"$f":"SUM(BA39:BA43)","v":0},null,{"$f":"SUM(BC39:BC43)","v":0},null,{"$f":"SUM(BE39:BE43)","v":0},null,{"$f":"SUM(BG39:BG43)","v":0},null,{"$f":"SUM(BI39:BI43)","v":0},null,{"$f":"SUM(BK39:BK43)","v":0},null,{"$f":"SUM(BM39:BM43)","v":0},null,{"$f":"SUM(BO39:BO43)","v":0},null,{"$f":"SUM(BQ39:BQ43)","v":0},null,{"$f":"SUM(BS39:BS43)","v":0},null,{"$f":"SUM(BU39:BU43)","v":0},null,{"$f":"SUM(BW39:BW43)","v":0},null,{"$f":"SUM(BY39:BY43)","v":0},null,{"$f":"SUM(CA39:CA43)","v":0},null,{"$f":"SUM(CC39:CC43)","v":0}]
[]
["tot tot",{"$f":"SUM(C47:CC47)","v":0},{"$f":"C45+C37","v":0},null,{"$f":"E45+E37","v":0},null,{"$f":"G45+G37","v":0},null,{"$f":"I45+I37","v":0},null,{"$f":"K45+K37","v":0},null,{"$f":"M45+M37","v":0},null,{"$f":"O45+O37","v":0},null,{"$f":"Q45+Q37","v":0},null,{"$f":"S45+S37","v":0},null,{"$f":"U45+U37","v":0},null,{"$f":"W45+W37","v":0},null,{"$f":"Y45+Y37","v":0},null,{"$f":"AA45+AA37","v":0},null,{"$f":"AC45+AC37","v":0},null,{"$f":"AE45+AE37","v":0},null,{"$f":"AG45+AG37","v":0},null,{"$f":"AI45+AI37","v":0},null,{"$f":"AK45+AK37","v":0},null,{"$f":"AM45+AM37","v":0},null,{"$f":"AO45+AO37","v":0},null,{"$f":"AQ45+AQ37","v":0},null,{"$f":"AS45+AS37","v":0},null,{"$f":"AU45+AU37","v":0},null,{"$f":"AW45+AW37","v":0},null,{"$f":"AY45+AY37","v":0},null,{"$f":"BA45+BA37","v":0},null,{"$f":"BC45+BC37","v":0},null,{"$f":"BE45+BE37","v":0},null,{"$f":"BG45+BG37","v":0},null,{"$f":"BI45+BI37","v":0},null,{"$f":"BK45+BK37","v":0},null,{"$f":"BM45+BM37","v":0},null,{"$f":"BO45+BO37","v":0},null,{"$f":"BQ45+BQ37","v":0},null,{"$f":"BS45+BS37","v":0},null,{"$f":"BU45+BU37","v":0},null,{"$f":"BW45+BW37","v":0},null,{"$f":"BY45+BY37","v":0},null,{"$f":"CA45+CA37","v":0},null,{"$f":"CC45+CC37","v":0}]
[]
[]
[]
[]
[1,{"$f":"SUM(C52:CC52)","v":0},{"$f":"IF(C11=\"1\",1,0)","v":0},null,{"$f":"IF(E11=\"1\",1,0)","v":0},null,0,null,0,null,0,null,0,null,0,null,0,null,0,null,0,null,0,null,0,null,0,null,0,null,0,null,0,null,0,null,0,null,0,null,0,null,0,null,0,null,0,null,0,null,0,null,0,null,0,null,0,null,0,null,0,null,0,null,0,null,0,null,{"$f":"IF(BQ11=\"1\",1,0)","v":0},null,0,null,0,null,0,null,0,null,0,null,0]
[null,0,{"$f":"IF(C52=1,(C77+C82),0)","v":0},null,{"$f":"IF(E52=1,(E77+E82),0)","v":0},null,{"$f":"IF(G52=1,(G77+G82),0)","v":0},null,{"$f":"IF(I52=1,(I77+I82),0)","v":0},null,{"$f":"IF(K52=1,(K77+K82),0)","v":0},null,{"$f":"IF(M52=1,(M77+M82),0)","v":0},null,{"$f":"IF(O52=1,(O77+O82),0)","v":0},null,{"$f":"IF(Q52=1,(Q77+Q82),0)","v":0},null,{"$f":"IF(S52=1,(S77+S82),0)","v":0},null,{"$f":"IF(U52=1,(U77+U82),0)","v":0},null,{"$f":"IF(W52=1,(W77+W82),0)","v":0},null,{"$f":"IF(Y52=1,(Y77+Y82),0)","v":0},null,{"$f":"IF(AA52=1,(AA77+AA82),0)","v":0},null,{"$f":"IF(AC52=1,(AC77+AC82),0)","v":0},null,{"$f":"IF(AE52=1,(AE77+AE82),0)","v":0},null,{"$f":"IF(AG52=1,(AG77+AG82),0)","v":0},null,{"$f":"IF(AI52=1,(AI77+AI82),0)","v":0},null,{"$f":"IF(AK52=1,(AK77+AK82),0)","v":0},null,{"$f":"IF(AM52=1,(AM77+AM82),0)","v":0},null,{"$f":"IF(AO52=1,(AO77+AO82),0)","v":0},null,{"$f":"IF(AQ52=1,(AQ77+AQ82),0)","v":0},null,{"$f":"IF(AS52=1,(AS77+AS82),0)","v":0},null,{"$f":"IF(AU52=1,(AU77+AU82),0)","v":0},null,{"$f":"IF(AW52=1,(AW77+AW82),0)","v":0},null,{"$f":"IF(AY52=1,(AY77+AY82),0)","v":0},null,{"$f":"IF(BA52=1,(BA77+BA82),0)","v":0},null,{"$f":"IF(BC52=1,(BC77+BC82),0)","v":0},null,{"$f":"IF(BE52=1,(BE77+BE82),0)","v":0},null,{"$f":"IF(BG52=1,(BG77+BG82),0)","v":0},null,{"$f":"IF(BI52=1,(BI77+BI82),0)","v":0},null,{"$f":"IF(BK52=1,(BK77+BK82),0)","v":0},null,{"$f":"IF(BM52=1,(BM77+BM82),0)","v":0},null,{"$f":"IF(BO52=1,(BO77+BO82),0)","v":0},null,{"$f":"IF(BQ52=1,(BQ77+BQ82),0)","v":0},null,{"$f":"IF(BS52=1,(BS77+BS82),0)","v":0},null,{"$f":"IF(BU52=1,(BU77+BU82),0)","v":0},null,{"$f":"IF(BW52=1,(BW77+BW82),0)","v":0},null,{"$f":"IF(BY52=1,(BY77+BY82),0)","v":0},null,{"$f":"IF(CA52=1,(CA77+CA82),0)","v":0},null,{"$f":"IF(CC52=1,(CC77+CC82),0)","v":0}]
[2,0,{"$f":"IF(C11=\"2\",1,0)","v":0},null,{"$f":"IF(E11=\"2\",1,0)","v":0},null,0,null,0,null,0,null,0,null,0,null,0,null,0,null,0,null,0,null,0,null,0,null,0,null,0,null,0,null,0,null,0,null,0,null,0,null,0,null,0,null,0,null,0,null,0,null,0,null,0,null,0,null,0,null,0,null,0,null,0,null,0,null,{"$f":"IF(BQ11=\"2\",1,0)","v":0},null,0,null,0,null,0,null,0,null,0,null,0]
[null,0,{"$f":"IF(C54=1,(C77+C82),0)","v":0},null,{"$f":"IF(E54=1,(E77+E82),0)","v":0},null,{"$f":"IF(G54=1,(G77+G82),0)","v":0},null,{"$f":"IF(I54=1,(I77+I82),0)","v":0},null,{"$f":"IF(K54=1,(K77+K82),0)","v":0},null,{"$f":"IF(M54=1,(M77+M82),0)","v":0},null,{"$f":"IF(O54=1,(O77+O82),0)","v":0},null,{"$f":"IF(Q54=1,(Q77+Q82),0)","v":0},null,{"$f":"IF(S54=1,(S77+S82),0)","v":0},null,{"$f":"IF(U54=1,(U77+U82),0)","v":0},null,{"$f":"IF(W54=1,(W77+W82),0)","v":0},null,{"$f":"IF(Y54=1,(Y77+Y82),0)","v":0},null,{"$f":"IF(AA54=1,(AA77+AA82),0)","v":0},null,{"$f":"IF(AC54=1,(AC77+AC82),0)","v":0},null,{"$f":"IF(AE54=1,(AE77+AE82),0)","v":0},null,{"$f":"IF(AG54=1,(AG77+AG82),0)","v":0},null,{"$f":"IF(AI54=1,(AI77+AI82),0)","v":0},null,{"$f":"IF(AK54=1,(AK77+AK82),0)","v":0},null,{"$f":"IF(AM54=1,(AM77+AM82),0)","v":0},null,{"$f":"IF(AO54=1,(AO77+AO82),0)","v":0},null,{"$f":"IF(AQ54=1,(AQ77+AQ82),0)","v":0},null,{"$f":"IF(AS54=1,(AS77+AS82),0)","v":0},null,{"$f":"IF(AU54=1,(AU77+AU82),0)","v":0},null,{"$f":"IF(AW54=1,(AW77+AW82),0)","v":0},null,{"$f":"IF(AY54=1,(AY77+AY82),0)","v":0},null,{"$f":"IF(BA54=1,(BA77+BA82),0)","v":0},null,{"$f":"IF(BC54=1,(BC77+BC82),0)","v":0},null,{"$f":"IF(BE54=1,(BE77+BE82),0)","v":0},null,{"$f":"IF(BG54=1,(BG77+BG82),0)","v":0},null,{"$f":"IF(BI54=1,(BI77+BI82),0)","v":0},null,{"$f":"IF(BK54=1,(BK77+BK82),0)","v":0},null,{"$f":"IF(BM54=1,(BM77+BM82),0)","v":0},null,{"$f":"IF(BO54=1,(BO77+BO82),0)","v":0},null,{"$f":"IF(BQ54=1,(BQ77+BQ82),0)","v":0},null,{"$f":"IF(BS54=1,(BS77+BS82),0)","v":0},null,{"$f":"IF(BU54=1,(BU77+BU82),0)","v":0},null,{"$f":"IF(BW54=1,(BW77+BW82),0)","v":0},null,{"$f":"IF(BY54=1,(BY77+BY82),0)","v":0},null,{"$f":"IF(CA54=1,(CA77+CA82),0)","v":0},null,{"$f":"IF(CC54=1,(CC77+CC82),0)","v":0}]
[3,0,{"$f":"IF(C11=\"3\",1,0)","v":0},null,{"$f":"IF(E11=\"3\",1,0)","v":0},null,0,null,0,null,0,null,0,null,0,null,0,null,0,null,0,null,0,null,0,null,0,null,0,null,0,null,0,null,0,null,0,null,0,null,0,null,0,null,0,null,0,null,0,null,0,null,0,null,0,null,0,null,0,null,0,null,0,null,0,null,0,null,{"$f":"IF(BQ11=\"3\",1,0)","v":0},null,0,null,0,null,0,null,0,null,0,null,0]
[null,0,{"$f":"IF(C56=1,(C77+C82),0)","v":0},null,{"$f":"IF(E56=1,(E77+E82),0)","v":0},null,{"$f":"IF(G56=1,(G77+G82),0)","v":0},null,{"$f":"IF(I56=1,(I77+I82),0)","v":0},null,{"$f":"IF(K56=1,(K77+K82),0)","v":0},null,{"$f":"IF(M56=1,(M77+M82),0)","v":0},null,{"$f":"IF(O56=1,(O77+O82),0)","v":0},null,{"$f":"IF(Q56=1,(Q77+Q82),0)","v":0},null,{"$f":"IF(S56=1,(S77+S82),0)","v":0},null,{"$f":"IF(U56=1,(U77+U82),0)","v":0},null,{"$f":"IF(W56=1,(W77+W82),0)","v":0},null,{"$f":"IF(Y56=1,(Y77+Y82),0)","v":0},null,{"$f":"IF(AA56=1,(AA77+AA82),0)","v":0},null,{"$f":"IF(AC56=1,(AC77+AC82),0)","v":0},null,{"$f":"IF(AE56=1,(AE77+AE82),0)","v":0},null,{"$f":"IF(AG56=1,(AG77+AG82),0)","v":0},null,{"$f":"IF(AI56=1,(AI77+AI82),0)","v":0},null,{"$f":"IF(AK56=1,(AK77+AK82),0)","v":0},null,{"$f":"IF(AM56=1,(AM77+AM82),0)","v":0},null,{"$f":"IF(AO56=1,(AO77+AO82),0)","v":0},null,{"$f":"IF(AQ56=1,(AQ77+AQ82),0)","v":0},null,{"$f":"IF(AS56=1,(AS77+AS82),0)","v":0},null,{"$f":"IF(AU56=1,(AU77+AU82),0)","v":0},null,{"$f":"IF(AW56=1,(AW77+AW82),0)","v":0},null,{"$f":"IF(AY56=1,(AY77+AY82),0)","v":0},null,{"$f":"IF(BA56=1,(BA77+BA82),0)","v":0},null,{"$f":"IF(BC56=1,(BC77+BC82),0)","v":0},null,{"$f":"IF(BE56=1,(BE77+BE82),0)","v":0},null,{"$f":"IF(BG56=1,(BG77+BG82),0)","v":0},null,{"$f":"IF(BI56=1,(BI77+BI82),0)","v":0},null,{"$f":"IF(BK56=1,(BK77+BK82),0)","v":0},null,{"$f":"IF(BM56=1,(BM77+BM82),0)","v":0},null,{"$f":"IF(BO56=1,(BO77+BO82),0)","v":0},null,{"$f":"IF(BQ56=1,(BQ77+BQ82),0)","v":0},null,{"$f":"IF(BS56=1,(BS77+BS82),0)","v":0},null,{"$f":"IF(BU56=1,(BU77+BU82),0)","v":0},null,{"$f":"IF(BW56=1,(BW77+BW82),0)","v":0},null,{"$f":"IF(BY56=1,(BY77+BY82),0)","v":0},null,{"$f":"IF(CA56=1,(CA77+CA82),0)","v":0},null,{"$f":"IF(CC56=1,(CC77+CC82),0)","v":0}]
[4,0,{"$f":"IF(C11=\"4\",1,0)","v":0},null,{"$f":"IF(E11=\"4\",1,0)","v":0},null,0,null,0,null,0,null,0,null,0,null,0,null,0,null,0,null,0,null,0,null,0,null,0,null,0,null,0,null,0,null,0,null,0,null,0,null,0,null,0,null,0,null,0,null,0,null,0,null,0,null,0,null,0,null,0,null,0,null,0,null,0,null,{"$f":"IF(BQ11=\"4\",1,0)","v":0},null,0,null,0,null,0,null,0,null,0,null,0]
[null,0,{"$f":"IF(C58=1,(C77+C82),0)","v":0},null,{"$f":"IF(E58=1,(E77+E82),0)","v":0},null,{"$f":"IF(G58=1,(G77+G82),0)","v":0},null,{"$f":"IF(I58=1,(I77+I82),0)","v":0},null,{"$f":"IF(K58=1,(K77+K82),0)","v":0},null,{"$f":"IF(M58=1,(M77+M82),0)","v":0},null,{"$f":"IF(O58=1,(O77+O82),0)","v":0},null,{"$f":"IF(Q58=1,(Q77+Q82),0)","v":0},null,{"$f":"IF(S58=1,(S77+S82),0)","v":0},null,{"$f":"IF(U58=1,(U77+U82),0)","v":0},null,{"$f":"IF(W58=1,(W77+W82),0)","v":0},null,{"$f":"IF(Y58=1,(Y77+Y82),0)","v":0},null,{"$f":"IF(AA58=1,(AA77+AA82),0)","v":0},null,{"$f":"IF(AC58=1,(AC77+AC82),0)","v":0},null,{"$f":"IF(AE58=1,(AE77+AE82),0)","v":0},null,{"$f":"IF(AG58=1,(AG77+AG82),0)","v":0},null,{"$f":"IF(AI58=1,(AI77+AI82),0)","v":0},null,{"$f":"IF(AK58=1,(AK77+AK82),0)","v":0},null,{"$f":"IF(AM58=1,(AM77+AM82),0)","v":0},null,{"$f":"IF(AO58=1,(AO77+AO82),0)","v":0},null,{"$f":"IF(AQ58=1,(AQ77+AQ82),0)","v":0},null,{"$f":"IF(AS58=1,(AS77+AS82),0)","v":0},null,{"$f":"IF(AU58=1,(AU77+AU82),0)","v":0},null,{"$f":"IF(AW58=1,(AW77+AW82),0)","v":0},null,{"$f":"IF(AY58=1,(AY77+AY82),0)","v":0},null,{"$f":"IF(BA58=1,(BA77+BA82),0)","v":0},null,{"$f":"IF(BC58=1,(BC77+BC82),0)","v":0},null,{"$f":"IF(BE58=1,(BE77+BE82),0)","v":0},null,{"$f":"IF(BG58=1,(BG77+BG82),0)","v":0},null,{"$f":"IF(BI58=1,(BI77+BI82),0)","v":0},null,{"$f":"IF(BK58=1,(BK77+BK82),0)","v":0},null,{"$f":"IF(BM58=1,(BM77+BM82),0)","v":0},null,{"$f":"IF(BO58=1,(BO77+BO82),0)","v":0},null,{"$f":"IF(BQ58=1,(BQ77+BQ82),0)","v":0},null,{"$f":"IF(BS58=1,(BS77+BS82),0)","v":0},null,{"$f":"IF(BU58=1,(BU77+BU82),0)","v":0},null,{"$f":"IF(BW58=1,(BW77+BW82),0)","v":0},null,{"$f":"IF(BY58=1,(BY77+BY82),0)","v":0},null,{"$f":"IF(CA58=1,(CA77+CA82),0)","v":0},null,{"$f":"IF(CC58=1,(CC77+CC82),0)","v":0}]
[5,0,{"$f":"IF(C11=\"5\",1,0)","v":0},null,{"$f":"IF(E11=\"5\",1,0)","v":0},null,0,null,0,null,0,null,0,null,0,null,0,null,0,null,0,null,0,null,0,null,0,null,0,null,0,null,0,null,0,null,0,null,0,null,0,null,0,null,0,null,0,null,0,null,0,null,0,null,0,null,0,null,0,null,0,null,0,null,0,null,0,null,{"$f":"IF(BQ11=\"5\",1,0)","v":0},null,0,null,0,null,0,null,0,null,0,null,0]
[null,0,{"$f":"IF(C60=1,(C77+C82),0)","v":0},null,{"$f":"IF(E60=1,(E77+E82),0)","v":0},null,{"$f":"IF(G60=1,(G77+G82),0)","v":0},null,{"$f":"IF(I60=1,(I77+I82),0)","v":0},null,{"$f":"IF(K60=1,(K77+K82),0)","v":0},null,{"$f":"IF(M60=1,(M77+M82),0)","v":0},null,{"$f":"IF(O60=1,(O77+O82),0)","v":0},null,{"$f":"IF(Q60=1,(Q77+Q82),0)","v":0},null,{"$f":"IF(S60=1,(S77+S82),0)","v":0},null,{"$f":"IF(U60=1,(U77+U82),0)","v":0},null,{"$f":"IF(W60=1,(W77+W82),0)","v":0},null,{"$f":"IF(Y60=1,(Y77+Y82),0)","v":0},null,{"$f":"IF(AA60=1,(AA77+AA82),0)","v":0},null,{"$f":"IF(AC60=1,(AC77+AC82),0)","v":0},null,{"$f":"IF(AE60=1,(AE77+AE82),0)","v":0},null,{"$f":"IF(AG60=1,(AG77+AG82),0)","v":0},null,{"$f":"IF(AI60=1,(AI77+AI82),0)","v":0},null,{"$f":"IF(AK60=1,(AK77+AK82),0)","v":0},null,{"$f":"IF(AM60=1,(AM77+AM82),0)","v":0},null,{"$f":"IF(AO60=1,(AO77+AO82),0)","v":0},null,{"$f":"IF(AQ60=1,(AQ77+AQ82),0)","v":0},null,{"$f":"IF(AS60=1,(AS77+AS82),0)","v":0},null,{"$f":"IF(AU60=1,(AU77+AU82),0)","v":0},null,{"$f":"IF(AW60=1,(AW77+AW82),0)","v":0},null,{"$f":"IF(AY60=1,(AY77+AY82),0)","v":0},null,{"$f":"IF(BA60=1,(BA77+BA82),0)","v":0},null,{"$f":"IF(BC60=1,(BC77+BC82),0)","v":0},null,{"$f":"IF(BE60=1,(BE77+BE82),0)","v":0},null,{"$f":"IF(BG60=1,(BG77+BG82),0)","v":0},null,{"$f":"IF(BI60=1,(BI77+BI82),0)","v":0},null,{"$f":"IF(BK60=1,(BK77+BK82),0)","v":0},null,{"$f":"IF(BM60=1,(BM77+BM82),0)","v":0},null,{"$f":"IF(BO60=1,(BO77+BO82),0)","v":0},null,{"$f":"IF(BQ60=1,(BQ77+BQ82),0)","v":0},null,{"$f":"IF(BS60=1,(BS77+BS82),0)","v":0},null,{"$f":"IF(BU60=1,(BU77+BU82),0)","v":0},null,{"$f":"IF(BW60=1,(BW77+BW82),0)","v":0},null,{"$f":"IF(BY60=1,(BY77+BY82),0)","v":0},null,{"$f":"IF(CA60=1,(CA77+CA82),0)","v":0},null,{"$f":"IF(CC60=1,(CC77+CC82),0)","v":0}]
[6,0,{"$f":"IF(C11=\"6\",1,0)","v":0},null,{"$f":"IF(E11=\"6\",1,0)","v":0},null,0,null,0,null,0,null,0,null,0,null,0,null,0,null,0,null,0,null,0,null,0,null,0,null,0,null,0,null,0,null,0,null,0,null,0,null,0,null,0,null,0,null,0,null,0,null,0,null,0,null,0,null,0,null,0,null,0,null,0,null,0,null,{"$f":"IF(BQ11=\"6\",1,0)","v":0},null,0,null,0,null,0,null,0,null,0,null,0]
[null,0,{"$f":"IF(C62=1,(C77+C82),0)","v":0},null,{"$f":"IF(E62=1,(E77+E82),0)","v":0},null,{"$f":"IF(G62=1,(G77+G82),0)","v":0},null,{"$f":"IF(I62=1,(I77+I82),0)","v":0},null,{"$f":"IF(K62=1,(K77+K82),0)","v":0},null,{"$f":"IF(M62=1,(M77+M82),0)","v":0},null,{"$f":"IF(O62=1,(O77+O82),0)","v":0},null,{"$f":"IF(Q62=1,(Q77+Q82),0)","v":0},null,{"$f":"IF(S62=1,(S77+S82),0)","v":0},null,{"$f":"IF(U62=1,(U77+U82),0)","v":0},null,{"$f":"IF(W62=1,(W77+W82),0)","v":0},null,{"$f":"IF(Y62=1,(Y77+Y82),0)","v":0},null,{"$f":"IF(AA62=1,(AA77+AA82),0)","v":0},null,{"$f":"IF(AC62=1,(AC77+AC82),0)","v":0},null,{"$f":"IF(AE62=1,(AE77+AE82),0)","v":0},null,{"$f":"IF(AG62=1,(AG77+AG82),0)","v":0},null,{"$f":"IF(AI62=1,(AI77+AI82),0)","v":0},null,{"$f":"IF(AK62=1,(AK77+AK82),0)","v":0},null,{"$f":"IF(AM62=1,(AM77+AM82),0)","v":0},null,{"$f":"IF(AO62=1,(AO77+AO82),0)","v":0},null,{"$f":"IF(AQ62=1,(AQ77+AQ82),0)","v":0},null,{"$f":"IF(AS62=1,(AS77+AS82),0)","v":0},null,{"$f":"IF(AU62=1,(AU77+AU82),0)","v":0},null,{"$f":"IF(AW62=1,(AW77+AW82),0)","v":0},null,{"$f":"IF(AY62=1,(AY77+AY82),0)","v":0},null,{"$f":"IF(BA62=1,(BA77+BA82),0)","v":0},null,{"$f":"IF(BC62=1,(BC77+BC82),0)","v":0},null,{"$f":"IF(BE62=1,(BE77+BE82),0)","v":0},null,{"$f":"IF(BG62=1,(BG77+BG82),0)","v":0},null,{"$f":"IF(BI62=1,(BI77+BI82),0)","v":0},null,{"$f":"IF(BK62=1,(BK77+BK82),0)","v":0},null,{"$f":"IF(BM62=1,(BM77+BM82),0)","v":0},null,{"$f":"IF(BO62=1,(BO77+BO82),0)","v":0},null,{"$f":"IF(BQ62=1,(BQ77+BQ82),0)","v":0},null,{"$f":"IF(BS62=1,(BS77+BS82),0)","v":0},null,{"$f":"IF(BU62=1,(BU77+BU82),0)","v":0},null,{"$f":"IF(BW62=1,(BW77+BW82),0)","v":0},null,{"$f":"IF(BY62=1,(BY77+BY82),0)","v":0},null,{"$f":"IF(CA62=1,(CA77+CA82),0)","v":0},null,{"$f":"IF(CC62=1,(CC77+CC82),0)","v":0}]
[7,0,{"$f":"IF(C11=\"7\",1,0)","v":0},null,{"$f":"IF(E11=\"7\",1,0)","v":0},null,0,null,0,null,0,null,0,null,0,null,0,null,0,null,0,null,0,null,0,null,0,null,0,null,0,null,0,null,0,null,0,null,0,null,0,null,0,null,0,null,0,null,0,null,0,null,0,null,0,null,0,null,0,null,0,null,0,null,0,null,0,null,{"$f":"IF(BQ11=\"7\",1,0)","v":0},null,0,null,0,null,0,null,0,null,0,null,0]
[null,0,{"$f":"IF(C64=1,(C77+C82),0)","v":0},null,{"$f":"IF(E64=1,(E77+E82),0)","v":0},null,{"$f":"IF(G64=1,(G77+G82),0)","v":0},null,{"$f":"IF(I64=1,(I77+I82),0)","v":0},null,{"$f":"IF(K64=1,(K77+K82),0)","v":0},null,{"$f":"IF(M64=1,(M77+M82),0)","v":0},null,{"$f":"IF(O64=1,(O77+O82),0)","v":0},null,{"$f":"IF(Q64=1,(Q77+Q82),0)","v":0},null,{"$f":"IF(S64=1,(S77+S82),0)","v":0},null,{"$f":"IF(U64=1,(U77+U82),0)","v":0},null,{"$f":"IF(W64=1,(W77+W82),0)","v":0},null,{"$f":"IF(Y64=1,(Y77+Y82),0)","v":0},null,{"$f":"IF(AA64=1,(AA77+AA82),0)","v":0},null,{"$f":"IF(AC64=1,(AC77+AC82),0)","v":0},null,{"$f":"IF(AE64=1,(AE77+AE82),0)","v":0},null,{"$f":"IF(AG64=1,(AG77+AG82),0)","v":0},null,{"$f":"IF(AI64=1,(AI77+AI82),0)","v":0},null,{"$f":"IF(AK64=1,(AK77+AK82),0)","v":0},null,{"$f":"IF(AM64=1,(AM77+AM82),0)","v":0},null,{"$f":"IF(AO64=1,(AO77+AO82),0)","v":0},null,{"$f":"IF(AQ64=1,(AQ77+AQ82),0)","v":0},null,{"$f":"IF(AS64=1,(AS77+AS82),0)","v":0},null,{"$f":"IF(AU64=1,(AU77+AU82),0)","v":0},null,{"$f":"IF(AW64=1,(AW77+AW82),0)","v":0},null,{"$f":"IF(AY64=1,(AY77+AY82),0)","v":0},null,{"$f":"IF(BA64=1,(BA77+BA82),0)","v":0},null,{"$f":"IF(BC64=1,(BC77+BC82),0)","v":0},null,{"$f":"IF(BE64=1,(BE77+BE82),0)","v":0},null,{"$f":"IF(BG64=1,(BG77+BG82),0)","v":0},null,{"$f":"IF(BI64=1,(BI77+BI82),0)","v":0},null,{"$f":"IF(BK64=1,(BK77+BK82),0)","v":0},null,{"$f":"IF(BM64=1,(BM77+BM82),0)","v":0},null,{"$f":"IF(BO64=1,(BO77+BO82),0)","v":0},null,{"$f":"IF(BQ64=1,(BQ77+BQ82),0)","v":0},null,{"$f":"IF(BS64=1,(BS77+BS82),0)","v":0},null,{"$f":"IF(BU64=1,(BU77+BU82),0)","v":0},null,{"$f":"IF(BW64=1,(BW77+BW82),0)","v":0},null,{"$f":"IF(BY64=1,(BY77+BY82),0)","v":0},null,{"$f":"IF(CA64=1,(CA77+CA82),0)","v":0},null,{"$f":"IF(CC64=1,(CC77+CC82),0)","v":0}]
[8,0,{"$f":"IF(C11=\"8\",1,0)","v":0},null,{"$f":"IF(E11=\"8\",1,0)","v":0},null,0,null,0,null,0,null,0,null,0,null,0,null,0,null,0,null,0,null,0,null,0,null,0,null,0,null,0,null,0,null,0,null,0,null,0,null,0,null,0,null,0,null,0,null,0,null,0,null,0,null,0,null,0,null,0,null,0,null,0,null,0,null,{"$f":"IF(BQ11=\"8\",1,0)","v":0},null,0,null,0,null,0,null,0,null,0,null,0]
[null,0,{"$f":"IF(C66=1,(C77+C82),0)","v":0},null,{"$f":"IF(E66=1,(E77+E82),0)","v":0},null,{"$f":"IF(G66=1,(G77+G82),0)","v":0},null,{"$f":"IF(I66=1,(I77+I82),0)","v":0},null,{"$f":"IF(K66=1,(K77+K82),0)","v":0},null,{"$f":"IF(M66=1,(M77+M82),0)","v":0},null,{"$f":"IF(O66=1,(O77+O82),0)","v":0},null,{"$f":"IF(Q66=1,(Q77+Q82),0)","v":0},null,{"$f":"IF(S66=1,(S77+S82),0)","v":0},null,{"$f":"IF(U66=1,(U77+U82),0)","v":0},null,{"$f":"IF(W66=1,(W77+W82),0)","v":0},null,{"$f":"IF(Y66=1,(Y77+Y82),0)","v":0},null,{"$f":"IF(AA66=1,(AA77+AA82),0)","v":0},null,{"$f":"IF(AC66=1,(AC77+AC82),0)","v":0},null,{"$f":"IF(AE66=1,(AE77+AE82),0)","v":0},null,{"$f":"IF(AG66=1,(AG77+AG82),0)","v":0},null,{"$f":"IF(AI66=1,(AI77+AI82),0)","v":0},null,{"$f":"IF(AK66=1,(AK77+AK82),0)","v":0},null,{"$f":"IF(AM66=1,(AM77+AM82),0)","v":0},null,{"$f":"IF(AO66=1,(AO77+AO82),0)","v":0},null,{"$f":"IF(AQ66=1,(AQ77+AQ82),0)","v":0},null,{"$f":"IF(AS66=1,(AS77+AS82),0)","v":0},null,{"$f":"IF(AU66=1,(AU77+AU82),0)","v":0},null,{"$f":"IF(AW66=1,(AW77+AW82),0)","v":0},null,{"$f":"IF(AY66=1,(AY77+AY82),0)","v":0},null,{"$f":"IF(BA66=1,(BA77+BA82),0)","v":0},null,{"$f":"IF(BC66=1,(BC77+BC82),0)","v":0},null,{"$f":"IF(BE66=1,(BE77+BE82),0)","v":0},null,{"$f":"IF(BG66=1,(BG77+BG82),0)","v":0},null,{"$f":"IF(BI66=1,(BI77+BI82),0)","v":0},null,{"$f":"IF(BK66=1,(BK77+BK82),0)","v":0},null,{"$f":"IF(BM66=1,(BM77+BM82),0)","v":0},null,{"$f":"IF(BO66=1,(BO77+BO82),0)","v":0},null,{"$f":"IF(BQ66=1,(BQ77+BQ82),0)","v":0},null,{"$f":"IF(BS66=1,(BS77+BS82),0)","v":0},null,{"$f":"IF(BU66=1,(BU77+BU82),0)","v":0},null,{"$f":"IF(BW66=1,(BW77+BW82),0)","v":0},null,{"$f":"IF(BY66=1,(BY77+BY82),0)","v":0},null,{"$f":"IF(CA66=1,(CA77+CA82),0)","v":0},null,{"$f":"IF(CC66=1,(CC77+CC82),0)","v":0}]
[9,0,{"$f":"IF(C11=\"9\",1,0)","v":0},null,{"$f":"IF(E11=\"9\",1,0)","v":0},null,0,null,0,null,0,null,0,null,0,null,0,null,0,null,0,null,0,null,0,null,0,null,0,null,0,null,0,null,0,null,0,null,0,null,0,null,0,null,0,null,0,null,0,null,0,null,0,null,0,null,0,null,0,null,0,null,0,null,0,null,0,null,{"$f":"IF(BQ11=\"9\",1,0)","v":0},null,0,null,0,null,0,null,0,null,0,null,0]
[null,0,{"$f":"IF(C68=1,(C77+C82),0)","v":0},null,{"$f":"IF(E68=1,(E77+E82),0)","v":0},null,{"$f":"IF(G68=1,(G77+G82),0)","v":0},null,{"$f":"IF(I68=1,(I77+I82),0)","v":0},null,{"$f":"IF(K68=1,(K77+K82),0)","v":0},null,{"$f":"IF(M68=1,(M77+M82),0)","v":0},null,{"$f":"IF(O68=1,(O77+O82),0)","v":0},null,{"$f":"IF(Q68=1,(Q77+Q82),0)","v":0},null,{"$f":"IF(S68=1,(S77+S82),0)","v":0},null,{"$f":"IF(U68=1,(U77+U82),0)","v":0},null,{"$f":"IF(W68=1,(W77+W82),0)","v":0},null,{"$f":"IF(Y68=1,(Y77+Y82),0)","v":0},null,{"$f":"IF(AA68=1,(AA77+AA82),0)","v":0},null,{"$f":"IF(AC68=1,(AC77+AC82),0)","v":0},null,{"$f":"IF(AE68=1,(AE77+AE82),0)","v":0},null,{"$f":"IF(AG68=1,(AG77+AG82),0)","v":0},null,{"$f":"IF(AI68=1,(AI77+AI82),0)","v":0},null,{"$f":"IF(AK68=1,(AK77+AK82),0)","v":0},null,{"$f":"IF(AM68=1,(AM77+AM82),0)","v":0},null,{"$f":"IF(AO68=1,(AO77+AO82),0)","v":0},null,{"$f":"IF(AQ68=1,(AQ77+AQ82),0)","v":0},null,{"$f":"IF(AS68=1,(AS77+AS82),0)","v":0},null,{"$f":"IF(AU68=1,(AU77+AU82),0)","v":0},null,{"$f":"IF(AW68=1,(AW77+AW82),0)","v":0},null,{"$f":"IF(AY68=1,(AY77+AY82),0)","v":0},null,{"$f":"IF(BA68=1,(BA77+BA82),0)","v":0},null,{"$f":"IF(BC68=1,(BC77+BC82),0)","v":0},null,{"$f":"IF(BE68=1,(BE77+BE82),0)","v":0},null,{"$f":"IF(BG68=1,(BG77+BG82),0)","v":0},null,{"$f":"IF(BI68=1,(BI77+BI82),0)","v":0},null,{"$f":"IF(BK68=1,(BK77+BK82),0)","v":0},null,{"$f":"IF(BM68=1,(BM77+BM82),0)","v":0},null,{"$f":"IF(BO68=1,(BO77+BO82),0)","v":0},null,{"$f":"IF(BQ68=1,(BQ77+BQ82),0)","v":0},null,{"$f":"IF(BS68=1,(BS77+BS82),0)","v":0},null,{"$f":"IF(BU68=1,(BU77+BU82),0)","v":0},null,{"$f":"IF(BW68=1,(BW77+BW82),0)","v":0},null,{"$f":"IF(BY68=1,(BY77+BY82),0)","v":0},null,{"$f":"IF(CA68=1,(CA77+CA82),0)","v":0},null,{"$f":"IF(CC68=1,(CC77+CC82),0)","v":0}]
[10,0,{"$f":"IF(C11=\"10\",1,0)","v":0},null,{"$f":"IF(E11=\"10\",1,0)","v":0},null,0,null,0,null,0,null,0,null,0,null,0,null,0,null,0,null,0,null,0,null,0,null,0,null,0,null,0,null,0,null,0,null,0,null,0,null,0,null,0,null,0,null,0,null,0,null,0,null,0,null,0,null,0,null,0,null,0,null,0,null,0,null,{"$f":"IF(BQ11=\"10\",1,0)","v":0},null,0,null,0,null,0,null,0,null,0,null,0]
[null,0,{"$f":"IF(C70=1,(C77+C82),0)","v":0},null,{"$f":"IF(E70=1,(E77+E82),0)","v":0},null,{"$f":"IF(G70=1,(G77+G82),0)","v":0},null,{"$f":"IF(I70=1,(I77+I82),0)","v":0},null,{"$f":"IF(K70=1,(K77+K82),0)","v":0},null,{"$f":"IF(M70=1,(M77+M82),0)","v":0},null,{"$f":"IF(O70=1,(O77+O82),0)","v":0},null,{"$f":"IF(Q70=1,(Q77+Q82),0)","v":0},null,{"$f":"IF(S70=1,(S77+S82),0)","v":0},null,{"$f":"IF(U70=1,(U77+U82),0)","v":0},null,{"$f":"IF(W70=1,(W77+W82),0)","v":0},null,{"$f":"IF(Y70=1,(Y77+Y82),0)","v":0},null,{"$f":"IF(AA70=1,(AA77+AA82),0)","v":0},null,{"$f":"IF(AC70=1,(AC77+AC82),0)","v":0},null,{"$f":"IF(AE70=1,(AE77+AE82),0)","v":0},null,{"$f":"IF(AG70=1,(AG77+AG82),0)","v":0},null,{"$f":"IF(AI70=1,(AI77+AI82),0)","v":0},null,{"$f":"IF(AK70=1,(AK77+AK82),0)","v":0},null,{"$f":"IF(AM70=1,(AM77+AM82),0)","v":0},null,{"$f":"IF(AO70=1,(AO77+AO82),0)","v":0},null,{"$f":"IF(AQ70=1,(AQ77+AQ82),0)","v":0},null,{"$f":"IF(AS70=1,(AS77+AS82),0)","v":0},null,{"$f":"IF(AU70=1,(AU77+AU82),0)","v":0},null,{"$f":"IF(AW70=1,(AW77+AW82),0)","v":0},null,{"$f":"IF(AY70=1,(AY77+AY82),0)","v":0},null,{"$f":"IF(BA70=1,(BA77+BA82),0)","v":0},null,{"$f":"IF(BC70=1,(BC77+BC82),0)","v":0},null,{"$f":"IF(BE70=1,(BE77+BE82),0)","v":0},null,{"$f":"IF(BG70=1,(BG77+BG82),0)","v":0},null,{"$f":"IF(BI70=1,(BI77+BI82),0)","v":0},null,{"$f":"IF(BK70=1,(BK77+BK82),0)","v":0},null,{"$f":"IF(BM70=1,(BM77+BM82),0)","v":0},null,{"$f":"IF(BO70=1,(BO77+BO82),0)","v":0},null,{"$f":"IF(BQ70=1,(BQ77+BQ82),0)","v":0},null,{"$f":"IF(BS70=1,(BS77+BS82),0)","v":0},null,{"$f":"IF(BU70=1,(BU77+BU82),0)","v":0},null,{"$f":"IF(BW70=1,(BW77+BW82),0)","v":0},null,{"$f":"IF(BY70=1,(BY77+BY82),0)","v":0},null,{"$f":"IF(CA70=1,(CA77+CA82),0)","v":0},null,{"$f":"IF(CC70=1,(CC77+CC82),0)","v":0}]
[]
["Linge sale"]
["Evacuation",{"$f":"SUM(C74:CC74)","v":0},{"$f":"(2*C15)+C17+C21+C23","v":0},null,{"$f":"(2*E15)+E17+E21+E23","v":0},null,{"$f":"(2*G15)+G17+G21+G23","v":0},null,{"$f":"(2*I15)+I17+I21+I23","v":0},null,{"$f":"(2*K15)+K17+K21+K23","v":0},null,{"$f":"(2*M15)+M17+M21+M23","v":0},null,{"$f":"(2*O15)+O17+O21+O23","v":0},null,{"$f":"(2*Q15)+Q17+Q21+Q23","v":0},null,{"$f":"(2*S15)+S17+S21+S23","v":0},null,{"$f":"(2*U15)+U17+U21+U23","v":0},null,{"$f":"(2*W15)+W17+W21+W23","v":0},null,{"$f":"(2*Y15)+Y17+Y21+Y23","v":0},null,{"$f":"(2*AA15)+AA17+AA21+AA23","v":0},null,{"$f":"(2*AC15)+AC17+AC21+AC23","v":0},null,{"$f":"(2*AE15)+AE17+AE21+AE23","v":0},null,{"$f":"(2*AG15)+AG17+AG21+AG23","v":0},null,{"$f":"(2*AI15)+AI17+AI21+AI23","v":0},null,{"$f":"(2*AK15)+AK17+AK21+AK23","v":0},null,{"$f":"(2*AM15)+AM17+AM21+AM23","v":0},null,{"$f":"(2*AO15)+AO17+AO21+AO23","v":0},null,{"$f":"(2*AQ15)+AQ17+AQ21+AQ23","v":0},null,{"$f":"(2*AS15)+AS17+AS21+AS23","v":0},null,{"$f":"(2*AU15)+AU17+AU21+AU23","v":0},null,{"$f":"(2*AW15)+AW17+AW21+AW23","v":0},null,{"$f":"(2*AY15)+AY17+AY21+AY23","v":0},null,{"$f":"(2*BA15)+BA17+BA21+BA23","v":0},null,{"$f":"(2*BC15)+BC17+BC21+BC23","v":0},null,{"$f":"(2*BE15)+BE17+BE21+BE23","v":0},null,{"$f":"(2*BG15)+BG17+BG21+BG23","v":0},null,{"$f":"(2*BI15)+BI17+BI21+BI23","v":0},null,{"$f":"(2*BK15)+BK17+BK21+BK23","v":0},null,{"$f":"(2*BM15)+BM17+BM21+BM23","v":0},null,{"$f":"(2*BO15)+BO17+BO21+BO23","v":0},null,{"$f":"(2*BQ15)+BQ17+BQ21+BQ23","v":0},null,{"$f":"(2*BS15)+BS17+BS21+BS23","v":0},null,{"$f":"(2*BU15)+BU17+BU21+BU23","v":0},null,{"$f":"(2*BW15)+BW17+BW21+BW23","v":0},null,{"$f":"(2*BY15)+BY17+BY21+BY23","v":0},null,{"$f":"(2*CA15)+CA17+CA21+CA23","v":0},null,{"$f":"(2*CC15)+CC17+CC21+CC23","v":0}]
["Protection",{"$f":"SUM(C75:CC75)","v":0},{"$f":"C19+(2*C25)+(2*C27)+(2*C29)+(2*C35)","v":0},null,{"$f":"E19+(2*E25)+(2*E27)+(2*E29)+(2*E35)","v":0},null,{"$f":"G19+(2*G25)+(2*G27)+(2*G29)+(2*G35)","v":0},null,{"$f":"I19+(2*I25)+(2*I27)+(2*I29)+(2*I35)","v":0},null,{"$f":"K19+(2*K25)+(2*K27)+(2*K29)+(2*K35)","v":0},null,{"$f":"M19+(2*M25)+(2*M27)+(2*M29)+(2*M35)","v":0},null,{"$f":"O19+(2*O25)+(2*O27)+(2*O29)+(2*O35)","v":0},null,{"$f":"Q19+(2*Q25)+(2*Q27)+(2*Q29)+(2*Q35)","v":0},null,{"$f":"S19+(2*S25)+(2*S27)+(2*S29)+(2*S35)","v":0},null,{"$f":"U19+(2*U25)+(2*U27)+(2*U29)+(2*U35)","v":0},null,{"$f":"W19+(2*W25)+(2*W27)+(2*W29)+(2*W35)","v":0},null,{"$f":"Y19+(2*Y25)+(2*Y27)+(2*Y29)+(2*Y35)","v":0},null,{"$f":"AA19+(2*AA25)+(2*AA27)+(2*AA29)+(2*AA35)","v":0},null,{"$f":"AC19+(2*AC25)+(2*AC27)+(2*AC29)+(2*AC35)","v":0},null,{"$f":"AE19+(2*AE25)+(2*AE27)+(2*AE29)+(2*AE35)","v":0},null,{"$f":"AG19+(2*AG25)+(2*AG27)+(2*AG29)+(2*AG35)","v":0},null,{"$f":"AI19+(2*AI25)+(2*AI27)+(2*AI29)+(2*AI35)","v":0},null,{"$f":"AK19+(2*AK25)+(2*AK27)+(2*AK29)+(2*AK35)","v":0},null,{"$f":"AM19+(2*AM25)+(2*AM27)+(2*AM29)+(2*AM35)","v":0},null,{"$f":"AO19+(2*AO25)+(2*AO27)+(2*AO29)+(2*AO35)","v":0},null,{"$f":"AQ19+(2*AQ25)+(2*AQ27)+(2*AQ29)+(2*AQ35)","v":0},null,{"$f":"AS19+(2*AS25)+(2*AS27)+(2*AS29)+(2*AS35)","v":0},null,{"$f":"AU19+(2*AU25)+(2*AU27)+(2*AU29)+(2*AU35)","v":0},null,{"$f":"AW19+(2*AW25)+(2*AW27)+(2*AW29)+(2*AW35)","v":0},null,{"$f":"AY19+(2*AY25)+(2*AY27)+(2*AY29)+(2*AY35)","v":0},null,{"$f":"BA19+(2*BA25)+(2*BA27)+(2*BA29)+(2*BA35)","v":0},null,{"$f":"BC19+(2*BC25)+(2*BC27)+(2*BC29)+(2*BC35)","v":0},null,{"$f":"BE19+(2*BE25)+(2*BE27)+(2*BE29)+(2*BE35)","v":0},null,{"$f":"BG19+(2*BG25)+(2*BG27)+(2*BG29)+(2*BG35)","v":0},null,{"$f":"BI19+(2*BI25)+(2*BI27)+(2*BI29)+(2*BI35)","v":0},null,{"$f":"BK19+(2*BK25)+(2*BK27)+(2*BK29)+(2*BK35)","v":0},null,{"$f":"BM19+(2*BM25)+(2*BM27)+(2*BM29)+(2*BM35)","v":0},null,{"$f":"BO19+(2*BO25)+(2*BO27)+(2*BO29)+(2*BO35)","v":0},null,{"$f":"BQ19+(2*BQ25)+(2*BQ27)+(2*BQ29)+(2*BQ35)","v":0},null,{"$f":"BS19+(2*BS25)+(2*BS27)+(2*BS29)+(2*BS35)","v":0},null,{"$f":"BU19+(2*BU25)+(2*BU27)+(2*BU29)+(2*BU35)","v":0},null,{"$f":"BW19+(2*BW25)+(2*BW27)+(2*BW29)+(2*BW35)","v":0},null,{"$f":"BY19+(2*BY25)+(2*BY27)+(2*BY29)+(2*BY35)","v":0},null,{"$f":"CA19+(2*CA25)+(2*CA27)+(2*CA29)+(2*CA35)","v":0},null,{"$f":"CC19+(2*CC25)+(2*CC27)+(2*CC29)+(2*CC35)","v":0}]
["Transport",{"$f":"SUM(C76:CC76)","v":0},{"$f":"C31+C33","v":0},null,{"$f":"E31+E33","v":0},null,{"$f":"G31+G33","v":0},null,{"$f":"I31+I33","v":0},null,{"$f":"K31+K33","v":0},null,{"$f":"M31+M33","v":0},null,{"$f":"O31+O33","v":0},null,{"$f":"Q31+Q33","v":0},null,{"$f":"S31+S33","v":0},null,{"$f":"U31+U33","v":0},null,{"$f":"W31+W33","v":0},null,{"$f":"Y31+Y33","v":0},null,{"$f":"AA31+AA33","v":0},null,{"$f":"AC31+AC33","v":0},null,{"$f":"AE31+AE33","v":0},null,{"$f":"AG31+AG33","v":0},null,{"$f":"AI31+AI33","v":0},null,{"$f":"AK31+AK33","v":0},null,{"$f":"AM31+AM33","v":0},null,{"$f":"AO31+AO33","v":0},null,{"$f":"AQ31+AQ33","v":0},null,{"$f":"AS31+AS33","v":0},null,{"$f":"AU31+AU33","v":0},null,{"$f":"AW31+AW33","v":0},null,{"$f":"AY31+AY33","v":0},null,{"$f":"BA31+BA33","v":0},null,{"$f":"BC31+BC33","v":0},null,{"$f":"BE31+BE33","v":0},null,{"$f":"BG31+BG33","v":0},null,{"$f":"BI31+BI33","v":0},null,{"$f":"BK31+BK33","v":0},null,{"$f":"BM31+BM33","v":0},null,{"$f":"BO31+BO33","v":0},null,{"$f":"BQ31+BQ33","v":0},null,{"$f":"BS31+BS33","v":0},null,{"$f":"BU31+BU33","v":0},null,{"$f":"BW31+BW33","v":0},null,{"$f":"BY31+BY33","v":0},null,{"$f":"CA31+CA33","v":0},null,{"$f":"CC31+CC33","v":0}]
["Tot linge sale",{"$f":"SUM(C77:CC77)","v":0},{"$f":"SUM(C74:C76)","v":0},null,{"$f":"SUM(E74:E76)","v":0},null,{"$f":"SUM(G74:G76)","v":0},null,{"$f":"SUM(I74:I76)","v":0},null,{"$f":"SUM(K74:K76)","v":0},null,{"$f":"SUM(M74:M76)","v":0},null,{"$f":"SUM(O74:O76)","v":0},null,{"$f":"SUM(Q74:Q76)","v":0},null,{"$f":"SUM(S74:S76)","v":0},null,{"$f":"SUM(U74:U76)","v":0},null,{"$f":"SUM(W74:W76)","v":0},null,{"$f":"SUM(Y74:Y76)","v":0},null,{"$f":"SUM(AA74:AA76)","v":0},null,{"$f":"SUM(AC74:AC76)","v":0},null,{"$f":"SUM(AE74:AE76)","v":0},null,{"$f":"SUM(AG74:AG76)","v":0},null,{"$f":"SUM(AI74:AI76)","v":0},null,{"$f":"SUM(AK74:AK76)","v":0},null,{"$f":"SUM(AM74:AM76)","v":0},null,{"$f":"SUM(AO74:AO76)","v":0},null,{"$f":"SUM(AQ74:AQ76)","v":0},null,{"$f":"SUM(AS74:AS76)","v":0},null,{"$f":"SUM(AU74:AU76)","v":0},null,{"$f":"SUM(AW74:AW76)","v":0},null,{"$f":"SUM(AY74:AY76)","v":0},null,{"$f":"SUM(BA74:BA76)","v":0},null,{"$f":"SUM(BC74:BC76)","v":0},null,{"$f":"SUM(BE74:BE76)","v":0},null,{"$f":"SUM(BG74:BG76)","v":0},null,{"$f":"SUM(BI74:BI76)","v":0},null,{"$f":"SUM(BK74:BK76)","v":0},null,{"$f":"SUM(BM74:BM76)","v":0},null,{"$f":"SUM(BO74:BO76)","v":0},null,{"$f":"SUM(BQ74:BQ76)","v":0},null,{"$f":"SUM(BS74:BS76)","v":0},null,{"$f":"SUM(BU74:BU76)","v":0},null,{"$f":"SUM(BW74:BW76)","v":0},null,{"$f":"SUM(BY74:BY76)","v":0},null,{"$f":"SUM(CA74:CA76)","v":0},null,{"$f":"SUM(CC74:CC76)","v":0}]
[]
["Linge propre"]
["Hygiène",{"$f":"SUM(C80:CC80)","v":0},{"$f":"(2*C39)","v":0},null,{"$f":"(2*E39)","v":0},null,{"$f":"(2*G39)","v":0},null,{"$f":"(2*I39)","v":0},null,{"$f":"(2*K39)","v":0},null,{"$f":"(2*M39)","v":0},null,{"$f":"(2*O39)","v":0},null,{"$f":"(2*Q39)","v":0},null,{"$f":"(2*S39)","v":0},null,{"$f":"(2*U39)","v":0},null,{"$f":"(2*W39)","v":0},null,{"$f":"(2*Y39)","v":0},null,{"$f":"(2*AA39)","v":0},null,{"$f":"(2*AC39)","v":0},null,{"$f":"(2*AE39)","v":0},null,{"$f":"(2*AG39)","v":0},null,{"$f":"(2*AI39)","v":0},null,{"$f":"(2*AK39)","v":0},null,{"$f":"(2*AM39)","v":0},null,{"$f":"(2*AO39)","v":0},null,{"$f":"(2*AQ39)","v":0},null,{"$f":"(2*AS39)","v":0},null,{"$f":"(2*AU39)","v":0},null,{"$f":"(2*AW39)","v":0},null,{"$f":"(2*AY39)","v":0},null,{"$f":"(2*BA39)","v":0},null,{"$f":"(2*BC39)","v":0},null,{"$f":"(2*BE39)","v":0},null,{"$f":"(2*BG39)","v":0},null,{"$f":"(2*BI39)","v":0},null,{"$f":"(2*BK39)","v":0},null,{"$f":"(2*BM39)","v":0},null,{"$f":"(2*BO39)","v":0},null,{"$f":"(2*BQ39)","v":0},null,{"$f":"(2*BS39)","v":0},null,{"$f":"(2*BU39)","v":0},null,{"$f":"(2*BW39)","v":0},null,{"$f":"(2*BY39)","v":0},null,{"$f":"(2*CA39)","v":0},null,{"$f":"(2*CC39)","v":0}]
["Utilisation",{"$f":"SUM(C81:CC81)","v":0},{"$f":"C41+C43","v":0},null,{"$f":"E41+E43","v":0},null,{"$f":"G41+G43","v":0},null,{"$f":"I41+I43","v":0},null,{"$f":"K41+K43","v":0},null,{"$f":"M41+M43","v":0},null,{"$f":"O41+O43","v":0},null,{"$f":"Q41+Q43","v":0},null,{"$f":"S41+S43","v":0},null,{"$f":"U41+U43","v":0},null,{"$f":"W41+W43","v":0},null,{"$f":"Y41+Y43","v":0},null,{"$f":"AA41+AA43","v":0},null,{"$f":"AC41+AC43","v":0},null,{"$f":"AE41+AE43","v":0},null,{"$f":"AG41+AG43","v":0},null,{"$f":"AI41+AI43","v":0},null,{"$f":"AK41+AK43","v":0},null,{"$f":"AM41+AM43","v":0},null,{"$f":"AO41+AO43","v":0},null,{"$f":"AQ41+AQ43","v":0},null,{"$f":"AS41+AS43","v":0},null,{"$f":"AU41+AU43","v":0},null,{"$f":"AW41+AW43","v":0},null,{"$f":"AY41+AY43","v":0},null,{"$f":"BA41+BA43","v":0},null,{"$f":"BC41+BC43","v":0},null,{"$f":"BE41+BE43","v":0},null,{"$f":"BG41+BG43","v":0},null,{"$f":"BI41+BI43","v":0},null,{"$f":"BK41+BK43","v":0},null,{"$f":"BM41+BM43","v":0},null,{"$f":"BO41+BO43","v":0},null,{"$f":"BQ41+BQ43","v":0},null,{"$f":"BS41+BS43","v":0},null,{"$f":"BU41+BU43","v":0},null,{"$f":"BW41+BW43","v":0},null,{"$f":"BY41+BY43","v":0},null,{"$f":"CA41+CA43","v":0},null,{"$f":"CC41+CC43","v":0}]
["Tot linge prop",{"$f":"SUM(C82:CC82)","v":0},{"$f":"SUM(C80:C81)","v":0},null,{"$f":"SUM(E80:E81)","v":0},null,{"$f":"SUM(G80:G81)","v":0},null,{"$f":"SUM(I80:I81)","v":0},null,{"$f":"SUM(K80:K81)","v":0},null,{"$f":"SUM(M80:M81)","v":0},null,{"$f":"SUM(O80:O81)","v":0},null,{"$f":"SUM(Q80:Q81)","v":0},null,{"$f":"SUM(S80:S81)","v":0},null,{"$f":"SUM(U80:U81)","v":0},null,{"$f":"SUM(W80:W81)","v":0},null,{"$f":"SUM(Y80:Y81)","v":0},null,{"$f":"SUM(AA80:AA81)","v":0},null,{"$f":"SUM(AC80:AC81)","v":0},null,{"$f":"SUM(AE80:AE81)","v":0},null,{"$f":"SUM(AG80:AG81)","v":0},null,{"$f":"SUM(AI80:AI81)","v":0},null,{"$f":"SUM(AK80:AK81)","v":0},null,{"$f":"SUM(AM80:AM81)","v":0},null,{"$f":"SUM(AO80:AO81)","v":0},null,{"$f":"SUM(AQ80:AQ81)","v":0},null,{"$f":"SUM(AS80:AS81)","v":0},null,{"$f":"SUM(AU80:AU81)","v":0},null,{"$f":"SUM(AW80:AW81)","v":0},null,{"$f":"SUM(AY80:AY81)","v":0},null,{"$f":"SUM(BA80:BA81)","v":0},null,{"$f":"SUM(BC80:BC81)","v":0},null,{"$f":"SUM(BE80:BE81)","v":0},null,{"$f":"SUM(BG80:BG81)","v":0},null,{"$f":"SUM(BI80:BI81)","v":0},null,{"$f":"SUM(BK80:BK81)","v":0},null,{"$f":"SUM(BM80:BM81)","v":0},null,{"$f":"SUM(BO80:BO81)","v":0},null,{"$f":"SUM(BQ80:BQ81)","v":0},null,{"$f":"SUM(BS80:BS81)","v":0},null,{"$f":"SUM(BU80:BU81)","v":0},null,{"$f":"SUM(BW80:BW81)","v":0},null,{"$f":"SUM(BY80:BY81)","v":0},null,{"$f":"SUM(CA80:CA81)","v":0},null,{"$f":"SUM(CC80:CC81)","v":0}]

{"sheet":"Poster_Service#6","index":24,"n_rows":46,"n_cols":16,"rows_kept":46,"cut":false,"hidden":true,"merged":[[19,5,19,6],[18,5,18,6],[0,1,0,13],[5,0,5,6],[11,0,11,6],[12,0,12,6],[1,12,1,13],[23,5,23,6],[24,5,24,6],[28,0,33,13],[15,5,15,6],[15,2,15,4],[16,5,16,6],[22,5,22,6],[21,5,21,6],[21,2,21,4],[17,5,17,6]]}
[null,"Audit de la fonction linge en établissement de santé et en EHPAD",null,null,null,null,null,null,null,null,null,null,null,null,"   Pour imprimer le poster:"]
[null,null,null,null,null,null,null,null,"ETABLISSEMENT :",{"$f":"IF(NOM=\"\",\"à préciser\",NOM)","v":"à préciser"},null,null,"Date de réalisation",null,"   Menu \"Fichier\" puis \"Imprimer\""]
[null,null,null,null,null,null,null,null,"SERVICE : ",{"$f":"IF(SERVICE6=\"\",\"à préciser\",SERVICE6)","v":"à préciser"},null,null,"de : ",{"$f":"IF(SERVICE6=\"\",\"à préciser\",(MIN(Fiches_Services!M9,'Fiches_Utilisateurs_Service#6'!C7:CC7)))","v":"à préciser"}]
[null,null,null,null,null,null,null,null,null,null,null,null,"au : ",{"$f":"IF(SERVICE6=\"\",\"à préciser\",(MAX(Fiches_Services!M9,'Fiches_Utilisateurs_Service#6'!C7:CC7)))","v":"à préciser"},"Vous ne pourrez imprimer le poster que"]
["Méthodologie",null,null,null,null,null,null,null,"Score \"utilisateur\" du service par catégories professionnelles",null,null,null,null,null,"si vous avez saisi vos axes d'amélioration"]
["Le recueil des données a été réalisé au niveau:",null,null,null,null,null,null,null,null,null,null,null,null,null,"et commentaires dans l'encadré jaune."]
["       Du service : ",null,null,null,null,null,"le recensement des locaux, du matériel et des procédures   "]
[null,null,null,null,null,null,"disponibles dans les services en lien avec la fonction linge.  "]
["De l'utilisateur : ",null,null,null,null,null,"l'observation des pratiques afin de vérifier l'adéquation avec"]
[null,null,null,null,null,null,"avec les recommandations de bonnes pratiques.                   "]
["Résultats"]
["Les pourcentages d'objectifs atteints sont présentés pour le service."]
[" Les résultats détaillés figurent dans le rapport d'analyse finale."]
[null,null,"Services évalués de l'établissement n =",{"$f":"(\" \"&SERVICES&\" services\")","v":" 0 services"}]
[]
["► Score \"service\"",null,"Service",null,null,"Etablissement"]
["Gestion du linge sale",null,{"$f":"IF(Rapport!F661=\"non saisi\",\"-\",Rapport!F661)","v":"-"},16,{"$f":"Rapport!H661","v":"non saisi"},{"$f":"IF(Rapport!H158=\"non saisi\",\"-\",Rapport!H158)","v":"-"}]
["Gestion du linge propre",null,{"$f":"IF(Rapport!F662=\"non saisi\",\"-\",Rapport!F662)","v":"-"},12,{"$f":"Rapport!H662","v":"non saisi"},{"$f":"IF(Rapport!H159=\"non saisi\",\"-\",Rapport!H159)","v":"-"}]
["Bionettoyage et traçabilité ",null,{"$f":"IF(Rapport!F663=\"non saisi\",\"-\",Rapport!F663)","v":"-"},12,{"$f":"Rapport!H663","v":"non saisi"},{"$f":"IF(Rapport!H160=\"non saisi\",\"-\",Rapport!H160)","v":"-"}]
["Score total",null,{"$f":"IF(Rapport!F664=\"non saisi\",\"-\",Rapport!F664)","v":"-"},40,{"$f":"Rapport!H664","v":"non saisi"},{"$f":"IF(Rapport!H161=\"non saisi\",\"-\",Rapport!H161)","v":"-"}]
[]
["► Score \"utilisateur\"",null,"Service",null,null,"Etablissement"]
["Evacuation du linge sale",null,{"$f":"IF(Rapport!F715=\"non saisi\",\"-\",Rapport!F715)","v":"-"},16,{"$f":"IF(Rapport!H715=\"non saisi\",\"-\",Rapport!H715)","v":"-"},{"$f":"IF(Rapport!H200=\"non saisi\",\"-\",Rapport!H200)","v":"-"}]
["Utilisation du linge propre",null,{"$f":"IF(Rapport!F716=\"non saisi\",\"-\",Rapport!F716)","v":"-"},4,{"$f":"IF(Rapport!H716=\"non saisi\",\"-\",Rapport!H716)","v":"-"},{"$f":"IF(Rapport!H201=\"non saisi\",\"-\",Rapport!H201)","v":"-"}]
["Score total",null,{"$f":"IF(Rapport!F717=\"non saisi\",\"-\",Rapport!F717)","v":"-"},20,{"$f":"IF(Rapport!H717=\"non saisi\",\"-\",Rapport!H717)","v":"-"},{"$f":"IF(Rapport!H202=\"non saisi\",\"-\",Rapport!H202)","v":"-"}]
[]
["Axes d'amélioration et commentaires"]
[]
[null,null,null,null,null,null,null,null,null,null,null,null,null,null,"◄ avant d'imprimer, veuillez"]
[null,null,null,null,null,null,null,null,null,null,null,null,null,null,"tapez vos axes d'amélioration"]
[null,null,null,null,null,null,null,null,null,null,null,null,null,null,"et commentaires dans le cadre"]
[null,null,null,null,null,null,null,null,null,null,null,null,null,null,"ci-contre."]
[]
[]
[]
[null,null,null,null,null,null,null,null,"La mise en œuvre d'actions d'amélioration avant une nouvelle évaluation contribue au processus d'amélioration de la qualité des soins"]
[null,null,null,null,null,null,null,null,null,null,null,null,null,null,"Autre",{"$f":"Rapport!H755","v":"non saisi"}]
[null,null,null,null,null,null,null,null,null,null,null,null,null,null,"Etudiant",{"$f":"Rapport!H754","v":"non saisi"}]
["L'établissement est en retard et doit assurer les meilleures conditions d’hygiène et de protection des patients et des personnels vis-à-vis du risque infectieux. ",null,null,null,null,null,null,null,null,null,null,null,null,null,"Brancardier",{"$f":"Rapport!H753","v":"non saisi"}]
[null,null,null,null,null,null,null,null,null,null,null,null,null,null,"Ambulancier",{"$f":"Rapport!H752","v":"non saisi"}]
["l'établissement a mis en place une politique qualité des activités et des prestations relatives aux articles de linge, il doit poursuivre ses actions",null,null,null,null,null,null,null,null,null,null,null,null,null,"Agent hospitalier",{"$f":"Rapport!H751","v":"non saisi"}]
["L'établissement est fortement engagé dans la qualité des activités relatives aux articles de linge, il doit poursuivre ses actions",null,null,null,null,null,null,null,null,null,null,null,null,null,"Aide-soignante/aux. puériculture",{"$f":"Rapport!H750","v":"non saisi"}]
[null,null,null,null,null,null,null,null,null,null,null,null,null,null,"Manipulateur radio",{"$f":"Rapport!H749","v":"non saisi"}]
[null,null,null,null,null,null,null,null,null,null,null,null,null,null,"Kinésithérapeute",{"$f":"Rapport!H748","v":"non saisi"}]
[null,null,null,null,null,null,null,null,null,null,null,null,null,null,"Sage-femme",{"$f":"Rapport!H747","v":"non saisi"}]
[null,null,null,null,null,null,null,null,null,null,null,null,null,null,"Infirmière et IDE spécialisée",{"$f":"Rapport!H746","v":"non saisi"}]

{"sheet":"Fiches_Utilisateurs_Service#7","index":25,"n_rows":47,"n_cols":82,"rows_kept":47,"cut":false,"hidden":false,"merged":[[0,0,0,2],[1,0,1,2]]}
["FICHE N° 2"]
["UTILISATEURS SERVICE #7"]
[null,null,"Utilisateur #1",null,"Utilisateur #2",null,"Utilisateur #3",null,"Utilisateur #4",null,"Utilisateur #5",null,"Utilisateur #6",null,"Utilisateur #7",null,"Utilisateur #8",null,"Utilisateur #9",null,"Utilisateur #10",null,"Utilisateur #11",null,"Utilisateur #12",null,"Utilisateur #13",null,"Utilisateur #14",null,"Utilisateur #15",null,"Utilisateur #16",null,"Utilisateur #17",null,"Utilisateur #18",null,"Utilisateur #19",null,"Utilisateur #20",null,"Utilisateur #21",null,"Utilisateur #22",null,"Utilisateur #23",null,"Utilisateur #24",null,"Utilisateur #25",null,"Utilisateur #26",null,"Utilisateur #27",null,"Utilisateur #28",null,"Utilisateur #29",null,"Utilisateur #30",null,"Utilisateur #31",null,"Utilisateur #32",null,"Utilisateur #33",null,"Utilisateur #34",null,"Utilisateur #35",null,"Utilisateur #36",null,"Utilisateur #37",null,"Utilisateur #38",null,"Utilisateur #39",null,"Utilisateur #40"]
[]
[null,"VERIFICATION DONNEES NON SAISIES/N° DE SAISIE DE FICHE",{"$f":"C45","v":"non saisies"},null,{"$f":"E45","v":"non saisies"},null,{"$f":"G45","v":"non saisies"},null,{"$f":"I45","v":"non saisies"},null,{"$f":"K45","v":"non saisies"},null,{"$f":"M45","v":"non saisies"},null,{"$f":"O45","v":"non saisies"},null,{"$f":"Q45","v":"non saisies"},null,{"$f":"S45","v":"non saisies"},null,{"$f":"U45","v":"non saisies"},null,{"$f":"W45","v":"non saisies"},null,{"$f":"Y45","v":"non saisies"},null,{"$f":"AA45","v":"non saisies"},null,{"$f":"AC45","v":"non saisies"},null,{"$f":"AE45","v":"non saisies"},null,{"$f":"AG45","v":"non saisies"},null,{"$f":"AI45","v":"non saisies"},null,{"$f":"AK45","v":"non saisies"},null,{"$f":"AM45","v":"non saisies"},null,{"$f":"AO45","v":"non saisies"},null,{"$f":"AQ45","v":"non saisies"},null,{"$f":"AS45","v":"non saisies"},null,{"$f":"AU45","v":"non saisies"},null,{"$f":"AW45","v":"non saisies"},null,{"$f":"AY45","v":"non saisies"},null,{"$f":"BA45","v":"non saisies"},null,{"$f":"BC45","v":"non saisies"},null,{"$f":"BE45","v":"non saisies"},null,{"$f":"BG45","v":"non saisies"},null,{"$f":"BI45","v":"non saisies"},null,{"$f":"BK45","v":"non saisies"},null,{"$f":"BM45","v":"non saisies"},null,{"$f":"BO45","v":"non saisies"},null,{"$f":"BQ45","v":"non saisies"},null,{"$f":"BS45","v":"non saisies"},null,{"$f":"BU45","v":"non saisies"},null,{"$f":"BW45","v":"non saisies"},null,{"$f":"BY45","v":"non saisies"},null,{"$f":"CA45","v":"non saisies"},null,{"$f":"CC45","v":"non saisies"}]
[]
[null,"Date"]
[]
[null,"Nom du service",{"$f":"IF(SERVICE7=\"\",\"non saisi\",SERVICE7)","v":"non saisi"},null,{"$f":"IF(SERVICE7=\"\",\"non saisi\",SERVICE7)","v":"non saisi"},null,{"$f":"IF(SERVICE7=\"\",\"non saisi\",SERVICE7)","v":"non saisi"},null,{"$f":"IF(SERVICE7=\"\",\"non saisi\",SERVICE7)","v":"non saisi"},null,{"$f":"IF(SERVICE7=\"\",\"non saisi\",SERVICE7)","v":"non saisi"},null,{"$f":"IF(SERVICE7=\"\",\"non saisi\",SERVICE7)","v":"non saisi"},null,{"$f":"IF(SERVICE7=\"\",\"non saisi\",SERVICE7)","v":"non saisi"},null,{"$f":"IF(SERVICE7=\"\",\"non saisi\",SERVICE7)","v":"non saisi"},null,{"$f":"IF(SERVICE7=\"\",\"non saisi\",SERVICE7)","v":"non saisi"},null,{"$f":"IF(SERVICE7=\"\",\"non saisi\",SERVICE7)","v":"non saisi"},null,{"$f":"IF(SERVICE7=\"\",\"non saisi\",SERVICE7)","v":"non saisi"},null,{"$f":"IF(SERVICE7=\"\",\"non saisi\",SERVICE7)","v":"non saisi"},null,{"$f":"IF(SERVICE7=\"\",\"non saisi\",SERVICE7)","v":"non saisi"},null,{"$f":"IF(SERVICE7=\"\",\"non saisi\",SERVICE7)","v":"non saisi"},null,{"$f":"IF(SERVICE7=\"\",\"non saisi\",SERVICE7)","v":"non saisi"},null,{"$f":"IF(SERVICE7=\"\",\"non saisi\",SERVICE7)","v":"non saisi"},null,{"$f":"IF(SERVICE7=\"\",\"non saisi\",SERVICE7)","v":"non saisi"},null,{"$f":"IF(SERVICE7=\"\",\"non saisi\",SERVICE7)","v":"non saisi"},null,{"$f":"IF(SERVICE7=\"\",\"non saisi\",SERVICE7)","v":"non saisi"},null,{"$f":"IF(SERVICE7=\"\",\"non saisi\",SERVICE7)","v":"non saisi"},null,{"$f":"IF(SERVICE7=\"\",\"non saisi\",SERVICE7)","v":"non saisi"},null,{"$f":"IF(SERVICE7=\"\",\"non saisi\",SERVICE7)","v":"non saisi"},null,{"$f":"IF(SERVICE7=\"\",\"non saisi\",SERVICE7)","v":"non saisi"},null,{"$f":"IF(SERVICE7=\"\",\"non saisi\",SERVICE7)","v":"non saisi"},null,{"$f":"IF(SERVICE7=\"\",\"non saisi\",SERVICE7)","v":"non saisi"},null,{"$f":"IF(SERVICE7=\"\",\"non saisi\",SERVICE7)","v":"non saisi"},null,{"$f":"IF(SERVICE7=\"\",\"non saisi\",SERVICE7)","v":"non saisi"},null,{"$f":"IF(SERVICE7=\"\",\"non saisi\",SERVICE7)","v":"non saisi"},null,{"$f":"IF(SERVICE7=\"\",\"non saisi\",SERVICE7)","v":"non saisi"},null,{"$f":"IF(SERVICE7=\"\",\"non saisi\",SERVICE7)","v":"non saisi"},null,{"$f":"IF(SERVICE7=\"\",\"non saisi\",SERVICE7)","v":"non saisi"},null,{"$f":"IF(SERVICE7=\"\",\"non saisi\",SERVICE7)","v":"non saisi"},null,{"$f":"IF(SERVICE7=\"\",\"non saisi\",SERVICE7)","v":"non saisi"},null,{"$f":"IF(SERVICE7=\"\",\"non saisi\",SERVICE7)","v":"non saisi"},null,{"$f":"IF(SERVICE7=\"\",\"non saisi\",SERVICE7)","v":"non saisi"},null,{"$f":"IF(SERVICE7=\"\",\"non saisi\",SERVICE7)","v":"non saisi"},null,{"$f":"IF(SERVICE7=\"\",\"non saisi\",SERVICE7)","v":"non saisi"},null,{"$f":"IF(SERVICE7=\"\",\"non saisi\",SERVICE7)","v":"non saisi"},null,{"$f":"IF(SERVICE7=\"\",\"non saisi\",SERVICE7)","v":"non saisi"},null,{"$f":"IF(SERVICE7=\"\",\"non saisi\",SERVICE7)","v":"non saisi"}]
[]
[null,"Fonction du personnel",null,null,null,null,null,null,null,null,null,null,null,null,null,null,null,null,null,null,null,null,null,null,null,null,null,null,null,null,null,null,null,null,null,null,null,null,null,null,null,null,null,null,null,null,null,null,null,null,null,null,null,null,null,null,null,null,null,null,null,null,null,null,null,null,null,null,null,null,null,null,null,null,null,null,null,null,null,null,null,"1 Infirmière et IDE spécialisée"]
[null,null,null,null,null,null,null,null,null,null,null,null,null,null,null,null,null,null,null,null,null,null,null,null,null,null,null,null,null,null,null,null,null,null,null,null,null,null,null,null,null,null,null,null,null,null,null,null,null,null,null,null,null,null,null,null,null,null,null,null,null,null,null,null,null,null,null,null,null,null,null,null,null,null,null,null,null,null,null,null,null,"2 Sage Femme"]
["Linge sale",null,"1 Oui - 2 Non",null,"1 Oui - 2 Non",null,"1 Oui - 2 Non",null,"1 Oui - 2 Non",null,"1 Oui - 2 Non",null,"1 Oui - 2 Non",null,"1 Oui - 2 Non",null,"1 Oui - 2 Non",null,"1 Oui - 2 Non",null,"1 Oui - 2 Non",null,"1 Oui - 2 Non",null,"1 Oui - 2 Non",null,"1 Oui - 2 Non",null,"1 Oui - 2 Non",null,"1 Oui - 2 Non",null,"1 Oui - 2 Non",null,"1 Oui - 2 Non",null,"1 Oui - 2 Non",null,"1 Oui - 2 Non",null,"1 Oui - 2 Non",null,"1 Oui - 2 Non",null,"1 Oui - 2 Non",null,"1 Oui - 2 Non",null,"1 Oui - 2 Non",null,"1 Oui - 2 Non",null,"1 Oui - 2 Non",null,"1 Oui - 2 Non",null,"1 Oui - 2 Non",null,"1 Oui - 2 Non",null,"1 Oui - 2 Non",null,"1 Oui - 2 Non",null,"1 Oui - 2 Non",null,"1 Oui - 2 Non",null,"1 Oui - 2 Non",null,"1 Oui - 2 Non",null,"1 Oui - 2 Non",null,"1 Oui - 2 Non",null,"1 Oui - 2 Non",null,"1 Oui - 2 Non",null,"1 Oui - 2 Non","3 Kinésithérapeute"]
[null,null,null,null,null,null,null,null,null,null,null,null,null,null,null,null,null,null,null,null,null,null,null,null,null,null,null,null,null,null,null,null,null,null,null,null,null,null,null,null,null,null,null,null,null,null,null,null,null,null,null,null,null,null,null,null,null,null,null,null,null,null,null,null,null,null,null,null,null,null,null,null,null,null,null,null,null,null,null,null,null,"4 Manipulateur Radio"]
[1,"Le linge sale est évacué à la fin du soin, sans dépose sur le sol",null,null,null,null,null,null,null,null,null,null,null,null,null,null,null,null,null,null,null,null,null,null,null,null,null,null,null,null,null,null,null,null,null,null,null,null,null,null,null,null,null,null,null,null,null,null,null,null,null,null,null,null,null,null,null,null,null,null,null,null,null,null,null,null,null,null,null,null,null,null,null,null,null,null,null,null,null,null,null,"5 Aide soignante/aux. de puériculture"]
[null,null,null,null,null,null,null,null,null,null,null,null,null,null,null,null,null,null,null,null,null,null,null,null,null,null,null,null,null,null,null,null,null,null,null,null,null,null,null,null,null,null,null,null,null,null,null,null,null,null,null,null,null,null,null,null,null,null,null,null,null,null,null,null,null,null,null,null,null,null,null,null,null,null,null,null,null,null,null,null,null,"6 Agent Hospitalier"]
[2,"Le professionnel vérifie l’absence d’objet étranger",null,null,null,null,null,null,null,null,null,null,null,null,null,null,null,null,null,null,null,null,null,null,null,null,null,null,null,null,null,null,null,null,null,null,null,null,null,null,null,null,null,null,null,null,null,null,null,null,null,null,null,null,null,null,null,null,null,null,null,null,null,null,null,null,null,null,null,null,null,null,null,null,null,null,null,null,null,null,null,"7 Ambulancier"]
[null,null,null,null,null,null,null,null,null,null,null,null,null,null,null,null,null,null,null,null,null,null,null,null,null,null,null,null,null,null,null,null,null,null,null,null,null,null,null,null,null,null,null,null,null,null,null,null,null,null,null,null,null,null,null,null,null,null,null,null,null,null,null,null,null,null,null,null,null,null,null,null,null,null,null,null,null,null,null,null,null,"8 Brancardier"]
[3,"Le professionnel porte des gants lors de la manipulation de linge souillé par des liquides biologiques",null,null,null,null,null,null,null,null,null,null,null,null,null,null,null,null,null,null,null,null,null,null,null,null,null,null,null,null,null,null,null,null,null,null,null,null,null,null,null,null,null,null,null,null,null,null,null,null,null,null,null,null,null,null,null,null,null,null,null,null,null,null,null,null,null,null,null,null,null,null,null,null,null,null,null,null,null,null,null,"9 Etudiant"]
[null,null,null,null,null,null,null,null,null,null,null,null,null,null,null,null,null,null,null,null,null,null,null,null,null,null,null,null,null,null,null,null,null,null,null,null,null,null,null,null,null,null,null,null,null,null,null,null,null,null,null,null,null,null,null,null,null,null,null,null,null,null,null,null,null,null,null,null,null,null,null,null,null,null,null,null,null,null,null,null,null,"10 Autre"]
[4,"Le professionnel manipule le linge sale avec des gestes mesurés pour limiter la contamination de l'environnement",null,null,null,null,null,null,null,null,null,null,null,null,null,null,null,null,null,null,null,null,null,null,null,null,null,null,null,null,null,null,null,null,null,null,null,null,null,null,null,null,null,null,null,null,null,null,null,null,null,null,null,null,null,null,null,null,null,null,null,null,null,null,null,null,null,null,null,null,null,null,null,null,null,null,null,null,null,null,null,1]
[null,null,null,null,null,null,null,null,null,null,null,null,null,null,null,null,null,null,null,null,null,null,null,null,null,null,null,null,null,null,null,null,null,null,null,null,null,null,null,null,null,null,null,null,null,null,null,null,null,null,null,null,null,null,null,null,null,null,null,null,null,null,null,null,null,null,null,null,null,null,null,null,null,null,null,null,null,null,null,null,null,2]
[5,"Les articles sont répartis selon la procédure de tri de l'établissement",null,null,null,null,null,null,null,null,null,null,null,null,null,null,null,null,null,null,null,null,null,null,null,null,null,null,null,null,null,null,null,null,null,null,null,null,null,null,null,null,null,null,null,null,null,null,null,null,null,null,null,null,null,null,null,null,null,null,null,null,null,null,null,null,null,null,null,null,null,null,null,null,null,null,null,null,null,null,null,3]
[null,null,null,null,null,null,null,null,null,null,null,null,null,null,null,null,null,null,null,null,null,null,null,null,null,null,null,null,null,null,null,null,null,null,null,null,null,null,null,null,null,null,null,null,null,null,null,null,null,null,null,null,null,null,null,null,null,null,null,null,null,null,null,null,null,null,null,null,null,null,null,null,null,null,null,null,null,null,null,null,null,4]
[6,"Le linge est tenu à distance de la tenue professionnelle",null,null,null,null,null,null,null,null,null,null,null,null,null,null,null,null,null,null,null,null,null,null,null,null,null,null,null,null,null,null,null,null,null,null,null,null,null,null,null,null,null,null,null,null,null,null,null,null,null,null,null,null,null,null,null,null,null,null,null,null,null,null,null,null,null,null,null,null,null,null,null,null,null,null,null,null,null,null,null,5]
[null,null,null,null,null,null,null,null,null,null,null,null,null,null,null,null,null,null,null,null,null,null,null,null,null,null,null,null,null,null,null,null,null,null,null,null,null,null,null,null,null,null,null,null,null,null,null,null,null,null,null,null,null,null,null,null,null,null,null,null,null,null,null,null,null,null,null,null,null,null,null,null,null,null,null,null,null,null,null,null,null,6]
[7,"Le système d'ouverture du chariot des sacs collecteurs de linge sale est manipulé sans les mains",null,null,null,null,null,null,null,null,null,null,null,null,null,null,null,null,null,null,null,null,null,null,null,null,null,null,null,null,null,null,null,null,null,null,null,null,null,null,null,null,null,null,null,null,null,null,null,null,null,null,null,null,null,null,null,null,null,null,null,null,null,null,null,null,null,null,null,null,null,null,null,null,null,null,null,null,null,null,null,7]
[null,null,null,null,null,null,null,null,null,null,null,null,null,null,null,null,null,null,null,null,null,null,null,null,null,null,null,null,null,null,null,null,null,null,null,null,null,null,null,null,null,null,null,null,null,null,null,null,null,null,null,null,null,null,null,null,null,null,null,null,null,null,null,null,null,null,null,null,null,null,null,null,null,null,null,null,null,null,null,null,null,8]
[8,"Le professionnel réalise une hygiène des mains après avoir manipulé le linge sale",null,null,null,null,null,null,null,null,null,null,null,null,null,null,null,null,null,null,null,null,null,null,null,null,null,null,null,null,null,null,null,null,null,null,null,null,null,null,null,null,null,null,null,null,null,null,null,null,null,null,null,null,null,null,null,null,null,null,null,null,null,null,null,null,null,null,null,null,null,null,null,null,null,null,null,null,null,null,null,9]
[null,null,null,null,null,null,null,null,null,null,null,null,null,null,null,null,null,null,null,null,null,null,null,null,null,null,null,null,null,null,null,null,null,null,null,null,null,null,null,null,null,null,null,null,null,null,null,null,null,null,null,null,null,null,null,null,null,null,null,null,null,null,null,null,null,null,null,null,null,null,null,null,null,null,null,null,null,null,null,null,null,10]
[9,"Dès la fin de l'activité, les sacs de linge sale sont évacués vers un local de stockage réservé"]
[null,"Si Non Observé (NO) coder 3"]
[10,"Les sacs de linge sale sont transportés sans être traînés par terre lors de transport"]
[null,"Si Non Observé (NO) coder 3"]
[11,"Le professionnel réalise une hygiène des mains après avoir manipulé les sacs de linge"]
[null,"Si Non Observé (NO) coder 3"]
["Linge propre",null,"1 Oui - 2 Non",null,"1 Oui - 2 Non",null,"1 Oui - 2 Non",null,"1 Oui - 2 Non",null,"1 Oui - 2 Non",null,"1 Oui - 2 Non",null,"1 Oui - 2 Non",null,"1 Oui - 2 Non",null,"1 Oui - 2 Non",null,"1 Oui - 2 Non",null,"1 Oui - 2 Non",null,"1 Oui - 2 Non",null,"1 Oui - 2 Non",null,"1 Oui - 2 Non",null,"1 Oui - 2 Non",null,"1 Oui - 2 Non",null,"1 Oui - 2 Non",null,"1 Oui - 2 Non",null,"1 Oui - 2 Non",null,"1 Oui - 2 Non",null,"1 Oui - 2 Non",null,"1 Oui - 2 Non",null,"1 Oui - 2 Non",null,"1 Oui - 2 Non",null,"1 Oui - 2 Non",null,"1 Oui - 2 Non",null,"1 Oui - 2 Non",null,"1 Oui - 2 Non",null,"1 Oui - 2 Non",null,"1 Oui - 2 Non",null,"1 Oui - 2 Non",null,"1 Oui - 2 Non",null,"1 Oui - 2 Non",null,"1 Oui - 2 Non",null,"1 Oui - 2 Non",null,"1 Oui - 2 Non",null,"1 Oui - 2 Non",null,"1 Oui - 2 Non",null,"1 Oui - 2 Non",null,"1 Oui - 2 Non"]
[]
[12,"Le professionnel réalise une hygiène des mains avant de manipuler le linge propre "]
[]
[13,"Le linge est déconditionné au fur et à mesure des besoins"]
[]
[14,"Le linge entré dans la chambre et non utilisé est évacué (considéré comme sale)"]
[]
[null,"VERIFICATION DONNEES NON SAISIES/N° DE SAISIE DE FICHE",{"$f":"IF(OR(C7=\"\",C9=\"non saisi\",C11=\"\",C15=\"\",C17=\"\",C19=\"\",C21=\"\",C23=\"\",C25=\"\",C27=\"\",C29=\"\",C31=\"\",C33=\"\",C35=\"\",C39=\"\",C41=\"\",C43=\"\"),\"non saisies\",(SERVICES+_OBS1+_OBS2+_OBS3+_OBS4+_OBS5+_OBS6+1))","v":"non saisies"},null,{"$f":"IF(OR(E7=\"\",E9=\"non saisi\",E11=\"\",E15=\"\",E17=\"\",E19=\"\",E21=\"\",E23=\"\",E25=\"\",E27=\"\",E29=\"\",E31=\"\",E33=\"\",E35=\"\",E39=\"\",E41=\"\",E43=\"\"),\"non saisies\",(SERVICES+_OBS1+_OBS2+_OBS3+_OBS4+_OBS5+_OBS6+2))","v":"non saisies"},null,{"$f":"IF(OR(G7=\"\",G9=\"non saisi\",G11=\"\",G15=\"\",G17=\"\",G19=\"\",G21=\"\",G23=\"\",G25=\"\",G27=\"\",G29=\"\",G31=\"\",G33=\"\",G35=\"\",G39=\"\",G41=\"\",G43=\"\"),\"non saisies\",(SERVICES+_OBS1+_OBS2+_OBS3+_OBS4+_OBS5+_OBS6+3))","v":"non saisies"},null,{"$f":"IF(OR(I7=\"\",I9=\"non saisi\",I11=\"\",I15=\"\",I17=\"\",I19=\"\",I21=\"\",I23=\"\",I25=\"\",I27=\"\",I29=\"\",I31=\"\",I33=\"\",I35=\"\",I39=\"\",I41=\"\",I43=\"\"),\"non saisies\",(SERVICES+_OBS1+_OBS2+_OBS3+_OBS4+_OBS5+_OBS6+4))","v":"non saisies"},null,{"$f":"IF(OR(K7=\"\",K9=\"non saisi\",K11=\"\",K15=\"\",K17=\"\",K19=\"\",K21=\"\",K23=\"\",K25=\"\",K27=\"\",K29=\"\",K31=\"\",K33=\"\",K35=\"\",K39=\"\",K41=\"\",K43=\"\"),\"non saisies\",(SERVICES+_OBS1+_OBS2+_OBS3+_OBS4+_OBS5+_OBS6+5))","v":"non saisies"},null,{"$f":"IF(OR(M7=\"\",M9=\"non saisi\",M11=\"\",M15=\"\",M17=\"\",M19=\"\",M21=\"\",M23=\"\",M25=\"\",M27=\"\",M29=\"\",M31=\"\",M33=\"\",M35=\"\",M39=\"\",M41=\"\",M43=\"\"),\"non saisies\",(SERVICES+_OBS1+_OBS2+_OBS3+_OBS4+_OBS5+_OBS6+6))","v":"non saisies"},null,{"$f":"IF(OR(O7=\"\",O9=\"non saisi\",O11=\"\",O15=\"\",O17=\"\",O19=\"\",O21=\"\",O23=\"\",O25=\"\",O27=\"\",O29=\"\",O31=\"\",O33=\"\",O35=\"\",O39=\"\",O41=\"\",O43=\"\"),\"non saisies\",(SERVICES+_OBS1+_OBS2+_OBS3+_OBS4+_OBS5+_OBS6+7))","v":"non saisies"},null,{"$f":"IF(OR(Q7=\"\",Q9=\"non saisi\",Q11=\"\",Q15=\"\",Q17=\"\",Q19=\"\",Q21=\"\",Q23=\"\",Q25=\"\",Q27=\"\",Q29=\"\",Q31=\"\",Q33=\"\",Q35=\"\",Q39=\"\",Q41=\"\",Q43=\"\"),\"non saisies\",(SERVICES+_OBS1+_OBS2+_OBS3+_OBS4+_OBS5+_OBS6+8))","v":"non saisies"},null,{"$f":"IF(OR(S7=\"\",S9=\"non saisi\",S11=\"\",S15=\"\",S17=\"\",S19=\"\",S21=\"\",S23=\"\",S25=\"\",S27=\"\",S29=\"\",S31=\"\",S33=\"\",S35=\"\",S39=\"\",S41=\"\",S43=\"\"),\"non saisies\",(SERVICES+_OBS1+_OBS2+_OBS3+_OBS4+_OBS5+_OBS6+9))","v":"non saisies"},null,{"$f":"IF(OR(U7=\"\",U9=\"non saisi\",U11=\"\",U15=\"\",U17=\"\",U19=\"\",U21=\"\",U23=\"\",U25=\"\",U27=\"\",U29=\"\",U31=\"\",U33=\"\",U35=\"\",U39=\"\",U41=\"\",U43=\"\"),\"non saisies\",(SERVICES+_OBS1+_OBS2+_OBS3+_OBS4+_OBS5+_OBS6+10))","v":"non saisies"},null,{"$f":"IF(OR(W7=\"\",W9=\"non saisi\",W11=\"\",W15=\"\",W17=\"\",W19=\"\",W21=\"\",W23=\"\",W25=\"\",W27=\"\",W29=\"\",W31=\"\",W33=\"\",W35=\"\",W39=\"\",W41=\"\",W43=\"\"),\"non saisies\",(SERVICES+_OBS1+_OBS2+_OBS3+_OBS4+_OBS5+_OBS6+11))","v":"non saisies"},null,{"$f":"IF(OR(Y7=\"\",Y9=\"non saisi\",Y11=\"\",Y15=\"\",Y17=\"\",Y19=\"\",Y21=\"\",Y23=\"\",Y25=\"\",Y27=\"\",Y29=\"\",Y31=\"\",Y33=\"\",Y35=\"\",Y39=\"\",Y41=\"\",Y43=\"\"),\"non saisies\",(SERVICES+_OBS1+_OBS2+_OBS3+_OBS4+_OBS5+_OBS6+12))","v":"non saisies"},null,{"$f":"IF(OR(AA7=\"\",AA9=\"non saisi\",AA11=\"\",AA15=\"\",AA17=\"\",AA19=\"\",AA21=\"\",AA23=\"\",AA25=\"\",AA27=\"\",AA29=\"\",AA31=\"\",AA33=\"\",AA35=\"\",AA39=\"\",AA41=\"\",AA43=\"\"),\"non saisies\",(SERVICES+_OBS1+_OBS2+_OBS3+_OBS4+_OBS5+_OBS6+13))","v":"non saisies"},null,{"$f":"IF(OR(AC7=\"\",AC9=\"non saisi\",AC11=\"\",AC15=\"\",AC17=\"\",AC19=\"\",AC21=\"\",AC23=\"\",AC25=\"\",AC27=\"\",AC29=\"\",AC31=\"\",AC33=\"\",AC35=\"\",AC39=\"\",AC41=\"\",AC43=\"\"),\"non saisies\",(SERVICES+_OBS1+_OBS2+_OBS3+_OBS4+_OBS5+_OBS6+14))","v":"non saisies"},null,{"$f":"IF(OR(AE7=\"\",AE9=\"non saisi\",AE11=\"\",AE15=\"\",AE17=\"\",AE19=\"\",AE21=\"\",AE23=\"\",AE25=\"\",AE27=\"\",AE29=\"\",AE31=\"\",AE33=\"\",AE35=\"\",AE39=\"\",AE41=\"\",AE43=\"\"),\"non saisies\",(SERVICES+_OBS1+_OBS2+_OBS3+_OBS4+_OBS5+_OBS6+15))","v":"non saisies"},null,{"$f":"IF(OR(AG7=\"\",AG9=\"non saisi\",AG11=\"\",AG15=\"\",AG17=\"\",AG19=\"\",AG21=\"\",AG23=\"\",AG25=\"\",AG27=\"\",AG29=\"\",AG31=\"\",AG33=\"\",AG35=\"\",AG39=\"\",AG41=\"\",AG43=\"\"),\"non saisies\",(SERVICES+_OBS1+_OBS2+_OBS3+_OBS4+_OBS5+_OBS6+16))","v":"non saisies"},null,{"$f":"IF(OR(AI7=\"\",AI9=\"non saisi\",AI11=\"\",AI15=\"\",AI17=\"\",AI19=\"\",AI21=\"\",AI23=\"\",AI25=\"\",AI27=\"\",AI29=\"\",AI31=\"\",AI33=\"\",AI35=\"\",AI39=\"\",AI41=\"\",AI43=\"\"),\"non saisies\",(SERVICES+_OBS1+_OBS2+_OBS3+_OBS4+_OBS5+_OBS6+17))","v":"non saisies"},null,{"$f":"IF(OR(AK7=\"\",AK9=\"non saisi\",AK11=\"\",AK15=\"\",AK17=\"\",AK19=\"\",AK21=\"\",AK23=\"\",AK25=\"\",AK27=\"\",AK29=\"\",AK31=\"\",AK33=\"\",AK35=\"\",AK39=\"\",AK41=\"\",AK43=\"\"),\"non saisies\",(SERVICES+_OBS1+_OBS2+_OBS3+_OBS4+_OBS5+_OBS6+18))","v":"non saisies"},null,{"$f":"IF(OR(AM7=\"\",AM9=\"non saisi\",AM11=\"\",AM15=\"\",AM17=\"\",AM19=\"\",AM21=\"\",AM23=\"\",AM25=\"\",AM27=\"\",AM29=\"\",AM31=\"\",AM33=\"\",AM35=\"\",AM39=\"\",AM41=\"\",AM43=\"\"),\"non saisies\",(SERVICES+_OBS1+_OBS2+_OBS3+_OBS4+_OBS5+_OBS6+19))","v":"non saisies"},null,{"$f":"IF(OR(AO7=\"\",AO9=\"non saisi\",AO11=\"\",AO15=\"\",AO17=\"\",AO19=\"\",AO21=\"\",AO23=\"\",AO25=\"\",AO27=\"\",AO29=\"\",AO31=\"\",AO33=\"\",AO35=\"\",AO39=\"\",AO41=\"\",AO43=\"\"),\"non saisies\",(SERVICES+_OBS1+_OBS2+_OBS3+_OBS4+_OBS5+_OBS6+20))","v":"non saisies"},null,{"$f":"IF(OR(AQ7=\"\",AQ9=\"non saisi\",AQ11=\"\",AQ15=\"\",AQ17=\"\",AQ19=\"\",AQ21=\"\",AQ23=\"\",AQ25=\"\",AQ27=\"\",AQ29=\"\",AQ31=\"\",AQ33=\"\",AQ35=\"\",AQ39=\"\",AQ41=\"\",AQ43=\"\"),\"non saisies\",(SERVICES+_OBS1+_OBS2+_OBS3+_OBS4+_OBS5+_OBS6+21))","v":"non saisies"},null,{"$f":"IF(OR(AS7=\"\",AS9=\"non saisi\",AS11=\"\",AS15=\"\",AS17=\"\",AS19=\"\",AS21=\"\",AS23=\"\",AS25=\"\",AS27=\"\",AS29=\"\",AS31=\"\",AS33=\"\",AS35=\"\",AS39=\"\",AS41=\"\",AS43=\"\"),\"non saisies\",(SERVICES+_OBS1+_OBS2+_OBS3+_OBS4+_OBS5+_OBS6+22))","v":"non saisies"},null,{"$f":"IF(OR(AU7=\"\",AU9=\"non saisi\",AU11=\"\",AU15=\"\",AU17=\"\",AU19=\"\",AU21=\"\",AU23=\"\",AU25=\"\",AU27=\"\",AU29=\"\",AU31=\"\",AU33=\"\",AU35=\"\",AU39=\"\",AU41=\"\",AU43=\"\"),\"non saisies\",(SERVICES+_OBS1+_OBS2+_OBS3+_OBS4+_OBS5+_OBS6+23))","v":"non saisies"},null,{"$f":"IF(OR(AW7=\"\",AW9=\"non saisi\",AW11=\"\",AW15=\"\",AW17=\"\",AW19=\"\",AW21=\"\",AW23=\"\",AW25=\"\",AW27=\"\",AW29=\"\",AW31=\"\",AW33=\"\",AW35=\"\",AW39=\"\",AW41=\"\",AW43=\"\"),\"non saisies\",(SERVICES+_OBS1+_OBS2+_OBS3+_OBS4+_OBS5+_OBS6+24))","v":"non saisies"},null,{"$f":"IF(OR(AY7=\"\",AY9=\"non saisi\",AY11=\"\",AY15=\"\",AY17=\"\",AY19=\"\",AY21=\"\",AY23=\"\",AY25=\"\",AY27=\"\",AY29=\"\",AY31=\"\",AY33=\"\",AY35=\"\",AY39=\"\",AY41=\"\",AY43=\"\"),\"non saisies\",(SERVICES+_OBS1+_OBS2+_OBS3+_OBS4+_OBS5+_OBS6+25))","v":"non saisies"},null,{"$f":"IF(OR(BA7=\"\",BA9=\"non saisi\",BA11=\"\",BA15=\"\",BA17=\"\",BA19=\"\",BA21=\"\",BA23=\"\",BA25=\"\",BA27=\"\",BA29=\"\",BA31=\"\",BA33=\"\",BA35=\"\",BA39=\"\",BA41=\"\",BA43=\"\"),\"non saisies\",(SERVICES+_OBS1+_OBS2+_OBS3+_OBS4+_OBS5+_OBS6+26))","v":"non saisies"},null,{"$f":"IF(OR(BC7=\"\",BC9=\"non saisi\",BC11=\"\",BC15=\"\",BC17=\"\",BC19=\"\",BC21=\"\",BC23=\"\",BC25=\"\",BC27=\"\",BC29=\"\",BC31=\"\",BC33=\"\",BC35=\"\",BC39=\"\",BC41=\"\",BC43=\"\"),\"non saisies\",(SERVICES+_OBS1+_OBS2+_OBS3+_OBS4+_OBS5+_OBS6+27))","v":"non saisies"},null,{"$f":"IF(OR(BE7=\"\",BE9=\"non saisi\",BE11=\"\",BE15=\"\",BE17=\"\",BE19=\"\",BE21=\"\",BE23=\"\",BE25=\"\",BE27=\"\",BE29=\"\",BE31=\"\",BE33=\"\",BE35=\"\",BE39=\"\",BE41=\"\",BE43=\"\"),\"non saisies\",(SERVICES+_OBS1+_OBS2+_OBS3+_OBS4+_OBS5+_OBS6+28))","v":"non saisies"},null,{"$f":"IF(OR(BG7=\"\",BG9=\"non saisi\",BG11=\"\",BG15=\"\",BG17=\"\",BG19=\"\",BG21=\"\",BG23=\"\",BG25=\"\",BG27=\"\",BG29=\"\",BG31=\"\",BG33=\"\",BG35=\"\",BG39=\"\",BG41=\"\",BG43=\"\"),\"non saisies\",(SERVICES+_OBS1+_OBS2+_OBS3+_OBS4+_OBS5+_OBS6+29))","v":"non saisies"},null,{"$f":"IF(OR(BI7=\"\",BI9=\"non saisi\",BI11=\"\",BI15=\"\",BI17=\"\",BI19=\"\",BI21=\"\",BI23=\"\",BI25=\"\",BI27=\"\",BI29=\"\",BI31=\"\",BI33=\"\",BI35=\"\",BI39=\"\",BI41=\"\",BI43=\"\"),\"non saisies\",(SERVICES+_OBS1+_OBS2+_OBS3+_OBS4+_OBS5+_OBS6+30))","v":"non saisies"},null,{"$f":"IF(OR(BK7=\"\",BK9=\"non saisi\",BK11=\"\",BK15=\"\",BK17=\"\",BK19=\"\",BK21=\"\",BK23=\"\",BK25=\"\",BK27=\"\",BK29=\"\",BK31=\"\",BK33=\"\",BK35=\"\",BK39=\"\",BK41=\"\",BK43=\"\"),\"non saisies\",(SERVICES+_OBS1+_OBS2+_OBS3+_OBS4+_OBS5+_OBS6+31))","v":"non saisies"},null,{"$f":"IF(OR(BM7=\"\",BM9=\"non saisi\",BM11=\"\",BM15=\"\",BM17=\"\",BM19=\"\",BM21=\"\",BM23=\"\",BM25=\"\",BM27=\"\",BM29=\"\",BM31=\"\",BM33=\"\",BM35=\"\",BM39=\"\",BM41=\"\",BM43=\"\"),\"non saisies\",(SERVICES+_OBS1+_OBS2+_OBS3+_OBS4+_OBS5+_OBS6+32))","v":"non saisies"},null,{"$f":"IF(OR(BO7=\"\",BO9=\"non saisi\",BO11=\"\",BO15=\"\",BO17=\"\",BO19=\"\",BO21=\"\",BO23=\"\",BO25=\"\",BO27=\"\",BO29=\"\",BO31=\"\",BO33=\"\",BO35=\"\",BO39=\"\",BO41=\"\",BO43=\"\"),\"non saisies\",(SERVICES+_OBS1+_OBS2+_OBS3+_OBS4+_OBS5+_OBS6+33))","v":"non saisies"},null,{"$f":"IF(OR(BQ7=\"\",BQ9=\"non saisi\",BQ11=\"\",BQ15=\"\",BQ17=\"\",BQ19=\"\",BQ21=\"\",BQ23=\"\",BQ25=\"\",BQ27=\"\",BQ29=\"\",BQ31=\"\",BQ33=\"\",BQ35=\"\",BQ39=\"\",BQ41=\"\",BQ43=\"\"),\"non saisies\",(SERVICES+_OBS1+_OBS2+_OBS3+_OBS4+_OBS5+_OBS6+34))","v":"non saisies"},null,{"$f":"IF(OR(BS7=\"\",BS9=\"non saisi\",BS11=\"\",BS15=\"\",BS17=\"\",BS19=\"\",BS21=\"\",BS23=\"\",BS25=\"\",BS27=\"\",BS29=\"\",BS31=\"\",BS33=\"\",BS35=\"\",BS39=\"\",BS41=\"\",BS43=\"\"),\"non saisies\",(SERVICES+_OBS1+_OBS2+_OBS3+_OBS4+_OBS5+_OBS6+35))","v":"non saisies"},null,{"$f":"IF(OR(BU7=\"\",BU9=\"non saisi\",BU11=\"\",BU15=\"\",BU17=\"\",BU19=\"\",BU21=\"\",BU23=\"\",BU25=\"\",BU27=\"\",BU29=\"\",BU31=\"\",BU33=\"\",BU35=\"\",BU39=\"\",BU41=\"\",BU43=\"\"),\"non saisies\",(SERVICES+_OBS1+_OBS2+_OBS3+_OBS4+_OBS5+_OBS6+36))","v":"non saisies"},null,{"$f":"IF(OR(BW7=\"\",BW9=\"non saisi\",BW11=\"\",BW15=\"\",BW17=\"\",BW19=\"\",BW21=\"\",BW23=\"\",BW25=\"\",BW27=\"\",BW29=\"\",BW31=\"\",BW33=\"\",BW35=\"\",BW39=\"\",BW41=\"\",BW43=\"\"),\"non saisies\",(SERVICES+_OBS1+_OBS2+_OBS3+_OBS4+_OBS5+_OBS6+37))","v":"non saisies"},null,{"$f":"IF(OR(BY7=\"\",BY9=\"non saisi\",BY11=\"\",BY15=\"\",BY17=\"\",BY19=\"\",BY21=\"\",BY23=\"\",BY25=\"\",BY27=\"\",BY29=\"\",BY31=\"\",BY33=\"\",BY35=\"\",BY39=\"\",BY41=\"\",BY43=\"\"),\"non saisies\",(SERVICES+_OBS1+_OBS2+_OBS3+_OBS4+_OBS5+_OBS6+38))","v":"non saisies"},null,{"$f":"IF(OR(CA7=\"\",CA9=\"non saisi\",CA11=\"\",CA15=\"\",CA17=\"\",CA19=\"\",CA21=\"\",CA23=\"\",CA25=\"\",CA27=\"\",CA29=\"\",CA31=\"\",CA33=\"\",CA35=\"\",CA39=\"\",CA41=\"\",CA43=\"\"),\"non saisies\",(SERVICES+_OBS1+_OBS2+_OBS3+_OBS4+_OBS5+_OBS6+39))","v":"non saisies"},null,{"$f":"IF(OR(CC7=\"\",CC9=\"non saisi\",CC11=\"\",CC15=\"\",CC17=\"\",CC19=\"\",CC21=\"\",CC23=\"\",CC25=\"\",CC27=\"\",CC29=\"\",CC31=\"\",CC33=\"\",CC35=\"\",CC39=\"\",CC41=\"\",CC43=\"\"),\"non saisies\",(SERVICES+_OBS1+_OBS2+_OBS3+_OBS4+_OBS5+_OBS6+40))","v":"non saisies"}]
[]
[null,"MENU"]

{"sheet":"Score7","index":26,"n_rows":82,"n_cols":81,"rows_kept":82,"cut":false,"hidden":true,"merged":[]}
[]
[]
[]
[]
[]
[]
[null,null,{"$f":"IF('Fiches_Utilisateurs_Service#7'!C7=\"\",0,1)","v":0},null,{"$f":"IF('Fiches_Utilisateurs_Service#7'!E7=\"\",0,1)","v":0},null,{"$f":"IF('Fiches_Utilisateurs_Service#7'!G7=\"\",0,1)","v":0},null,{"$f":"IF('Fiches_Utilisateurs_Service#7'!I7=\"\",0,1)","v":0},null,{"$f":"IF('Fiches_Utilisateurs_Service#7'!K7=\"\",0,1)","v":0},null,{"$f":"IF('Fiches_Utilisateurs_Service#7'!M7=\"\",0,1)","v":0},null,{"$f":"IF('Fiches_Utilisateurs_Service#7'!O7=\"\",0,1)","v":0},null,{"$f":"IF('Fiches_Utilisateurs_Service#7'!Q7=\"\",0,1)","v":0},null,{"$f":"IF('Fiches_Utilisateurs_Service#7'!S7=\"\",0,1)","v":0},null,{"$f":"IF('Fiches_Utilisateurs_Service#7'!U7=\"\",0,1)","v":0},null,{"$f":"IF('Fiches_Utilisateurs_Service#7'!W7=\"\",0,1)","v":0},null,{"$f":"IF('Fiches_Utilisateurs_Service#7'!Y7=\"\",0,1)","v":0},null,{"$f":"IF('Fiches_Utilisateurs_Service#7'!AA7=\"\",0,1)","v":0},null,{"$f":"IF('Fiches_Utilisateurs_Service#7'!AC7=\"\",0,1)","v":0},null,{"$f":"IF('Fiches_Utilisateurs_Service#7'!AE7=\"\",0,1)","v":0},null,{"$f":"IF('Fiches_Utilisateurs_Service#7'!AG7=\"\",0,1)","v":0},null,{"$f":"IF('Fiches_Utilisateurs_Service#7'!AI7=\"\",0,1)","v":0},null,{"$f":"IF('Fiches_Utilisateurs_Service#7'!AK7=\"\",0,1)","v":0},null,{"$f":"IF('Fiches_Utilisateurs_Service#7'!AM7=\"\",0,1)","v":0},null,{"$f":"IF('Fiches_Utilisateurs_Service#7'!AO7=\"\",0,1)","v":0},null,{"$f":"IF('Fiches_Utilisateurs_Service#7'!AQ7=\"\",0,1)","v":0},null,{"$f":"IF('Fiches_Utilisateurs_Service#7'!AS7=\"\",0,1)","v":0},null,{"$f":"IF('Fiches_Utilisateurs_Service#7'!AU7=\"\",0,1)","v":0},null,{"$f":"IF('Fiches_Utilisateurs_Service#7'!AW7=\"\",0,1)","v":0},null,{"$f":"IF('Fiches_Utilisateurs_Service#7'!AY7=\"\",0,1)","v":0},null,{"$f":"IF('Fiches_Utilisateurs_Service#7'!BA7=\"\",0,1)","v":0},null,{"$f":"IF('Fiches_Utilisateurs_Service#7'!BC7=\"\",0,1)","v":0},null,{"$f":"IF('Fiches_Utilisateurs_Service#7'!BE7=\"\",0,1)","v":0},null,{"$f":"IF('Fiches_Utilisateurs_Service#7'!BG7=\"\",0,1)","v":0},null,{"$f":"IF('Fiches_Utilisateurs_Service#7'!BI7=\"\",0,1)","v":0},null,{"$f":"IF('Fiches_Utilisateurs_Service#7'!BK7=\"\",0,1)","v":0},null,{"$f":"IF('Fiches_Utilisateurs_Service#7'!BM7=\"\",0,1)","v":0},null,{"$f":"IF('Fiches_Utilisateurs_Service#7'!BO7=\"\",0,1)","v":0},null,{"$f":"IF('Fiches_Utilisateurs_Service#7'!BQ7=\"\",0,1)","v":0},null,{"$f":"IF('Fiches_Utilisateurs_Service#7'!BS7=\"\",0,1)","v":0},null,{"$f":"IF('Fiches_Utilisateurs_Service#7'!BU7=\"\",0,1)","v":0},null,{"$f":"IF('Fiches_Utilisateurs_Service#7'!BW7=\"\",0,1)","v":0},null,{"$f":"IF('Fiches_Utilisateurs_Service#7'!BY7=\"\",0,1)","v":0},null,{"$f":"IF('Fiches_Utilisateurs_Service#7'!CA7=\"\",0,1)","v":0},null,{"$f":"IF('Fiches_Utilisateurs_Service#7'!CC7=\"\",0,1)","v":0}]
[]
[]
[]
[null,null,{"$f":"IF(LEFT('Fiches_Utilisateurs_Service#7'!C11,2)=\"10\",\"10\",(IF('Fiches_Utilisateurs_Service#7'!C11=\"\",\"0\",LEFT('Fiches_Utilisateurs_Service#7'!C11,1))))","v":"0"},null,{"$f":"IF(LEFT('Fiches_Utilisateurs_Service#7'!E11,2)=\"10\",\"10\",(IF('Fiches_Utilisateurs_Service#7'!E11=\"\",\"0\",LEFT('Fiches_Utilisateurs_Service#7'!E11,1))))","v":"0"},null,{"$f":"IF(LEFT('Fiches_Utilisateurs_Service#7'!G11,2)=\"10\",\"10\",(IF('Fiches_Utilisateurs_Service#7'!G11=\"\",\"0\",LEFT('Fiches_Utilisateurs_Service#7'!G11,1))))","v":"0"},null,{"$f":"IF(LEFT('Fiches_Utilisateurs_Service#7'!I11,2)=\"10\",\"10\",(IF('Fiches_Utilisateurs_Service#7'!I11=\"\",\"0\",LEFT('Fiches_Utilisateurs_Service#7'!I11,1))))","v":"0"},null,{"$f":"IF(LEFT('Fiches_Utilisateurs_Service#7'!K11,2)=\"10\",\"10\",(IF('Fiches_Utilisateurs_Service#7'!K11=\"\",\"0\",LEFT('Fiches_Utilisateurs_Service#7'!K11,1))))","v":"0"},null,{"$f":"IF(LEFT('Fiches_Utilisateurs_Service#7'!M11,2)=\"10\",\"10\",(IF('Fiches_Utilisateurs_Service#7'!M11=\"\",\"0\",LEFT('Fiches_Utilisateurs_Service#7'!M11,1))))","v":"0"},null,{"$f":"IF(LEFT('Fiches_Utilisateurs_Service#7'!O11,2)=\"10\",\"10\",(IF('Fiches_Utilisateurs_Service#7'!O11=\"\",\"0\",LEFT('Fiches_Utilisateurs_Service#7'!O11,1))))","v":"0"},null,{"$f":"IF(LEFT('Fiches_Utilisateurs_Service#7'!Q11,2)=\"10\",\"10\",(IF('Fiches_Utilisateurs_Service#7'!Q11=\"\",\"0\",LEFT('Fiches_Utilisateurs_Service#7'!Q11,1))))","v":"0"},null,{"$f":"IF(LEFT('Fiches_Utilisateurs_Service#7'!S11,2)=\"10\",\"10\",(IF('Fiches_Utilisateurs_Service#7'!S11=\"\",\"0\",LEFT('Fiches_Utilisateurs_Service#7'!S11,1))))","v":"0"},null,{"$f":"IF(LEFT('Fiches_Utilisateurs_Service#7'!U11,2)=\"10\",\"10\",(IF('Fiches_Utilisateurs_Service#7'!U11=\"\",\"0\",LEFT('Fiches_Utilisateurs_Service#7'!U11,1))))","v":"0"},null,{"$f":"IF(LEFT('Fiches_Utilisateurs_Service#7'!W11,2)=\"10\",\"10\",(IF('Fiches_Utilisateurs_Service#7'!W11=\"\",\"0\",LEFT('Fiches_Utilisateurs_Service#7'!W11,1))))","v":"0"},null,{"$f":"IF(LEFT('Fiches_Utilisateurs_Service#7'!Y11,2)=\"10\",\"10\",(IF('Fiches_Utilisateurs_Service#7'!Y11=\"\",\"0\",LEFT('Fiches_Utilisateurs_Service#7'!Y11,1))))","v":"0"},null,{"$f":"IF(LEFT('Fiches_Utilisateurs_Service#7'!AA11,2)=\"10\",\"10\",(IF('Fiches_Utilisateurs_Service#7'!AA11=\"\",\"0\",LEFT('Fiches_Utilisateurs_Service#7'!AA11,1))))","v":"0"},null,{"$f":"IF(LEFT('Fiches_Utilisateurs_Service#7'!AC11,2)=\"10\",\"10\",(IF('Fiches_Utilisateurs_Service#7'!AC11=\"\",\"0\",LEFT('Fiches_Utilisateurs_Service#7'!AC11,1))))","v":"0"},null,{"$f":"IF(LEFT('Fiches_Utilisateurs_Service#7'!AE11,2)=\"10\",\"10\",(IF('Fiches_Utilisateurs_Service#7'!AE11=\"\",\"0\",LEFT('Fiches_Utilisateurs_Service#7'!AE11,1))))","v":"0"},null,{"$f":"IF(LEFT('Fiches_Utilisateurs_Service#7'!AG11,2)=\"10\",\"10\",(IF('Fiches_Utilisateurs_Service#7'!AG11=\"\",\"0\",LEFT('Fiches_Utilisateurs_Service#7'!AG11,1))))","v":"0"},null,{"$f":"IF(LEFT('Fiches_Utilisateurs_Service#7'!AI11,2)=\"10\",\"10\",(IF('Fiches_Utilisateurs_Service#7'!AI11=\"\",\"0\",LEFT('Fiches_Utilisateurs_Service#7'!AI11,1))))","v":"0"},null,{"$f":"IF(LEFT('Fiches_Utilisateurs_Service#7'!AK11,2)=\"10\",\"10\",(IF('Fiches_Utilisateurs_Service#7'!AK11=\"\",\"0\",LEFT('Fiches_Utilisateurs_Service#7'!AK11,1))))","v":"0"},null,{"$f":"IF(LEFT('Fiches_Utilisateurs_Service#7'!AM11,2)=\"10\",\"10\",(IF('Fiches_Utilisateurs_Service#7'!AM11=\"\",\"0\",LEFT('Fiches_Utilisateurs_Service#7'!AM11,1))))","v":"0"},null,{"$f":"IF(LEFT('Fiches_Utilisateurs_Service#7'!AO11,2)=\"10\",\"10\",(IF('Fiches_Utilisateurs_Service#7'!AO11=\"\",\"0\",LEFT('Fiches_Utilisateurs_Service#7'!AO11,1))))","v":"0"},null,{"$f":"IF(LEFT('Fiches_Utilisateurs_Service#7'!AQ11,2)=\"10\",\"10\",(IF('Fiches_Utilisateurs_Service#7'!AQ11=\"\",\"0\",LEFT('Fiches_Utilisateurs_Service#7'!AQ11,1))))","v":"0"},null,{"$f":"IF(LEFT('Fiches_Utilisateurs_Service#7'!AS11,2)=\"10\",\"10\",(IF('Fiches_Utilisateurs_Service#7'!AS11=\"\",\"0\",LEFT('Fiches_Utilisateurs_Service#7'!AS11,1))))","v":"0"},null,{"$f":"IF(LEFT('Fiches_Utilisateurs_Service#7'!AU11,2)=\"10\",\"10\",(IF('Fiches_Utilisateurs_Service#7'!AU11=\"\",\"0\",LEFT('Fiches_Utilisateurs_Service#7'!AU11,1))))","v":"0"},null,{"$f":"IF(LEFT('Fiches_Utilisateurs_Service#7'!AW11,2)=\"10\",\"10\",(IF('Fiches_Utilisateurs_Service#7'!AW11=\"\",\"0\",LEFT('Fiches_Utilisateurs_Service#7'!AW11,1))))","v":"0"},null,{"$f":"IF(LEFT('Fiches_Utilisateurs_Service#7'!AY11,2)=\"10\",\"10\",(IF('Fiches_Utilisateurs_Service#7'!AY11=\"\",\"0\",LEFT('Fiches_Utilisateurs_Service#7'!AY11,1))))","v":"0"},null,{"$f":"IF(LEFT('Fiches_Utilisateurs_Service#7'!BA11,2)=\"10\",\"10\",(IF('Fiches_Utilisateurs_Service#7'!BA11=\"\",\"0\",LEFT('Fiches_Utilisateurs_Service#7'!BA11,1))))","v":"0"},null,{"$f":"IF(LEFT('Fiches_Utilisateurs_Service#7'!BC11,2)=\"10\",\"10\",(IF('Fiches_Utilisateurs_Service#7'!BC11=\"\",\"0\",LEFT('Fiches_Utilisateurs_Service#7'!BC11,1))))","v":"0"},null,{"$f":"IF(LEFT('Fiches_Utilisateurs_Service#7'!BE11,2)=\"10\",\"10\",(IF('Fiches_Utilisateurs_Service#7'!BE11=\"\",\"0\",LEFT('Fiches_Utilisateurs_Service#7'!BE11,1))))","v":"0"},null,{"$f":"IF(LEFT('Fiches_Utilisateurs_Service#7'!BG11,2)=\"10\",\"10\",(IF('Fiches_Utilisateurs_Service#7'!BG11=\"\",\"0\",LEFT('Fiches_Utilisateurs_Service#7'!BG11,1))))","v":"0"},null,{"$f":"IF(LEFT('Fiches_Utilisateurs_Service#7'!BI11,2)=\"10\",\"10\",(IF('Fiches_Utilisateurs_Service#7'!BI11=\"\",\"0\",LEFT('Fiches_Utilisateurs_Service#7'!BI11,1))))","v":"0"},null,{"$f":"IF(LEFT('Fiches_Utilisateurs_Service#7'!BK11,2)=\"10\",\"10\",(IF('Fiches_Utilisateurs_Service#7'!BK11=\"\",\"0\",LEFT('Fiches_Utilisateurs_Service#7'!BK11,1))))","v":"0"},null,{"$f":"IF(LEFT('Fiches_Utilisateurs_Service#7'!BM11,2)=\"10\",\"10\",(IF('Fiches_Utilisateurs_Service#7'!BM11=\"\",\"0\",LEFT('Fiches_Utilisateurs_Service#7'!BM11,1))))","v":"0"},null,{"$f":"IF(LEFT('Fiches_Utilisateurs_Service#7'!BO11,2)=\"10\",\"10\",(IF('Fiches_Utilisateurs_Service#7'!BO11=\"\",\"0\",LEFT('Fiches_Utilisateurs_Service#7'!BO11,1))))","v":"0"},null,{"$f":"IF(LEFT('Fiches_Utilisateurs_Service#7'!BQ11,2)=\"10\",\"10\",(IF('Fiches_Utilisateurs_Service#7'!BQ11=\"\",\"0\",LEFT('Fiches_Utilisateurs_Service#7'!BQ11,1))))","v":"0"},null,{"$f":"IF(LEFT('Fiches_Utilisateurs_Service#7'!BS11,2)=\"10\",\"10\",(IF('Fiches_Utilisateurs_Service#7'!BS11=\"\",\"0\",LEFT('Fiches_Utilisateurs_Service#7'!BS11,1))))","v":"0"},null,{"$f":"IF(LEFT('Fiches_Utilisateurs_Service#7'!BU11,2)=\"10\",\"10\",(IF('Fiches_Utilisateurs_Service#7'!BU11=\"\",\"0\",LEFT('Fiches_Utilisateurs_Service#7'!BU11,1))))","v":"0"},null,{"$f":"IF(LEFT('Fiches_Utilisateurs_Service#7'!BW11,2)=\"10\",\"10\",(IF('Fiches_Utilisateurs_Service#7'!BW11=\"\",\"0\",LEFT('Fiches_Utilisateurs_Service#7'!BW11,1))))","v":"0"},null,{"$f":"IF(LEFT('Fiches_Utilisateurs_Service#7'!BY11,2)=\"10\",\"10\",(IF('Fiches_Utilisateurs_Service#7'!BY11=\"\",\"0\",LEFT('Fiches_Utilisateurs_Service#7'!BY11,1))))","v":"0"},null,{"$f":"IF(LEFT('Fiches_Utilisateurs_Service#7'!CA11,2)=\"10\",\"10\",(IF('Fiches_Utilisateurs_Service#7'!CA11=\"\",\"0\",LEFT('Fiches_Utilisateurs_Service#7'!CA11,1))))","v":"0"},null,{"$f":"IF(LEFT('Fiches_Utilisateurs_Service#7'!CC11,2)=\"10\",\"10\",(IF('Fiches_Utilisateurs_Service#7'!CC11=\"\",\"0\",LEFT('Fiches_Utilisateurs_Service#7'!CC11,1))))","v":"0"}]
[]
[]
[null,"glob tots"]
[null,null,{"$f":"IF('Fiches_Utilisateurs_Service#7'!C15=1,1,0)","v":0},null,{"$f":"IF('Fiches_Utilisateurs_Service#7'!E15=1,1,0)","v":0},null,{"$f":"IF('Fiches_Utilisateurs_Service#7'!G15=1,1,0)","v":0},null,{"$f":"IF('Fiches_Utilisateurs_Service#7'!I15=1,1,0)","v":0},null,{"$f":"IF('Fiches_Utilisateurs_Service#7'!K15=1,1,0)","v":0},null,{"$f":"IF('Fiches_Utilisateurs_Service#7'!M15=1,1,0)","v":0},null,{"$f":"IF('Fiches_Utilisateurs_Service#7'!O15=1,1,0)","v":0},null,{"$f":"IF('Fiches_Utilisateurs_Service#7'!Q15=1,1,0)","v":0},null,{"$f":"IF('Fiches_Utilisateurs_Service#7'!S15=1,1,0)","v":0},null,{"$f":"IF('Fiches_Utilisateurs_Service#7'!U15=1,1,0)","v":0},null,{"$f":"IF('Fiches_Utilisateurs_Service#7'!W15=1,1,0)","v":0},null,{"$f":"IF('Fiches_Utilisateurs_Service#7'!Y15=1,1,0)","v":0},null,{"$f":"IF('Fiches_Utilisateurs_Service#7'!AA15=1,1,0)","v":0},null,{"$f":"IF('Fiches_Utilisateurs_Service#7'!AC15=1,1,0)","v":0},null,{"$f":"IF('Fiches_Utilisateurs_Service#7'!AE15=1,1,0)","v":0},null,{"$f":"IF('Fiches_Utilisateurs_Service#7'!AG15=1,1,0)","v":0},null,{"$f":"IF('Fiches_Utilisateurs_Service#7'!AI15=1,1,0)","v":0},null,{"$f":"IF('Fiches_Utilisateurs_Service#7'!AK15=1,1,0)","v":0},null,{"$f":"IF('Fiches_Utilisateurs_Service#7'!AM15=1,1,0)","v":0},null,{"$f":"IF('Fiches_Utilisateurs_Service#7'!AO15=1,1,0)","v":0},null,{"$f":"IF('Fiches_Utilisateurs_Service#7'!AQ15=1,1,0)","v":0},null,{"$f":"IF('Fiches_Utilisateurs_Service#7'!AS15=1,1,0)","v":0},null,{"$f":"IF('Fiches_Utilisateurs_Service#7'!AU15=1,1,0)","v":0},null,{"$f":"IF('Fiches_Utilisateurs_Service#7'!AW15=1,1,0)","v":0},null,{"$f":"IF('Fiches_Utilisateurs_Service#7'!AY15=1,1,0)","v":0},null,{"$f":"IF('Fiches_Utilisateurs_Service#7'!BA15=1,1,0)","v":0},null,{"$f":"IF('Fiches_Utilisateurs_Service#7'!BC15=1,1,0)","v":0},null,{"$f":"IF('Fiches_Utilisateurs_Service#7'!BE15=1,1,0)","v":0},null,{"$f":"IF('Fiches_Utilisateurs_Service#7'!BG15=1,1,0)","v":0},null,{"$f":"IF('Fiches_Utilisateurs_Service#7'!BI15=1,1,0)","v":0},null,{"$f":"IF('Fiches_Utilisateurs_Service#7'!BK15=1,1,0)","v":0},null,{"$f":"IF('Fiches_Utilisateurs_Service#7'!BM15=1,1,0)","v":0},null,{"$f":"IF('Fiches_Utilisateurs_Service#7'!BO15=1,1,0)","v":0},null,{"$f":"IF('Fiches_Utilisateurs_Service#7'!BQ15=1,1,0)","v":0},null,{"$f":"IF('Fiches_Utilisateurs_Service#7'!BS15=1,1,0)","v":0},null,{"$f":"IF('Fiches_Utilisateurs_Service#7'!BU15=1,1,0)","v":0},null,{"$f":"IF('Fiches_Utilisateurs_Service#7'!BW15=1,1,0)","v":0},null,{"$f":"IF('Fiches_Utilisateurs_Service#7'!BY15=1,1,0)","v":0},null,{"$f":"IF('Fiches_Utilisateurs_Service#7'!CA15=1,1,0)","v":0},null,{"$f":"IF('Fiches_Utilisateurs_Service#7'!CC15=1,1,0)","v":0}]
[]
[null,null,{"$f":"IF('Fiches_Utilisateurs_Service#7'!C17=1,1,0)","v":0},null,{"$f":"IF('Fiches_Utilisateurs_Service#7'!E17=1,1,0)","v":0},null,{"$f":"IF('Fiches_Utilisateurs_Service#7'!G17=1,1,0)","v":0},null,{"$f":"IF('Fiches_Utilisateurs_Service#7'!I17=1,1,0)","v":0},null,{"$f":"IF('Fiches_Utilisateurs_Service#7'!K17=1,1,0)","v":0},null,{"$f":"IF('Fiches_Utilisateurs_Service#7'!M17=1,1,0)","v":0},null,{"$f":"IF('Fiches_Utilisateurs_Service#7'!O17=1,1,0)","v":0},null,{"$f":"IF('Fiches_Utilisateurs_Service#7'!Q17=1,1,0)","v":0},null,{"$f":"IF('Fiches_Utilisateurs_Service#7'!S17=1,1,0)","v":0},null,{"$f":"IF('Fiches_Utilisateurs_Service#7'!U17=1,1,0)","v":0},null,{"$f":"IF('Fiches_Utilisateurs_Service#7'!W17=1,1,0)","v":0},null,{"$f":"IF('Fiches_Utilisateurs_Service#7'!Y17=1,1,0)","v":0},null,{"$f":"IF('Fiches_Utilisateurs_Service#7'!AA17=1,1,0)","v":0},null,{"$f":"IF('Fiches_Utilisateurs_Service#7'!AC17=1,1,0)","v":0},null,{"$f":"IF('Fiches_Utilisateurs_Service#7'!AE17=1,1,0)","v":0},null,{"$f":"IF('Fiches_Utilisateurs_Service#7'!AG17=1,1,0)","v":0},null,{"$f":"IF('Fiches_Utilisateurs_Service#7'!AI17=1,1,0)","v":0},null,{"$f":"IF('Fiches_Utilisateurs_Service#7'!AK17=1,1,0)","v":0},null,{"$f":"IF('Fiches_Utilisateurs_Service#7'!AM17=1,1,0)","v":0},null,{"$f":"IF('Fiches_Utilisateurs_Service#7'!AO17=1,1,0)","v":0},null,{"$f":"IF('Fiches_Utilisateurs_Service#7'!AQ17=1,1,0)","v":0},null,{"$f":"IF('Fiches_Utilisateurs_Service#7'!AS17=1,1,0)","v":0},null,{"$f":"IF('Fiches_Utilisateurs_Service#7'!AU17=1,1,0)","v":0},null,{"$f":"IF('Fiches_Utilisateurs_Service#7'!AW17=1,1,0)","v":0},null,{"$f":"IF('Fiches_Utilisateurs_Service#7'!AY17=1,1,0)","v":0},null,{"$f":"IF('Fiches_Utilisateurs_Service#7'!BA17=1,1,0)","v":0},null,{"$f":"IF('Fiches_Utilisateurs_Service#7'!BC17=1,1,0)","v":0},null,{"$f":"IF('Fiches_Utilisateurs_Service#7'!BE17=1,1,0)","v":0},null,{"$f":"IF('Fiches_Utilisateurs_Service#7'!BG17=1,1,0)","v":0},null,{"$f":"IF('Fiches_Utilisateurs_Service#7'!BI17=1,1,0)","v":0},null,{"$f":"IF('Fiches_Utilisateurs_Service#7'!BK17=1,1,0)","v":0},null,{"$f":"IF('Fiches_Utilisateurs_Service#7'!BM17=1,1,0)","v":0},null,{"$f":"IF('Fiches_Utilisateurs_Service#7'!BO17=1,1,0)","v":0},null,{"$f":"IF('Fiches_Utilisateurs_Service#7'!BQ17=1,1,0)","v":0},null,{"$f":"IF('Fiches_Utilisateurs_Service#7'!BS17=1,1,0)","v":0},null,{"$f":"IF('Fiches_Utilisateurs_Service#7'!BU17=1,1,0)","v":0},null,{"$f":"IF('Fiches_Utilisateurs_Service#7'!BW17=1,1,0)","v":0},null,{"$f":"IF('Fiches_Utilisateurs_Service#7'!BY17=1,1,0)","v":0},null,{"$f":"IF('Fiches_Utilisateurs_Service#7'!CA17=1,1,0)","v":0},null,{"$f":"IF('Fiches_Utilisateurs_Service#7'!CC17=1,1,0)","v":0}]
[]
[null,null,{"$f":"IF('Fiches_Utilisateurs_Service#7'!C19=1,1,0)","v":0},null,{"$f":"IF('Fiches_Utilisateurs_Service#7'!E19=1,1,0)","v":0},null,{"$f":"IF('Fiches_Utilisateurs_Service#7'!G19=1,1,0)","v":0},null,{"$f":"IF('Fiches_Utilisateurs_Service#7'!I19=1,1,0)","v":0},null,{"$f":"IF('Fiches_Utilisateurs_Service#7'!K19=1,1,0)","v":0},null,{"$f":"IF('Fiches_Utilisateurs_Service#7'!M19=1,1,0)","v":0},null,{"$f":"IF('Fiches_Utilisateurs_Service#7'!O19=1,1,0)","v":0},null,{"$f":"IF('Fiches_Utilisateurs_Service#7'!Q19=1,1,0)","v":0},null,{"$f":"IF('Fiches_Utilisateurs_Service#7'!S19=1,1,0)","v":0},null,{"$f":"IF('Fiches_Utilisateurs_Service#7'!U19=1,1,0)","v":0},null,{"$f":"IF('Fiches_Utilisateurs_Service#7'!W19=1,1,0)","v":0},null,{"$f":"IF('Fiches_Utilisateurs_Service#7'!Y19=1,1,0)","v":0},null,{"$f":"IF('Fiches_Utilisateurs_Service#7'!AA19=1,1,0)","v":0},null,{"$f":"IF('Fiches_Utilisateurs_Service#7'!AC19=1,1,0)","v":0},null,{"$f":"IF('Fiches_Utilisateurs_Service#7'!AE19=1,1,0)","v":0},null,{"$f":"IF('Fiches_Utilisateurs_Service#7'!AG19=1,1,0)","v":0},null,{"$f":"IF('Fiches_Utilisateurs_Service#7'!AI19=1,1,0)","v":0},null,{"$f":"IF('Fiches_Utilisateurs_Service#7'!AK19=1,1,0)","v":0},null,{"$f":"IF('Fiches_Utilisateurs_Service#7'!AM19=1,1,0)","v":0},null,{"$f":"IF('Fiches_Utilisateurs_Service#7'!AO19=1,1,0)","v":0},null,{"$f":"IF('Fiches_Utilisateurs_Service#7'!AQ19=1,1,0)","v":0},null,{"$f":"IF('Fiches_Utilisateurs_Service#7'!AS19=1,1,0)","v":0},null,{"$f":"IF('Fiches_Utilisateurs_Service#7'!AU19=1,1,0)","v":0},null,{"$f":"IF('Fiches_Utilisateurs_Service#7'!AW19=1,1,0)","v":0},null,{"$f":"IF('Fiches_Utilisateurs_Service#7'!AY19=1,1,0)","v":0},null,{"$f":"IF('Fiches_Utilisateurs_Service#7'!BA19=1,1,0)","v":0},null,{"$f":"IF('Fiches_Utilisateurs_Service#7'!BC19=1,1,0)","v":0},null,{"$f":"IF('Fiches_Utilisateurs_Service#7'!BE19=1,1,0)","v":0},null,{"$f":"IF('Fiches_Utilisateurs_Service#7'!BG19=1,1,0)","v":0},null,{"$f":"IF('Fiches_Utilisateurs_Service#7'!BI19=1,1,0)","v":0},null,{"$f":"IF('Fiches_Utilisateurs_Service#7'!BK19=1,1,0)","v":0},null,{"$f":"IF('Fiches_Utilisateurs_Service#7'!BM19=1,1,0)","v":0},null,{"$f":"IF('Fiches_Utilisateurs_Service#7'!BO19=1,1,0)","v":0},null,{"$f":"IF('Fiches_Utilisateurs_Service#7'!BQ19=1,1,0)","v":0},null,{"$f":"IF('Fiches_Utilisateurs_Service#7'!BS19=1,1,0)","v":0},null,{"$f":"IF('Fiches_Utilisateurs_Service#7'!BU19=1,1,0)","v":0},null,{"$f":"IF('Fiches_Utilisateurs_Service#7'!BW19=1,1,0)","v":0},null,{"$f":"IF('Fiches_Utilisateurs_Service#7'!BY19=1,1,0)","v":0},null,{"$f":"IF('Fiches_Utilisateurs_Service#7'!CA19=1,1,0)","v":0},null,{"$f":"IF('Fiches_Utilisateurs_Service#7'!CC19=1,1,0)","v":0}]
[]
[null,null,{"$f":"IF('Fiches_Utilisateurs_Service#7'!C21=1,1,0)","v":0},null,{"$f":"IF('Fiches_Utilisateurs_Service#7'!E21=1,1,0)","v":0},null,{"$f":"IF('Fiches_Utilisateurs_Service#7'!G21=1,1,0)","v":0},null,{"$f":"IF('Fiches_Utilisateurs_Service#7'!I21=1,1,0)","v":0},null,{"$f":"IF('Fiches_Utilisateurs_Service#7'!K21=1,1,0)","v":0},null,{"$f":"IF('Fiches_Utilisateurs_Service#7'!M21=1,1,0)","v":0},null,{"$f":"IF('Fiches_Utilisateurs_Service#7'!O21=1,1,0)","v":0},null,{"$f":"IF('Fiches_Utilisateurs_Service#7'!Q21=1,1,0)","v":0},null,{"$f":"IF('Fiches_Utilisateurs_Service#7'!S21=1,1,0)","v":0},null,{"$f":"IF('Fiches_Utilisateurs_Service#7'!U21=1,1,0)","v":0},null,{"$f":"IF('Fiches_Utilisateurs_Service#7'!W21=1,1,0)","v":0},null,{"$f":"IF('Fiches_Utilisateurs_Service#7'!Y21=1,1,0)","v":0},null,{"$f":"IF('Fiches_Utilisateurs_Service#7'!AA21=1,1,0)","v":0},null,{"$f":"IF('Fiches_Utilisateurs_Service#7'!AC21=1,1,0)","v":0},null,{"$f":"IF('Fiches_Utilisateurs_Service#7'!AE21=1,1,0)","v":0},null,{"$f":"IF('Fiches_Utilisateurs_Service#7'!AG21=1,1,0)","v":0},null,{"$f":"IF('Fiches_Utilisateurs_Service#7'!AI21=1,1,0)","v":0},null,{"$f":"IF('Fiches_Utilisateurs_Service#7'!AK21=1,1,0)","v":0},null,{"$f":"IF('Fiches_Utilisateurs_Service#7'!AM21=1,1,0)","v":0},null,{"$f":"IF('Fiches_Utilisateurs_Service#7'!AO21=1,1,0)","v":0},null,{"$f":"IF('Fiches_Utilisateurs_Service#7'!AQ21=1,1,0)","v":0},null,{"$f":"IF('Fiches_Utilisateurs_Service#7'!AS21=1,1,0)","v":0},null,{"$f":"IF('Fiches_Utilisateurs_Service#7'!AU21=1,1,0)","v":0},null,{"$f":"IF('Fiches_Utilisateurs_Service#7'!AW21=1,1,0)","v":0},null,{"$f":"IF('Fiches_Utilisateurs_Service#7'!AY21=1,1,0)","v":0},null,{"$f":"IF('Fiches_Utilisateurs_Service#7'!BA21=1,1,0)","v":0},null,{"$f":"IF('Fiches_Utilisateurs_Service#7'!BC21=1,1,0)","v":0},null,{"$f":"IF('Fiches_Utilisateurs_Service#7'!BE21=1,1,0)","v":0},null,{"$f":"IF('Fiches_Utilisateurs_Service#7'!BG21=1,1,0)","v":0},null,{"$f":"IF('Fiches_Utilisateurs_Service#7'!BI21=1,1,0)","v":0},null,{"$f":"IF('Fiches_Utilisateurs_Service#7'!BK21=1,1,0)","v":0},null,{"$f":"IF('Fiches_Utilisateurs_Service#7'!BM21=1,1,0)","v":0},null,{"$f":"IF('Fiches_Utilisateurs_Service#7'!BO21=1,1,0)","v":0},null,{"$f":"IF('Fiches_Utilisateurs_Service#7'!BQ21=1,1,0)","v":0},null,{"$f":"IF('Fiches_Utilisateurs_Service#7'!BS21=1,1,0)","v":0},null,{"$f":"IF('Fiches_Utilisateurs_Service#7'!BU21=1,1,0)","v":0},null,{"$f":"IF('Fiches_Utilisateurs_Service#7'!BW21=1,1,0)","v":0},null,{"$f":"IF('Fiches_Utilisateurs_Service#7'!BY21=1,1,0)","v":0},null,{"$f":"IF('Fiches_Utilisateurs_Service#7'!CA21=1,1,0)","v":0},null,{"$f":"IF('Fiches_Utilisateurs_Service#7'!CC21=1,1,0)","v":0}]
[]
[null,null,{"$f":"IF('Fiches_Utilisateurs_Service#7'!C23=1,1,0)","v":0},null,{"$f":"IF('Fiches_Utilisateurs_Service#7'!E23=1,1,0)","v":0},null,{"$f":"IF('Fiches_Utilisateurs_Service#7'!G23=1,1,0)","v":0},null,{"$f":"IF('Fiches_Utilisateurs_Service#7'!I23=1,1,0)","v":0},null,{"$f":"IF('Fiches_Utilisateurs_Service#7'!K23=1,1,0)","v":0},null,{"$f":"IF('Fiches_Utilisateurs_Service#7'!M23=1,1,0)","v":0},null,{"$f":"IF('Fiches_Utilisateurs_Service#7'!O23=1,1,0)","v":0},null,{"$f":"IF('Fiches_Utilisateurs_Service#7'!Q23=1,1,0)","v":0},null,{"$f":"IF('Fiches_Utilisateurs_Service#7'!S23=1,1,0)","v":0},null,{"$f":"IF('Fiches_Utilisateurs_Service#7'!U23=1,1,0)","v":0},null,{"$f":"IF('Fiches_Utilisateurs_Service#7'!W23=1,1,0)","v":0},null,{"$f":"IF('Fiches_Utilisateurs_Service#7'!Y23=1,1,0)","v":0},null,{"$f":"IF('Fiches_Utilisateurs_Service#7'!AA23=1,1,0)","v":0},null,{"$f":"IF('Fiches_Utilisateurs_Service#7'!AC23=1,1,0)","v":0},null,{"$f":"IF('Fiches_Utilisateurs_Service#7'!AE23=1,1,0)","v":0},null,{"$f":"IF('Fiches_Utilisateurs_Service#7'!AG23=1,1,0)","v":0},null,{"$f":"IF('Fiches_Utilisateurs_Service#7'!AI23=1,1,0)","v":0},null,{"$f":"IF('Fiches_Utilisateurs_Service#7'!AK23=1,1,0)","v":0},null,{"$f":"IF('Fiches_Utilisateurs_Service#7'!AM23=1,1,0)","v":0},null,{"$f":"IF('Fiches_Utilisateurs_Service#7'!AO23=1,1,0)","v":0},null,{"$f":"IF('Fiches_Utilisateurs_Service#7'!AQ23=1,1,0)","v":0},null,{"$f":"IF('Fiches_Utilisateurs_Service#7'!AS23=1,1,0)","v":0},null,{"$f":"IF('Fiches_Utilisateurs_Service#7'!AU23=1,1,0)","v":0},null,{"$f":"IF('Fiches_Utilisateurs_Service#7'!AW23=1,1,0)","v":0},null,{"$f":"IF('Fiches_Utilisateurs_Service#7'!AY23=1,1,0)","v":0},null,{"$f":"IF('Fiches_Utilisateurs_Service#7'!BA23=1,1,0)","v":0},null,{"$f":"IF('Fiches_Utilisateurs_Service#7'!BC23=1,1,0)","v":0},null,{"$f":"IF('Fiches_Utilisateurs_Service#7'!BE23=1,1,0)","v":0},null,{"$f":"IF('Fiches_Utilisateurs_Service#7'!BG23=1,1,0)","v":0},null,{"$f":"IF('Fiches_Utilisateurs_Service#7'!BI23=1,1,0)","v":0},null,{"$f":"IF('Fiches_Utilisateurs_Service#7'!BK23=1,1,0)","v":0},null,{"$f":"IF('Fiches_Utilisateurs_Service#7'!BM23=1,1,0)","v":0},null,{"$f":"IF('Fiches_Utilisateurs_Service#7'!BO23=1,1,0)","v":0},null,{"$f":"IF('Fiches_Utilisateurs_Service#7'!BQ23=1,1,0)","v":0},null,{"$f":"IF('Fiches_Utilisateurs_Service#7'!BS23=1,1,0)","v":0},null,{"$f":"IF('Fiches_Utilisateurs_Service#7'!BU23=1,1,0)","v":0},null,{"$f":"IF('Fiches_Utilisateurs_Service#7'!BW23=1,1,0)","v":0},null,{"$f":"IF('Fiches_Utilisateurs_Service#7'!BY23=1,1,0)","v":0},null,{"$f":"IF('Fiches_Utilisateurs_Service#7'!CA23=1,1,0)","v":0},null,{"$f":"IF('Fiches_Utilisateurs_Service#7'!CC23=1,1,0)","v":0}]
[]
[null,null,{"$f":"IF('Fiches_Utilisateurs_Service#7'!C25=1,1,0)","v":0},null,{"$f":"IF('Fiches_Utilisateurs_Service#7'!E25=1,1,0)","v":0},null,{"$f":"IF('Fiches_Utilisateurs_Service#7'!G25=1,1,0)","v":0},null,{"$f":"IF('Fiches_Utilisateurs_Service#7'!I25=1,1,0)","v":0},null,{"$f":"IF('Fiches_Utilisateurs_Service#7'!K25=1,1,0)","v":0},null,{"$f":"IF('Fiches_Utilisateurs_Service#7'!M25=1,1,0)","v":0},null,{"$f":"IF('Fiches_Utilisateurs_Service#7'!O25=1,1,0)","v":0},null,{"$f":"IF('Fiches_Utilisateurs_Service#7'!Q25=1,1,0)","v":0},null,{"$f":"IF('Fiches_Utilisateurs_Service#7'!S25=1,1,0)","v":0},null,{"$f":"IF('Fiches_Utilisateurs_Service#7'!U25=1,1,0)","v":0},null,{"$f":"IF('Fiches_Utilisateurs_Service#7'!W25=1,1,0)","v":0},null,{"$f":"IF('Fiches_Utilisateurs_Service#7'!Y25=1,1,0)","v":0},null,{"$f":"IF('Fiches_Utilisateurs_Service#7'!AA25=1,1,0)","v":0},null,{"$f":"IF('Fiches_Utilisateurs_Service#7'!AC25=1,1,0)","v":0},null,{"$f":"IF('Fiches_Utilisateurs_Service#7'!AE25=1,1,0)","v":0},null,{"$f":"IF('Fiches_Utilisateurs_Service#7'!AG25=1,1,0)","v":0},null,{"$f":"IF('Fiches_Utilisateurs_Service#7'!AI25=1,1,0)","v":0},null,{"$f":"IF('Fiches_Utilisateurs_Service#7'!AK25=1,1,0)","v":0},null,{"$f":"IF('Fiches_Utilisateurs_Service#7'!AM25=1,1,0)","v":0},null,{"$f":"IF('Fiches_Utilisateurs_Service#7'!AO25=1,1,0)","v":0},null,{"$f":"IF('Fiches_Utilisateurs_Service#7'!AQ25=1,1,0)","v":0},null,{"$f":"IF('Fiches_Utilisateurs_Service#7'!AS25=1,1,0)","v":0},null,{"$f":"IF('Fiches_Utilisateurs_Service#7'!AU25=1,1,0)","v":0},null,{"$f":"IF('Fiches_Utilisateurs_Service#7'!AW25=1,1,0)","v":0},null,{"$f":"IF('Fiches_Utilisateurs_Service#7'!AY25=1,1,0)","v":0},null,{"$f":"IF('Fiches_Utilisateurs_Service#7'!BA25=1,1,0)","v":0},null,{"$f":"IF('Fiches_Utilisateurs_Service#7'!BC25=1,1,0)","v":0},null,{"$f":"IF('Fiches_Utilisateurs_Service#7'!BE25=1,1,0)","v":0},null,{"$f":"IF('Fiches_Utilisateurs_Service#7'!BG25=1,1,0)","v":0},null,{"$f":"IF('Fiches_Utilisateurs_Service#7'!BI25=1,1,0)","v":0},null,{"$f":"IF('Fiches_Utilisateurs_Service#7'!BK25=1,1,0)","v":0},null,{"$f":"IF('Fiches_Utilisateurs_Service#7'!BM25=1,1,0)","v":0},null,{"$f":"IF('Fiches_Utilisateurs_Service#7'!BO25=1,1,0)","v":0},null,{"$f":"IF('Fiches_Utilisateurs_Service#7'!BQ25=1,1,0)","v":0},null,{"$f":"IF('Fiches_Utilisateurs_Service#7'!BS25=1,1,0)","v":0},null,{"$f":"IF('Fiches_Utilisateurs_Service#7'!BU25=1,1,0)","v":0},null,{"$f":"IF('Fiches_Utilisateurs_Service#7'!BW25=1,1,0)","v":0},null,{"$f":"IF('Fiches_Utilisateurs_Service#7'!BY25=1,1,0)","v":0},null,{"$f":"IF('Fiches_Utilisateurs_Service#7'!CA25=1,1,0)","v":0},null,{"$f":"IF('Fiches_Utilisateurs_Service#7'!CC25=1,1,0)","v":0}]
[]
[null,null,{"$f":"IF('Fiches_Utilisateurs_Service#7'!C27=1,1,0)","v":0},null,{"$f":"IF('Fiches_Utilisateurs_Service#7'!E27=1,1,0)","v":0},null,{"$f":"IF('Fiches_Utilisateurs_Service#7'!G27=1,1,0)","v":0},null,{"$f":"IF('Fiches_Utilisateurs_Service#7'!I27=1,1,0)","v":0},null,{"$f":"IF('Fiches_Utilisateurs_Service#7'!K27=1,1,0)","v":0},null,{"$f":"IF('Fiches_Utilisateurs_Service#7'!M27=1,1,0)","v":0},null,{"$f":"IF('Fiches_Utilisateurs_Service#7'!O27=1,1,0)","v":0},null,{"$f":"IF('Fiches_Utilisateurs_Service#7'!Q27=1,1,0)","v":0},null,{"$f":"IF('Fiches_Utilisateurs_Service#7'!S27=1,1,0)","v":0},null,{"$f":"IF('Fiches_Utilisateurs_Service#7'!U27=1,1,0)","v":0},null,{"$f":"IF('Fiches_Utilisateurs_Service#7'!W27=1,1,0)","v":0},null,{"$f":"IF('Fiches_Utilisateurs_Service#7'!Y27=1,1,0)","v":0},null,{"$f":"IF('Fiches_Utilisateurs_Service#7'!AA27=1,1,0)","v":0},null,{"$f":"IF('Fiches_Utilisateurs_Service#7'!AC27=1,1,0)","v":0},null,{"$f":"IF('Fiches_Utilisateurs_Service#7'!AE27=1,1,0)","v":0},null,{"$f":"IF('Fiches_Utilisateurs_Service#7'!AG27=1,1,0)","v":0},null,{"$f":"IF('Fiches_Utilisateurs_Service#7'!AI27=1,1,0)","v":0},null,{"$f":"IF('Fiches_Utilisateurs_Service#7'!AK27=1,1,0)","v":0},null,{"$f":"IF('Fiches_Utilisateurs_Service#7'!AM27=1,1,0)","v":0},null,{"$f":"IF('Fiches_Utilisateurs_Service#7'!AO27=1,1,0)","v":0},null,{"$f":"IF('Fiches_Utilisateurs_Service#7'!AQ27=1,1,0)","v":0},null,{"$f":"IF('Fiches_Utilisateurs_Service#7'!AS27=1,1,0)","v":0},null,{"$f":"IF('Fiches_Utilisateurs_Service#7'!AU27=1,1,0)","v":0},null,{"$f":"IF('Fiches_Utilisateurs_Service#7'!AW27=1,1,0)","v":0},null,{"$f":"IF('Fiches_Utilisateurs_Service#7'!AY27=1,1,0)","v":0},null,{"$f":"IF('Fiches_Utilisateurs_Service#7'!BA27=1,1,0)","v":0},null,{"$f":"IF('Fiches_Utilisateurs_Service#7'!BC27=1,1,0)","v":0},null,{"$f":"IF('Fiches_Utilisateurs_Service#7'!BE27=1,1,0)","v":0},null,{"$f":"IF('Fiches_Utilisateurs_Service#7'!BG27=1,1,0)","v":0},null,{"$f":"IF('Fiches_Utilisateurs_Service#7'!BI27=1,1,0)","v":0},null,{"$f":"IF('Fiches_Utilisateurs_Service#7'!BK27=1,1,0)","v":0},null,{"$f":"IF('Fiches_Utilisateurs_Service#7'!BM27=1,1,0)","v":0},null,{"$f":"IF('Fiches_Utilisateurs_Service#7'!BO27=1,1,0)","v":0},null,{"$f":"IF('Fiches_Utilisateurs_Service#7'!BQ27=1,1,0)","v":0},null,{"$f":"IF('Fiches_Utilisateurs_Service#7'!BS27=1,1,0)","v":0},null,{"$f":"IF('Fiches_Utilisateurs_Service#7'!BU27=1,1,0)","v":0},null,{"$f":"IF('Fiches_Utilisateurs_Service#7'!BW27=1,1,0)","v":0},null,{"$f":"IF('Fiches_Utilisateurs_Service#7'!BY27=1,1,0)","v":0},null,{"$f":"IF('Fiches_Utilisateurs_Service#7'!CA27=1,1,0)","v":0},null,{"$f":"IF('Fiches_Utilisateurs_Service#7'!CC27=1,1,0)","v":0}]
[]
[null,null,{"$f":"IF('Fiches_Utilisateurs_Service#7'!C29=1,1,0)","v":0},null,{"$f":"IF('Fiches_Utilisateurs_Service#7'!E29=1,1,0)","v":0},null,{"$f":"IF('Fiches_Utilisateurs_Service#7'!G29=1,1,0)","v":0},null,{"$f":"IF('Fiches_Utilisateurs_Service#7'!I29=1,1,0)","v":0},null,{"$f":"IF('Fiches_Utilisateurs_Service#7'!K29=1,1,0)","v":0},null,{"$f":"IF('Fiches_Utilisateurs_Service#7'!M29=1,1,0)","v":0},null,{"$f":"IF('Fiches_Utilisateurs_Service#7'!O29=1,1,0)","v":0},null,{"$f":"IF('Fiches_Utilisateurs_Service#7'!Q29=1,1,0)","v":0},null,{"$f":"IF('Fiches_Utilisateurs_Service#7'!S29=1,1,0)","v":0},null,{"$f":"IF('Fiches_Utilisateurs_Service#7'!U29=1,1,0)","v":0},null,{"$f":"IF('Fiches_Utilisateurs_Service#7'!W29=1,1,0)","v":0},null,{"$f":"IF('Fiches_Utilisateurs_Service#7'!Y29=1,1,0)","v":0},null,{"$f":"IF('Fiches_Utilisateurs_Service#7'!AA29=1,1,0)","v":0},null,{"$f":"IF('Fiches_Utilisateurs_Service#7'!AC29=1,1,0)","v":0},null,{"$f":"IF('Fiches_Utilisateurs_Service#7'!AE29=1,1,0)","v":0},null,{"$f":"IF('Fiches_Utilisateurs_Service#7'!AG29=1,1,0)","v":0},null,{"$f":"IF('Fiches_Utilisateurs_Service#7'!AI29=1,1,0)","v":0},null,{"$f":"IF('Fiches_Utilisateurs_Service#7'!AK29=1,1,0)","v":0},null,{"$f":"IF('Fiches_Utilisateurs_Service#7'!AM29=1,1,0)","v":0},null,{"$f":"IF('Fiches_Utilisateurs_Service#7'!AO29=1,1,0)","v":0},null,{"$f":"IF('Fiches_Utilisateurs_Service#7'!AQ29=1,1,0)","v":0},null,{"$f":"IF('Fiches_Utilisateurs_Service#7'!AS29=1,1,0)","v":0},null,{"$f":"IF('Fiches_Utilisateurs_Service#7'!AU29=1,1,0)","v":0},null,{"$f":"IF('Fiches_Utilisateurs_Service#7'!AW29=1,1,0)","v":0},null,{"$f":"IF('Fiches_Utilisateurs_Service#7'!AY29=1,1,0)","v":0},null,{"$f":"IF('Fiches_Utilisateurs_Service#7'!BA29=1,1,0)","v":0},null,{"$f":"IF('Fiches_Utilisateurs_Service#7'!BC29=1,1,0)","v":0},null,{"$f":"IF('Fiches_Utilisateurs_Service#7'!BE29=1,1,0)","v":0},null,{"$f":"IF('Fiches_Utilisateurs_Service#7'!BG29=1,1,0)","v":0},null,{"$f":"IF('Fiches_Utilisateurs_Service#7'!BI29=1,1,0)","v":0},null,{"$f":"IF('Fiches_Utilisateurs_Service#7'!BK29=1,1,0)","v":0},null,{"$f":"IF('Fiches_Utilisateurs_Service#7'!BM29=1,1,0)","v":0},null,{"$f":"IF('Fiches_Utilisateurs_Service#7'!BO29=1,1,0)","v":0},null,{"$f":"IF('Fiches_Utilisateurs_Service#7'!BQ29=1,1,0)","v":0},null,{"$f":"IF('Fiches_Utilisateurs_Service#7'!BS29=1,1,0)","v":0},null,{"$f":"IF('Fiches_Utilisateurs_Service#7'!BU29=1,1,0)","v":0},null,{"$f":"IF('Fiches_Utilisateurs_Service#7'!BW29=1,1,0)","v":0},null,{"$f":"IF('Fiches_Utilisateurs_Service#7'!BY29=1,1,0)","v":0},null,{"$f":"IF('Fiches_Utilisateurs_Service#7'!CA29=1,1,0)","v":0},null,{"$f":"IF('Fiches_Utilisateurs_Service#7'!CC29=1,1,0)","v":0}]
[]
[null,null,{"$f":"IF('Fiches_Utilisateurs_Service#7'!C31=1,1,0)","v":0},null,{"$f":"IF('Fiches_Utilisateurs_Service#7'!E31=1,1,0)","v":0},null,{"$f":"IF('Fiches_Utilisateurs_Service#7'!G31=1,1,0)","v":0},null,{"$f":"IF('Fiches_Utilisateurs_Service#7'!I31=1,1,0)","v":0},null,{"$f":"IF('Fiches_Utilisateurs_Service#7'!K31=1,1,0)","v":0},null,{"$f":"IF('Fiches_Utilisateurs_Service#7'!M31=1,1,0)","v":0},null,{"$f":"IF('Fiches_Utilisateurs_Service#7'!O31=1,1,0)","v":0},null,{"$f":"IF('Fiches_Utilisateurs_Service#7'!Q31=1,1,0)","v":0},null,{"$f":"IF('Fiches_Utilisateurs_Service#7'!S31=1,1,0)","v":0},null,{"$f":"IF('Fiches_Utilisateurs_Service#7'!U31=1,1,0)","v":0},null,{"$f":"IF('Fiches_Utilisateurs_Service#7'!W31=1,1,0)","v":0},null,{"$f":"IF('Fiches_Utilisateurs_Service#7'!Y31=1,1,0)","v":0},null,{"$f":"IF('Fiches_Utilisateurs_Service#7'!AA31=1,1,0)","v":0},null,{"$f":"IF('Fiches_Utilisateurs_Service#7'!AC31=1,1,0)","v":0},null,{"$f":"IF('Fiches_Utilisateurs_Service#7'!AE31=1,1,0)","v":0},null,{"$f":"IF('Fiches_Utilisateurs_Service#7'!AG31=1,1,0)","v":0},null,{"$f":"IF('Fiches_Utilisateurs_Service#7'!AI31=1,1,0)","v":0},null,{"$f":"IF('Fiches_Utilisateurs_Service#7'!AK31=1,1,0)","v":0},null,{"$f":"IF('Fiches_Utilisateurs_Service#7'!AM31=1,1,0)","v":0},null,{"$f":"IF('Fiches_Utilisateurs_Service#7'!AO31=1,1,0)","v":0},null,{"$f":"IF('Fiches_Utilisateurs_Service#7'!AQ31=1,1,0)","v":0},null,{"$f":"IF('Fiches_Utilisateurs_Service#7'!AS31=1,1,0)","v":0},null,{"$f":"IF('Fiches_Utilisateurs_Service#7'!AU31=1,1,0)","v":0},null,{"$f":"IF('Fiches_Utilisateurs_Service#7'!AW31=1,1,0)","v":0},null,{"$f":"IF('Fiches_Utilisateurs_Service#7'!AY31=1,1,0)","v":0},null,{"$f":"IF('Fiches_Utilisateurs_Service#7'!BA31=1,1,0)","v":0},null,{"$f":"IF('Fiches_Utilisateurs_Service#7'!BC31=1,1,0)","v":0},null,{"$f":"IF('Fiches_Utilisateurs_Service#7'!BE31=1,1,0)","v":0},null,{"$f":"IF('Fiches_Utilisateurs_Service#7'!BG31=1,1,0)","v":0},null,{"$f":"IF('Fiches_Utilisateurs_Service#7'!BI31=1,1,0)","v":0},null,{"$f":"IF('Fiches_Utilisateurs_Service#7'!BK31=1,1,0)","v":0},null,{"$f":"IF('Fiches_Utilisateurs_Service#7'!BM31=1,1,0)","v":0},null,{"$f":"IF('Fiches_Utilisateurs_Service#7'!BO31=1,1,0)","v":0},null,{"$f":"IF('Fiches_Utilisateurs_Service#7'!BQ31=1,1,0)","v":0},null,{"$f":"IF('Fiches_Utilisateurs_Service#7'!BS31=1,1,0)","v":0},null,{"$f":"IF('Fiches_Utilisateurs_Service#7'!BU31=1,1,0)","v":0},null,{"$f":"IF('Fiches_Utilisateurs_Service#7'!BW31=1,1,0)","v":0},null,{"$f":"IF('Fiches_Utilisateurs_Service#7'!BY31=1,1,0)","v":0},null,{"$f":"IF('Fiches_Utilisateurs_Service#7'!CA31=1,1,0)","v":0},null,{"$f":"IF('Fiches_Utilisateurs_Service#7'!CC31=1,1,0)","v":0}]
[]
[null,null,{"$f":"IF('Fiches_Utilisateurs_Service#7'!C33=1,1,0)","v":0},null,{"$f":"IF('Fiches_Utilisateurs_Service#7'!E33=1,1,0)","v":0},null,{"$f":"IF('Fiches_Utilisateurs_Service#7'!G33=1,1,0)","v":0},null,{"$f":"IF('Fiches_Utilisateurs_Service#7'!I33=1,1,0)","v":0},null,{"$f":"IF('Fiches_Utilisateurs_Service#7'!K33=1,1,0)","v":0},null,{"$f":"IF('Fiches_Utilisateurs_Service#7'!M33=1,1,0)","v":0},null,{"$f":"IF('Fiches_Utilisateurs_Service#7'!O33=1,1,0)","v":0},null,{"$f":"IF('Fiches_Utilisateurs_Service#7'!Q33=1,1,0)","v":0},null,{"$f":"IF('Fiches_Utilisateurs_Service#7'!S33=1,1,0)","v":0},null,{"$f":"IF('Fiches_Utilisateurs_Service#7'!U33=1,1,0)","v":0},null,{"$f":"IF('Fiches_Utilisateurs_Service#7'!W33=1,1,0)","v":0},null,{"$f":"IF('Fiches_Utilisateurs_Service#7'!Y33=1,1,0)","v":0},null,{"$f":"IF('Fiches_Utilisateurs_Service#7'!AA33=1,1,0)","v":0},null,{"$f":"IF('Fiches_Utilisateurs_Service#7'!AC33=1,1,0)","v":0},null,{"$f":"IF('Fiches_Utilisateurs_Service#7'!AE33=1,1,0)","v":0},null,{"$f":"IF('Fiches_Utilisateurs_Service#7'!AG33=1,1,0)","v":0},null,{"$f":"IF('Fiches_Utilisateurs_Service#7'!AI33=1,1,0)","v":0},null,{"$f":"IF('Fiches_Utilisateurs_Service#7'!AK33=1,1,0)","v":0},null,{"$f":"IF('Fiches_Utilisateurs_Service#7'!AM33=1,1,0)","v":0},null,{"$f":"IF('Fiches_Utilisateurs_Service#7'!AO33=1,1,0)","v":0},null,{"$f":"IF('Fiches_Utilisateurs_Service#7'!AQ33=1,1,0)","v":0},null,{"$f":"IF('Fiches_Utilisateurs_Service#7'!AS33=1,1,0)","v":0},null,{"$f":"IF('Fiches_Utilisateurs_Service#7'!AU33=1,1,0)","v":0},null,{"$f":"IF('Fiches_Utilisateurs_Service#7'!AW33=1,1,0)","v":0},null,{"$f":"IF('Fiches_Utilisateurs_Service#7'!AY33=1,1,0)","v":0},null,{"$f":"IF('Fiches_Utilisateurs_Service#7'!BA33=1,1,0)","v":0},null,{"$f":"IF('Fiches_Utilisateurs_Service#7'!BC33=1,1,0)","v":0},null,{"$f":"IF('Fiches_Utilisateurs_Service#7'!BE33=1,1,0)","v":0},null,{"$f":"IF('Fiches_Utilisateurs_Service#7'!BG33=1,1,0)","v":0},null,{"$f":"IF('Fiches_Utilisateurs_Service#7'!BI33=1,1,0)","v":0},null,{"$f":"IF('Fiches_Utilisateurs_Service#7'!BK33=1,1,0)","v":0},null,{"$f":"IF('Fiches_Utilisateurs_Service#7'!BM33=1,1,0)","v":0},null,{"$f":"IF('Fiches_Utilisateurs_Service#7'!BO33=1,1,0)","v":0},null,{"$f":"IF('Fiches_Utilisateurs_Service#7'!BQ33=1,1,0)","v":0},null,{"$f":"IF('Fiches_Utilisateurs_Service#7'!BS33=1,1,0)","v":0},null,{"$f":"IF('Fiches_Utilisateurs_Service#7'!BU33=1,1,0)","v":0},null,{"$f":"IF('Fiches_Utilisateurs_Service#7'!BW33=1,1,0)","v":0},null,{"$f":"IF('Fiches_Utilisateurs_Service#7'!BY33=1,1,0)","v":0},null,{"$f":"IF('Fiches_Utilisateurs_Service#7'!CA33=1,1,0)","v":0},null,{"$f":"IF('Fiches_Utilisateurs_Service#7'!CC33=1,1,0)","v":0}]
[]
[null,null,{"$f":"IF('Fiches_Utilisateurs_Service#7'!C35=1,1,0)","v":0},null,{"$f":"IF('Fiches_Utilisateurs_Service#7'!E35=1,1,0)","v":0},null,{"$f":"IF('Fiches_Utilisateurs_Service#7'!G35=1,1,0)","v":0},null,{"$f":"IF('Fiches_Utilisateurs_Service#7'!I35=1,1,0)","v":0},null,{"$f":"IF('Fiches_Utilisateurs_Service#7'!K35=1,1,0)","v":0},null,{"$f":"IF('Fiches_Utilisateurs_Service#7'!M35=1,1,0)","v":0},null,{"$f":"IF('Fiches_Utilisateurs_Service#7'!O35=1,1,0)","v":0},null,{"$f":"IF('Fiches_Utilisateurs_Service#7'!Q35=1,1,0)","v":0},null,{"$f":"IF('Fiches_Utilisateurs_Service#7'!S35=1,1,0)","v":0},null,{"$f":"IF('Fiches_Utilisateurs_Service#7'!U35=1,1,0)","v":0},null,{"$f":"IF('Fiches_Utilisateurs_Service#7'!W35=1,1,0)","v":0},null,{"$f":"IF('Fiches_Utilisateurs_Service#7'!Y35=1,1,0)","v":0},null,{"$f":"IF('Fiches_Utilisateurs_Service#7'!AA35=1,1,0)","v":0},null,{"$f":"IF('Fiches_Utilisateurs_Service#7'!AC35=1,1,0)","v":0},null,{"$f":"IF('Fiches_Utilisateurs_Service#7'!AE35=1,1,0)","v":0},null,{"$f":"IF('Fiches_Utilisateurs_Service#7'!AG35=1,1,0)","v":0},null,{"$f":"IF('Fiches_Utilisateurs_Service#7'!AI35=1,1,0)","v":0},null,{"$f":"IF('Fiches_Utilisateurs_Service#7'!AK35=1,1,0)","v":0},null,{"$f":"IF('Fiches_Utilisateurs_Service#7'!AM35=1,1,0)","v":0},null,{"$f":"IF('Fiches_Utilisateurs_Service#7'!AO35=1,1,0)","v":0},null,{"$f":"IF('Fiches_Utilisateurs_Service#7'!AQ35=1,1,0)","v":0},null,{"$f":"IF('Fiches_Utilisateurs_Service#7'!AS35=1,1,0)","v":0},null,{"$f":"IF('Fiches_Utilisateurs_Service#7'!AU35=1,1,0)","v":0},null,{"$f":"IF('Fiches_Utilisateurs_Service#7'!AW35=1,1,0)","v":0},null,{"$f":"IF('Fiches_Utilisateurs_Service#7'!AY35=1,1,0)","v":0},null,{"$f":"IF('Fiches_Utilisateurs_Service#7'!BA35=1,1,0)","v":0},null,{"$f":"IF('Fiches_Utilisateurs_Service#7'!BC35=1,1,0)","v":0},null,{"$f":"IF('Fiches_Utilisateurs_Service#7'!BE35=1,1,0)","v":0},null,{"$f":"IF('Fiches_Utilisateurs_Service#7'!BG35=1,1,0)","v":0},null,{"$f":"IF('Fiches_Utilisateurs_Service#7'!BI35=1,1,0)","v":0},null,{"$f":"IF('Fiches_Utilisateurs_Service#7'!BK35=1,1,0)","v":0},null,{"$f":"IF('Fiches_Utilisateurs_Service#7'!BM35=1,1,0)","v":0},null,{"$f":"IF('Fiches_Utilisateurs_Service#7'!BO35=1,1,0)","v":0},null,{"$f":"IF('Fiches_Utilisateurs_Service#7'!BQ35=1,1,0)","v":0},null,{"$f":"IF('Fiches_Utilisateurs_Service#7'!BS35=1,1,0)","v":0},null,{"$f":"IF('Fiches_Utilisateurs_Service#7'!BU35=1,1,0)","v":0},null,{"$f":"IF('Fiches_Utilisateurs_Service#7'!BW35=1,1,0)","v":0},null,{"$f":"IF('Fiches_Utilisateurs_Service#7'!BY35=1,1,0)","v":0},null,{"$f":"IF('Fiches_Utilisateurs_Service#7'!CA35=1,1,0)","v":0},null,{"$f":"IF('Fiches_Utilisateurs_Service#7'!CC35=1,1,0)","v":0}]
[]
["tot sale",{"$f":"SUM(C37:CC37)","v":0},{"$f":"SUM(C15:C35)","v":0},null,{"$f":"SUM(E15:E35)","v":0},null,{"$f":"SUM(G15:G35)","v":0},null,{"$f":"SUM(I15:I35)","v":0},null,{"$f":"SUM(K15:K35)","v":0},null,{"$f":"SUM(M15:M35)","v":0},null,{"$f":"SUM(O15:O35)","v":0},null,{"$f":"SUM(Q15:Q35)","v":0},null,{"$f":"SUM(S15:S35)","v":0},null,{"$f":"SUM(U15:U35)","v":0},null,{"$f":"SUM(W15:W35)","v":0},null,{"$f":"SUM(Y15:Y35)","v":0},null,{"$f":"SUM(AA15:AA35)","v":0},null,{"$f":"SUM(AC15:AC35)","v":0},null,{"$f":"SUM(AE15:AE35)","v":0},null,{"$f":"SUM(AG15:AG35)","v":0},null,{"$f":"SUM(AI15:AI35)","v":0},null,{"$f":"SUM(AK15:AK35)","v":0},null,{"$f":"SUM(AM15:AM35)","v":0},null,{"$f":"SUM(AO15:AO35)","v":0},null,{"$f":"SUM(AQ15:AQ35)","v":0},null,{"$f":"SUM(AS15:AS35)","v":0},null,{"$f":"SUM(AU15:AU35)","v":0},null,{"$f":"SUM(AW15:AW35)","v":0},null,{"$f":"SUM(AY15:AY35)","v":0},null,{"$f":"SUM(BA15:BA35)","v":0},null,{"$f":"SUM(BC15:BC35)","v":0},null,{"$f":"SUM(BE15:BE35)","v":0},null,{"$f":"SUM(BG15:BG35)","v":0},null,{"$f":"SUM(BI15:BI35)","v":0},null,{"$f":"SUM(BK15:BK35)","v":0},null,{"$f":"SUM(BM15:BM35)","v":0},null,{"$f":"SUM(BO15:BO35)","v":0},null,{"$f":"SUM(BQ15:BQ35)","v":0},null,{"$f":"SUM(BS15:BS35)","v":0},null,{"$f":"SUM(BU15:BU35)","v":0},null,{"$f":"SUM(BW15:BW35)","v":0},null,{"$f":"SUM(BY15:BY35)","v":0},null,{"$f":"SUM(CA15:CA35)","v":0},null,{"$f":"SUM(CC15:CC35)","v":0}]
[]
[null,null,{"$f":"IF('Fiches_Utilisateurs_Service#7'!C39=1,1,0)","v":0},null,{"$f":"IF('Fiches_Utilisateurs_Service#7'!E39=1,1,0)","v":0},null,{"$f":"IF('Fiches_Utilisateurs_Service#7'!G39=1,1,0)","v":0},null,{"$f":"IF('Fiches_Utilisateurs_Service#7'!I39=1,1,0)","v":0},null,{"$f":"IF('Fiches_Utilisateurs_Service#7'!K39=1,1,0)","v":0},null,{"$f":"IF('Fiches_Utilisateurs_Service#7'!M39=1,1,0)","v":0},null,{"$f":"IF('Fiches_Utilisateurs_Service#7'!O39=1,1,0)","v":0},null,{"$f":"IF('Fiches_Utilisateurs_Service#7'!Q39=1,1,0)","v":0},null,{"$f":"IF('Fiches_Utilisateurs_Service#7'!S39=1,1,0)","v":0},null,{"$f":"IF('Fiches_Utilisateurs_Service#7'!U39=1,1,0)","v":0},null,{"$f":"IF('Fiches_Utilisateurs_Service#7'!W39=1,1,0)","v":0},null,{"$f":"IF('Fiches_Utilisateurs_Service#7'!Y39=1,1,0)","v":0},null,{"$f":"IF('Fiches_Utilisateurs_Service#7'!AA39=1,1,0)","v":0},null,{"$f":"IF('Fiches_Utilisateurs_Service#7'!AC39=1,1,0)","v":0},null,{"$f":"IF('Fiches_Utilisateurs_Service#7'!AE39=1,1,0)","v":0},null,{"$f":"IF('Fiches_Utilisateurs_Service#7'!AG39=1,1,0)","v":0},null,{"$f":"IF('Fiches_Utilisateurs_Service#7'!AI39=1,1,0)","v":0},null,{"$f":"IF('Fiches_Utilisateurs_Service#7'!AK39=1,1,0)","v":0},null,{"$f":"IF('Fiches_Utilisateurs_Service#7'!AM39=1,1,0)","v":0},null,{"$f":"IF('Fiches_Utilisateurs_Service#7'!AO39=1,1,0)","v":0},null,{"$f":"IF('Fiches_Utilisateurs_Service#7'!AQ39=1,1,0)","v":0},null,{"$f":"IF('Fiches_Utilisateurs_Service#7'!AS39=1,1,0)","v":0},null,{"$f":"IF('Fiches_Utilisateurs_Service#7'!AU39=1,1,0)","v":0},null,{"$f":"IF('Fiches_Utilisateurs_Service#7'!AW39=1,1,0)","v":0},null,{"$f":"IF('Fiches_Utilisateurs_Service#7'!AY39=1,1,0)","v":0},null,{"$f":"IF('Fiches_Utilisateurs_Service#7'!BA39=1,1,0)","v":0},null,{"$f":"IF('Fiches_Utilisateurs_Service#7'!BC39=1,1,0)","v":0},null,{"$f":"IF('Fiches_Utilisateurs_Service#7'!BE39=1,1,0)","v":0},null,{"$f":"IF('Fiches_Utilisateurs_Service#7'!BG39=1,1,0)","v":0},null,{"$f":"IF('Fiches_Utilisateurs_Service#7'!BI39=1,1,0)","v":0},null,{"$f":"IF('Fiches_Utilisateurs_Service#7'!BK39=1,1,0)","v":0},null,{"$f":"IF('Fiches_Utilisateurs_Service#7'!BM39=1,1,0)","v":0},null,{"$f":"IF('Fiches_Utilisateurs_Service#7'!BO39=1,1,0)","v":0},null,{"$f":"IF('Fiches_Utilisateurs_Service#7'!BQ39=1,1,0)","v":0},null,{"$f":"IF('Fiches_Utilisateurs_Service#7'!BS39=1,1,0)","v":0},null,{"$f":"IF('Fiches_Utilisateurs_Service#7'!BU39=1,1,0)","v":0},null,{"$f":"IF('Fiches_Utilisateurs_Service#7'!BW39=1,1,0)","v":0},null,{"$f":"IF('Fiches_Utilisateurs_Service#7'!BY39=1,1,0)","v":0},null,{"$f":"IF('Fiches_Utilisateurs_Service#7'!CA39=1,1,0)","v":0},null,{"$f":"IF('Fiches_Utilisateurs_Service#7'!CC39=1,1,0)","v":0}]
[]
[null,null,{"$f":"IF('Fiches_Utilisateurs_Service#7'!C41=1,1,0)","v":0},null,{"$f":"IF('Fiches_Utilisateurs_Service#7'!E41=1,1,0)","v":0},null,{"$f":"IF('Fiches_Utilisateurs_Service#7'!G41=1,1,0)","v":0},null,{"$f":"IF('Fiches_Utilisateurs_Service#7'!I41=1,1,0)","v":0},null,{"$f":"IF('Fiches_Utilisateurs_Service#7'!K41=1,1,0)","v":0},null,{"$f":"IF('Fiches_Utilisateurs_Service#7'!M41=1,1,0)","v":0},null,{"$f":"IF('Fiches_Utilisateurs_Service#7'!O41=1,1,0)","v":0},null,{"$f":"IF('Fiches_Utilisateurs_Service#7'!Q41=1,1,0)","v":0},null,{"$f":"IF('Fiches_Utilisateurs_Service#7'!S41=1,1,0)","v":0},null,{"$f":"IF('Fiches_Utilisateurs_Service#7'!U41=1,1,0)","v":0},null,{"$f":"IF('Fiches_Utilisateurs_Service#7'!W41=1,1,0)","v":0},null,{"$f":"IF('Fiches_Utilisateurs_Service#7'!Y41=1,1,0)","v":0},null,{"$f":"IF('Fiches_Utilisateurs_Service#7'!AA41=1,1,0)","v":0},null,{"$f":"IF('Fiches_Utilisateurs_Service#7'!AC41=1,1,0)","v":0},null,{"$f":"IF('Fiches_Utilisateurs_Service#7'!AE41=1,1,0)","v":0},null,{"$f":"IF('Fiches_Utilisateurs_Service#7'!AG41=1,1,0)","v":0},null,{"$f":"IF('Fiches_Utilisateurs_Service#7'!AI41=1,1,0)","v":0},null,{"$f":"IF('Fiches_Utilisateurs_Service#7'!AK41=1,1,0)","v":0},null,{"$f":"IF('Fiches_Utilisateurs_Service#7'!AM41=1,1,0)","v":0},null,{"$f":"IF('Fiches_Utilisateurs_Service#7'!AO41=1,1,0)","v":0},null,{"$f":"IF('Fiches_Utilisateurs_Service#7'!AQ41=1,1,0)","v":0},null,{"$f":"IF('Fiches_Utilisateurs_Service#7'!AS41=1,1,0)","v":0},null,{"$f":"IF('Fiches_Utilisateurs_Service#7'!AU41=1,1,0)","v":0},null,{"$f":"IF('Fiches_Utilisateurs_Service#7'!AW41=1,1,0)","v":0},null,{"$f":"IF('Fiches_Utilisateurs_Service#7'!AY41=1,1,0)","v":0},null,{"$f":"IF('Fiches_Utilisateurs_Service#7'!BA41=1,1,0)","v":0},null,{"$f":"IF('Fiches_Utilisateurs_Service#7'!BC41=1,1,0)","v":0},null,{"$f":"IF('Fiches_Utilisateurs_Service#7'!BE41=1,1,0)","v":0},null,{"$f":"IF('Fiches_Utilisateurs_Service#7'!BG41=1,1,0)","v":0},null,{"$f":"IF('Fiches_Utilisateurs_Service#7'!BI41=1,1,0)","v":0},null,{"$f":"IF('Fiches_Utilisateurs_Service#7'!BK41=1,1,0)","v":0},null,{"$f":"IF('Fiches_Utilisateurs_Service#7'!BM41=1,1,0)","v":0},null,{"$f":"IF('Fiches_Utilisateurs_Service#7'!BO41=1,1,0)","v":0},null,{"$f":"IF('Fiches_Utilisateurs_Service#7'!BQ41=1,1,0)","v":0},null,{"$f":"IF('Fiches_Utilisateurs_Service#7'!BS41=1,1,0)","v":0},null,{"$f":"IF('Fiches_Utilisateurs_Service#7'!BU41=1,1,0)","v":0},null,{"$f":"IF('Fiches_Utilisateurs_Service#7'!BW41=1,1,0)","v":0},null,{"$f":"IF('Fiches_Utilisateurs_Service#7'!BY41=1,1,0)","v":0},null,{"$f":"IF('Fiches_Utilisateurs_Service#7'!CA41=1,1,0)","v":0},null,{"$f":"IF('Fiches_Utilisateurs_Service#7'!CC41=1,1,0)","v":0}]
[]
[null,null,{"$f":"IF('Fiches_Utilisateurs_Service#7'!C43=1,1,0)","v":0},null,{"$f":"IF('Fiches_Utilisateurs_Service#7'!E43=1,1,0)","v":0},null,{"$f":"IF('Fiches_Utilisateurs_Service#7'!G43=1,1,0)","v":0},null,{"$f":"IF('Fiches_Utilisateurs_Service#7'!I43=1,1,0)","v":0},null,{"$f":"IF('Fiches_Utilisateurs_Service#7'!K43=1,1,0)","v":0},null,{"$f":"IF('Fiches_Utilisateurs_Service#7'!M43=1,1,0)","v":0},null,{"$f":"IF('Fiches_Utilisateurs_Service#7'!O43=1,1,0)","v":0},null,{"$f":"IF('Fiches_Utilisateurs_Service#7'!Q43=1,1,0)","v":0},null,{"$f":"IF('Fiches_Utilisateurs_Service#7'!S43=1,1,0)","v":0},null,{"$f":"IF('Fiches_Utilisateurs_Service#7'!U43=1,1,0)","v":0},null,{"$f":"IF('Fiches_Utilisateurs_Service#7'!W43=1,1,0)","v":0},null,{"$f":"IF('Fiches_Utilisateurs_Service#7'!Y43=1,1,0)","v":0},null,{"$f":"IF('Fiches_Utilisateurs_Service#7'!AA43=1,1,0)","v":0},null,{"$f":"IF('Fiches_Utilisateurs_Service#7'!AC43=1,1,0)","v":0},null,{"$f":"IF('Fiches_Utilisateurs_Service#7'!AE43=1,1,0)","v":0},null,{"$f":"IF('Fiches_Utilisateurs_Service#7'!AG43=1,1,0)","v":0},null,{"$f":"IF('Fiches_Utilisateurs_Service#7'!AI43=1,1,0)","v":0},null,{"$f":"IF('Fiches_Utilisateurs_Service#7'!AK43=1,1,0)","v":0},null,{"$f":"IF('Fiches_Utilisateurs_Service#7'!AM43=1,1,0)","v":0},null,{"$f":"IF('Fiches_Utilisateurs_Service#7'!AO43=1,1,0)","v":0},null,{"$f":"IF('Fiches_Utilisateurs_Service#7'!AQ43=1,1,0)","v":0},null,{"$f":"IF('Fiches_Utilisateurs_Service#7'!AS43=1,1,0)","v":0},null,{"$f":"IF('Fiches_Utilisateurs_Service#7'!AU43=1,1,0)","v":0},null,{"$f":"IF('Fiches_Utilisateurs_Service#7'!AW43=1,1,0)","v":0},null,{"$f":"IF('Fiches_Utilisateurs_Service#7'!AY43=1,1,0)","v":0},null,{"$f":"IF('Fiches_Utilisateurs_Service#7'!BA43=1,1,0)","v":0},null,{"$f":"IF('Fiches_Utilisateurs_Service#7'!BC43=1,1,0)","v":0},null,{"$f":"IF('Fiches_Utilisateurs_Service#7'!BE43=1,1,0)","v":0},null,{"$f":"IF('Fiches_Utilisateurs_Service#7'!BG43=1,1,0)","v":0},null,{"$f":"IF('Fiches_Utilisateurs_Service#7'!BI43=1,1,0)","v":0},null,{"$f":"IF('Fiches_Utilisateurs_Service#7'!BK43=1,1,0)","v":0},null,{"$f":"IF('Fiches_Utilisateurs_Service#7'!BM43=1,1,0)","v":0},null,{"$f":"IF('Fiches_Utilisateurs_Service#7'!BO43=1,1,0)","v":0},null,{"$f":"IF('Fiches_Utilisateurs_Service#7'!BQ43=1,1,0)","v":0},null,{"$f":"IF('Fiches_Utilisateurs_Service#7'!BS43=1,1,0)","v":0},null,{"$f":"IF('Fiches_Utilisateurs_Service#7'!BU43=1,1,0)","v":0},null,{"$f":"IF('Fiches_Utilisateurs_Service#7'!BW43=1,1,0)","v":0},null,{"$f":"IF('Fiches_Utilisateurs_Service#7'!BY43=1,1,0)","v":0},null,{"$f":"IF('Fiches_Utilisateurs_Service#7'!CA43=1,1,0)","v":0},null,{"$f":"IF('Fiches_Utilisateurs_Service#7'!CC43=1,1,0)","v":0}]
[]
["tot propre",{"$f":"SUM(C45:CC45)","v":0},{"$f":"SUM(C39:C43)","v":0},null,{"$f":"SUM(E39:E43)","v":0},null,{"$f":"SUM(G39:G43)","v":0},null,{"$f":"SUM(I39:I43)","v":0},null,{"$f":"SUM(K39:K43)","v":0},null,{"$f":"SUM(M39:M43)","v":0},null,{"$f":"SUM(O39:O43)","v":0},null,{"$f":"SUM(Q39:Q43)","v":0},null,{"$f":"SUM(S39:S43)","v":0},null,{"$f":"SUM(U39:U43)","v":0},null,{"$f":"SUM(W39:W43)","v":0},null,{"$f":"SUM(Y39:Y43)","v":0},null,{"$f":"SUM(AA39:AA43)","v":0},null,{"$f":"SUM(AC39:AC43)","v":0},null,{"$f":"SUM(AE39:AE43)","v":0},null,{"$f":"SUM(AG39:AG43)","v":0},null,{"$f":"SUM(AI39:AI43)","v":0},null,{"$f":"SUM(AK39:AK43)","v":0},null,{"$f":"SUM(AM39:AM43)","v":0},null,{"$f":"SUM(AO39:AO43)","v":0},null,{"$f":"SUM(AQ39:AQ43)","v":0},null,{"$f":"SUM(AS39:AS43)","v":0},null,{"$f":"SUM(AU39:AU43)","v":0},null,{"$f":"SUM(AW39:AW43)","v":0},null,{"$f":"SUM(AY39:AY43)","v":0},null,{"$f":"SUM(BA39:BA43)","v":0},null,{"$f":"SUM(BC39:BC43)","v":0},null,{"$f":"SUM(BE39:BE43)","v":0},null,{"$f":"SUM(BG39:BG43)","v":0},null,{"$f":"SUM(BI39:BI43)","v":0},null,{"$f":"SUM(BK39:BK43)","v":0},null,{"$f":"SUM(BM39:BM43)","v":0},null,{"$f":"SUM(BO39:BO43)","v":0},null,{"$f":"SUM(BQ39:BQ43)","v":0},null,{"$f":"SUM(BS39:BS43)","v":0},null,{"$f":"SUM(BU39:BU43)","v":0},null,{"$f":"SUM(BW39:BW43)","v":0},null,{"$f":"SUM(BY39:BY43)","v":0},null,{"$f":"SUM(CA39:CA43)","v":0},null,{"$f":"SUM(CC39:CC43)","v":0}]
[]
["tot tot",{"$f":"SUM(C47:CC47)","v":0},{"$f":"C45+C37","v":0},null,{"$f":"E45+E37","v":0},null,{"$f":"G45+G37","v":0},null,{"$f":"I45+I37","v":0},null,{"$f":"K45+K37","v":0},null,{"$f":"M45+M37","v":0},null,{"$f":"O45+O37","v":0},null,{"$f":"Q45+Q37","v":0},null,{"$f":"S45+S37","v":0},null,{"$f":"U45+U37","v":0},null,{"$f":"W45+W37","v":0},null,{"$f":"Y45+Y37","v":0},null,{"$f":"AA45+AA37","v":0},null,{"$f":"AC45+AC37","v":0},null,{"$f":"AE45+AE37","v":0},null,{"$f":"AG45+AG37","v":0},null,{"$f":"AI45+AI37","v":0},null,{"$f":"AK45+AK37","v":0},null,{"$f":"AM45+AM37","v":0},null,{"$f":"AO45+AO37","v":0},null,{"$f":"AQ45+AQ37","v":0},null,{"$f":"AS45+AS37","v":0},null,{"$f":"AU45+AU37","v":0},null,{"$f":"AW45+AW37","v":0},null,{"$f":"AY45+AY37","v":0},null,{"$f":"BA45+BA37","v":0},null,{"$f":"BC45+BC37","v":0},null,{"$f":"BE45+BE37","v":0},null,{"$f":"BG45+BG37","v":0},null,{"$f":"BI45+BI37","v":0},null,{"$f":"BK45+BK37","v":0},null,{"$f":"BM45+BM37","v":0},null,{"$f":"BO45+BO37","v":0},null,{"$f":"BQ45+BQ37","v":0},null,{"$f":"BS45+BS37","v":0},null,{"$f":"BU45+BU37","v":0},null,{"$f":"BW45+BW37","v":0},null,{"$f":"BY45+BY37","v":0},null,{"$f":"CA45+CA37","v":0},null,{"$f":"CC45+CC37","v":0}]
[]
[]
[]
[]
[1,{"$f":"SUM(C52:CC52)","v":0},{"$f":"IF(C11=\"1\",1,0)","v":0},null,{"$f":"IF(E11=\"1\",1,0)","v":0},null,0,null,0,null,0,null,0,null,0,null,0,null,0,null,0,null,0,null,0,null,0,null,0,null,0,null,0,null,0,null,0,null,0,null,0,null,0,null,0,null,0,null,0,null,0,null,0,null,0,null,0,null,0,null,0,null,0,null,0,null,0,null,{"$f":"IF(BQ11=\"1\",1,0)","v":0},null,0,null,0,null,0,null,0,null,0,null,0]
[null,0,{"$f":"IF(C52=1,(C77+C82),0)","v":0},null,{"$f":"IF(E52=1,(E77+E82),0)","v":0},null,{"$f":"IF(G52=1,(G77+G82),0)","v":0},null,{"$f":"IF(I52=1,(I77+I82),0)","v":0},null,{"$f":"IF(K52=1,(K77+K82),0)","v":0},null,{"$f":"IF(M52=1,(M77+M82),0)","v":0},null,{"$f":"IF(O52=1,(O77+O82),0)","v":0},null,{"$f":"IF(Q52=1,(Q77+Q82),0)","v":0},null,{"$f":"IF(S52=1,(S77+S82),0)","v":0},null,{"$f":"IF(U52=1,(U77+U82),0)","v":0},null,{"$f":"IF(W52=1,(W77+W82),0)","v":0},null,{"$f":"IF(Y52=1,(Y77+Y82),0)","v":0},null,{"$f":"IF(AA52=1,(AA77+AA82),0)","v":0},null,{"$f":"IF(AC52=1,(AC77+AC82),0)","v":0},null,{"$f":"IF(AE52=1,(AE77+AE82),0)","v":0},null,{"$f":"IF(AG52=1,(AG77+AG82),0)","v":0},null,{"$f":"IF(AI52=1,(AI77+AI82),0)","v":0},null,{"$f":"IF(AK52=1,(AK77+AK82),0)","v":0},null,{"$f":"IF(AM52=1,(AM77+AM82),0)","v":0},null,{"$f":"IF(AO52=1,(AO77+AO82),0)","v":0},null,{"$f":"IF(AQ52=1,(AQ77+AQ82),0)","v":0},null,{"$f":"IF(AS52=1,(AS77+AS82),0)","v":0},null,{"$f":"IF(AU52=1,(AU77+AU82),0)","v":0},null,{"$f":"IF(AW52=1,(AW77+AW82),0)","v":0},null,{"$f":"IF(AY52=1,(AY77+AY82),0)","v":0},null,{"$f":"IF(BA52=1,(BA77+BA82),0)","v":0},null,{"$f":"IF(BC52=1,(BC77+BC82),0)","v":0},null,{"$f":"IF(BE52=1,(BE77+BE82),0)","v":0},null,{"$f":"IF(BG52=1,(BG77+BG82),0)","v":0},null,{"$f":"IF(BI52=1,(BI77+BI82),0)","v":0},null,{"$f":"IF(BK52=1,(BK77+BK82),0)","v":0},null,{"$f":"IF(BM52=1,(BM77+BM82),0)","v":0},null,{"$f":"IF(BO52=1,(BO77+BO82),0)","v":0},null,{"$f":"IF(BQ52=1,(BQ77+BQ82),0)","v":0},null,{"$f":"IF(BS52=1,(BS77+BS82),0)","v":0},null,{"$f":"IF(BU52=1,(BU77+BU82),0)","v":0},null,{"$f":"IF(BW52=1,(BW77+BW82),0)","v":0},null,{"$f":"IF(BY52=1,(BY77+BY82),0)","v":0},null,{"$f":"IF(CA52=1,(CA77+CA82),0)","v":0},null,{"$f":"IF(CC52=1,(CC77+CC82),0)","v":0}]
[2,0,{"$f":"IF(C11=\"2\",1,0)","v":0},null,{"$f":"IF(E11=\"2\",1,0)","v":0},null,0,null,0,null,0,null,0,null,0,null,0,null,0,null,0,null,0,null,0,null,0,null,0,null,0,null,0,null,0,null,0,null,0,null,0,null,0,null,0,null,0,null,0,null,0,null,0,null,0,null,0,null,0,null,0,null,0,null,0,null,0,null,{"$f":"IF(BQ11=\"2\",1,0)","v":0},null,0,null,0,null,0,null,0,null,0,null,0]
[null,0,{"$f":"IF(C54=1,(C77+C82),0)","v":0},null,{"$f":"IF(E54=1,(E77+E82),0)","v":0},null,{"$f":"IF(G54=1,(G77+G82),0)","v":0},null,{"$f":"IF(I54=1,(I77+I82),0)","v":0},null,{"$f":"IF(K54=1,(K77+K82),0)","v":0},null,{"$f":"IF(M54=1,(M77+M82),0)","v":0},null,{"$f":"IF(O54=1,(O77+O82),0)","v":0},null,{"$f":"IF(Q54=1,(Q77+Q82),0)","v":0},null,{"$f":"IF(S54=1,(S77+S82),0)","v":0},null,{"$f":"IF(U54=1,(U77+U82),0)","v":0},null,{"$f":"IF(W54=1,(W77+W82),0)","v":0},null,{"$f":"IF(Y54=1,(Y77+Y82),0)","v":0},null,{"$f":"IF(AA54=1,(AA77+AA82),0)","v":0},null,{"$f":"IF(AC54=1,(AC77+AC82),0)","v":0},null,{"$f":"IF(AE54=1,(AE77+AE82),0)","v":0},null,{"$f":"IF(AG54=1,(AG77+AG82),0)","v":0},null,{"$f":"IF(AI54=1,(AI77+AI82),0)","v":0},null,{"$f":"IF(AK54=1,(AK77+AK82),0)","v":0},null,{"$f":"IF(AM54=1,(AM77+AM82),0)","v":0},null,{"$f":"IF(AO54=1,(AO77+AO82),0)","v":0},null,{"$f":"IF(AQ54=1,(AQ77+AQ82),0)","v":0},null,{"$f":"IF(AS54=1,(AS77+AS82),0)","v":0},null,{"$f":"IF(AU54=1,(AU77+AU82),0)","v":0},null,{"$f":"IF(AW54=1,(AW77+AW82),0)","v":0},null,{"$f":"IF(AY54=1,(AY77+AY82),0)","v":0},null,{"$f":"IF(BA54=1,(BA77+BA82),0)","v":0},null,{"$f":"IF(BC54=1,(BC77+BC82),0)","v":0},null,{"$f":"IF(BE54=1,(BE77+BE82),0)","v":0},null,{"$f":"IF(BG54=1,(BG77+BG82),0)","v":0},null,{"$f":"IF(BI54=1,(BI77+BI82),0)","v":0},null,{"$f":"IF(BK54=1,(BK77+BK82),0)","v":0},null,{"$f":"IF(BM54=1,(BM77+BM82),0)","v":0},null,{"$f":"IF(BO54=1,(BO77+BO82),0)","v":0},null,{"$f":"IF(BQ54=1,(BQ77+BQ82),0)","v":0},null,{"$f":"IF(BS54=1,(BS77+BS82),0)","v":0},null,{"$f":"IF(BU54=1,(BU77+BU82),0)","v":0},null,{"$f":"IF(BW54=1,(BW77+BW82),0)","v":0},null,{"$f":"IF(BY54=1,(BY77+BY82),0)","v":0},null,{"$f":"IF(CA54=1,(CA77+CA82),0)","v":0},null,{"$f":"IF(CC54=1,(CC77+CC82),0)","v":0}]
[3,0,{"$f":"IF(C11=\"3\",1,0)","v":0},null,{"$f":"IF(E11=\"3\",1,0)","v":0},null,0,null,0,null,0,null,0,null,0,null,0,null,0,null,0,null,0,null,0,null,0,null,0,null,0,null,0,null,0,null,0,null,0,null,0,null,0,null,0,null,0,null,0,null,0,null,0,null,0,null,0,null,0,null,0,null,0,null,0,null,0,null,{"$f":"IF(BQ11=\"3\",1,0)","v":0},null,0,null,0,null,0,null,0,null,0,null,0]
[null,0,{"$f":"IF(C56=1,(C77+C82),0)","v":0},null,{"$f":"IF(E56=1,(E77+E82),0)","v":0},null,{"$f":"IF(G56=1,(G77+G82),0)","v":0},null,{"$f":"IF(I56=1,(I77+I82),0)","v":0},null,{"$f":"IF(K56=1,(K77+K82),0)","v":0},null,{"$f":"IF(M56=1,(M77+M82),0)","v":0},null,{"$f":"IF(O56=1,(O77+O82),0)","v":0},null,{"$f":"IF(Q56=1,(Q77+Q82),0)","v":0},null,{"$f":"IF(S56=1,(S77+S82),0)","v":0},null,{"$f":"IF(U56=1,(U77+U82),0)","v":0},null,{"$f":"IF(W56=1,(W77+W82),0)","v":0},null,{"$f":"IF(Y56=1,(Y77+Y82),0)","v":0},null,{"$f":"IF(AA56=1,(AA77+AA82),0)","v":0},null,{"$f":"IF(AC56=1,(AC77+AC82),0)","v":0},null,{"$f":"IF(AE56=1,(AE77+AE82),0)","v":0},null,{"$f":"IF(AG56=1,(AG77+AG82),0)","v":0},null,{"$f":"IF(AI56=1,(AI77+AI82),0)","v":0},null,{"$f":"IF(AK56=1,(AK77+AK82),0)","v":0},null,{"$f":"IF(AM56=1,(AM77+AM82),0)","v":0},null,{"$f":"IF(AO56=1,(AO77+AO82),0)","v":0},null,{"$f":"IF(AQ56=1,(AQ77+AQ82),0)","v":0},null,{"$f":"IF(AS56=1,(AS77+AS82),0)","v":0},null,{"$f":"IF(AU56=1,(AU77+AU82),0)","v":0},null,{"$f":"IF(AW56=1,(AW77+AW82),0)","v":0},null,{"$f":"IF(AY56=1,(AY77+AY82),0)","v":0},null,{"$f":"IF(BA56=1,(BA77+BA82),0)","v":0},null,{"$f":"IF(BC56=1,(BC77+BC82),0)","v":0},null,{"$f":"IF(BE56=1,(BE77+BE82),0)","v":0},null,{"$f":"IF(BG56=1,(BG77+BG82),0)","v":0},null,{"$f":"IF(BI56=1,(BI77+BI82),0)","v":0},null,{"$f":"IF(BK56=1,(BK77+BK82),0)","v":0},null,{"$f":"IF(BM56=1,(BM77+BM82),0)","v":0},null,{"$f":"IF(BO56=1,(BO77+BO82),0)","v":0},null,{"$f":"IF(BQ56=1,(BQ77+BQ82),0)","v":0},null,{"$f":"IF(BS56=1,(BS77+BS82),0)","v":0},null,{"$f":"IF(BU56=1,(BU77+BU82),0)","v":0},null,{"$f":"IF(BW56=1,(BW77+BW82),0)","v":0},null,{"$f":"IF(BY56=1,(BY77+BY82),0)","v":0},null,{"$f":"IF(CA56=1,(CA77+CA82),0)","v":0},null,{"$f":"IF(CC56=1,(CC77+CC82),0)","v":0}]
[4,0,{"$f":"IF(C11=\"4\",1,0)","v":0},null,{"$f":"IF(E11=\"4\",1,0)","v":0},null,0,null,0,null,0,null,0,null,0,null,0,null,0,null,0,null,0,null,0,null,0,null,0,null,0,null,0,null,0,null,0,null,0,null,0,null,0,null,0,null,0,null,0,null,0,null,0,null,0,null,0,null,0,null,0,null,0,null,0,null,0,null,{"$f":"IF(BQ11=\"4\",1,0)","v":0},null,0,null,0,null,0,null,0,null,0,null,0]
[null,0,{"$f":"IF(C58=1,(C77+C82),0)","v":0},null,{"$f":"IF(E58=1,(E77+E82),0)","v":0},null,{"$f":"IF(G58=1,(G77+G82),0)","v":0},null,{"$f":"IF(I58=1,(I77+I82),0)","v":0},null,{"$f":"IF(K58=1,(K77+K82),0)","v":0},null,{"$f":"IF(M58=1,(M77+M82),0)","v":0},null,{"$f":"IF(O58=1,(O77+O82),0)","v":0},null,{"$f":"IF(Q58=1,(Q77+Q82),0)","v":0},null,{"$f":"IF(S58=1,(S77+S82),0)","v":0},null,{"$f":"IF(U58=1,(U77+U82),0)","v":0},null,{"$f":"IF(W58=1,(W77+W82),0)","v":0},null,{"$f":"IF(Y58=1,(Y77+Y82),0)","v":0},null,{"$f":"IF(AA58=1,(AA77+AA82),0)","v":0},null,{"$f":"IF(AC58=1,(AC77+AC82),0)","v":0},null,{"$f":"IF(AE58=1,(AE77+AE82),0)","v":0},null,{"$f":"IF(AG58=1,(AG77+AG82),0)","v":0},null,{"$f":"IF(AI58=1,(AI77+AI82),0)","v":0},null,{"$f":"IF(AK58=1,(AK77+AK82),0)","v":0},null,{"$f":"IF(AM58=1,(AM77+AM82),0)","v":0},null,{"$f":"IF(AO58=1,(AO77+AO82),0)","v":0},null,{"$f":"IF(AQ58=1,(AQ77+AQ82),0)","v":0},null,{"$f":"IF(AS58=1,(AS77+AS82),0)","v":0},null,{"$f":"IF(AU58=1,(AU77+AU82),0)","v":0},null,{"$f":"IF(AW58=1,(AW77+AW82),0)","v":0},null,{"$f":"IF(AY58=1,(AY77+AY82),0)","v":0},null,{"$f":"IF(BA58=1,(BA77+BA82),0)","v":0},null,{"$f":"IF(BC58=1,(BC77+BC82),0)","v":0},null,{"$f":"IF(BE58=1,(BE77+BE82),0)","v":0},null,{"$f":"IF(BG58=1,(BG77+BG82),0)","v":0},null,{"$f":"IF(BI58=1,(BI77+BI82),0)","v":0},null,{"$f":"IF(BK58=1,(BK77+BK82),0)","v":0},null,{"$f":"IF(BM58=1,(BM77+BM82),0)","v":0},null,{"$f":"IF(BO58=1,(BO77+BO82),0)","v":0},null,{"$f":"IF(BQ58=1,(BQ77+BQ82),0)","v":0},null,{"$f":"IF(BS58=1,(BS77+BS82),0)","v":0},null,{"$f":"IF(BU58=1,(BU77+BU82),0)","v":0},null,{"$f":"IF(BW58=1,(BW77+BW82),0)","v":0},null,{"$f":"IF(BY58=1,(BY77+BY82),0)","v":0},null,{"$f":"IF(CA58=1,(CA77+CA82),0)","v":0},null,{"$f":"IF(CC58=1,(CC77+CC82),0)","v":0}]
[5,0,{"$f":"IF(C11=\"5\",1,0)","v":0},null,{"$f":"IF(E11=\"5\",1,0)","v":0},null,0,null,0,null,0,null,0,null,0,null,0,null,0,null,0,null,0,null,0,null,0,null,0,null,0,null,0,null,0,null,0,null,0,null,0,null,0,null,0,null,0,null,0,null,0,null,0,null,0,null,0,null,0,null,0,null,0,null,0,null,0,null,{"$f":"IF(BQ11=\"5\",1,0)","v":0},null,0,null,0,null,0,null,0,null,0,null,0]
[null,0,{"$f":"IF(C60=1,(C77+C82),0)","v":0},null,{"$f":"IF(E60=1,(E77+E82),0)","v":0},null,{"$f":"IF(G60=1,(G77+G82),0)","v":0},null,{"$f":"IF(I60=1,(I77+I82),0)","v":0},null,{"$f":"IF(K60=1,(K77+K82),0)","v":0},null,{"$f":"IF(M60=1,(M77+M82),0)","v":0},null,{"$f":"IF(O60=1,(O77+O82),0)","v":0},null,{"$f":"IF(Q60=1,(Q77+Q82),0)","v":0},null,{"$f":"IF(S60=1,(S77+S82),0)","v":0},null,{"$f":"IF(U60=1,(U77+U82),0)","v":0},null,{"$f":"IF(W60=1,(W77+W82),0)","v":0},null,{"$f":"IF(Y60=1,(Y77+Y82),0)","v":0},null,{"$f":"IF(AA60=1,(AA77+AA82),0)","v":0},null,{"$f":"IF(AC60=1,(AC77+AC82),0)","v":0},null,{"$f":"IF(AE60=1,(AE77+AE82),0)","v":0},null,{"$f":"IF(AG60=1,(AG77+AG82),0)","v":0},null,{"$f":"IF(AI60=1,(AI77+AI82),0)","v":0},null,{"$f":"IF(AK60=1,(AK77+AK82),0)","v":0},null,{"$f":"IF(AM60=1,(AM77+AM82),0)","v":0},null,{"$f":"IF(AO60=1,(AO77+AO82),0)","v":0},null,{"$f":"IF(AQ60=1,(AQ77+AQ82),0)","v":0},null,{"$f":"IF(AS60=1,(AS77+AS82),0)","v":0},null,{"$f":"IF(AU60=1,(AU77+AU82),0)","v":0},null,{"$f":"IF(AW60=1,(AW77+AW82),0)","v":0},null,{"$f":"IF(AY60=1,(AY77+AY82),0)","v":0},null,{"$f":"IF(BA60=1,(BA77+BA82),0)","v":0},null,{"$f":"IF(BC60=1,(BC77+BC82),0)","v":0},null,{"$f":"IF(BE60=1,(BE77+BE82),0)","v":0},null,{"$f":"IF(BG60=1,(BG77+BG82),0)","v":0},null,{"$f":"IF(BI60=1,(BI77+BI82),0)","v":0},null,{"$f":"IF(BK60=1,(BK77+BK82),0)","v":0},null,{"$f":"IF(BM60=1,(BM77+BM82),0)","v":0},null,{"$f":"IF(BO60=1,(BO77+BO82),0)","v":0},null,{"$f":"IF(BQ60=1,(BQ77+BQ82),0)","v":0},null,{"$f":"IF(BS60=1,(BS77+BS82),0)","v":0},null,{"$f":"IF(BU60=1,(BU77+BU82),0)","v":0},null,{"$f":"IF(BW60=1,(BW77+BW82),0)","v":0},null,{"$f":"IF(BY60=1,(BY77+BY82),0)","v":0},null,{"$f":"IF(CA60=1,(CA77+CA82),0)","v":0},null,{"$f":"IF(CC60=1,(CC77+CC82),0)","v":0}]
[6,0,{"$f":"IF(C11=\"6\",1,0)","v":0},null,{"$f":"IF(E11=\"6\",1,0)","v":0},null,0,null,0,null,0,null,0,null,0,null,0,null,0,null,0,null,0,null,0,null,0,null,0,null,0,null,0,null,0,null,0,null,0,null,0,null,0,null,0,null,0,null,0,null,0,null,0,null,0,null,0,null,0,null,0,null,0,null,0,null,0,null,{"$f":"IF(BQ11=\"6\",1,0)","v":0},null,0,null,0,null,0,null,0,null,0,null,0]
[null,0,{"$f":"IF(C62=1,(C77+C82),0)","v":0},null,{"$f":"IF(E62=1,(E77+E82),0)","v":0},null,{"$f":"IF(G62=1,(G77+G82),0)","v":0},null,{"$f":"IF(I62=1,(I77+I82),0)","v":0},null,{"$f":"IF(K62=1,(K77+K82),0)","v":0},null,{"$f":"IF(M62=1,(M77+M82),0)","v":0},null,{"$f":"IF(O62=1,(O77+O82),0)","v":0},null,{"$f":"IF(Q62=1,(Q77+Q82),0)","v":0},null,{"$f":"IF(S62=1,(S77+S82),0)","v":0},null,{"$f":"IF(U62=1,(U77+U82),0)","v":0},null,{"$f":"IF(W62=1,(W77+W82),0)","v":0},null,{"$f":"IF(Y62=1,(Y77+Y82),0)","v":0},null,{"$f":"IF(AA62=1,(AA77+AA82),0)","v":0},null,{"$f":"IF(AC62=1,(AC77+AC82),0)","v":0},null,{"$f":"IF(AE62=1,(AE77+AE82),0)","v":0},null,{"$f":"IF(AG62=1,(AG77+AG82),0)","v":0},null,{"$f":"IF(AI62=1,(AI77+AI82),0)","v":0},null,{"$f":"IF(AK62=1,(AK77+AK82),0)","v":0},null,{"$f":"IF(AM62=1,(AM77+AM82),0)","v":0},null,{"$f":"IF(AO62=1,(AO77+AO82),0)","v":0},null,{"$f":"IF(AQ62=1,(AQ77+AQ82),0)","v":0},null,{"$f":"IF(AS62=1,(AS77+AS82),0)","v":0},null,{"$f":"IF(AU62=1,(AU77+AU82),0)","v":0},null,{"$f":"IF(AW62=1,(AW77+AW82),0)","v":0},null,{"$f":"IF(AY62=1,(AY77+AY82),0)","v":0},null,{"$f":"IF(BA62=1,(BA77+BA82),0)","v":0},null,{"$f":"IF(BC62=1,(BC77+BC82),0)","v":0},null,{"$f":"IF(BE62=1,(BE77+BE82),0)","v":0},null,{"$f":"IF(BG62=1,(BG77+BG82),0)","v":0},null,{"$f":"IF(BI62=1,(BI77+BI82),0)","v":0},null,{"$f":"IF(BK62=1,(BK77+BK82),0)","v":0},null,{"$f":"IF(BM62=1,(BM77+BM82),0)","v":0},null,{"$f":"IF(BO62=1,(BO77+BO82),0)","v":0},null,{"$f":"IF(BQ62=1,(BQ77+BQ82),0)","v":0},null,{"$f":"IF(BS62=1,(BS77+BS82),0)","v":0},null,{"$f":"IF(BU62=1,(BU77+BU82),0)","v":0},null,{"$f":"IF(BW62=1,(BW77+BW82),0)","v":0},null,{"$f":"IF(BY62=1,(BY77+BY82),0)","v":0},null,{"$f":"IF(CA62=1,(CA77+CA82),0)","v":0},null,{"$f":"IF(CC62=1,(CC77+CC82),0)","v":0}]
[7,0,{"$f":"IF(C11=\"7\",1,0)","v":0},null,{"$f":"IF(E11=\"7\",1,0)","v":0},null,0,null,0,null,0,null,0,null,0,null,0,null,0,null,0,null,0,null,0,null,0,null,0,null,0,null,0,null,0,null,0,null,0,null,0,null,0,null,0,null,0,null,0,null,0,null,0,null,0,null,0,null,0,null,0,null,0,null,0,null,0,null,{"$f":"IF(BQ11=\"7\",1,0)","v":0},null,0,null,0,null,0,null,0,null,0,null,0]
[null,0,{"$f":"IF(C64=1,(C77+C82),0)","v":0},null,{"$f":"IF(E64=1,(E77+E82),0)","v":0},null,{"$f":"IF(G64=1,(G77+G82),0)","v":0},null,{"$f":"IF(I64=1,(I77+I82),0)","v":0},null,{"$f":"IF(K64=1,(K77+K82),0)","v":0},null,{"$f":"IF(M64=1,(M77+M82),0)","v":0},null,{"$f":"IF(O64=1,(O77+O82),0)","v":0},null,{"$f":"IF(Q64=1,(Q77+Q82),0)","v":0},null,{"$f":"IF(S64=1,(S77+S82),0)","v":0},null,{"$f":"IF(U64=1,(U77+U82),0)","v":0},null,{"$f":"IF(W64=1,(W77+W82),0)","v":0},null,{"$f":"IF(Y64=1,(Y77+Y82),0)","v":0},null,{"$f":"IF(AA64=1,(AA77+AA82),0)","v":0},null,{"$f":"IF(AC64=1,(AC77+AC82),0)","v":0},null,{"$f":"IF(AE64=1,(AE77+AE82),0)","v":0},null,{"$f":"IF(AG64=1,(AG77+AG82),0)","v":0},null,{"$f":"IF(AI64=1,(AI77+AI82),0)","v":0},null,{"$f":"IF(AK64=1,(AK77+AK82),0)","v":0},null,{"$f":"IF(AM64=1,(AM77+AM82),0)","v":0},null,{"$f":"IF(AO64=1,(AO77+AO82),0)","v":0},null,{"$f":"IF(AQ64=1,(AQ77+AQ82),0)","v":0},null,{"$f":"IF(AS64=1,(AS77+AS82),0)","v":0},null,{"$f":"IF(AU64=1,(AU77+AU82),0)","v":0},null,{"$f":"IF(AW64=1,(AW77+AW82),0)","v":0},null,{"$f":"IF(AY64=1,(AY77+AY82),0)","v":0},null,{"$f":"IF(BA64=1,(BA77+BA82),0)","v":0},null,{"$f":"IF(BC64=1,(BC77+BC82),0)","v":0},null,{"$f":"IF(BE64=1,(BE77+BE82),0)","v":0},null,{"$f":"IF(BG64=1,(BG77+BG82),0)","v":0},null,{"$f":"IF(BI64=1,(BI77+BI82),0)","v":0},null,{"$f":"IF(BK64=1,(BK77+BK82),0)","v":0},null,{"$f":"IF(BM64=1,(BM77+BM82),0)","v":0},null,{"$f":"IF(BO64=1,(BO77+BO82),0)","v":0},null,{"$f":"IF(BQ64=1,(BQ77+BQ82),0)","v":0},null,{"$f":"IF(BS64=1,(BS77+BS82),0)","v":0},null,{"$f":"IF(BU64=1,(BU77+BU82),0)","v":0},null,{"$f":"IF(BW64=1,(BW77+BW82),0)","v":0},null,{"$f":"IF(BY64=1,(BY77+BY82),0)","v":0},null,{"$f":"IF(CA64=1,(CA77+CA82),0)","v":0},null,{"$f":"IF(CC64=1,(CC77+CC82),0)","v":0}]
[8,0,{"$f":"IF(C11=\"8\",1,0)","v":0},null,{"$f":"IF(E11=\"8\",1,0)","v":0},null,0,null,0,null,0,null,0,null,0,null,0,null,0,null,0,null,0,null,0,null,0,null,0,null,0,null,0,null,0,null,0,null,0,null,0,null,0,null,0,null,0,null,0,null,0,null,0,null,0,null,0,null,0,null,0,null,0,null,0,null,0,null,{"$f":"IF(BQ11=\"8\",1,0)","v":0},null,0,null,0,null,0,null,0,null,0,null,0]
[null,0,{"$f":"IF(C66=1,(C77+C82),0)","v":0},null,{"$f":"IF(E66=1,(E77+E82),0)","v":0},null,{"$f":"IF(G66=1,(G77+G82),0)","v":0},null,{"$f":"IF(I66=1,(I77+I82),0)","v":0},null,{"$f":"IF(K66=1,(K77+K82),0)","v":0},null,{"$f":"IF(M66=1,(M77+M82),0)","v":0},null,{"$f":"IF(O66=1,(O77+O82),0)","v":0},null,{"$f":"IF(Q66=1,(Q77+Q82),0)","v":0},null,{"$f":"IF(S66=1,(S77+S82),0)","v":0},null,{"$f":"IF(U66=1,(U77+U82),0)","v":0},null,{"$f":"IF(W66=1,(W77+W82),0)","v":0},null,{"$f":"IF(Y66=1,(Y77+Y82),0)","v":0},null,{"$f":"IF(AA66=1,(AA77+AA82),0)","v":0},null,{"$f":"IF(AC66=1,(AC77+AC82),0)","v":0},null,{"$f":"IF(AE66=1,(AE77+AE82),0)","v":0},null,{"$f":"IF(AG66=1,(AG77+AG82),0)","v":0},null,{"$f":"IF(AI66=1,(AI77+AI82),0)","v":0},null,{"$f":"IF(AK66=1,(AK77+AK82),0)","v":0},null,{"$f":"IF(AM66=1,(AM77+AM82),0)","v":0},null,{"$f":"IF(AO66=1,(AO77+AO82),0)","v":0},null,{"$f":"IF(AQ66=1,(AQ77+AQ82),0)","v":0},null,{"$f":"IF(AS66=1,(AS77+AS82),0)","v":0},null,{"$f":"IF(AU66=1,(AU77+AU82),0)","v":0},null,{"$f":"IF(AW66=1,(AW77+AW82),0)","v":0},null,{"$f":"IF(AY66=1,(AY77+AY82),0)","v":0},null,{"$f":"IF(BA66=1,(BA77+BA82),0)","v":0},null,{"$f":"IF(BC66=1,(BC77+BC82),0)","v":0},null,{"$f":"IF(BE66=1,(BE77+BE82),0)","v":0},null,{"$f":"IF(BG66=1,(BG77+BG82),0)","v":0},null,{"$f":"IF(BI66=1,(BI77+BI82),0)","v":0},null,{"$f":"IF(BK66=1,(BK77+BK82),0)","v":0},null,{"$f":"IF(BM66=1,(BM77+BM82),0)","v":0},null,{"$f":"IF(BO66=1,(BO77+BO82),0)","v":0},null,{"$f":"IF(BQ66=1,(BQ77+BQ82),0)","v":0},null,{"$f":"IF(BS66=1,(BS77+BS82),0)","v":0},null,{"$f":"IF(BU66=1,(BU77+BU82),0)","v":0},null,{"$f":"IF(BW66=1,(BW77+BW82),0)","v":0},null,{"$f":"IF(BY66=1,(BY77+BY82),0)","v":0},null,{"$f":"IF(CA66=1,(CA77+CA82),0)","v":0},null,{"$f":"IF(CC66=1,(CC77+CC82),0)","v":0}]
[9,0,{"$f":"IF(C11=\"9\",1,0)","v":0},null,{"$f":"IF(E11=\"9\",1,0)","v":0},null,0,null,0,null,0,null,0,null,0,null,0,null,0,null,0,null,0,null,0,null,0,null,0,null,0,null,0,null,0,null,0,null,0,null,0,null,0,null,0,null,0,null,0,null,0,null,0,null,0,null,0,null,0,null,0,null,0,null,0,null,0,null,{"$f":"IF(BQ11=\"9\",1,0)","v":0},null,0,null,0,null,0,null,0,null,0,null,0]
[null,0,{"$f":"IF(C68=1,(C77+C82),0)","v":0},null,{"$f":"IF(E68=1,(E77+E82),0)","v":0},null,{"$f":"IF(G68=1,(G77+G82),0)","v":0},null,{"$f":"IF(I68=1,(I77+I82),0)","v":0},null,{"$f":"IF(K68=1,(K77+K82),0)","v":0},null,{"$f":"IF(M68=1,(M77+M82),0)","v":0},null,{"$f":"IF(O68=1,(O77+O82),0)","v":0},null,{"$f":"IF(Q68=1,(Q77+Q82),0)","v":0},null,{"$f":"IF(S68=1,(S77+S82),0)","v":0},null,{"$f":"IF(U68=1,(U77+U82),0)","v":0},null,{"$f":"IF(W68=1,(W77+W82),0)","v":0},null,{"$f":"IF(Y68=1,(Y77+Y82),0)","v":0},null,{"$f":"IF(AA68=1,(AA77+AA82),0)","v":0},null,{"$f":"IF(AC68=1,(AC77+AC82),0)","v":0},null,{"$f":"IF(AE68=1,(AE77+AE82),0)","v":0},null,{"$f":"IF(AG68=1,(AG77+AG82),0)","v":0},null,{"$f":"IF(AI68=1,(AI77+AI82),0)","v":0},null,{"$f":"IF(AK68=1,(AK77+AK82),0)","v":0},null,{"$f":"IF(AM68=1,(AM77+AM82),0)","v":0},null,{"$f":"IF(AO68=1,(AO77+AO82),0)","v":0},null,{"$f":"IF(AQ68=1,(AQ77+AQ82),0)","v":0},null,{"$f":"IF(AS68=1,(AS77+AS82),0)","v":0},null,{"$f":"IF(AU68=1,(AU77+AU82),0)","v":0},null,{"$f":"IF(AW68=1,(AW77+AW82),0)","v":0},null,{"$f":"IF(AY68=1,(AY77+AY82),0)","v":0},null,{"$f":"IF(BA68=1,(BA77+BA82),0)","v":0},null,{"$f":"IF(BC68=1,(BC77+BC82),0)","v":0},null,{"$f":"IF(BE68=1,(BE77+BE82),0)","v":0},null,{"$f":"IF(BG68=1,(BG77+BG82),0)","v":0},null,{"$f":"IF(BI68=1,(BI77+BI82),0)","v":0},null,{"$f":"IF(BK68=1,(BK77+BK82),0)","v":0},null,{"$f":"IF(BM68=1,(BM77+BM82),0)","v":0},null,{"$f":"IF(BO68=1,(BO77+BO82),0)","v":0},null,{"$f":"IF(BQ68=1,(BQ77+BQ82),0)","v":0},null,{"$f":"IF(BS68=1,(BS77+BS82),0)","v":0},null,{"$f":"IF(BU68=1,(BU77+BU82),0)","v":0},null,{"$f":"IF(BW68=1,(BW77+BW82),0)","v":0},null,{"$f":"IF(BY68=1,(BY77+BY82),0)","v":0},null,{"$f":"IF(CA68=1,(CA77+CA82),0)","v":0},null,{"$f":"IF(CC68=1,(CC77+CC82),0)","v":0}]
[10,0,{"$f":"IF(C11=\"10\",1,0)","v":0},null,{"$f":"IF(E11=\"10\",1,0)","v":0},null,0,null,0,null,0,null,0,null,0,null,0,null,0,null,0,null,0,null,0,null,0,null,0,null,0,null,0,null,0,null,0,null,0,null,0,null,0,null,0,null,0,null,0,null,0,null,0,null,0,null,0,null,0,null,0,null,0,null,0,null,0,null,{"$f":"IF(BQ11=\"10\",1,0)","v":0},null,0,null,0,null,0,null,0,null,0,null,0]
[null,0,{"$f":"IF(C70=1,(C77+C82),0)","v":0},null,{"$f":"IF(E70=1,(E77+E82),0)","v":0},null,{"$f":"IF(G70=1,(G77+G82),0)","v":0},null,{"$f":"IF(I70=1,(I77+I82),0)","v":0},null,{"$f":"IF(K70=1,(K77+K82),0)","v":0},null,{"$f":"IF(M70=1,(M77+M82),0)","v":0},null,{"$f":"IF(O70=1,(O77+O82),0)","v":0},null,{"$f":"IF(Q70=1,(Q77+Q82),0)","v":0},null,{"$f":"IF(S70=1,(S77+S82),0)","v":0},null,{"$f":"IF(U70=1,(U77+U82),0)","v":0},null,{"$f":"IF(W70=1,(W77+W82),0)","v":0},null,{"$f":"IF(Y70=1,(Y77+Y82),0)","v":0},null,{"$f":"IF(AA70=1,(AA77+AA82),0)","v":0},null,{"$f":"IF(AC70=1,(AC77+AC82),0)","v":0},null,{"$f":"IF(AE70=1,(AE77+AE82),0)","v":0},null,{"$f":"IF(AG70=1,(AG77+AG82),0)","v":0},null,{"$f":"IF(AI70=1,(AI77+AI82),0)","v":0},null,{"$f":"IF(AK70=1,(AK77+AK82),0)","v":0},null,{"$f":"IF(AM70=1,(AM77+AM82),0)","v":0},null,{"$f":"IF(AO70=1,(AO77+AO82),0)","v":0},null,{"$f":"IF(AQ70=1,(AQ77+AQ82),0)","v":0},null,{"$f":"IF(AS70=1,(AS77+AS82),0)","v":0},null,{"$f":"IF(AU70=1,(AU77+AU82),0)","v":0},null,{"$f":"IF(AW70=1,(AW77+AW82),0)","v":0},null,{"$f":"IF(AY70=1,(AY77+AY82),0)","v":0},null,{"$f":"IF(BA70=1,(BA77+BA82),0)","v":0},null,{"$f":"IF(BC70=1,(BC77+BC82),0)","v":0},null,{"$f":"IF(BE70=1,(BE77+BE82),0)","v":0},null,{"$f":"IF(BG70=1,(BG77+BG82),0)","v":0},null,{"$f":"IF(BI70=1,(BI77+BI82),0)","v":0},null,{"$f":"IF(BK70=1,(BK77+BK82),0)","v":0},null,{"$f":"IF(BM70=1,(BM77+BM82),0)","v":0},null,{"$f":"IF(BO70=1,(BO77+BO82),0)","v":0},null,{"$f":"IF(BQ70=1,(BQ77+BQ82),0)","v":0},null,{"$f":"IF(BS70=1,(BS77+BS82),0)","v":0},null,{"$f":"IF(BU70=1,(BU77+BU82),0)","v":0},null,{"$f":"IF(BW70=1,(BW77+BW82),0)","v":0},null,{"$f":"IF(BY70=1,(BY77+BY82),0)","v":0},null,{"$f":"IF(CA70=1,(CA77+CA82),0)","v":0},null,{"$f":"IF(CC70=1,(CC77+CC82),0)","v":0}]
[]
["Linge sale"]
["Evacuation",{"$f":"SUM(C74:CC74)","v":0},{"$f":"(2*C15)+C17+C21+C23","v":0},null,{"$f":"(2*E15)+E17+E21+E23","v":0},null,{"$f":"(2*G15)+G17+G21+G23","v":0},null,{"$f":"(2*I15)+I17+I21+I23","v":0},null,{"$f":"(2*K15)+K17+K21+K23","v":0},null,{"$f":"(2*M15)+M17+M21+M23","v":0},null,{"$f":"(2*O15)+O17+O21+O23","v":0},null,{"$f":"(2*Q15)+Q17+Q21+Q23","v":0},null,{"$f":"(2*S15)+S17+S21+S23","v":0},null,{"$f":"(2*U15)+U17+U21+U23","v":0},null,{"$f":"(2*W15)+W17+W21+W23","v":0},null,{"$f":"(2*Y15)+Y17+Y21+Y23","v":0},null,{"$f":"(2*AA15)+AA17+AA21+AA23","v":0},null,{"$f":"(2*AC15)+AC17+AC21+AC23","v":0},null,{"$f":"(2*AE15)+AE17+AE21+AE23","v":0},null,{"$f":"(2*AG15)+AG17+AG21+AG23","v":0},null,{"$f":"(2*AI15)+AI17+AI21+AI23","v":0},null,{"$f":"(2*AK15)+AK17+AK21+AK23","v":0},null,{"$f":"(2*AM15)+AM17+AM21+AM23","v":0},null,{"$f":"(2*AO15)+AO17+AO21+AO23","v":0},null,{"$f":"(2*AQ15)+AQ17+AQ21+AQ23","v":0},null,{"$f":"(2*AS15)+AS17+AS21+AS23","v":0},null,{"$f":"(2*AU15)+AU17+AU21+AU23","v":0},null,{"$f":"(2*AW15)+AW17+AW21+AW23","v":0},null,{"$f":"(2*AY15)+AY17+AY21+AY23","v":0},null,{"$f":"(2*BA15)+BA17+BA21+BA23","v":0},null,{"$f":"(2*BC15)+BC17+BC21+BC23","v":0},null,{"$f":"(2*BE15)+BE17+BE21+BE23","v":0},null,{"$f":"(2*BG15)+BG17+BG21+BG23","v":0},null,{"$f":"(2*BI15)+BI17+BI21+BI23","v":0},null,{"$f":"(2*BK15)+BK17+BK21+BK23","v":0},null,{"$f":"(2*BM15)+BM17+BM21+BM23","v":0},null,{"$f":"(2*BO15)+BO17+BO21+BO23","v":0},null,{"$f":"(2*BQ15)+BQ17+BQ21+BQ23","v":0},null,{"$f":"(2*BS15)+BS17+BS21+BS23","v":0},null,{"$f":"(2*BU15)+BU17+BU21+BU23","v":0},null,{"$f":"(2*BW15)+BW17+BW21+BW23","v":0},null,{"$f":"(2*BY15)+BY17+BY21+BY23","v":0},null,{"$f":"(2*CA15)+CA17+CA21+CA23","v":0},null,{"$f":"(2*CC15)+CC17+CC21+CC23","v":0}]
["Protection",{"$f":"SUM(C75:CC75)","v":0},{"$f":"C19+(2*C25)+(2*C27)+(2*C29)+(2*C35)","v":0},null,{"$f":"E19+(2*E25)+(2*E27)+(2*E29)+(2*E35)","v":0},null,{"$f":"G19+(2*G25)+(2*G27)+(2*G29)+(2*G35)","v":0},null,{"$f":"I19+(2*I25)+(2*I27)+(2*I29)+(2*I35)","v":0},null,{"$f":"K19+(2*K25)+(2*K27)+(2*K29)+(2*K35)","v":0},null,{"$f":"M19+(2*M25)+(2*M27)+(2*M29)+(2*M35)","v":0},null,{"$f":"O19+(2*O25)+(2*O27)+(2*O29)+(2*O35)","v":0},null,{"$f":"Q19+(2*Q25)+(2*Q27)+(2*Q29)+(2*Q35)","v":0},null,{"$f":"S19+(2*S25)+(2*S27)+(2*S29)+(2*S35)","v":0},null,{"$f":"U19+(2*U25)+(2*U27)+(2*U29)+(2*U35)","v":0},null,{"$f":"W19+(2*W25)+(2*W27)+(2*W29)+(2*W35)","v":0},null,{"$f":"Y19+(2*Y25)+(2*Y27)+(2*Y29)+(2*Y35)","v":0},null,{"$f":"AA19+(2*AA25)+(2*AA27)+(2*AA29)+(2*AA35)","v":0},null,{"$f":"AC19+(2*AC25)+(2*AC27)+(2*AC29)+(2*AC35)","v":0},null,{"$f":"AE19+(2*AE25)+(2*AE27)+(2*AE29)+(2*AE35)","v":0},null,{"$f":"AG19+(2*AG25)+(2*AG27)+(2*AG29)+(2*AG35)","v":0},null,{"$f":"AI19+(2*AI25)+(2*AI27)+(2*AI29)+(2*AI35)","v":0},null,{"$f":"AK19+(2*AK25)+(2*AK27)+(2*AK29)+(2*AK35)","v":0},null,{"$f":"AM19+(2*AM25)+(2*AM27)+(2*AM29)+(2*AM35)","v":0},null,{"$f":"AO19+(2*AO25)+(2*AO27)+(2*AO29)+(2*AO35)","v":0},null,{"$f":"AQ19+(2*AQ25)+(2*AQ27)+(2*AQ29)+(2*AQ35)","v":0},null,{"$f":"AS19+(2*AS25)+(2*AS27)+(2*AS29)+(2*AS35)","v":0},null,{"$f":"AU19+(2*AU25)+(2*AU27)+(2*AU29)+(2*AU35)","v":0},null,{"$f":"AW19+(2*AW25)+(2*AW27)+(2*AW29)+(2*AW35)","v":0},null,{"$f":"AY19+(2*AY25)+(2*AY27)+(2*AY29)+(2*AY35)","v":0},null,{"$f":"BA19+(2*BA25)+(2*BA27)+(2*BA29)+(2*BA35)","v":0},null,{"$f":"BC19+(2*BC25)+(2*BC27)+(2*BC29)+(2*BC35)","v":0},null,{"$f":"BE19+(2*BE25)+(2*BE27)+(2*BE29)+(2*BE35)","v":0},null,{"$f":"BG19+(2*BG25)+(2*BG27)+(2*BG29)+(2*BG35)","v":0},null,{"$f":"BI19+(2*BI25)+(2*BI27)+(2*BI29)+(2*BI35)","v":0},null,{"$f":"BK19+(2*BK25)+(2*BK27)+(2*BK29)+(2*BK35)","v":0},null,{"$f":"BM19+(2*BM25)+(2*BM27)+(2*BM29)+(2*BM35)","v":0},null,{"$f":"BO19+(2*BO25)+(2*BO27)+(2*BO29)+(2*BO35)","v":0},null,{"$f":"BQ19+(2*BQ25)+(2*BQ27)+(2*BQ29)+(2*BQ35)","v":0},null,{"$f":"BS19+(2*BS25)+(2*BS27)+(2*BS29)+(2*BS35)","v":0},null,{"$f":"BU19+(2*BU25)+(2*BU27)+(2*BU29)+(2*BU35)","v":0},null,{"$f":"BW19+(2*BW25)+(2*BW27)+(2*BW29)+(2*BW35)","v":0},null,{"$f":"BY19+(2*BY25)+(2*BY27)+(2*BY29)+(2*BY35)","v":0},null,{"$f":"CA19+(2*CA25)+(2*CA27)+(2*CA29)+(2*CA35)","v":0},null,{"$f":"CC19+(2*CC25)+(2*CC27)+(2*CC29)+(2*CC35)","v":0}]
["Transport",{"$f":"SUM(C76:CC76)","v":0},{"$f":"C31+C33","v":0},null,{"$f":"E31+E33","v":0},null,{"$f":"G31+G33","v":0},null,{"$f":"I31+I33","v":0},null,{"$f":"K31+K33","v":0},null,{"$f":"M31+M33","v":0},null,{"$f":"O31+O33","v":0},null,{"$f":"Q31+Q33","v":0},null,{"$f":"S31+S33","v":0},null,{"$f":"U31+U33","v":0},null,{"$f":"W31+W33","v":0},null,{"$f":"Y31+Y33","v":0},null,{"$f":"AA31+AA33","v":0},null,{"$f":"AC31+AC33","v":0},null,{"$f":"AE31+AE33","v":0},null,{"$f":"AG31+AG33","v":0},null,{"$f":"AI31+AI33","v":0},null,{"$f":"AK31+AK33","v":0},null,{"$f":"AM31+AM33","v":0},null,{"$f":"AO31+AO33","v":0},null,{"$f":"AQ31+AQ33","v":0},null,{"$f":"AS31+AS33","v":0},null,{"$f":"AU31+AU33","v":0},null,{"$f":"AW31+AW33","v":0},null,{"$f":"AY31+AY33","v":0},null,{"$f":"BA31+BA33","v":0},null,{"$f":"BC31+BC33","v":0},null,{"$f":"BE31+BE33","v":0},null,{"$f":"BG31+BG33","v":0},null,{"$f":"BI31+BI33","v":0},null,{"$f":"BK31+BK33","v":0},null,{"$f":"BM31+BM33","v":0},null,{"$f":"BO31+BO33","v":0},null,{"$f":"BQ31+BQ33","v":0},null,{"$f":"BS31+BS33","v":0},null,{"$f":"BU31+BU33","v":0},null,{"$f":"BW31+BW33","v":0},null,{"$f":"BY31+BY33","v":0},null,{"$f":"CA31+CA33","v":0},null,{"$f":"CC31+CC33","v":0}]
["Tot linge sale",{"$f":"SUM(C77:CC77)","v":0},{"$f":"SUM(C74:C76)","v":0},null,{"$f":"SUM(E74:E76)","v":0},null,{"$f":"SUM(G74:G76)","v":0},null,{"$f":"SUM(I74:I76)","v":0},null,{"$f":"SUM(K74:K76)","v":0},null,{"$f":"SUM(M74:M76)","v":0},null,{"$f":"SUM(O74:O76)","v":0},null,{"$f":"SUM(Q74:Q76)","v":0},null,{"$f":"SUM(S74:S76)","v":0},null,{"$f":"SUM(U74:U76)","v":0},null,{"$f":"SUM(W74:W76)","v":0},null,{"$f":"SUM(Y74:Y76)","v":0},null,{"$f":"SUM(AA74:AA76)","v":0},null,{"$f":"SUM(AC74:AC76)","v":0},null,{"$f":"SUM(AE74:AE76)","v":0},null,{"$f":"SUM(AG74:AG76)","v":0},null,{"$f":"SUM(AI74:AI76)","v":0},null,{"$f":"SUM(AK74:AK76)","v":0},null,{"$f":"SUM(AM74:AM76)","v":0},null,{"$f":"SUM(AO74:AO76)","v":0},null,{"$f":"SUM(AQ74:AQ76)","v":0},null,{"$f":"SUM(AS74:AS76)","v":0},null,{"$f":"SUM(AU74:AU76)","v":0},null,{"$f":"SUM(AW74:AW76)","v":0},null,{"$f":"SUM(AY74:AY76)","v":0},null,{"$f":"SUM(BA74:BA76)","v":0},null,{"$f":"SUM(BC74:BC76)","v":0},null,{"$f":"SUM(BE74:BE76)","v":0},null,{"$f":"SUM(BG74:BG76)","v":0},null,{"$f":"SUM(BI74:BI76)","v":0},null,{"$f":"SUM(BK74:BK76)","v":0},null,{"$f":"SUM(BM74:BM76)","v":0},null,{"$f":"SUM(BO74:BO76)","v":0},null,{"$f":"SUM(BQ74:BQ76)","v":0},null,{"$f":"SUM(BS74:BS76)","v":0},null,{"$f":"SUM(BU74:BU76)","v":0},null,{"$f":"SUM(BW74:BW76)","v":0},null,{"$f":"SUM(BY74:BY76)","v":0},null,{"$f":"SUM(CA74:CA76)","v":0},null,{"$f":"SUM(CC74:CC76)","v":0}]
[]
["Linge propre"]
["Hygiène",{"$f":"SUM(C80:CC80)","v":0},{"$f":"(2*C39)","v":0},null,{"$f":"(2*E39)","v":0},null,{"$f":"(2*G39)","v":0},null,{"$f":"(2*I39)","v":0},null,{"$f":"(2*K39)","v":0},null,{"$f":"(2*M39)","v":0},null,{"$f":"(2*O39)","v":0},null,{"$f":"(2*Q39)","v":0},null,{"$f":"(2*S39)","v":0},null,{"$f":"(2*U39)","v":0},null,{"$f":"(2*W39)","v":0},null,{"$f":"(2*Y39)","v":0},null,{"$f":"(2*AA39)","v":0},null,{"$f":"(2*AC39)","v":0},null,{"$f":"(2*AE39)","v":0},null,{"$f":"(2*AG39)","v":0},null,{"$f":"(2*AI39)","v":0},null,{"$f":"(2*AK39)","v":0},null,{"$f":"(2*AM39)","v":0},null,{"$f":"(2*AO39)","v":0},null,{"$f":"(2*AQ39)","v":0},null,{"$f":"(2*AS39)","v":0},null,{"$f":"(2*AU39)","v":0},null,{"$f":"(2*AW39)","v":0},null,{"$f":"(2*AY39)","v":0},null,{"$f":"(2*BA39)","v":0},null,{"$f":"(2*BC39)","v":0},null,{"$f":"(2*BE39)","v":0},null,{"$f":"(2*BG39)","v":0},null,{"$f":"(2*BI39)","v":0},null,{"$f":"(2*BK39)","v":0},null,{"$f":"(2*BM39)","v":0},null,{"$f":"(2*BO39)","v":0},null,{"$f":"(2*BQ39)","v":0},null,{"$f":"(2*BS39)","v":0},null,{"$f":"(2*BU39)","v":0},null,{"$f":"(2*BW39)","v":0},null,{"$f":"(2*BY39)","v":0},null,{"$f":"(2*CA39)","v":0},null,{"$f":"(2*CC39)","v":0}]
["Utilisation",{"$f":"SUM(C81:CC81)","v":0},{"$f":"C41+C43","v":0},null,{"$f":"E41+E43","v":0},null,{"$f":"G41+G43","v":0},null,{"$f":"I41+I43","v":0},null,{"$f":"K41+K43","v":0},null,{"$f":"M41+M43","v":0},null,{"$f":"O41+O43","v":0},null,{"$f":"Q41+Q43","v":0},null,{"$f":"S41+S43","v":0},null,{"$f":"U41+U43","v":0},null,{"$f":"W41+W43","v":0},null,{"$f":"Y41+Y43","v":0},null,{"$f":"AA41+AA43","v":0},null,{"$f":"AC41+AC43","v":0},null,{"$f":"AE41+AE43","v":0},null,{"$f":"AG41+AG43","v":0},null,{"$f":"AI41+AI43","v":0},null,{"$f":"AK41+AK43","v":0},null,{"$f":"AM41+AM43","v":0},null,{"$f":"AO41+AO43","v":0},null,{"$f":"AQ41+AQ43","v":0},null,{"$f":"AS41+AS43","v":0},null,{"$f":"AU41+AU43","v":0},null,{"$f":"AW41+AW43","v":0},null,{"$f":"AY41+AY43","v":0},null,{"$f":"BA41+BA43","v":0},null,{"$f":"BC41+BC43","v":0},null,{"$f":"BE41+BE43","v":0},null,{"$f":"BG41+BG43","v":0},null,{"$f":"BI41+BI43","v":0},null,{"$f":"BK41+BK43","v":0},null,{"$f":"BM41+BM43","v":0},null,{"$f":"BO41+BO43","v":0},null,{"$f":"BQ41+BQ43","v":0},null,{"$f":"BS41+BS43","v":0},null,{"$f":"BU41+BU43","v":0},null,{"$f":"BW41+BW43","v":0},null,{"$f":"BY41+BY43","v":0},null,{"$f":"CA41+CA43","v":0},null,{"$f":"CC41+CC43","v":0}]
["Tot linge prop",{"$f":"SUM(C82:CC82)","v":0},{"$f":"SUM(C80:C81)","v":0},null,{"$f":"SUM(E80:E81)","v":0},null,{"$f":"SUM(G80:G81)","v":0},null,{"$f":"SUM(I80:I81)","v":0},null,{"$f":"SUM(K80:K81)","v":0},null,{"$f":"SUM(M80:M81)","v":0},null,{"$f":"SUM(O80:O81)","v":0},null,{"$f":"SUM(Q80:Q81)","v":0},null,{"$f":"SUM(S80:S81)","v":0},null,{"$f":"SUM(U80:U81)","v":0},null,{"$f":"SUM(W80:W81)","v":0},null,{"$f":"SUM(Y80:Y81)","v":0},null,{"$f":"SUM(AA80:AA81)","v":0},null,{"$f":"SUM(AC80:AC81)","v":0},null,{"$f":"SUM(AE80:AE81)","v":0},null,{"$f":"SUM(AG80:AG81)","v":0},null,{"$f":"SUM(AI80:AI81)","v":0},null,{"$f":"SUM(AK80:AK81)","v":0},null,{"$f":"SUM(AM80:AM81)","v":0},null,{"$f":"SUM(AO80:AO81)","v":0},null,{"$f":"SUM(AQ80:AQ81)","v":0},null,{"$f":"SUM(AS80:AS81)","v":0},null,{"$f":"SUM(AU80:AU81)","v":0},null,{"$f":"SUM(AW80:AW81)","v":0},null,{"$f":"SUM(AY80:AY81)","v":0},null,{"$f":"SUM(BA80:BA81)","v":0},null,{"$f":"SUM(BC80:BC81)","v":0},null,{"$f":"SUM(BE80:BE81)","v":0},null,{"$f":"SUM(BG80:BG81)","v":0},null,{"$f":"SUM(BI80:BI81)","v":0},null,{"$f":"SUM(BK80:BK81)","v":0},null,{"$f":"SUM(BM80:BM81)","v":0},null,{"$f":"SUM(BO80:BO81)","v":0},null,{"$f":"SUM(BQ80:BQ81)","v":0},null,{"$f":"SUM(BS80:BS81)","v":0},null,{"$f":"SUM(BU80:BU81)","v":0},null,{"$f":"SUM(BW80:BW81)","v":0},null,{"$f":"SUM(BY80:BY81)","v":0},null,{"$f":"SUM(CA80:CA81)","v":0},null,{"$f":"SUM(CC80:CC81)","v":0}]

{"sheet":"Poster_Service#7","index":27,"n_rows":46,"n_cols":16,"rows_kept":46,"cut":false,"hidden":true,"merged":[[23,5,23,6],[24,5,24,6],[28,0,33,13],[15,5,15,6],[15,2,15,4],[16,5,16,6],[22,5,22,6],[21,5,21,6],[21,2,21,4],[17,5,17,6],[19,5,19,6],[18,5,18,6],[0,1,0,13],[5,0,5,6],[11,0,11,6],[12,0,12,6],[1,12,1,13]]}
[null,"Audit de la fonction linge en établissement de santé et en EHPAD",null,null,null,null,null,null,null,null,null,null,null,null,"   Pour imprimer le poster:"]
[null,null,null,null,null,null,null,null,"ETABLISSEMENT :",{"$f":"IF(NOM=\"\",\"à préciser\",NOM)","v":"à préciser"},null,null,"Date de réalisation",null,"   Menu \"Fichier\" puis \"Imprimer\""]
[null,null,null,null,null,null,null,null,"SERVICE : ",{"$f":"IF(SERVICE7=\"\",\"à préciser\",SERVICE7)","v":"à préciser"},null,null,"de : ",{"$f":"IF(SERVICE7=\"\",\"à préciser\",(MIN(Fiches_Services!O9,'Fiches_Utilisateurs_Service#7'!C7:CC7)))","v":"à préciser"}]
[null,null,null,null,null,null,null,null,null,null,null,null,"au : ",{"$f":"IF(SERVICE7=\"\",\"à préciser\",(MAX(Fiches_Services!O9,'Fiches_Utilisateurs_Service#7'!C7:CC7)))","v":"à préciser"},"Vous ne pourrez imprimer le poster que"]
["Méthodologie",null,null,null,null,null,null,null,"Score \"utilisateur\" du service par catégories professionnelles",null,null,null,null,null,"si vous avez saisi vos axes d'amélioration"]
["Le recueil des données a été réalisé au niveau:",null,null,null,null,null,null,null,null,null,null,null,null,null,"et commentaires dans l'encadré jaune."]
["       Du service : ",null,null,null,null,null,"le recensement des locaux, du matériel et des procédures   "]
[null,null,null,null,null,null,"disponibles dans les services en lien avec la fonction linge.  "]
["De l'utilisateur : ",null,null,null,null,null,"l'observation des pratiques afin de vérifier l'adéquation avec"]
[null,null,null,null,null,null,"avec les recommandations de bonnes pratiques.                   "]
["Résultats"]
["Les pourcentages d'objectifs atteints sont présentés pour le service. "]
["Les résultats détaillés figurent dans le rapport d'analyse finale."]
[null,null,"Services évalués de l'établissement n =",{"$f":"(\" \"&SERVICES&\" services\")","v":" 0 services"}]
[]
["► Score \"service\"",null,"Service",null,null,"Etablissement"]
["Gestion du linge sale",null,{"$f":"IF(Rapport!F769=\"non saisi\",\"-\",Rapport!F769)","v":"-"},16,{"$f":"Rapport!H769","v":"non saisi"},{"$f":"IF(Rapport!H158=\"non saisi\",\"-\",Rapport!H158)","v":"-"}]
["Gestion du linge propre",null,{"$f":"IF(Rapport!F770=\"non saisi\",\"-\",Rapport!F770)","v":"-"},12,{"$f":"Rapport!H770","v":"non saisi"},{"$f":"IF(Rapport!H159=\"non saisi\",\"-\",Rapport!H159)","v":"-"}]
["Bionettoyage et traçabilité ",null,{"$f":"IF(Rapport!F771=\"non saisi\",\"-\",Rapport!F771)","v":"-"},12,{"$f":"Rapport!H771","v":"non saisi"},{"$f":"IF(Rapport!H160=\"non saisi\",\"-\",Rapport!H160)","v":"-"}]
["Score total",null,{"$f":"IF(Rapport!F772=\"non saisi\",\"-\",Rapport!F772)","v":"-"},40,{"$f":"Rapport!H772","v":"non saisi"},{"$f":"IF(Rapport!H161=\"non saisi\",\"-\",Rapport!H161)","v":"-"}]
[]
["► Score \"utilisateur\"",null,"Service",null,null,"Etablissement"]
["Evacuation du linge sale",null,{"$f":"IF(Rapport!F823=\"non saisi\",\"-\",Rapport!F823)","v":"-"},16,{"$f":"IF(Rapport!H823=\"non saisi\",\"-\",Rapport!H823)","v":"-"},{"$f":"IF(Rapport!H200=\"non saisi\",\"-\",Rapport!H200)","v":"-"}]
["Utilisation du linge propre",null,{"$f":"IF(Rapport!F824=\"non saisi\",\"-\",Rapport!F824)","v":"-"},4,{"$f":"IF(Rapport!H824=\"non saisi\",\"-\",Rapport!H824)","v":"-"},{"$f":"IF(Rapport!H201=\"non saisi\",\"-\",Rapport!H201)","v":"-"}]
["Score total",null,{"$f":"IF(Rapport!F825=\"non saisi\",\"-\",Rapport!F825)","v":"-"},20,{"$f":"IF(Rapport!H825=\"non saisi\",\"-\",Rapport!H825)","v":"-"},{"$f":"IF(Rapport!H202=\"non saisi\",\"-\",Rapport!H202)","v":"-"}]
[]
["Axes d'amélioration et commentaires"]
[]
[null,null,null,null,null,null,null,null,null,null,null,null,null,null,"◄ avant d'imprimer, veuillez"]
[null,null,null,null,null,null,null,null,null,null,null,null,null,null,"tapez vos axes d'amélioration"]
[null,null,null,null,null,null,null,null,null,null,null,null,null,null,"et commentaires dans le cadre"]
[null,null,null,null,null,null,null,null,null,null,null,null,null,null,"ci-contre."]
[]
[]
[]
[null,null,null,null,null,null,null,null,"La mise en œuvre d'actions d'amélioration avant une nouvelle évaluation contribue au processus d'amélioration de la qualité des soins"]
[null,null,null,null,null,null,null,null,null,null,null,null,null,null,"Autre",{"$f":"Rapport!H863","v":"non saisi"}]
[null,null,null,null,null,null,null,null,null,null,null,null,null,null,"Etudiant",{"$f":"Rapport!H862","v":"non saisi"}]
["L'établissement est en retard et doit assurer les meilleures conditions d’hygiène et de protection des patients et des personnels vis-à-vis du risque infectieux. ",null,null,null,null,null,null,null,null,null,null,null,null,null,"Brancardier",{"$f":"Rapport!H861","v":"non saisi"}]
[null,null,null,null,null,null,null,null,null,null,null,null,null,null,"Ambulancier",{"$f":"Rapport!H860","v":"non saisi"}]
["l'établissement a mis en place une politique qualité des activités et des prestations relatives aux articles de linge, il doit poursuivre ses actions",null,null,null,null,null,null,null,null,null,null,null,null,null,"Agent hospitalier",{"$f":"Rapport!H859","v":"non saisi"}]
["L'établissement est fortement engagé dans la qualité des activités relatives aux articles de linge, il doit poursuivre ses actions",null,null,null,null,null,null,null,null,null,null,null,null,null,"Aide-soignante/aux. puériculture",{"$f":"Rapport!H858","v":"non saisi"}]
[null,null,null,null,null,null,null,null,null,null,null,null,null,null,"Manipulateur radio",{"$f":"Rapport!H857","v":"non saisi"}]
[null,null,null,null,null,null,null,null,null,null,null,null,null,null,"Kinésithérapeute",{"$f":"Rapport!H856","v":"non saisi"}]
[null,null,null,null,null,null,null,null,null,null,null,null,null,null,"Sage-femme",{"$f":"Rapport!H855","v":"non saisi"}]
[null,null,null,null,null,null,null,null,null,null,null,null,null,null,"Infirmière et IDE spécialisée",{"$f":"Rapport!H854","v":"non saisi"}]

{"sheet":"Fiches_Utilisateurs_Service#8","index":28,"n_rows":47,"n_cols":82,"rows_kept":47,"cut":false,"hidden":false,"merged":[[0,0,0,2],[1,0,1,2]]}
["FICHE N° 2"]
["UTILISATEURS SERVICE #8"]
[null,null,"Utilisateur #1",null,"Utilisateur #2",null,"Utilisateur #3",null,"Utilisateur #4",null,"Utilisateur #5",null,"Utilisateur #6",null,"Utilisateur #7",null,"Utilisateur #8",null,"Utilisateur #9",null,"Utilisateur #10",null,"Utilisateur #11",null,"Utilisateur #12",null,"Utilisateur #13",null,"Utilisateur #14",null,"Utilisateur #15",null,"Utilisateur #16",null,"Utilisateur #17",null,"Utilisateur #18",null,"Utilisateur #19",null,"Utilisateur #20",null,"Utilisateur #21",null,"Utilisateur #22",null,"Utilisateur #23",null,"Utilisateur #24",null,"Utilisateur #25",null,"Utilisateur #26",null,"Utilisateur #27",null,"Utilisateur #28",null,"Utilisateur #29",null,"Utilisateur #30",null,"Utilisateur #31",null,"Utilisateur #32",null,"Utilisateur #33",null,"Utilisateur #34",null,"Utilisateur #35",null,"Utilisateur #36",null,"Utilisateur #37",null,"Utilisateur #38",null,"Utilisateur #39",null,"Utilisateur #40"]
[]
[null,"VERIFICATION DONNEES NON SAISIES/N° DE SAISIE DE FICHE",{"$f":"C45","v":"non saisies"},null,{"$f":"E45","v":"non saisies"},null,{"$f":"G45","v":"non saisies"},null,{"$f":"I45","v":"non saisies"},null,{"$f":"K45","v":"non saisies"},null,{"$f":"M45","v":"non saisies"},null,{"$f":"O45","v":"non saisies"},null,{"$f":"Q45","v":"non saisies"},null,{"$f":"S45","v":"non saisies"},null,{"$f":"U45","v":"non saisies"},null,{"$f":"W45","v":"non saisies"},null,{"$f":"Y45","v":"non saisies"},null,{"$f":"AA45","v":"non saisies"},null,{"$f":"AC45","v":"non saisies"},null,{"$f":"AE45","v":"non saisies"},null,{"$f":"AG45","v":"non saisies"},null,{"$f":"AI45","v":"non saisies"},null,{"$f":"AK45","v":"non saisies"},null,{"$f":"AM45","v":"non saisies"},null,{"$f":"AO45","v":"non saisies"},null,{"$f":"AQ45","v":"non saisies"},null,{"$f":"AS45","v":"non saisies"},null,{"$f":"AU45","v":"non saisies"},null,{"$f":"AW45","v":"non saisies"},null,{"$f":"AY45","v":"non saisies"},null,{"$f":"BA45","v":"non saisies"},null,{"$f":"BC45","v":"non saisies"},null,{"$f":"BE45","v":"non saisies"},null,{"$f":"BG45","v":"non saisies"},null,{"$f":"BI45","v":"non saisies"},null,{"$f":"BK45","v":"non saisies"},null,{"$f":"BM45","v":"non saisies"},null,{"$f":"BO45","v":"non saisies"},null,{"$f":"BQ45","v":"non saisies"},null,{"$f":"BS45","v":"non saisies"},null,{"$f":"BU45","v":"non saisies"},null,{"$f":"BW45","v":"non saisies"},null,{"$f":"BY45","v":"non saisies"},null,{"$f":"CA45","v":"non saisies"},null,{"$f":"CC45","v":"non saisies"}]
[]
[null,"Date"]
[]
[null,"Nom du service",{"$f":"IF(SERVICE8=\"\",\"non saisi\",SERVICE8)","v":"non saisi"},null,{"$f":"IF(SERVICE8=\"\",\"non saisi\",SERVICE8)","v":"non saisi"},null,{"$f":"IF(SERVICE8=\"\",\"non saisi\",SERVICE8)","v":"non saisi"},null,{"$f":"IF(SERVICE8=\"\",\"non saisi\",SERVICE8)","v":"non saisi"},null,{"$f":"IF(SERVICE8=\"\",\"non saisi\",SERVICE8)","v":"non saisi"},null,{"$f":"IF(SERVICE8=\"\",\"non saisi\",SERVICE8)","v":"non saisi"},null,{"$f":"IF(SERVICE8=\"\",\"non saisi\",SERVICE8)","v":"non saisi"},null,{"$f":"IF(SERVICE8=\"\",\"non saisi\",SERVICE8)","v":"non saisi"},null,{"$f":"IF(SERVICE8=\"\",\"non saisi\",SERVICE8)","v":"non saisi"},null,{"$f":"IF(SERVICE8=\"\",\"non saisi\",SERVICE8)","v":"non saisi"},null,{"$f":"IF(SERVICE8=\"\",\"non saisi\",SERVICE8)","v":"non saisi"},null,{"$f":"IF(SERVICE8=\"\",\"non saisi\",SERVICE8)","v":"non saisi"},null,{"$f":"IF(SERVICE8=\"\",\"non saisi\",SERVICE8)","v":"non saisi"},null,{"$f":"IF(SERVICE8=\"\",\"non saisi\",SERVICE8)","v":"non saisi"},null,{"$f":"IF(SERVICE8=\"\",\"non saisi\",SERVICE8)","v":"non saisi"},null,{"$f":"IF(SERVICE8=\"\",\"non saisi\",SERVICE8)","v":"non saisi"},null,{"$f":"IF(SERVICE8=\"\",\"non saisi\",SERVICE8)","v":"non saisi"},null,{"$f":"IF(SERVICE8=\"\",\"non saisi\",SERVICE8)","v":"non saisi"},null,{"$f":"IF(SERVICE8=\"\",\"non saisi\",SERVICE8)","v":"non saisi"},null,{"$f":"IF(SERVICE8=\"\",\"non saisi\",SERVICE8)","v":"non saisi"},null,{"$f":"IF(SERVICE8=\"\",\"non saisi\",SERVICE8)","v":"non saisi"},null,{"$f":"IF(SERVICE8=\"\",\"non saisi\",SERVICE8)","v":"non saisi"},null,{"$f":"IF(SERVICE8=\"\",\"non saisi\",SERVICE8)","v":"non saisi"},null,{"$f":"IF(SERVICE8=\"\",\"non saisi\",SERVICE8)","v":"non saisi"},null,{"$f":"IF(SERVICE8=\"\",\"non saisi\",SERVICE8)","v":"non saisi"},null,{"$f":"IF(SERVICE8=\"\",\"non saisi\",SERVICE8)","v":"non saisi"},null,{"$f":"IF(SERVICE8=\"\",\"non saisi\",SERVICE8)","v":"non saisi"},null,{"$f":"IF(SERVICE8=\"\",\"non saisi\",SERVICE8)","v":"non saisi"},null,{"$f":"IF(SERVICE8=\"\",\"non saisi\",SERVICE8)","v":"non saisi"},null,{"$f":"IF(SERVICE8=\"\",\"non saisi\",SERVICE8)","v":"non saisi"},null,{"$f":"IF(SERVICE8=\"\",\"non saisi\",SERVICE8)","v":"non saisi"},null,{"$f":"IF(SERVICE8=\"\",\"non saisi\",SERVICE8)","v":"non saisi"},null,{"$f":"IF(SERVICE8=\"\",\"non saisi\",SERVICE8)","v":"non saisi"},null,{"$f":"IF(SERVICE8=\"\",\"non saisi\",SERVICE8)","v":"non saisi"},null,{"$f":"IF(SERVICE8=\"\",\"non saisi\",SERVICE8)","v":"non saisi"},null,{"$f":"IF(SERVICE8=\"\",\"non saisi\",SERVICE8)","v":"non saisi"},null,{"$f":"IF(SERVICE8=\"\",\"non saisi\",SERVICE8)","v":"non saisi"},null,{"$f":"IF(SERVICE8=\"\",\"non saisi\",SERVICE8)","v":"non saisi"},null,{"$f":"IF(SERVICE8=\"\",\"non saisi\",SERVICE8)","v":"non saisi"},null,{"$f":"IF(SERVICE8=\"\",\"non saisi\",SERVICE8)","v":"non saisi"}]
[]
[null,"Fonction du personnel",null,null,null,null,null,null,null,null,null,null,null,null,null,null,null,null,null,null,null,null,null,null,null,null,null,null,null,null,null,null,null,null,null,null,null,null,null,null,null,null,null,null,null,null,null,null,null,null,null,null,null,null,null,null,null,null,null,null,null,null,null,null,null,null,null,null,null,null,null,null,null,null,null,null,null,null,null,null,null,"1 Infirmière et IDE spécialisée"]
[null,null,null,null,null,null,null,null,null,null,null,null,null,null,null,null,null,null,null,null,null,null,null,null,null,null,null,null,null,null,null,null,null,null,null,null,null,null,null,null,null,null,null,null,null,null,null,null,null,null,null,null,null,null,null,null,null,null,null,null,null,null,null,null,null,null,null,null,null,null,null,null,null,null,null,null,null,null,null,null,null,"2 Sage Femme"]
["Linge sale",null,"1 Oui - 2 Non",null,"1 Oui - 2 Non",null,"1 Oui - 2 Non",null,"1 Oui - 2 Non",null,"1 Oui - 2 Non",null,"1 Oui - 2 Non",null,"1 Oui - 2 Non",null,"1 Oui - 2 Non",null,"1 Oui - 2 Non",null,"1 Oui - 2 Non",null,"1 Oui - 2 Non",null,"1 Oui - 2 Non",null,"1 Oui - 2 Non",null,"1 Oui - 2 Non",null,"1 Oui - 2 Non",null,"1 Oui - 2 Non",null,"1 Oui - 2 Non",null,"1 Oui - 2 Non",null,"1 Oui - 2 Non",null,"1 Oui - 2 Non",null,"1 Oui - 2 Non",null,"1 Oui - 2 Non",null,"1 Oui - 2 Non",null,"1 Oui - 2 Non",null,"1 Oui - 2 Non",null,"1 Oui - 2 Non",null,"1 Oui - 2 Non",null,"1 Oui - 2 Non",null,"1 Oui - 2 Non",null,"1 Oui - 2 Non",null,"1 Oui - 2 Non",null,"1 Oui - 2 Non",null,"1 Oui - 2 Non",null,"1 Oui - 2 Non",null,"1 Oui - 2 Non",null,"1 Oui - 2 Non",null,"1 Oui - 2 Non",null,"1 Oui - 2 Non",null,"1 Oui - 2 Non",null,"1 Oui - 2 Non","3 Kinésithérapeute"]
[null,null,null,null,null,null,null,null,null,null,null,null,null,null,null,null,null,null,null,null,null,null,null,null,null,null,null,null,null,null,null,null,null,null,null,null,null,null,null,null,null,null,null,null,null,null,null,null,null,null,null,null,null,null,null,null,null,null,null,null,null,null,null,null,null,null,null,null,null,null,null,null,null,null,null,null,null,null,null,null,null,"4 Manipulateur Radio"]
[1,"Le linge sale est évacué à la fin du soin, sans dépose sur le sol",null,null,null,null,null,null,null,null,null,null,null,null,null,null,null,null,null,null,null,null,null,null,null,null,null,null,null,null,null,null,null,null,null,null,null,null,null,null,null,null,null,null,null,null,null,null,null,null,null,null,null,null,null,null,null,null,null,null,null,null,null,null,null,null,null,null,null,null,null,null,null,null,null,null,null,null,null,null,null,"5 Aide soignante/aux. de puériculture"]
[null,null,null,null,null,null,null,null,null,null,null,null,null,null,null,null,null,null,null,null,null,null,null,null,null,null,null,null,null,null,null,null,null,null,null,null,null,null,null,null,null,null,null,null,null,null,null,null,null,null,null,null,null,null,null,null,null,null,null,null,null,null,null,null,null,null,null,null,null,null,null,null,null,null,null,null,null,null,null,null,null,"6 Agent Hospitalier"]
[2,"Le professionnel vérifie l’absence d’objet étranger",null,null,null,null,null,null,null,null,null,null,null,null,null,null,null,null,null,null,null,null,null,null,null,null,null,null,null,null,null,null,null,null,null,null,null,null,null,null,null,null,null,null,null,null,null,null,null,null,null,null,null,null,null,null,null,null,null,null,null,null,null,null,null,null,null,null,null,null,null,null,null,null,null,null,null,null,null,null,null,"7 Ambulancier"]
[null,null,null,null,null,null,null,null,null,null,null,null,null,null,null,null,null,null,null,null,null,null,null,null,null,null,null,null,null,null,null,null,null,null,null,null,null,null,null,null,null,null,null,null,null,null,null,null,null,null,null,null,null,null,null,null,null,null,null,null,null,null,null,null,null,null,null,null,null,null,null,null,null,null,null,null,null,null,null,null,null,"8 Brancardier"]
[3,"Le professionnel porte des gants lors de la manipulation de linge souillé par des liquides biologiques",null,null,null,null,null,null,null,null,null,null,null,null,null,null,null,null,null,null,null,null,null,null,null,null,null,null,null,null,null,null,null,null,null,null,null,null,null,null,null,null,null,null,null,null,null,null,null,null,null,null,null,null,null,null,null,null,null,null,null,null,null,null,null,null,null,null,null,null,null,null,null,null,null,null,null,null,null,null,null,"9 Etudiant"]
[null,null,null,null,null,null,null,null,null,null,null,null,null,null,null,null,null,null,null,null,null,null,null,null,null,null,null,null,null,null,null,null,null,null,null,null,null,null,null,null,null,null,null,null,null,null,null,null,null,null,null,null,null,null,null,null,null,null,null,null,null,null,null,null,null,null,null,null,null,null,null,null,null,null,null,null,null,null,null,null,null,"10 Autre"]
[4,"Le professionnel manipule le linge sale avec des gestes mesurés pour limiter la contamination de l'environnement",null,null,null,null,null,null,null,null,null,null,null,null,null,null,null,null,null,null,null,null,null,null,null,null,null,null,null,null,null,null,null,null,null,null,null,null,null,null,null,null,null,null,null,null,null,null,null,null,null,null,null,null,null,null,null,null,null,null,null,null,null,null,null,null,null,null,null,null,null,null,null,null,null,null,null,null,null,null,null,1]
[null,null,null,null,null,null,null,null,null,null,null,null,null,null,null,null,null,null,null,null,null,null,null,null,null,null,null,null,null,null,null,null,null,null,null,null,null,null,null,null,null,null,null,null,null,null,null,null,null,null,null,null,null,null,null,null,null,null,null,null,null,null,null,null,null,null,null,null,null,null,null,null,null,null,null,null,null,null,null,null,null,2]
[5,"Les articles sont répartis selon la procédure de tri de l'établissement",null,null,null,null,null,null,null,null,null,null,null,null,null,null,null,null,null,null,null,null,null,null,null,null,null,null,null,null,null,null,null,null,null,null,null,null,null,null,null,null,null,null,null,null,null,null,null,null,null,null,null,null,null,null,null,null,null,null,null,null,null,null,null,null,null,null,null,null,null,null,null,null,null,null,null,null,null,null,null,3]
[null,null,null,null,null,null,null,null,null,null,null,null,null,null,null,null,null,null,null,null,null,null,null,null,null,null,null,null,null,null,null,null,null,null,null,null,null,null,null,null,null,null,null,null,null,null,null,null,null,null,null,null,null,null,null,null,null,null,null,null,null,null,null,null,null,null,null,null,null,null,null,null,null,null,null,null,null,null,null,null,null,4]
[6,"Le linge est tenu à distance de la tenue professionnelle",null,null,null,null,null,null,null,null,null,null,null,null,null,null,null,null,null,null,null,null,null,null,null,null,null,null,null,null,null,null,null,null,null,null,null,null,null,null,null,null,null,null,null,null,null,null,null,null,null,null,null,null,null,null,null,null,null,null,null,null,null,null,null,null,null,null,null,null,null,null,null,null,null,null,null,null,null,null,null,5]
[null,null,null,null,null,null,null,null,null,null,null,null,null,null,null,null,null,null,null,null,null,null,null,null,null,null,null,null,null,null,null,null,null,null,null,null,null,null,null,null,null,null,null,null,null,null,null,null,null,null,null,null,null,null,null,null,null,null,null,null,null,null,null,null,null,null,null,null,null,null,null,null,null,null,null,null,null,null,null,null,null,6]
[7,"Le système d'ouverture du chariot des sacs collecteurs de linge sale est manipulé sans les mains",null,null,null,null,null,null,null,null,null,null,null,null,null,null,null,null,null,null,null,null,null,null,null,null,null,null,null,null,null,null,null,null,null,null,null,null,null,null,null,null,null,null,null,null,null,null,null,null,null,null,null,null,null,null,null,null,null,null,null,null,null,null,null,null,null,null,null,null,null,null,null,null,null,null,null,null,null,null,null,7]
[null,null,null,null,null,null,null,null,null,null,null,null,null,null,null,null,null,null,null,null,null,null,null,null,null,null,null,null,null,null,null,null,null,null,null,null,null,null,null,null,null,null,null,null,null,null,null,null,null,null,null,null,null,null,null,null,null,null,null,null,null,null,null,null,null,null,null,null,null,null,null,null,null,null,null,null,null,null,null,null,null,8]
[8,"Le professionnel réalise une hygiène des mains après avoir manipulé le linge sale",null,null,null,null,null,null,null,null,null,null,null,null,null,null,null,null,null,null,null,null,null,null,null,null,null,null,null,null,null,null,null,null,null,null,null,null,null,null,null,null,null,null,null,null,null,null,null,null,null,null,null,null,null,null,null,null,null,null,null,null,null,null,null,null,null,null,null,null,null,null,null,null,null,null,null,null,null,null,null,9]
[null,null,null,null,null,null,null,null,null,null,null,null,null,null,null,null,null,null,null,null,null,null,null,null,null,null,null,null,null,null,null,null,null,null,null,null,null,null,null,null,null,null,null,null,null,null,null,null,null,null,null,null,null,null,null,null,null,null,null,null,null,null,null,null,null,null,null,null,null,null,null,null,null,null,null,null,null,null,null,null,null,10]
[9,"Dès la fin de l'activité, les sacs de linge sale sont évacués vers un local de stockage réservé"]
[null,"Si Non Observé (NO) coder 3"]
[10,"Les sacs de linge sale sont transportés sans être traînés par terre lors de transport"]
[null,"Si Non Observé (NO) coder 3"]
[11,"Le professionnel réalise une hygiène des mains après avoir manipulé les sacs de linge"]
[null,"Si Non Observé (NO) coder 3"]
["Linge propre",null,"1 Oui - 2 Non",null,"1 Oui - 2 Non",null,"1 Oui - 2 Non",null,"1 Oui - 2 Non",null,"1 Oui - 2 Non",null,"1 Oui - 2 Non",null,"1 Oui - 2 Non",null,"1 Oui - 2 Non",null,"1 Oui - 2 Non",null,"1 Oui - 2 Non",null,"1 Oui - 2 Non",null,"1 Oui - 2 Non",null,"1 Oui - 2 Non",null,"1 Oui - 2 Non",null,"1 Oui - 2 Non",null,"1 Oui - 2 Non",null,"1 Oui - 2 Non",null,"1 Oui - 2 Non",null,"1 Oui - 2 Non",null,"1 Oui - 2 Non",null,"1 Oui - 2 Non",null,"1 Oui - 2 Non",null,"1 Oui - 2 Non",null,"1 Oui - 2 Non",null,"1 Oui - 2 Non",null,"1 Oui - 2 Non",null,"1 Oui - 2 Non",null,"1 Oui - 2 Non",null,"1 Oui - 2 Non",null,"1 Oui - 2 Non",null,"1 Oui - 2 Non",null,"1 Oui - 2 Non",null,"1 Oui - 2 Non",null,"1 Oui - 2 Non",null,"1 Oui - 2 Non",null,"1 Oui - 2 Non",null,"1 Oui - 2 Non",null,"1 Oui - 2 Non",null,"1 Oui - 2 Non",null,"1 Oui - 2 Non"]
[]
[12,"Le professionnel réalise une hygiène des mains avant de manipuler le linge propre "]
[]
[13,"Le linge est déconditionné au fur et à mesure des besoins"]
[]
[14,"Le linge entré dans la chambre et non utilisé est évacué (considéré comme sale)"]
[]
[null,"VERIFICATION DONNEES NON SAISIES/N° DE SAISIE DE FICHE",{"$f":"IF(OR(C7=\"\",C9=\"non saisi\",C11=\"\",C15=\"\",C17=\"\",C19=\"\",C21=\"\",C23=\"\",C25=\"\",C27=\"\",C29=\"\",C31=\"\",C33=\"\",C35=\"\",C39=\"\",C41=\"\",C43=\"\"),\"non saisies\",(SERVICES+_OBS1+_OBS2+_OBS3+_OBS4+_OBS5+_OBS6+_OBS7+1))","v":"non saisies"},null,{"$f":"IF(OR(E7=\"\",E9=\"non saisi\",E11=\"\",E15=\"\",E17=\"\",E19=\"\",E21=\"\",E23=\"\",E25=\"\",E27=\"\",E29=\"\",E31=\"\",E33=\"\",E35=\"\",E39=\"\",E41=\"\",E43=\"\"),\"non saisies\",(SERVICES+_OBS1+_OBS2+_OBS3+_OBS4+_OBS5+_OBS6+_OBS7+2))","v":"non saisies"},null,{"$f":"IF(OR(G7=\"\",G9=\"non saisi\",G11=\"\",G15=\"\",G17=\"\",G19=\"\",G21=\"\",G23=\"\",G25=\"\",G27=\"\",G29=\"\",G31=\"\",G33=\"\",G35=\"\",G39=\"\",G41=\"\",G43=\"\"),\"non saisies\",(SERVICES+_OBS1+_OBS2+_OBS3+_OBS4+_OBS5+_OBS6+_OBS7+3))","v":"non saisies"},null,{"$f":"IF(OR(I7=\"\",I9=\"non saisi\",I11=\"\",I15=\"\",I17=\"\",I19=\"\",I21=\"\",I23=\"\",I25=\"\",I27=\"\",I29=\"\",I31=\"\",I33=\"\",I35=\"\",I39=\"\",I41=\"\",I43=\"\"),\"non saisies\",(SERVICES+_OBS1+_OBS2+_OBS3+_OBS4+_OBS5+_OBS6+_OBS7+4))","v":"non saisies"},null,{"$f":"IF(OR(K7=\"\",K9=\"non saisi\",K11=\"\",K15=\"\",K17=\"\",K19=\"\",K21=\"\",K23=\"\",K25=\"\",K27=\"\",K29=\"\",K31=\"\",K33=\"\",K35=\"\",K39=\"\",K41=\"\",K43=\"\"),\"non saisies\",(SERVICES+_OBS1+_OBS2+_OBS3+_OBS4+_OBS5+_OBS6+_OBS7+5))","v":"non saisies"},null,{"$f":"IF(OR(M7=\"\",M9=\"non saisi\",M11=\"\",M15=\"\",M17=\"\",M19=\"\",M21=\"\",M23=\"\",M25=\"\",M27=\"\",M29=\"\",M31=\"\",M33=\"\",M35=\"\",M39=\"\",M41=\"\",M43=\"\"),\"non saisies\",(SERVICES+_OBS1+_OBS2+_OBS3+_OBS4+_OBS5+_OBS6+_OBS7+6))","v":"non saisies"},null,{"$f":"IF(OR(O7=\"\",O9=\"non saisi\",O11=\"\",O15=\"\",O17=\"\",O19=\"\",O21=\"\",O23=\"\",O25=\"\",O27=\"\",O29=\"\",O31=\"\",O33=\"\",O35=\"\",O39=\"\",O41=\"\",O43=\"\"),\"non saisies\",(SERVICES+_OBS1+_OBS2+_OBS3+_OBS4+_OBS5+_OBS6+_OBS7+7))","v":"non saisies"},null,{"$f":"IF(OR(Q7=\"\",Q9=\"non saisi\",Q11=\"\",Q15=\"\",Q17=\"\",Q19=\"\",Q21=\"\",Q23=\"\",Q25=\"\",Q27=\"\",Q29=\"\",Q31=\"\",Q33=\"\",Q35=\"\",Q39=\"\",Q41=\"\",Q43=\"\"),\"non saisies\",(SERVICES+_OBS1+_OBS2+_OBS3+_OBS4+_OBS5+_OBS6+_OBS7+8))","v":"non saisies"},null,{"$f":"IF(OR(S7=\"\",S9=\"non saisi\",S11=\"\",S15=\"\",S17=\"\",S19=\"\",S21=\"\",S23=\"\",S25=\"\",S27=\"\",S29=\"\",S31=\"\",S33=\"\",S35=\"\",S39=\"\",S41=\"\",S43=\"\"),\"non saisies\",(SERVICES+_OBS1+_OBS2+_OBS3+_OBS4+_OBS5+_OBS6+_OBS7+9))","v":"non saisies"},null,{"$f":"IF(OR(U7=\"\",U9=\"non saisi\",U11=\"\",U15=\"\",U17=\"\",U19=\"\",U21=\"\",U23=\"\",U25=\"\",U27=\"\",U29=\"\",U31=\"\",U33=\"\",U35=\"\",U39=\"\",U41=\"\",U43=\"\"),\"non saisies\",(SERVICES+_OBS1+_OBS2+_OBS3+_OBS4+_OBS5+_OBS6+_OBS7+10))","v":"non saisies"},null,{"$f":"IF(OR(W7=\"\",W9=\"non saisi\",W11=\"\",W15=\"\",W17=\"\",W19=\"\",W21=\"\",W23=\"\",W25=\"\",W27=\"\",W29=\"\",W31=\"\",W33=\"\",W35=\"\",W39=\"\",W41=\"\",W43=\"\"),\"non saisies\",(SERVICES+_OBS1+_OBS2+_OBS3+_OBS4+_OBS5+_OBS6+_OBS7+11))","v":"non saisies"},null,{"$f":"IF(OR(Y7=\"\",Y9=\"non saisi\",Y11=\"\",Y15=\"\",Y17=\"\",Y19=\"\",Y21=\"\",Y23=\"\",Y25=\"\",Y27=\"\",Y29=\"\",Y31=\"\",Y33=\"\",Y35=\"\",Y39=\"\",Y41=\"\",Y43=\"\"),\"non saisies\",(SERVICES+_OBS1+_OBS2+_OBS3+_OBS4+_OBS5+_OBS6+_OBS7+12))","v":"non saisies"},null,{"$f":"IF(OR(AA7=\"\",AA9=\"non saisi\",AA11=\"\",AA15=\"\",AA17=\"\",AA19=\"\",AA21=\"\",AA23=\"\",AA25=\"\",AA27=\"\",AA29=\"\",AA31=\"\",AA33=\"\",AA35=\"\",AA39=\"\",AA41=\"\",AA43=\"\"),\"non saisies\",(SERVICES+_OBS1+_OBS2+_OBS3+_OBS4+_OBS5+_OBS6+_OBS7+13))","v":"non saisies"},null,{"$f":"IF(OR(AC7=\"\",AC9=\"non saisi\",AC11=\"\",AC15=\"\",AC17=\"\",AC19=\"\",AC21=\"\",AC23=\"\",AC25=\"\",AC27=\"\",AC29=\"\",AC31=\"\",AC33=\"\",AC35=\"\",AC39=\"\",AC41=\"\",AC43=\"\"),\"non saisies\",(SERVICES+_OBS1+_OBS2+_OBS3+_OBS4+_OBS5+_OBS6+_OBS7+14))","v":"non saisies"},null,{"$f":"IF(OR(AE7=\"\",AE9=\"non saisi\",AE11=\"\",AE15=\"\",AE17=\"\",AE19=\"\",AE21=\"\",AE23=\"\",AE25=\"\",AE27=\"\",AE29=\"\",AE31=\"\",AE33=\"\",AE35=\"\",AE39=\"\",AE41=\"\",AE43=\"\"),\"non saisies\",(SERVICES+_OBS1+_OBS2+_OBS3+_OBS4+_OBS5+_OBS6+_OBS7+15))","v":"non saisies"},null,{"$f":"IF(OR(AG7=\"\",AG9=\"non saisi\",AG11=\"\",AG15=\"\",AG17=\"\",AG19=\"\",AG21=\"\",AG23=\"\",AG25=\"\",AG27=\"\",AG29=\"\",AG31=\"\",AG33=\"\",AG35=\"\",AG39=\"\",AG41=\"\",AG43=\"\"),\"non saisies\",(SERVICES+_OBS1+_OBS2+_OBS3+_OBS4+_OBS5+_OBS6+_OBS7+16))","v":"non saisies"},null,{"$f":"IF(OR(AI7=\"\",AI9=\"non saisi\",AI11=\"\",AI15=\"\",AI17=\"\",AI19=\"\",AI21=\"\",AI23=\"\",AI25=\"\",AI27=\"\",AI29=\"\",AI31=\"\",AI33=\"\",AI35=\"\",AI39=\"\",AI41=\"\",AI43=\"\"),\"non saisies\",(SERVICES+_OBS1+_OBS2+_OBS3+_OBS4+_OBS5+_OBS6+_OBS7+17))","v":"non saisies"},null,{"$f":"IF(OR(AK7=\"\",AK9=\"non saisi\",AK11=\"\",AK15=\"\",AK17=\"\",AK19=\"\",AK21=\"\",AK23=\"\",AK25=\"\",AK27=\"\",AK29=\"\",AK31=\"\",AK33=\"\",AK35=\"\",AK39=\"\",AK41=\"\",AK43=\"\"),\"non saisies\",(SERVICES+_OBS1+_OBS2+_OBS3+_OBS4+_OBS5+_OBS6+_OBS7+18))","v":"non saisies"},null,{"$f":"IF(OR(AM7=\"\",AM9=\"non saisi\",AM11=\"\",AM15=\"\",AM17=\"\",AM19=\"\",AM21=\"\",AM23=\"\",AM25=\"\",AM27=\"\",AM29=\"\",AM31=\"\",AM33=\"\",AM35=\"\",AM39=\"\",AM41=\"\",AM43=\"\"),\"non saisies\",(SERVICES+_OBS1+_OBS2+_OBS3+_OBS4+_OBS5+_OBS6+_OBS7+19))","v":"non saisies"},null,{"$f":"IF(OR(AO7=\"\",AO9=\"non saisi\",AO11=\"\",AO15=\"\",AO17=\"\",AO19=\"\",AO21=\"\",AO23=\"\",AO25=\"\",AO27=\"\",AO29=\"\",AO31=\"\",AO33=\"\",AO35=\"\",AO39=\"\",AO41=\"\",AO43=\"\"),\"non saisies\",(SERVICES+_OBS1+_OBS2+_OBS3+_OBS4+_OBS5+_OBS6+_OBS7+20))","v":"non saisies"},null,{"$f":"IF(OR(AQ7=\"\",AQ9=\"non saisi\",AQ11=\"\",AQ15=\"\",AQ17=\"\",AQ19=\"\",AQ21=\"\",AQ23=\"\",AQ25=\"\",AQ27=\"\",AQ29=\"\",AQ31=\"\",AQ33=\"\",AQ35=\"\",AQ39=\"\",AQ41=\"\",AQ43=\"\"),\"non saisies\",(SERVICES+_OBS1+_OBS2+_OBS3+_OBS4+_OBS5+_OBS6+_OBS7+21))","v":"non saisies"},null,{"$f":"IF(OR(AS7=\"\",AS9=\"non saisi\",AS11=\"\",AS15=\"\",AS17=\"\",AS19=\"\",AS21=\"\",AS23=\"\",AS25=\"\",AS27=\"\",AS29=\"\",AS31=\"\",AS33=\"\",AS35=\"\",AS39=\"\",AS41=\"\",AS43=\"\"),\"non saisies\",(SERVICES+_OBS1+_OBS2+_OBS3+_OBS4+_OBS5+_OBS6+_OBS7+22))","v":"non saisies"},null,{"$f":"IF(OR(AU7=\"\",AU9=\"non saisi\",AU11=\"\",AU15=\"\",AU17=\"\",AU19=\"\",AU21=\"\",AU23=\"\",AU25=\"\",AU27=\"\",AU29=\"\",AU31=\"\",AU33=\"\",AU35=\"\",AU39=\"\",AU41=\"\",AU43=\"\"),\"non saisies\",(SERVICES+_OBS1+_OBS2+_OBS3+_OBS4+_OBS5+_OBS6+_OBS7+23))","v":"non saisies"},null,{"$f":"IF(OR(AW7=\"\",AW9=\"non saisi\",AW11=\"\",AW15=\"\",AW17=\"\",AW19=\"\",AW21=\"\",AW23=\"\",AW25=\"\",AW27=\"\",AW29=\"\",AW31=\"\",AW33=\"\",AW35=\"\",AW39=\"\",AW41=\"\",AW43=\"\"),\"non saisies\",(SERVICES+_OBS1+_OBS2+_OBS3+_OBS4+_OBS5+_OBS6+_OBS7+24))","v":"non saisies"},null,{"$f":"IF(OR(AY7=\"\",AY9=\"non saisi\",AY11=\"\",AY15=\"\",AY17=\"\",AY19=\"\",AY21=\"\",AY23=\"\",AY25=\"\",AY27=\"\",AY29=\"\",AY31=\"\",AY33=\"\",AY35=\"\",AY39=\"\",AY41=\"\",AY43=\"\"),\"non saisies\",(SERVICES+_OBS1+_OBS2+_OBS3+_OBS4+_OBS5+_OBS6+_OBS7+25))","v":"non saisies"},null,{"$f":"IF(OR(BA7=\"\",BA9=\"non saisi\",BA11=\"\",BA15=\"\",BA17=\"\",BA19=\"\",BA21=\"\",BA23=\"\",BA25=\"\",BA27=\"\",BA29=\"\",BA31=\"\",BA33=\"\",BA35=\"\",BA39=\"\",BA41=\"\",BA43=\"\"),\"non saisies\",(SERVICES+_OBS1+_OBS2+_OBS3+_OBS4+_OBS5+_OBS6+_OBS7+26))","v":"non saisies"},null,{"$f":"IF(OR(BC7=\"\",BC9=\"non saisi\",BC11=\"\",BC15=\"\",BC17=\"\",BC19=\"\",BC21=\"\",BC23=\"\",BC25=\"\",BC27=\"\",BC29=\"\",BC31=\"\",BC33=\"\",BC35=\"\",BC39=\"\",BC41=\"\",BC43=\"\"),\"non saisies\",(SERVICES+_OBS1+_OBS2+_OBS3+_OBS4+_OBS5+_OBS6+_OBS7+27))","v":"non saisies"},null,{"$f":"IF(OR(BE7=\"\",BE9=\"non saisi\",BE11=\"\",BE15=\"\",BE17=\"\",BE19=\"\",BE21=\"\",BE23=\"\",BE25=\"\",BE27=\"\",BE29=\"\",BE31=\"\",BE33=\"\",BE35=\"\",BE39=\"\",BE41=\"\",BE43=\"\"),\"non saisies\",(SERVICES+_OBS1+_OBS2+_OBS3+_OBS4+_OBS5+_OBS6+_OBS7+28))","v":"non saisies"},null,{"$f":"IF(OR(BG7=\"\",BG9=\"non saisi\",BG11=\"\",BG15=\"\",BG17=\"\",BG19=\"\",BG21=\"\",BG23=\"\",BG25=\"\",BG27=\"\",BG29=\"\",BG31=\"\",BG33=\"\",BG35=\"\",BG39=\"\",BG41=\"\",BG43=\"\"),\"non saisies\",(SERVICES+_OBS1+_OBS2+_OBS3+_OBS4+_OBS5+_OBS6+_OBS7+29))","v":"non saisies"},null,{"$f":"IF(OR(BI7=\"\",BI9=\"non saisi\",BI11=\"\",BI15=\"\",BI17=\"\",BI19=\"\",BI21=\"\",BI23=\"\",BI25=\"\",BI27=\"\",BI29=\"\",BI31=\"\",BI33=\"\",BI35=\"\",BI39=\"\",BI41=\"\",BI43=\"\"),\"non saisies\",(SERVICES+_OBS1+_OBS2+_OBS3+_OBS4+_OBS5+_OBS6+_OBS7+30))","v":"non saisies"},null,{"$f":"IF(OR(BK7=\"\",BK9=\"non saisi\",BK11=\"\",BK15=\"\",BK17=\"\",BK19=\"\",BK21=\"\",BK23=\"\",BK25=\"\",BK27=\"\",BK29=\"\",BK31=\"\",BK33=\"\",BK35=\"\",BK39=\"\",BK41=\"\",BK43=\"\"),\"non saisies\",(SERVICES+_OBS1+_OBS2+_OBS3+_OBS4+_OBS5+_OBS6+_OBS7+31))","v":"non saisies"},null,{"$f":"IF(OR(BM7=\"\",BM9=\"non saisi\",BM11=\"\",BM15=\"\",BM17=\"\",BM19=\"\",BM21=\"\",BM23=\"\",BM25=\"\",BM27=\"\",BM29=\"\",BM31=\"\",BM33=\"\",BM35=\"\",BM39=\"\",BM41=\"\",BM43=\"\"),\"non saisies\",(SERVICES+_OBS1+_OBS2+_OBS3+_OBS4+_OBS5+_OBS6+_OBS7+32))","v":"non saisies"},null,{"$f":"IF(OR(BO7=\"\",BO9=\"non saisi\",BO11=\"\",BO15=\"\",BO17=\"\",BO19=\"\",BO21=\"\",BO23=\"\",BO25=\"\",BO27=\"\",BO29=\"\",BO31=\"\",BO33=\"\",BO35=\"\",BO39=\"\",BO41=\"\",BO43=\"\"),\"non saisies\",(SERVICES+_OBS1+_OBS2+_OBS3+_OBS4+_OBS5+_OBS6+_OBS7+33))","v":"non saisies"},null,{"$f":"IF(OR(BQ7=\"\",BQ9=\"non saisi\",BQ11=\"\",BQ15=\"\",BQ17=\"\",BQ19=\"\",BQ21=\"\",BQ23=\"\",BQ25=\"\",BQ27=\"\",BQ29=\"\",BQ31=\"\",BQ33=\"\",BQ35=\"\",BQ39=\"\",BQ41=\"\",BQ43=\"\"),\"non saisies\",(SERVICES+_OBS1+_OBS2+_OBS3+_OBS4+_OBS5+_OBS6+_OBS7+34))","v":"non saisies"},null,{"$f":"IF(OR(BS7=\"\",BS9=\"non saisi\",BS11=\"\",BS15=\"\",BS17=\"\",BS19=\"\",BS21=\"\",BS23=\"\",BS25=\"\",BS27=\"\",BS29=\"\",BS31=\"\",BS33=\"\",BS35=\"\",BS39=\"\",BS41=\"\",BS43=\"\"),\"non saisies\",(SERVICES+_OBS1+_OBS2+_OBS3+_OBS4+_OBS5+_OBS6+_OBS7+35))","v":"non saisies"},null,{"$f":"IF(OR(BU7=\"\",BU9=\"non saisi\",BU11=\"\",BU15=\"\",BU17=\"\",BU19=\"\",BU21=\"\",BU23=\"\",BU25=\"\",BU27=\"\",BU29=\"\",BU31=\"\",BU33=\"\",BU35=\"\",BU39=\"\",BU41=\"\",BU43=\"\"),\"non saisies\",(SERVICES+_OBS1+_OBS2+_OBS3+_OBS4+_OBS5+_OBS6+_OBS7+36))","v":"non saisies"},null,{"$f":"IF(OR(BW7=\"\",BW9=\"non saisi\",BW11=\"\",BW15=\"\",BW17=\"\",BW19=\"\",BW21=\"\",BW23=\"\",BW25=\"\",BW27=\"\",BW29=\"\",BW31=\"\",BW33=\"\",BW35=\"\",BW39=\"\",BW41=\"\",BW43=\"\"),\"non saisies\",(SERVICES+_OBS1+_OBS2+_OBS3+_OBS4+_OBS5+_OBS6+_OBS7+37))","v":"non saisies"},null,{"$f":"IF(OR(BY7=\"\",BY9=\"non saisi\",BY11=\"\",BY15=\"\",BY17=\"\",BY19=\"\",BY21=\"\",BY23=\"\",BY25=\"\",BY27=\"\",BY29=\"\",BY31=\"\",BY33=\"\",BY35=\"\",BY39=\"\",BY41=\"\",BY43=\"\"),\"non saisies\",(SERVICES+_OBS1+_OBS2+_OBS3+_OBS4+_OBS5+_OBS6+_OBS7+38))","v":"non saisies"},null,{"$f":"IF(OR(CA7=\"\",CA9=\"non saisi\",CA11=\"\",CA15=\"\",CA17=\"\",CA19=\"\",CA21=\"\",CA23=\"\",CA25=\"\",CA27=\"\",CA29=\"\",CA31=\"\",CA33=\"\",CA35=\"\",CA39=\"\",CA41=\"\",CA43=\"\"),\"non saisies\",(SERVICES+_OBS1+_OBS2+_OBS3+_OBS4+_OBS5+_OBS6+_OBS7+39))","v":"non saisies"},null,{"$f":"IF(OR(CC7=\"\",CC9=\"non saisi\",CC11=\"\",CC15=\"\",CC17=\"\",CC19=\"\",CC21=\"\",CC23=\"\",CC25=\"\",CC27=\"\",CC29=\"\",CC31=\"\",CC33=\"\",CC35=\"\",CC39=\"\",CC41=\"\",CC43=\"\"),\"non saisies\",(SERVICES+_OBS1+_OBS2+_OBS3+_OBS4+_OBS5+_OBS6+_OBS7+40))","v":"non saisies"}]
[]
[null,"MENU"]

{"sheet":"Score8","index":29,"n_rows":82,"n_cols":81,"rows_kept":82,"cut":false,"hidden":true,"merged":[]}
[]
[]
[]
[]
[]
[]
[null,null,{"$f":"IF('Fiches_Utilisateurs_Service#8'!C7=\"\",0,1)","v":0},null,{"$f":"IF('Fiches_Utilisateurs_Service#8'!E7=\"\",0,1)","v":0},null,{"$f":"IF('Fiches_Utilisateurs_Service#8'!G7=\"\",0,1)","v":0},null,{"$f":"IF('Fiches_Utilisateurs_Service#8'!I7=\"\",0,1)","v":0},null,{"$f":"IF('Fiches_Utilisateurs_Service#8'!K7=\"\",0,1)","v":0},null,{"$f":"IF('Fiches_Utilisateurs_Service#8'!M7=\"\",0,1)","v":0},null,{"$f":"IF('Fiches_Utilisateurs_Service#8'!O7=\"\",0,1)","v":0},null,{"$f":"IF('Fiches_Utilisateurs_Service#8'!Q7=\"\",0,1)","v":0},null,{"$f":"IF('Fiches_Utilisateurs_Service#8'!S7=\"\",0,1)","v":0},null,{"$f":"IF('Fiches_Utilisateurs_Service#8'!U7=\"\",0,1)","v":0},null,{"$f":"IF('Fiches_Utilisateurs_Service#8'!W7=\"\",0,1)","v":0},null,{"$f":"IF('Fiches_Utilisateurs_Service#8'!Y7=\"\",0,1)","v":0},null,{"$f":"IF('Fiches_Utilisateurs_Service#8'!AA7=\"\",0,1)","v":0},null,{"$f":"IF('Fiches_Utilisateurs_Service#8'!AC7=\"\",0,1)","v":0},null,{"$f":"IF('Fiches_Utilisateurs_Service#8'!AE7=\"\",0,1)","v":0},null,{"$f":"IF('Fiches_Utilisateurs_Service#8'!AG7=\"\",0,1)","v":0},null,{"$f":"IF('Fiches_Utilisateurs_Service#8'!AI7=\"\",0,1)","v":0},null,{"$f":"IF('Fiches_Utilisateurs_Service#8'!AK7=\"\",0,1)","v":0},null,{"$f":"IF('Fiches_Utilisateurs_Service#8'!AM7=\"\",0,1)","v":0},null,{"$f":"IF('Fiches_Utilisateurs_Service#8'!AO7=\"\",0,1)","v":0},null,{"$f":"IF('Fiches_Utilisateurs_Service#8'!AQ7=\"\",0,1)","v":0},null,{"$f":"IF('Fiches_Utilisateurs_Service#8'!AS7=\"\",0,1)","v":0},null,{"$f":"IF('Fiches_Utilisateurs_Service#8'!AU7=\"\",0,1)","v":0},null,{"$f":"IF('Fiches_Utilisateurs_Service#8'!AW7=\"\",0,1)","v":0},null,{"$f":"IF('Fiches_Utilisateurs_Service#8'!AY7=\"\",0,1)","v":0},null,{"$f":"IF('Fiches_Utilisateurs_Service#8'!BA7=\"\",0,1)","v":0},null,{"$f":"IF('Fiches_Utilisateurs_Service#8'!BC7=\"\",0,1)","v":0},null,{"$f":"IF('Fiches_Utilisateurs_Service#8'!BE7=\"\",0,1)","v":0},null,{"$f":"IF('Fiches_Utilisateurs_Service#8'!BG7=\"\",0,1)","v":0},null,{"$f":"IF('Fiches_Utilisateurs_Service#8'!BI7=\"\",0,1)","v":0},null,{"$f":"IF('Fiches_Utilisateurs_Service#8'!BK7=\"\",0,1)","v":0},null,{"$f":"IF('Fiches_Utilisateurs_Service#8'!BM7=\"\",0,1)","v":0},null,{"$f":"IF('Fiches_Utilisateurs_Service#8'!BO7=\"\",0,1)","v":0},null,{"$f":"IF('Fiches_Utilisateurs_Service#8'!BQ7=\"\",0,1)","v":0},null,{"$f":"IF('Fiches_Utilisateurs_Service#8'!BS7=\"\",0,1)","v":0},null,{"$f":"IF('Fiches_Utilisateurs_Service#8'!BU7=\"\",0,1)","v":0},null,{"$f":"IF('Fiches_Utilisateurs_Service#8'!BW7=\"\",0,1)","v":0},null,{"$f":"IF('Fiches_Utilisateurs_Service#8'!BY7=\"\",0,1)","v":0},null,{"$f":"IF('Fiches_Utilisateurs_Service#8'!CA7=\"\",0,1)","v":0},null,{"$f":"IF('Fiches_Utilisateurs_Service#8'!CC7=\"\",0,1)","v":0}]
[]
[]
[]
[null,null,{"$f":"IF(LEFT('Fiches_Utilisateurs_Service#8'!C11,2)=\"10\",\"10\",(IF('Fiches_Utilisateurs_Service#8'!C11=\"\",\"0\",LEFT('Fiches_Utilisateurs_Service#8'!C11,1))))","v":"0"},null,{"$f":"IF(LEFT('Fiches_Utilisateurs_Service#8'!E11,2)=\"10\",\"10\",(IF('Fiches_Utilisateurs_Service#8'!E11=\"\",\"0\",LEFT('Fiches_Utilisateurs_Service#8'!E11,1))))","v":"0"},null,{"$f":"IF(LEFT('Fiches_Utilisateurs_Service#8'!G11,2)=\"10\",\"10\",(IF('Fiches_Utilisateurs_Service#8'!G11=\"\",\"0\",LEFT('Fiches_Utilisateurs_Service#8'!G11,1))))","v":"0"},null,{"$f":"IF(LEFT('Fiches_Utilisateurs_Service#8'!I11,2)=\"10\",\"10\",(IF('Fiches_Utilisateurs_Service#8'!I11=\"\",\"0\",LEFT('Fiches_Utilisateurs_Service#8'!I11,1))))","v":"0"},null,{"$f":"IF(LEFT('Fiches_Utilisateurs_Service#8'!K11,2)=\"10\",\"10\",(IF('Fiches_Utilisateurs_Service#8'!K11=\"\",\"0\",LEFT('Fiches_Utilisateurs_Service#8'!K11,1))))","v":"0"},null,{"$f":"IF(LEFT('Fiches_Utilisateurs_Service#8'!M11,2)=\"10\",\"10\",(IF('Fiches_Utilisateurs_Service#8'!M11=\"\",\"0\",LEFT('Fiches_Utilisateurs_Service#8'!M11,1))))","v":"0"},null,{"$f":"IF(LEFT('Fiches_Utilisateurs_Service#8'!O11,2)=\"10\",\"10\",(IF('Fiches_Utilisateurs_Service#8'!O11=\"\",\"0\",LEFT('Fiches_Utilisateurs_Service#8'!O11,1))))","v":"0"},null,{"$f":"IF(LEFT('Fiches_Utilisateurs_Service#8'!Q11,2)=\"10\",\"10\",(IF('Fiches_Utilisateurs_Service#8'!Q11=\"\",\"0\",LEFT('Fiches_Utilisateurs_Service#8'!Q11,1))))","v":"0"},null,{"$f":"IF(LEFT('Fiches_Utilisateurs_Service#8'!S11,2)=\"10\",\"10\",(IF('Fiches_Utilisateurs_Service#8'!S11=\"\",\"0\",LEFT('Fiches_Utilisateurs_Service#8'!S11,1))))","v":"0"},null,{"$f":"IF(LEFT('Fiches_Utilisateurs_Service#8'!U11,2)=\"10\",\"10\",(IF('Fiches_Utilisateurs_Service#8'!U11=\"\",\"0\",LEFT('Fiches_Utilisateurs_Service#8'!U11,1))))","v":"0"},null,{"$f":"IF(LEFT('Fiches_Utilisateurs_Service#8'!W11,2)=\"10\",\"10\",(IF('Fiches_Utilisateurs_Service#8'!W11=\"\",\"0\",LEFT('Fiches_Utilisateurs_Service#8'!W11,1))))","v":"0"},null,{"$f":"IF(LEFT('Fiches_Utilisateurs_Service#8'!Y11,2)=\"10\",\"10\",(IF('Fiches_Utilisateurs_Service#8'!Y11=\"\",\"0\",LEFT('Fiches_Utilisateurs_Service#8'!Y11,1))))","v":"0"},null,{"$f":"IF(LEFT('Fiches_Utilisateurs_Service#8'!AA11,2)=\"10\",\"10\",(IF('Fiches_Utilisateurs_Service#8'!AA11=\"\",\"0\",LEFT('Fiches_Utilisateurs_Service#8'!AA11,1))))","v":"0"},null,{"$f":"IF(LEFT('Fiches_Utilisateurs_Service#8'!AC11,2)=\"10\",\"10\",(IF('Fiches_Utilisateurs_Service#8'!AC11=\"\",\"0\",LEFT('Fiches_Utilisateurs_Service#8'!AC11,1))))","v":"0"},null,{"$f":"IF(LEFT('Fiches_Utilisateurs_Service#8'!AE11,2)=\"10\",\"10\",(IF('Fiches_Utilisateurs_Service#8'!AE11=\"\",\"0\",LEFT('Fiches_Utilisateurs_Service#8'!AE11,1))))","v":"0"},null,{"$f":"IF(LEFT('Fiches_Utilisateurs_Service#8'!AG11,2)=\"10\",\"10\",(IF('Fiches_Utilisateurs_Service#8'!AG11=\"\",\"0\",LEFT('Fiches_Utilisateurs_Service#8'!AG11,1))))","v":"0"},null,{"$f":"IF(LEFT('Fiches_Utilisateurs_Service#8'!AI11,2)=\"10\",\"10\",(IF('Fiches_Utilisateurs_Service#8'!AI11=\"\",\"0\",LEFT('Fiches_Utilisateurs_Service#8'!AI11,1))))","v":"0"},null,{"$f":"IF(LEFT('Fiches_Utilisateurs_Service#8'!AK11,2)=\"10\",\"10\",(IF('Fiches_Utilisateurs_Service#8'!AK11=\"\",\"0\",LEFT('Fiches_Utilisateurs_Service#8'!AK11,1))))","v":"0"},null,{"$f":"IF(LEFT('Fiches_Utilisateurs_Service#8'!AM11,2)=\"10\",\"10\",(IF('Fiches_Utilisateurs_Service#8'!AM11=\"\",\"0\",LEFT('Fiches_Utilisateurs_Service#8'!AM11,1))))","v":"0"},null,{"$f":"IF(LEFT('Fiches_Utilisateurs_Service#8'!AO11,2)=\"10\",\"10\",(IF('Fiches_Utilisateurs_Service#8'!AO11=\"\",\"0\",LEFT('Fiches_Utilisateurs_Service#8'!AO11,1))))","v":"0"},null,{"$f":"IF(LEFT('Fiches_Utilisateurs_Service#8'!AQ11,2)=\"10\",\"10\",(IF('Fiches_Utilisateurs_Service#8'!AQ11=\"\",\"0\",LEFT('Fiches_Utilisateurs_Service#8'!AQ11,1))))","v":"0"},null,{"$f":"IF(LEFT('Fiches_Utilisateurs_Service#8'!AS11,2)=\"10\",\"10\",(IF('Fiches_Utilisateurs_Service#8'!AS11=\"\",\"0\",LEFT('Fiches_Utilisateurs_Service#8'!AS11,1))))","v":"0"},null,{"$f":"IF(LEFT('Fiches_Utilisateurs_Service#8'!AU11,2)=\"10\",\"10\",(IF('Fiches_Utilisateurs_Service#8'!AU11=\"\",\"0\",LEFT('Fiches_Utilisateurs_Service#8'!AU11,1))))","v":"0"},null,{"$f":"IF(LEFT('Fiches_Utilisateurs_Service#8'!AW11,2)=\"10\",\"10\",(IF('Fiches_Utilisateurs_Service#8'!AW11=\"\",\"0\",LEFT('Fiches_Utilisateurs_Service#8'!AW11,1))))","v":"0"},null,{"$f":"IF(LEFT('Fiches_Utilisateurs_Service#8'!AY11,2)=\"10\",\"10\",(IF('Fiches_Utilisateurs_Service#8'!AY11=\"\",\"0\",LEFT('Fiches_Utilisateurs_Service#8'!AY11,1))))","v":"0"},null,{"$f":"IF(LEFT('Fiches_Utilisateurs_Service#8'!BA11,2)=\"10\",\"10\",(IF('Fiches_Utilisateurs_Service#8'!BA11=\"\",\"0\",LEFT('Fiches_Utilisateurs_Service#8'!BA11,1))))","v":"0"},null,{"$f":"IF(LEFT('Fiches_Utilisateurs_Service#8'!BC11,2)=\"10\",\"10\",(IF('Fiches_Utilisateurs_Service#8'!BC11=\"\",\"0\",LEFT('Fiches_Utilisateurs_Service#8'!BC11,1))))","v":"0"},null,{"$f":"IF(LEFT('Fiches_Utilisateurs_Service#8'!BE11,2)=\"10\",\"10\",(IF('Fiches_Utilisateurs_Service#8'!BE11=\"\",\"0\",LEFT('Fiches_Utilisateurs_Service#8'!BE11,1))))","v":"0"},null,{"$f":"IF(LEFT('Fiches_Utilisateurs_Service#8'!BG11,2)=\"10\",\"10\",(IF('Fiches_Utilisateurs_Service#8'!BG11=\"\",\"0\",LEFT('Fiches_Utilisateurs_Service#8'!BG11,1))))","v":"0"},null,{"$f":"IF(LEFT('Fiches_Utilisateurs_Service#8'!BI11,2)=\"10\",\"10\",(IF('Fiches_Utilisateurs_Service#8'!BI11=\"\",\"0\",LEFT('Fiches_Utilisateurs_Service#8'!BI11,1))))","v":"0"},null,{"$f":"IF(LEFT('Fiches_Utilisateurs_Service#8'!BK11,2)=\"10\",\"10\",(IF('Fiches_Utilisateurs_Service#8'!BK11=\"\",\"0\",LEFT('Fiches_Utilisateurs_Service#8'!BK11,1))))","v":"0"},null,{"$f":"IF(LEFT('Fiches_Utilisateurs_Service#8'!BM11,2)=\"10\",\"10\",(IF('Fiches_Utilisateurs_Service#8'!BM11=\"\",\"0\",LEFT('Fiches_Utilisateurs_Service#8'!BM11,1))))","v":"0"},null,{"$f":"IF(LEFT('Fiches_Utilisateurs_Service#8'!BO11,2)=\"10\",\"10\",(IF('Fiches_Utilisateurs_Service#8'!BO11=\"\",\"0\",LEFT('Fiches_Utilisateurs_Service#8'!BO11,1))))","v":"0"},null,{"$f":"IF(LEFT('Fiches_Utilisateurs_Service#8'!BQ11,2)=\"10\",\"10\",(IF('Fiches_Utilisateurs_Service#8'!BQ11=\"\",\"0\",LEFT('Fiches_Utilisateurs_Service#8'!BQ11,1))))","v":"0"},null,{"$f":"IF(LEFT('Fiches_Utilisateurs_Service#8'!BS11,2)=\"10\",\"10\",(IF('Fiches_Utilisateurs_Service#8'!BS11=\"\",\"0\",LEFT('Fiches_Utilisateurs_Service#8'!BS11,1))))","v":"0"},null,{"$f":"IF(LEFT('Fiches_Utilisateurs_Service#8'!BU11,2)=\"10\",\"10\",(IF('Fiches_Utilisateurs_Service#8'!BU11=\"\",\"0\",LEFT('Fiches_Utilisateurs_Service#8'!BU11,1))))","v":"0"},null,{"$f":"IF(LEFT('Fiches_Utilisateurs_Service#8'!BW11,2)=\"10\",\"10\",(IF('Fiches_Utilisateurs_Service#8'!BW11=\"\",\"0\",LEFT('Fiches_Utilisateurs_Service#8'!BW11,1))))","v":"0"},null,{"$f":"IF(LEFT('Fiches_Utilisateurs_Service#8'!BY11,2)=\"10\",\"10\",(IF('Fiches_Utilisateurs_Service#8'!BY11=\"\",\"0\",LEFT('Fiches_Utilisateurs_Service#8'!BY11,1))))","v":"0"},null,{"$f":"IF(LEFT('Fiches_Utilisateurs_Service#8'!CA11,2)=\"10\",\"10\",(IF('Fiches_Utilisateurs_Service#8'!CA11=\"\",\"0\",LEFT('Fiches_Utilisateurs_Service#8'!CA11,1))))","v":"0"},null,{"$f":"IF(LEFT('Fiches_Utilisateurs_Service#8'!CC11,2)=\"10\",\"10\",(IF('Fiches_Utilisateurs_Service#8'!CC11=\"\",\"0\",LEFT('Fiches_Utilisateurs_Service#8'!CC11,1))))","v":"0"}]
[]
[]
[null,"glob tots"]
[null,null,{"$f":"IF('Fiches_Utilisateurs_Service#8'!C15=1,1,0)","v":0},null,{"$f":"IF('Fiches_Utilisateurs_Service#8'!E15=1,1,0)","v":0},null,{"$f":"IF('Fiches_Utilisateurs_Service#8'!G15=1,1,0)","v":0},null,{"$f":"IF('Fiches_Utilisateurs_Service#8'!I15=1,1,0)","v":0},null,{"$f":"IF('Fiches_Utilisateurs_Service#8'!K15=1,1,0)","v":0},null,{"$f":"IF('Fiches_Utilisateurs_Service#8'!M15=1,1,0)","v":0},null,{"$f":"IF('Fiches_Utilisateurs_Service#8'!O15=1,1,0)","v":0},null,{"$f":"IF('Fiches_Utilisateurs_Service#8'!Q15=1,1,0)","v":0},null,{"$f":"IF('Fiches_Utilisateurs_Service#8'!S15=1,1,0)","v":0},null,{"$f":"IF('Fiches_Utilisateurs_Service#8'!U15=1,1,0)","v":0},null,{"$f":"IF('Fiches_Utilisateurs_Service#8'!W15=1,1,0)","v":0},null,{"$f":"IF('Fiches_Utilisateurs_Service#8'!Y15=1,1,0)","v":0},null,{"$f":"IF('Fiches_Utilisateurs_Service#8'!AA15=1,1,0)","v":0},null,{"$f":"IF('Fiches_Utilisateurs_Service#8'!AC15=1,1,0)","v":0},null,{"$f":"IF('Fiches_Utilisateurs_Service#8'!AE15=1,1,0)","v":0},null,{"$f":"IF('Fiches_Utilisateurs_Service#8'!AG15=1,1,0)","v":0},null,{"$f":"IF('Fiches_Utilisateurs_Service#8'!AI15=1,1,0)","v":0},null,{"$f":"IF('Fiches_Utilisateurs_Service#8'!AK15=1,1,0)","v":0},null,{"$f":"IF('Fiches_Utilisateurs_Service#8'!AM15=1,1,0)","v":0},null,{"$f":"IF('Fiches_Utilisateurs_Service#8'!AO15=1,1,0)","v":0},null,{"$f":"IF('Fiches_Utilisateurs_Service#8'!AQ15=1,1,0)","v":0},null,{"$f":"IF('Fiches_Utilisateurs_Service#8'!AS15=1,1,0)","v":0},null,{"$f":"IF('Fiches_Utilisateurs_Service#8'!AU15=1,1,0)","v":0},null,{"$f":"IF('Fiches_Utilisateurs_Service#8'!AW15=1,1,0)","v":0},null,{"$f":"IF('Fiches_Utilisateurs_Service#8'!AY15=1,1,0)","v":0},null,{"$f":"IF('Fiches_Utilisateurs_Service#8'!BA15=1,1,0)","v":0},null,{"$f":"IF('Fiches_Utilisateurs_Service#8'!BC15=1,1,0)","v":0},null,{"$f":"IF('Fiches_Utilisateurs_Service#8'!BE15=1,1,0)","v":0},null,{"$f":"IF('Fiches_Utilisateurs_Service#8'!BG15=1,1,0)","v":0},null,{"$f":"IF('Fiches_Utilisateurs_Service#8'!BI15=1,1,0)","v":0},null,{"$f":"IF('Fiches_Utilisateurs_Service#8'!BK15=1,1,0)","v":0},null,{"$f":"IF('Fiches_Utilisateurs_Service#8'!BM15=1,1,0)","v":0},null,{"$f":"IF('Fiches_Utilisateurs_Service#8'!BO15=1,1,0)","v":0},null,{"$f":"IF('Fiches_Utilisateurs_Service#8'!BQ15=1,1,0)","v":0},null,{"$f":"IF('Fiches_Utilisateurs_Service#8'!BS15=1,1,0)","v":0},null,{"$f":"IF('Fiches_Utilisateurs_Service#8'!BU15=1,1,0)","v":0},null,{"$f":"IF('Fiches_Utilisateurs_Service#8'!BW15=1,1,0)","v":0},null,{"$f":"IF('Fiches_Utilisateurs_Service#8'!BY15=1,1,0)","v":0},null,{"$f":"IF('Fiches_Utilisateurs_Service#8'!CA15=1,1,0)","v":0},null,{"$f":"IF('Fiches_Utilisateurs_Service#8'!CC15=1,1,0)","v":0}]
[]
[null,null,{"$f":"IF('Fiches_Utilisateurs_Service#8'!C17=1,1,0)","v":0},null,{"$f":"IF('Fiches_Utilisateurs_Service#8'!E17=1,1,0)","v":0},null,{"$f":"IF('Fiches_Utilisateurs_Service#8'!G17=1,1,0)","v":0},null,{"$f":"IF('Fiches_Utilisateurs_Service#8'!I17=1,1,0)","v":0},null,{"$f":"IF('Fiches_Utilisateurs_Service#8'!K17=1,1,0)","v":0},null,{"$f":"IF('Fiches_Utilisateurs_Service#8'!M17=1,1,0)","v":0},null,{"$f":"IF('Fiches_Utilisateurs_Service#8'!O17=1,1,0)","v":0},null,{"$f":"IF('Fiches_Utilisateurs_Service#8'!Q17=1,1,0)","v":0},null,{"$f":"IF('Fiches_Utilisateurs_Service#8'!S17=1,1,0)","v":0},null,{"$f":"IF('Fiches_Utilisateurs_Service#8'!U17=1,1,0)","v":0},null,{"$f":"IF('Fiches_Utilisateurs_Service#8'!W17=1,1,0)","v":0},null,{"$f":"IF('Fiches_Utilisateurs_Service#8'!Y17=1,1,0)","v":0},null,{"$f":"IF('Fiches_Utilisateurs_Service#8'!AA17=1,1,0)","v":0},null,{"$f":"IF('Fiches_Utilisateurs_Service#8'!AC17=1,1,0)","v":0},null,{"$f":"IF('Fiches_Utilisateurs_Service#8'!AE17=1,1,0)","v":0},null,{"$f":"IF('Fiches_Utilisateurs_Service#8'!AG17=1,1,0)","v":0},null,{"$f":"IF('Fiches_Utilisateurs_Service#8'!AI17=1,1,0)","v":0},null,{"$f":"IF('Fiches_Utilisateurs_Service#8'!AK17=1,1,0)","v":0},null,{"$f":"IF('Fiches_Utilisateurs_Service#8'!AM17=1,1,0)","v":0},null,{"$f":"IF('Fiches_Utilisateurs_Service#8'!AO17=1,1,0)","v":0},null,{"$f":"IF('Fiches_Utilisateurs_Service#8'!AQ17=1,1,0)","v":0},null,{"$f":"IF('Fiches_Utilisateurs_Service#8'!AS17=1,1,0)","v":0},null,{"$f":"IF('Fiches_Utilisateurs_Service#8'!AU17=1,1,0)","v":0},null,{"$f":"IF('Fiches_Utilisateurs_Service#8'!AW17=1,1,0)","v":0},null,{"$f":"IF('Fiches_Utilisateurs_Service#8'!AY17=1,1,0)","v":0},null,{"$f":"IF('Fiches_Utilisateurs_Service#8'!BA17=1,1,0)","v":0},null,{"$f":"IF('Fiches_Utilisateurs_Service#8'!BC17=1,1,0)","v":0},null,{"$f":"IF('Fiches_Utilisateurs_Service#8'!BE17=1,1,0)","v":0},null,{"$f":"IF('Fiches_Utilisateurs_Service#8'!BG17=1,1,0)","v":0},null,{"$f":"IF('Fiches_Utilisateurs_Service#8'!BI17=1,1,0)","v":0},null,{"$f":"IF('Fiches_Utilisateurs_Service#8'!BK17=1,1,0)","v":0},null,{"$f":"IF('Fiches_Utilisateurs_Service#8'!BM17=1,1,0)","v":0},null,{"$f":"IF('Fiches_Utilisateurs_Service#8'!BO17=1,1,0)","v":0},null,{"$f":"IF('Fiches_Utilisateurs_Service#8'!BQ17=1,1,0)","v":0},null,{"$f":"IF('Fiches_Utilisateurs_Service#8'!BS17=1,1,0)","v":0},null,{"$f":"IF('Fiches_Utilisateurs_Service#8'!BU17=1,1,0)","v":0},null,{"$f":"IF('Fiches_Utilisateurs_Service#8'!BW17=1,1,0)","v":0},null,{"$f":"IF('Fiches_Utilisateurs_Service#8'!BY17=1,1,0)","v":0},null,{"$f":"IF('Fiches_Utilisateurs_Service#8'!CA17=1,1,0)","v":0},null,{"$f":"IF('Fiches_Utilisateurs_Service#8'!CC17=1,1,0)","v":0}]
[]
[null,null,{"$f":"IF('Fiches_Utilisateurs_Service#8'!C19=1,1,0)","v":0},null,{"$f":"IF('Fiches_Utilisateurs_Service#8'!E19=1,1,0)","v":0},null,{"$f":"IF('Fiches_Utilisateurs_Service#8'!G19=1,1,0)","v":0},null,{"$f":"IF('Fiches_Utilisateurs_Service#8'!I19=1,1,0)","v":0},null,{"$f":"IF('Fiches_Utilisateurs_Service#8'!K19=1,1,0)","v":0},null,{"$f":"IF('Fiches_Utilisateurs_Service#8'!M19=1,1,0)","v":0},null,{"$f":"IF('Fiches_Utilisateurs_Service#8'!O19=1,1,0)","v":0},null,{"$f":"IF('Fiches_Utilisateurs_Service#8'!Q19=1,1,0)","v":0},null,{"$f":"IF('Fiches_Utilisateurs_Service#8'!S19=1,1,0)","v":0},null,{"$f":"IF('Fiches_Utilisateurs_Service#8'!U19=1,1,0)","v":0},null,{"$f":"IF('Fiches_Utilisateurs_Service#8'!W19=1,1,0)","v":0},null,{"$f":"IF('Fiches_Utilisateurs_Service#8'!Y19=1,1,0)","v":0},null,{"$f":"IF('Fiches_Utilisateurs_Service#8'!AA19=1,1,0)","v":0},null,{"$f":"IF('Fiches_Utilisateurs_Service#8'!AC19=1,1,0)","v":0},null,{"$f":"IF('Fiches_Utilisateurs_Service#8'!AE19=1,1,0)","v":0},null,{"$f":"IF('Fiches_Utilisateurs_Service#8'!AG19=1,1,0)","v":0},null,{"$f":"IF('Fiches_Utilisateurs_Service#8'!AI19=1,1,0)","v":0},null,{"$f":"IF('Fiches_Utilisateurs_Service#8'!AK19=1,1,0)","v":0},null,{"$f":"IF('Fiches_Utilisateurs_Service#8'!AM19=1,1,0)","v":0},null,{"$f":"IF('Fiches_Utilisateurs_Service#8'!AO19=1,1,0)","v":0},null,{"$f":"IF('Fiches_Utilisateurs_Service#8'!AQ19=1,1,0)","v":0},null,{"$f":"IF('Fiches_Utilisateurs_Service#8'!AS19=1,1,0)","v":0},null,{"$f":"IF('Fiches_Utilisateurs_Service#8'!AU19=1,1,0)","v":0},null,{"$f":"IF('Fiches_Utilisateurs_Service#8'!AW19=1,1,0)","v":0},null,{"$f":"IF('Fiches_Utilisateurs_Service#8'!AY19=1,1,0)","v":0},null,{"$f":"IF('Fiches_Utilisateurs_Service#8'!BA19=1,1,0)","v":0},null,{"$f":"IF('Fiches_Utilisateurs_Service#8'!BC19=1,1,0)","v":0},null,{"$f":"IF('Fiches_Utilisateurs_Service#8'!BE19=1,1,0)","v":0},null,{"$f":"IF('Fiches_Utilisateurs_Service#8'!BG19=1,1,0)","v":0},null,{"$f":"IF('Fiches_Utilisateurs_Service#8'!BI19=1,1,0)","v":0},null,{"$f":"IF('Fiches_Utilisateurs_Service#8'!BK19=1,1,0)","v":0},null,{"$f":"IF('Fiches_Utilisateurs_Service#8'!BM19=1,1,0)","v":0},null,{"$f":"IF('Fiches_Utilisateurs_Service#8'!BO19=1,1,0)","v":0},null,{"$f":"IF('Fiches_Utilisateurs_Service#8'!BQ19=1,1,0)","v":0},null,{"$f":"IF('Fiches_Utilisateurs_Service#8'!BS19=1,1,0)","v":0},null,{"$f":"IF('Fiches_Utilisateurs_Service#8'!BU19=1,1,0)","v":0},null,{"$f":"IF('Fiches_Utilisateurs_Service#8'!BW19=1,1,0)","v":0},null,{"$f":"IF('Fiches_Utilisateurs_Service#8'!BY19=1,1,0)","v":0},null,{"$f":"IF('Fiches_Utilisateurs_Service#8'!CA19=1,1,0)","v":0},null,{"$f":"IF('Fiches_Utilisateurs_Service#8'!CC19=1,1,0)","v":0}]
[]
[null,null,{"$f":"IF('Fiches_Utilisateurs_Service#8'!C21=1,1,0)","v":0},null,{"$f":"IF('Fiches_Utilisateurs_Service#8'!E21=1,1,0)","v":0},null,{"$f":"IF('Fiches_Utilisateurs_Service#8'!G21=1,1,0)","v":0},null,{"$f":"IF('Fiches_Utilisateurs_Service#8'!I21=1,1,0)","v":0},null,{"$f":"IF('Fiches_Utilisateurs_Service#8'!K21=1,1,0)","v":0},null,{"$f":"IF('Fiches_Utilisateurs_Service#8'!M21=1,1,0)","v":0},null,{"$f":"IF('Fiches_Utilisateurs_Service#8'!O21=1,1,0)","v":0},null,{"$f":"IF('Fiches_Utilisateurs_Service#8'!Q21=1,1,0)","v":0},null,{"$f":"IF('Fiches_Utilisateurs_Service#8'!S21=1,1,0)","v":0},null,{"$f":"IF('Fiches_Utilisateurs_Service#8'!U21=1,1,0)","v":0},null,{"$f":"IF('Fiches_Utilisateurs_Service#8'!W21=1,1,0)","v":0},null,{"$f":"IF('Fiches_Utilisateurs_Service#8'!Y21=1,1,0)","v":0},null,{"$f":"IF('Fiches_Utilisateurs_Service#8'!AA21=1,1,0)","v":0},null,{"$f":"IF('Fiches_Utilisateurs_Service#8'!AC21=1,1,0)","v":0},null,{"$f":"IF('Fiches_Utilisateurs_Service#8'!AE21=1,1,0)","v":0},null,{"$f":"IF('Fiches_Utilisateurs_Service#8'!AG21=1,1,0)","v":0},null,{"$f":"IF('Fiches_Utilisateurs_Service#8'!AI21=1,1,0)","v":0},null,{"$f":"IF('Fiches_Utilisateurs_Service#8'!AK21=1,1,0)","v":0},null,{"$f":"IF('Fiches_Utilisateurs_Service#8'!AM21=1,1,0)","v":0},null,{"$f":"IF('Fiches_Utilisateurs_Service#8'!AO21=1,1,0)","v":0},null,{"$f":"IF('Fiches_Utilisateurs_Service#8'!AQ21=1,1,0)","v":0},null,{"$f":"IF('Fiches_Utilisateurs_Service#8'!AS21=1,1,0)","v":0},null,{"$f":"IF('Fiches_Utilisateurs_Service#8'!AU21=1,1,0)","v":0},null,{"$f":"IF('Fiches_Utilisateurs_Service#8'!AW21=1,1,0)","v":0},null,{"$f":"IF('Fiches_Utilisateurs_Service#8'!AY21=1,1,0)","v":0},null,{"$f":"IF('Fiches_Utilisateurs_Service#8'!BA21=1,1,0)","v":0},null,{"$f":"IF('Fiches_Utilisateurs_Service#8'!BC21=1,1,0)","v":0},null,{"$f":"IF('Fiches_Utilisateurs_Service#8'!BE21=1,1,0)","v":0},null,{"$f":"IF('Fiches_Utilisateurs_Service#8'!BG21=1,1,0)","v":0},null,{"$f":"IF('Fiches_Utilisateurs_Service#8'!BI21=1,1,0)","v":0},null,{"$f":"IF('Fiches_Utilisateurs_Service#8'!BK21=1,1,0)","v":0},null,{"$f":"IF('Fiches_Utilisateurs_Service#8'!BM21=1,1,0)","v":0},null,{"$f":"IF('Fiches_Utilisateurs_Service#8'!BO21=1,1,0)","v":0},null,{"$f":"IF('Fiches_Utilisateurs_Service#8'!BQ21=1,1,0)","v":0},null,{"$f":"IF('Fiches_Utilisateurs_Service#8'!BS21=1,1,0)","v":0},null,{"$f":"IF('Fiches_Utilisateurs_Service#8'!BU21=1,1,0)","v":0},null,{"$f":"IF('Fiches_Utilisateurs_Service#8'!BW21=1,1,0)","v":0},null,{"$f":"IF('Fiches_Utilisateurs_Service#8'!BY21=1,1,0)","v":0},null,{"$f":"IF('Fiches_Utilisateurs_Service#8'!CA21=1,1,0)","v":0},null,{"$f":"IF('Fiches_Utilisateurs_Service#8'!CC21=1,1,0)","v":0}]
[]
[null,null,{"$f":"IF('Fiches_Utilisateurs_Service#8'!C23=1,1,0)","v":0},null,{"$f":"IF('Fiches_Utilisateurs_Service#8'!E23=1,1,0)","v":0},null,{"$f":"IF('Fiches_Utilisateurs_Service#8'!G23=1,1,0)","v":0},null,{"$f":"IF('Fiches_Utilisateurs_Service#8'!I23=1,1,0)","v":0},null,{"$f":"IF('Fiches_Utilisateurs_Service#8'!K23=1,1,0)","v":0},null,{"$f":"IF('Fiches_Utilisateurs_Service#8'!M23=1,1,0)","v":0},null,{"$f":"IF('Fiches_Utilisateurs_Service#8'!O23=1,1,0)","v":0},null,{"$f":"IF('Fiches_Utilisateurs_Service#8'!Q23=1,1,0)","v":0},null,{"$f":"IF('Fiches_Utilisateurs_Service#8'!S23=1,1,0)","v":0},null,{"$f":"IF('Fiches_Utilisateurs_Service#8'!U23=1,1,0)","v":0},null,{"$f":"IF('Fiches_Utilisateurs_Service#8'!W23=1,1,0)","v":0},null,{"$f":"IF('Fiches_Utilisateurs_Service#8'!Y23=1,1,0)","v":0},null,{"$f":"IF('Fiches_Utilisateurs_Service#8'!AA23=1,1,0)","v":0},null,{"$f":"IF('Fiches_Utilisateurs_Service#8'!AC23=1,1,0)","v":0},null,{"$f":"IF('Fiches_Utilisateurs_Service#8'!AE23=1,1,0)","v":0},null,{"$f":"IF('Fiches_Utilisateurs_Service#8'!AG23=1,1,0)","v":0},null,{"$f":"IF('Fiches_Utilisateurs_Service#8'!AI23=1,1,0)","v":0},null,{"$f":"IF('Fiches_Utilisateurs_Service#8'!AK23=1,1,0)","v":0},null,{"$f":"IF('Fiches_Utilisateurs_Service#8'!AM23=1,1,0)","v":0},null,{"$f":"IF('Fiches_Utilisateurs_Service#8'!AO23=1,1,0)","v":0},null,{"$f":"IF('Fiches_Utilisateurs_Service#8'!AQ23=1,1,0)","v":0},null,{"$f":"IF('Fiches_Utilisateurs_Service#8'!AS23=1,1,0)","v":0},null,{"$f":"IF('Fiches_Utilisateurs_Service#8'!AU23=1,1,0)","v":0},null,{"$f":"IF('Fiches_Utilisateurs_Service#8'!AW23=1,1,0)","v":0},null,{"$f":"IF('Fiches_Utilisateurs_Service#8'!AY23=1,1,0)","v":0},null,{"$f":"IF('Fiches_Utilisateurs_Service#8'!BA23=1,1,0)","v":0},null,{"$f":"IF('Fiches_Utilisateurs_Service#8'!BC23=1,1,0)","v":0},null,{"$f":"IF('Fiches_Utilisateurs_Service#8'!BE23=1,1,0)","v":0},null,{"$f":"IF('Fiches_Utilisateurs_Service#8'!BG23=1,1,0)","v":0},null,{"$f":"IF('Fiches_Utilisateurs_Service#8'!BI23=1,1,0)","v":0},null,{"$f":"IF('Fiches_Utilisateurs_Service#8'!BK23=1,1,0)","v":0},null,{"$f":"IF('Fiches_Utilisateurs_Service#8'!BM23=1,1,0)","v":0},null,{"$f":"IF('Fiches_Utilisateurs_Service#8'!BO23=1,1,0)","v":0},null,{"$f":"IF('Fiches_Utilisateurs_Service#8'!BQ23=1,1,0)","v":0},null,{"$f":"IF('Fiches_Utilisateurs_Service#8'!BS23=1,1,0)","v":0},null,{"$f":"IF('Fiches_Utilisateurs_Service#8'!BU23=1,1,0)","v":0},null,{"$f":"IF('Fiches_Utilisateurs_Service#8'!BW23=1,1,0)","v":0},null,{"$f":"IF('Fiches_Utilisateurs_Service#8'!BY23=1,1,0)","v":0},null,{"$f":"IF('Fiches_Utilisateurs_Service#8'!CA23=1,1,0)","v":0},null,{"$f":"IF('Fiches_Utilisateurs_Service#8'!CC23=1,1,0)","v":0}]
[]
[null,null,{"$f":"IF('Fiches_Utilisateurs_Service#8'!C25=1,1,0)","v":0},null,{"$f":"IF('Fiches_Utilisateurs_Service#8'!E25=1,1,0)","v":0},null,{"$f":"IF('Fiches_Utilisateurs_Service#8'!G25=1,1,0)","v":0},null,{"$f":"IF('Fiches_Utilisateurs_Service#8'!I25=1,1,0)","v":0},null,{"$f":"IF('Fiches_Utilisateurs_Service#8'!K25=1,1,0)","v":0},null,{"$f":"IF('Fiches_Utilisateurs_Service#8'!M25=1,1,0)","v":0},null,{"$f":"IF('Fiches_Utilisateurs_Service#8'!O25=1,1,0)","v":0},null,{"$f":"IF('Fiches_Utilisateurs_Service#8'!Q25=1,1,0)","v":0},null,{"$f":"IF('Fiches_Utilisateurs_Service#8'!S25=1,1,0)","v":0},null,{"$f":"IF('Fiches_Utilisateurs_Service#8'!U25=1,1,0)","v":0},null,{"$f":"IF('Fiches_Utilisateurs_Service#8'!W25=1,1,0)","v":0},null,{"$f":"IF('Fiches_Utilisateurs_Service#8'!Y25=1,1,0)","v":0},null,{"$f":"IF('Fiches_Utilisateurs_Service#8'!AA25=1,1,0)","v":0},null,{"$f":"IF('Fiches_Utilisateurs_Service#8'!AC25=1,1,0)","v":0},null,{"$f":"IF('Fiches_Utilisateurs_Service#8'!AE25=1,1,0)","v":0},null,{"$f":"IF('Fiches_Utilisateurs_Service#8'!AG25=1,1,0)","v":0},null,{"$f":"IF('Fiches_Utilisateurs_Service#8'!AI25=1,1,0)","v":0},null,{"$f":"IF('Fiches_Utilisateurs_Service#8'!AK25=1,1,0)","v":0},null,{"$f":"IF('Fiches_Utilisateurs_Service#8'!AM25=1,1,0)","v":0},null,{"$f":"IF('Fiches_Utilisateurs_Service#8'!AO25=1,1,0)","v":0},null,{"$f":"IF('Fiches_Utilisateurs_Service#8'!AQ25=1,1,0)","v":0},null,{"$f":"IF('Fiches_Utilisateurs_Service#8'!AS25=1,1,0)","v":0},null,{"$f":"IF('Fiches_Utilisateurs_Service#8'!AU25=1,1,0)","v":0},null,{"$f":"IF('Fiches_Utilisateurs_Service#8'!AW25=1,1,0)","v":0},null,{"$f":"IF('Fiches_Utilisateurs_Service#8'!AY25=1,1,0)","v":0},null,{"$f":"IF('Fiches_Utilisateurs_Service#8'!BA25=1,1,0)","v":0},null,{"$f":"IF('Fiches_Utilisateurs_Service#8'!BC25=1,1,0)","v":0},null,{"$f":"IF('Fiches_Utilisateurs_Service#8'!BE25=1,1,0)","v":0},null,{"$f":"IF('Fiches_Utilisateurs_Service#8'!BG25=1,1,0)","v":0},null,{"$f":"IF('Fiches_Utilisateurs_Service#8'!BI25=1,1,0)","v":0},null,{"$f":"IF('Fiches_Utilisateurs_Service#8'!BK25=1,1,0)","v":0},null,{"$f":"IF('Fiches_Utilisateurs_Service#8'!BM25=1,1,0)","v":0},null,{"$f":"IF('Fiches_Utilisateurs_Service#8'!BO25=1,1,0)","v":0},null,{"$f":"IF('Fiches_Utilisateurs_Service#8'!BQ25=1,1,0)","v":0},null,{"$f":"IF('Fiches_Utilisateurs_Service#8'!BS25=1,1,0)","v":0},null,{"$f":"IF('Fiches_Utilisateurs_Service#8'!BU25=1,1,0)","v":0},null,{"$f":"IF('Fiches_Utilisateurs_Service#8'!BW25=1,1,0)","v":0},null,{"$f":"IF('Fiches_Utilisateurs_Service#8'!BY25=1,1,0)","v":0},null,{"$f":"IF('Fiches_Utilisateurs_Service#8'!CA25=1,1,0)","v":0},null,{"$f":"IF('Fiches_Utilisateurs_Service#8'!CC25=1,1,0)","v":0}]
[]
[null,null,{"$f":"IF('Fiches_Utilisateurs_Service#8'!C27=1,1,0)","v":0},null,{"$f":"IF('Fiches_Utilisateurs_Service#8'!E27=1,1,0)","v":0},null,{"$f":"IF('Fiches_Utilisateurs_Service#8'!G27=1,1,0)","v":0},null,{"$f":"IF('Fiches_Utilisateurs_Service#8'!I27=1,1,0)","v":0},null,{"$f":"IF('Fiches_Utilisateurs_Service#8'!K27=1,1,0)","v":0},null,{"$f":"IF('Fiches_Utilisateurs_Service#8'!M27=1,1,0)","v":0},null,{"$f":"IF('Fiches_Utilisateurs_Service#8'!O27=1,1,0)","v":0},null,{"$f":"IF('Fiches_Utilisateurs_Service#8'!Q27=1,1,0)","v":0},null,{"$f":"IF('Fiches_Utilisateurs_Service#8'!S27=1,1,0)","v":0},null,{"$f":"IF('Fiches_Utilisateurs_Service#8'!U27=1,1,0)","v":0},null,{"$f":"IF('Fiches_Utilisateurs_Service#8'!W27=1,1,0)","v":0},null,{"$f":"IF('Fiches_Utilisateurs_Service#8'!Y27=1,1,0)","v":0},null,{"$f":"IF('Fiches_Utilisateurs_Service#8'!AA27=1,1,0)","v":0},null,{"$f":"IF('Fiches_Utilisateurs_Service#8'!AC27=1,1,0)","v":0},null,{"$f":"IF('Fiches_Utilisateurs_Service#8'!AE27=1,1,0)","v":0},null,{"$f":"IF('Fiches_Utilisateurs_Service#8'!AG27=1,1,0)","v":0},null,{"$f":"IF('Fiches_Utilisateurs_Service#8'!AI27=1,1,0)","v":0},null,{"$f":"IF('Fiches_Utilisateurs_Service#8'!AK27=1,1,0)","v":0},null,{"$f":"IF('Fiches_Utilisateurs_Service#8'!AM27=1,1,0)","v":0},null,{"$f":"IF('Fiches_Utilisateurs_Service#8'!AO27=1,1,0)","v":0},null,{"$f":"IF('Fiches_Utilisateurs_Service#8'!AQ27=1,1,0)","v":0},null,{"$f":"IF('Fiches_Utilisateurs_Service#8'!AS27=1,1,0)","v":0},null,{"$f":"IF('Fiches_Utilisateurs_Service#8'!AU27=1,1,0)","v":0},null,{"$f":"IF('Fiches_Utilisateurs_Service#8'!AW27=1,1,0)","v":0},null,{"$f":"IF('Fiches_Utilisateurs_Service#8'!AY27=1,1,0)","v":0},null,{"$f":"IF('Fiches_Utilisateurs_Service#8'!BA27=1,1,0)","v":0},null,{"$f":"IF('Fiches_Utilisateurs_Service#8'!BC27=1,1,0)","v":0},null,{"$f":"IF('Fiches_Utilisateurs_Service#8'!BE27=1,1,0)","v":0},null,{"$f":"IF('Fiches_Utilisateurs_Service#8'!BG27=1,1,0)","v":0},null,{"$f":"IF('Fiches_Utilisateurs_Service#8'!BI27=1,1,0)","v":0},null,{"$f":"IF('Fiches_Utilisateurs_Service#8'!BK27=1,1,0)","v":0},null,{"$f":"IF('Fiches_Utilisateurs_Service#8'!BM27=1,1,0)","v":0},null,{"$f":"IF('Fiches_Utilisateurs_Service#8'!BO27=1,1,0)","v":0},null,{"$f":"IF('Fiches_Utilisateurs_Service#8'!BQ27=1,1,0)","v":0},null,{"$f":"IF('Fiches_Utilisateurs_Service#8'!BS27=1,1,0)","v":0},null,{"$f":"IF('Fiches_Utilisateurs_Service#8'!BU27=1,1,0)","v":0},null,{"$f":"IF('Fiches_Utilisateurs_Service#8'!BW27=1,1,0)","v":0},null,{"$f":"IF('Fiches_Utilisateurs_Service#8'!BY27=1,1,0)","v":0},null,{"$f":"IF('Fiches_Utilisateurs_Service#8'!CA27=1,1,0)","v":0},null,{"$f":"IF('Fiches_Utilisateurs_Service#8'!CC27=1,1,0)","v":0}]
[]
[null,null,{"$f":"IF('Fiches_Utilisateurs_Service#8'!C29=1,1,0)","v":0},null,{"$f":"IF('Fiches_Utilisateurs_Service#8'!E29=1,1,0)","v":0},null,{"$f":"IF('Fiches_Utilisateurs_Service#8'!G29=1,1,0)","v":0},null,{"$f":"IF('Fiches_Utilisateurs_Service#8'!I29=1,1,0)","v":0},null,{"$f":"IF('Fiches_Utilisateurs_Service#8'!K29=1,1,0)","v":0},null,{"$f":"IF('Fiches_Utilisateurs_Service#8'!M29=1,1,0)","v":0},null,{"$f":"IF('Fiches_Utilisateurs_Service#8'!O29=1,1,0)","v":0},null,{"$f":"IF('Fiches_Utilisateurs_Service#8'!Q29=1,1,0)","v":0},null,{"$f":"IF('Fiches_Utilisateurs_Service#8'!S29=1,1,0)","v":0},null,{"$f":"IF('Fiches_Utilisateurs_Service#8'!U29=1,1,0)","v":0},null,{"$f":"IF('Fiches_Utilisateurs_Service#8'!W29=1,1,0)","v":0},null,{"$f":"IF('Fiches_Utilisateurs_Service#8'!Y29=1,1,0)","v":0},null,{"$f":"IF('Fiches_Utilisateurs_Service#8'!AA29=1,1,0)","v":0},null,{"$f":"IF('Fiches_Utilisateurs_Service#8'!AC29=1,1,0)","v":0},null,{"$f":"IF('Fiches_Utilisateurs_Service#8'!AE29=1,1,0)","v":0},null,{"$f":"IF('Fiches_Utilisateurs_Service#8'!AG29=1,1,0)","v":0},null,{"$f":"IF('Fiches_Utilisateurs_Service#8'!AI29=1,1,0)","v":0},null,{"$f":"IF('Fiches_Utilisateurs_Service#8'!AK29=1,1,0)","v":0},null,{"$f":"IF('Fiches_Utilisateurs_Service#8'!AM29=1,1,0)","v":0},null,{"$f":"IF('Fiches_Utilisateurs_Service#8'!AO29=1,1,0)","v":0},null,{"$f":"IF('Fiches_Utilisateurs_Service#8'!AQ29=1,1,0)","v":0},null,{"$f":"IF('Fiches_Utilisateurs_Service#8'!AS29=1,1,0)","v":0},null,{"$f":"IF('Fiches_Utilisateurs_Service#8'!AU29=1,1,0)","v":0},null,{"$f":"IF('Fiches_Utilisateurs_Service#8'!AW29=1,1,0)","v":0},null,{"$f":"IF('Fiches_Utilisateurs_Service#8'!AY29=1,1,0)","v":0},null,{"$f":"IF('Fiches_Utilisateurs_Service#8'!BA29=1,1,0)","v":0},null,{"$f":"IF('Fiches_Utilisateurs_Service#8'!BC29=1,1,0)","v":0},null,{"$f":"IF('Fiches_Utilisateurs_Service#8'!BE29=1,1,0)","v":0},null,{"$f":"IF('Fiches_Utilisateurs_Service#8'!BG29=1,1,0)","v":0},null,{"$f":"IF('Fiches_Utilisateurs_Service#8'!BI29=1,1,0)","v":0},null,{"$f":"IF('Fiches_Utilisateurs_Service#8'!BK29=1,1,0)","v":0},null,{"$f":"IF('Fiches_Utilisateurs_Service#8'!BM29=1,1,0)","v":0},null,{"$f":"IF('Fiches_Utilisateurs_Service#8'!BO29=1,1,0)","v":0},null,{"$f":"IF('Fiches_Utilisateurs_Service#8'!BQ29=1,1,0)","v":0},null,{"$f":"IF('Fiches_Utilisateurs_Service#8'!BS29=1,1,0)","v":0},null,{"$f":"IF('Fiches_Utilisateurs_Service#8'!BU29=1,1,0)","v":0},null,{"$f":"IF('Fiches_Utilisateurs_Service#8'!BW29=1,1,0)","v":0},null,{"$f":"IF('Fiches_Utilisateurs_Service#8'!BY29=1,1,0)","v":0},null,{"$f":"IF('Fiches_Utilisateurs_Service#8'!CA29=1,1,0)","v":0},null,{"$f":"IF('Fiches_Utilisateurs_Service#8'!CC29=1,1,0)","v":0}]
[]
[null,null,{"$f":"IF('Fiches_Utilisateurs_Service#8'!C31=1,1,0)","v":0},null,{"$f":"IF('Fiches_Utilisateurs_Service#8'!E31=1,1,0)","v":0},null,{"$f":"IF('Fiches_Utilisateurs_Service#8'!G31=1,1,0)","v":0},null,{"$f":"IF('Fiches_Utilisateurs_Service#8'!I31=1,1,0)","v":0},null,{"$f":"IF('Fiches_Utilisateurs_Service#8'!K31=1,1,0)","v":0},null,{"$f":"IF('Fiches_Utilisateurs_Service#8'!M31=1,1,0)","v":0},null,{"$f":"IF('Fiches_Utilisateurs_Service#8'!O31=1,1,0)","v":0},null,{"$f":"IF('Fiches_Utilisateurs_Service#8'!Q31=1,1,0)","v":0},null,{"$f":"IF('Fiches_Utilisateurs_Service#8'!S31=1,1,0)","v":0},null,{"$f":"IF('Fiches_Utilisateurs_Service#8'!U31=1,1,0)","v":0},null,{"$f":"IF('Fiches_Utilisateurs_Service#8'!W31=1,1,0)","v":0},null,{"$f":"IF('Fiches_Utilisateurs_Service#8'!Y31=1,1,0)","v":0},null,{"$f":"IF('Fiches_Utilisateurs_Service#8'!AA31=1,1,0)","v":0},null,{"$f":"IF('Fiches_Utilisateurs_Service#8'!AC31=1,1,0)","v":0},null,{"$f":"IF('Fiches_Utilisateurs_Service#8'!AE31=1,1,0)","v":0},null,{"$f":"IF('Fiches_Utilisateurs_Service#8'!AG31=1,1,0)","v":0},null,{"$f":"IF('Fiches_Utilisateurs_Service#8'!AI31=1,1,0)","v":0},null,{"$f":"IF('Fiches_Utilisateurs_Service#8'!AK31=1,1,0)","v":0},null,{"$f":"IF('Fiches_Utilisateurs_Service#8'!AM31=1,1,0)","v":0},null,{"$f":"IF('Fiches_Utilisateurs_Service#8'!AO31=1,1,0)","v":0},null,{"$f":"IF('Fiches_Utilisateurs_Service#8'!AQ31=1,1,0)","v":0},null,{"$f":"IF('Fiches_Utilisateurs_Service#8'!AS31=1,1,0)","v":0},null,{"$f":"IF('Fiches_Utilisateurs_Service#8'!AU31=1,1,0)","v":0},null,{"$f":"IF('Fiches_Utilisateurs_Service#8'!AW31=1,1,0)","v":0},null,{"$f":"IF('Fiches_Utilisateurs_Service#8'!AY31=1,1,0)","v":0},null,{"$f":"IF('Fiches_Utilisateurs_Service#8'!BA31=1,1,0)","v":0},null,{"$f":"IF('Fiches_Utilisateurs_Service#8'!BC31=1,1,0)","v":0},null,{"$f":"IF('Fiches_Utilisateurs_Service#8'!BE31=1,1,0)","v":0},null,{"$f":"IF('Fiches_Utilisateurs_Service#8'!BG31=1,1,0)","v":0},null,{"$f":"IF('Fiches_Utilisateurs_Service#8'!BI31=1,1,0)","v":0},null,{"$f":"IF('Fiches_Utilisateurs_Service#8'!BK31=1,1,0)","v":0},null,{"$f":"IF('Fiches_Utilisateurs_Service#8'!BM31=1,1,0)","v":0},null,{"$f":"IF('Fiches_Utilisateurs_Service#8'!BO31=1,1,0)","v":0},null,{"$f":"IF('Fiches_Utilisateurs_Service#8'!BQ31=1,1,0)","v":0},null,{"$f":"IF('Fiches_Utilisateurs_Service#8'!BS31=1,1,0)","v":0},null,{"$f":"IF('Fiches_Utilisateurs_Service#8'!BU31=1,1,0)","v":0},null,{"$f":"IF('Fiches_Utilisateurs_Service#8'!BW31=1,1,0)","v":0},null,{"$f":"IF('Fiches_Utilisateurs_Service#8'!BY31=1,1,0)","v":0},null,{"$f":"IF('Fiches_Utilisateurs_Service#8'!CA31=1,1,0)","v":0},null,{"$f":"IF('Fiches_Utilisateurs_Service#8'!CC31=1,1,0)","v":0}]
[]
[null,null,{"$f":"IF('Fiches_Utilisateurs_Service#8'!C33=1,1,0)","v":0},null,{"$f":"IF('Fiches_Utilisateurs_Service#8'!E33=1,1,0)","v":0},null,{"$f":"IF('Fiches_Utilisateurs_Service#8'!G33=1,1,0)","v":0},null,{"$f":"IF('Fiches_Utilisateurs_Service#8'!I33=1,1,0)","v":0},null,{"$f":"IF('Fiches_Utilisateurs_Service#8'!K33=1,1,0)","v":0},null,{"$f":"IF('Fiches_Utilisateurs_Service#8'!M33=1,1,0)","v":0},null,{"$f":"IF('Fiches_Utilisateurs_Service#8'!O33=1,1,0)","v":0},null,{"$f":"IF('Fiches_Utilisateurs_Service#8'!Q33=1,1,0)","v":0},null,{"$f":"IF('Fiches_Utilisateurs_Service#8'!S33=1,1,0)","v":0},null,{"$f":"IF('Fiches_Utilisateurs_Service#8'!U33=1,1,0)","v":0},null,{"$f":"IF('Fiches_Utilisateurs_Service#8'!W33=1,1,0)","v":0},null,{"$f":"IF('Fiches_Utilisateurs_Service#8'!Y33=1,1,0)","v":0},null,{"$f":"IF('Fiches_Utilisateurs_Service#8'!AA33=1,1,0)","v":0},null,{"$f":"IF('Fiches_Utilisateurs_Service#8'!AC33=1,1,0)","v":0},null,{"$f":"IF('Fiches_Utilisateurs_Service#8'!AE33=1,1,0)","v":0},null,{"$f":"IF('Fiches_Utilisateurs_Service#8'!AG33=1,1,0)","v":0},null,{"$f":"IF('Fiches_Utilisateurs_Service#8'!AI33=1,1,0)","v":0},null,{"$f":"IF('Fiches_Utilisateurs_Service#8'!AK33=1,1,0)","v":0},null,{"$f":"IF('Fiches_Utilisateurs_Service#8'!AM33=1,1,0)","v":0},null,{"$f":"IF('Fiches_Utilisateurs_Service#8'!AO33=1,1,0)","v":0},null,{"$f":"IF('Fiches_Utilisateurs_Service#8'!AQ33=1,1,0)","v":0},null,{"$f":"IF('Fiches_Utilisateurs_Service#8'!AS33=1,1,0)","v":0},null,{"$f":"IF('Fiches_Utilisateurs_Service#8'!AU33=1,1,0)","v":0},null,{"$f":"IF('Fiches_Utilisateurs_Service#8'!AW33=1,1,0)","v":0},null,{"$f":"IF('Fiches_Utilisateurs_Service#8'!AY33=1,1,0)","v":0},null,{"$f":"IF('Fiches_Utilisateurs_Service#8'!BA33=1,1,0)","v":0},null,{"$f":"IF('Fiches_Utilisateurs_Service#8'!BC33=1,1,0)","v":0},null,{"$f":"IF('Fiches_Utilisateurs_Service#8'!BE33=1,1,0)","v":0},null,{"$f":"IF('Fiches_Utilisateurs_Service#8'!BG33=1,1,0)","v":0},null,{"$f":"IF('Fiches_Utilisateurs_Service#8'!BI33=1,1,0)","v":0},null,{"$f":"IF('Fiches_Utilisateurs_Service#8'!BK33=1,1,0)","v":0},null,{"$f":"IF('Fiches_Utilisateurs_Service#8'!BM33=1,1,0)","v":0},null,{"$f":"IF('Fiches_Utilisateurs_Service#8'!BO33=1,1,0)","v":0},null,{"$f":"IF('Fiches_Utilisateurs_Service#8'!BQ33=1,1,0)","v":0},null,{"$f":"IF('Fiches_Utilisateurs_Service#8'!BS33=1,1,0)","v":0},null,{"$f":"IF('Fiches_Utilisateurs_Service#8'!BU33=1,1,0)","v":0},null,{"$f":"IF('Fiches_Utilisateurs_Service#8'!BW33=1,1,0)","v":0},null,{"$f":"IF('Fiches_Utilisateurs_Service#8'!BY33=1,1,0)","v":0},null,{"$f":"IF('Fiches_Utilisateurs_Service#8'!CA33=1,1,0)","v":0},null,{"$f":"IF('Fiches_Utilisateurs_Service#8'!CC33=1,1,0)","v":0}]
[]
[null,null,{"$f":"IF('Fiches_Utilisateurs_Service#8'!C35=1,1,0)","v":0},null,{"$f":"IF('Fiches_Utilisateurs_Service#8'!E35=1,1,0)","v":0},null,{"$f":"IF('Fiches_Utilisateurs_Service#8'!G35=1,1,0)","v":0},null,{"$f":"IF('Fiches_Utilisateurs_Service#8'!I35=1,1,0)","v":0},null,{"$f":"IF('Fiches_Utilisateurs_Service#8'!K35=1,1,0)","v":0},null,{"$f":"IF('Fiches_Utilisateurs_Service#8'!M35=1,1,0)","v":0},null,{"$f":"IF('Fiches_Utilisateurs_Service#8'!O35=1,1,0)","v":0},null,{"$f":"IF('Fiches_Utilisateurs_Service#8'!Q35=1,1,0)","v":0},null,{"$f":"IF('Fiches_Utilisateurs_Service#8'!S35=1,1,0)","v":0},null,{"$f":"IF('Fiches_Utilisateurs_Service#8'!U35=1,1,0)","v":0},null,{"$f":"IF('Fiches_Utilisateurs_Service#8'!W35=1,1,0)","v":0},null,{"$f":"IF('Fiches_Utilisateurs_Service#8'!Y35=1,1,0)","v":0},null,{"$f":"IF('Fiches_Utilisateurs_Service#8'!AA35=1,1,0)","v":0},null,{"$f":"IF('Fiches_Utilisateurs_Service#8'!AC35=1,1,0)","v":0},null,{"$f":"IF('Fiches_Utilisateurs_Service#8'!AE35=1,1,0)","v":0},null,{"$f":"IF('Fiches_Utilisateurs_Service#8'!AG35=1,1,0)","v":0},null,{"$f":"IF('Fiches_Utilisateurs_Service#8'!AI35=1,1,0)","v":0},null,{"$f":"IF('Fiches_Utilisateurs_Service#8'!AK35=1,1,0)","v":0},null,{"$f":"IF('Fiches_Utilisateurs_Service#8'!AM35=1,1,0)","v":0},null,{"$f":"IF('Fiches_Utilisateurs_Service#8'!AO35=1,1,0)","v":0},null,{"$f":"IF('Fiches_Utilisateurs_Service#8'!AQ35=1,1,0)","v":0},null,{"$f":"IF('Fiches_Utilisateurs_Service#8'!AS35=1,1,0)","v":0},null,{"$f":"IF('Fiches_Utilisateurs_Service#8'!AU35=1,1,0)","v":0},null,{"$f":"IF('Fiches_Utilisateurs_Service#8'!AW35=1,1,0)","v":0},null,{"$f":"IF('Fiches_Utilisateurs_Service#8'!AY35=1,1,0)","v":0},null,{"$f":"IF('Fiches_Utilisateurs_Service#8'!BA35=1,1,0)","v":0},null,{"$f":"IF('Fiches_Utilisateurs_Service#8'!BC35=1,1,0)","v":0},null,{"$f":"IF('Fiches_Utilisateurs_Service#8'!BE35=1,1,0)","v":0},null,{"$f":"IF('Fiches_Utilisateurs_Service#8'!BG35=1,1,0)","v":0},null,{"$f":"IF('Fiches_Utilisateurs_Service#8'!BI35=1,1,0)","v":0},null,{"$f":"IF('Fiches_Utilisateurs_Service#8'!BK35=1,1,0)","v":0},null,{"$f":"IF('Fiches_Utilisateurs_Service#8'!BM35=1,1,0)","v":0},null,{"$f":"IF('Fiches_Utilisateurs_Service#8'!BO35=1,1,0)","v":0},null,{"$f":"IF('Fiches_Utilisateurs_Service#8'!BQ35=1,1,0)","v":0},null,{"$f":"IF('Fiches_Utilisateurs_Service#8'!BS35=1,1,0)","v":0},null,{"$f":"IF('Fiches_Utilisateurs_Service#8'!BU35=1,1,0)","v":0},null,{"$f":"IF('Fiches_Utilisateurs_Service#8'!BW35=1,1,0)","v":0},null,{"$f":"IF('Fiches_Utilisateurs_Service#8'!BY35=1,1,0)","v":0},null,{"$f":"IF('Fiches_Utilisateurs_Service#8'!CA35=1,1,0)","v":0},null,{"$f":"IF('Fiches_Utilisateurs_Service#8'!CC35=1,1,0)","v":0}]
[]
["tot sale",{"$f":"SUM(C37:CC37)","v":0},{"$f":"SUM(C15:C35)","v":0},null,{"$f":"SUM(E15:E35)","v":0},null,{"$f":"SUM(G15:G35)","v":0},null,{"$f":"SUM(I15:I35)","v":0},null,{"$f":"SUM(K15:K35)","v":0},null,{"$f":"SUM(M15:M35)","v":0},null,{"$f":"SUM(O15:O35)","v":0},null,{"$f":"SUM(Q15:Q35)","v":0},null,{"$f":"SUM(S15:S35)","v":0},null,{"$f":"SUM(U15:U35)","v":0},null,{"$f":"SUM(W15:W35)","v":0},null,{"$f":"SUM(Y15:Y35)","v":0},null,{"$f":"SUM(AA15:AA35)","v":0},null,{"$f":"SUM(AC15:AC35)","v":0},null,{"$f":"SUM(AE15:AE35)","v":0},null,{"$f":"SUM(AG15:AG35)","v":0},null,{"$f":"SUM(AI15:AI35)","v":0},null,{"$f":"SUM(AK15:AK35)","v":0},null,{"$f":"SUM(AM15:AM35)","v":0},null,{"$f":"SUM(AO15:AO35)","v":0},null,{"$f":"SUM(AQ15:AQ35)","v":0},null,{"$f":"SUM(AS15:AS35)","v":0},null,{"$f":"SUM(AU15:AU35)","v":0},null,{"$f":"SUM(AW15:AW35)","v":0},null,{"$f":"SUM(AY15:AY35)","v":0},null,{"$f":"SUM(BA15:BA35)","v":0},null,{"$f":"SUM(BC15:BC35)","v":0},null,{"$f":"SUM(BE15:BE35)","v":0},null,{"$f":"SUM(BG15:BG35)","v":0},null,{"$f":"SUM(BI15:BI35)","v":0},null,{"$f":"SUM(BK15:BK35)","v":0},null,{"$f":"SUM(BM15:BM35)","v":0},null,{"$f":"SUM(BO15:BO35)","v":0},null,{"$f":"SUM(BQ15:BQ35)","v":0},null,{"$f":"SUM(BS15:BS35)","v":0},null,{"$f":"SUM(BU15:BU35)","v":0},null,{"$f":"SUM(BW15:BW35)","v":0},null,{"$f":"SUM(BY15:BY35)","v":0},null,{"$f":"SUM(CA15:CA35)","v":0},null,{"$f":"SUM(CC15:CC35)","v":0}]
[]
[null,null,{"$f":"IF('Fiches_Utilisateurs_Service#8'!C39=1,1,0)","v":0},null,{"$f":"IF('Fiches_Utilisateurs_Service#8'!E39=1,1,0)","v":0},null,{"$f":"IF('Fiches_Utilisateurs_Service#8'!G39=1,1,0)","v":0},null,{"$f":"IF('Fiches_Utilisateurs_Service#8'!I39=1,1,0)","v":0},null,{"$f":"IF('Fiches_Utilisateurs_Service#8'!K39=1,1,0)","v":0},null,{"$f":"IF('Fiches_Utilisateurs_Service#8'!M39=1,1,0)","v":0},null,{"$f":"IF('Fiches_Utilisateurs_Service#8'!O39=1,1,0)","v":0},null,{"$f":"IF('Fiches_Utilisateurs_Service#8'!Q39=1,1,0)","v":0},null,{"$f":"IF('Fiches_Utilisateurs_Service#8'!S39=1,1,0)","v":0},null,{"$f":"IF('Fiches_Utilisateurs_Service#8'!U39=1,1,0)","v":0},null,{"$f":"IF('Fiches_Utilisateurs_Service#8'!W39=1,1,0)","v":0},null,{"$f":"IF('Fiches_Utilisateurs_Service#8'!Y39=1,1,0)","v":0},null,{"$f":"IF('Fiches_Utilisateurs_Service#8'!AA39=1,1,0)","v":0},null,{"$f":"IF('Fiches_Utilisateurs_Service#8'!AC39=1,1,0)","v":0},null,{"$f":"IF('Fiches_Utilisateurs_Service#8'!AE39=1,1,0)","v":0},null,{"$f":"IF('Fiches_Utilisateurs_Service#8'!AG39=1,1,0)","v":0},null,{"$f":"IF('Fiches_Utilisateurs_Service#8'!AI39=1,1,0)","v":0},null,{"$f":"IF('Fiches_Utilisateurs_Service#8'!AK39=1,1,0)","v":0},null,{"$f":"IF('Fiches_Utilisateurs_Service#8'!AM39=1,1,0)","v":0},null,{"$f":"IF('Fiches_Utilisateurs_Service#8'!AO39=1,1,0)","v":0},null,{"$f":"IF('Fiches_Utilisateurs_Service#8'!AQ39=1,1,0)","v":0},null,{"$f":"IF('Fiches_Utilisateurs_Service#8'!AS39=1,1,0)","v":0},null,{"$f":"IF('Fiches_Utilisateurs_Service#8'!AU39=1,1,0)","v":0},null,{"$f":"IF('Fiches_Utilisateurs_Service#8'!AW39=1,1,0)","v":0},null,{"$f":"IF('Fiches_Utilisateurs_Service#8'!AY39=1,1,0)","v":0},null,{"$f":"IF('Fiches_Utilisateurs_Service#8'!BA39=1,1,0)","v":0},null,{"$f":"IF('Fiches_Utilisateurs_Service#8'!BC39=1,1,0)","v":0},null,{"$f":"IF('Fiches_Utilisateurs_Service#8'!BE39=1,1,0)","v":0},null,{"$f":"IF('Fiches_Utilisateurs_Service#8'!BG39=1,1,0)","v":0},null,{"$f":"IF('Fiches_Utilisateurs_Service#8'!BI39=1,1,0)","v":0},null,{"$f":"IF('Fiches_Utilisateurs_Service#8'!BK39=1,1,0)","v":0},null,{"$f":"IF('Fiches_Utilisateurs_Service#8'!BM39=1,1,0)","v":0},null,{"$f":"IF('Fiches_Utilisateurs_Service#8'!BO39=1,1,0)","v":0},null,{"$f":"IF('Fiches_Utilisateurs_Service#8'!BQ39=1,1,0)","v":0},null,{"$f":"IF('Fiches_Utilisateurs_Service#8'!BS39=1,1,0)","v":0},null,{"$f":"IF('Fiches_Utilisateurs_Service#8'!BU39=1,1,0)","v":0},null,{"$f":"IF('Fiches_Utilisateurs_Service#8'!BW39=1,1,0)","v":0},null,{"$f":"IF('Fiches_Utilisateurs_Service#8'!BY39=1,1,0)","v":0},null,{"$f":"IF('Fiches_Utilisateurs_Service#8'!CA39=1,1,0)","v":0},null,{"$f":"IF('Fiches_Utilisateurs_Service#8'!CC39=1,1,0)","v":0}]
[]
[null,null,{"$f":"IF('Fiches_Utilisateurs_Service#8'!C41=1,1,0)","v":0},null,{"$f":"IF('Fiches_Utilisateurs_Service#8'!E41=1,1,0)","v":0},null,{"$f":"IF('Fiches_Utilisateurs_Service#8'!G41=1,1,0)","v":0},null,{"$f":"IF('Fiches_Utilisateurs_Service#8'!I41=1,1,0)","v":0},null,{"$f":"IF('Fiches_Utilisateurs_Service#8'!K41=1,1,0)","v":0},null,{"$f":"IF('Fiches_Utilisateurs_Service#8'!M41=1,1,0)","v":0},null,{"$f":"IF('Fiches_Utilisateurs_Service#8'!O41=1,1,0)","v":0},null,{"$f":"IF('Fiches_Utilisateurs_Service#8'!Q41=1,1,0)","v":0},null,{"$f":"IF('Fiches_Utilisateurs_Service#8'!S41=1,1,0)","v":0},null,{"$f":"IF('Fiches_Utilisateurs_Service#8'!U41=1,1,0)","v":0},null,{"$f":"IF('Fiches_Utilisateurs_Service#8'!W41=1,1,0)","v":0},null,{"$f":"IF('Fiches_Utilisateurs_Service#8'!Y41=1,1,0)","v":0},null,{"$f":"IF('Fiches_Utilisateurs_Service#8'!AA41=1,1,0)","v":0},null,{"$f":"IF('Fiches_Utilisateurs_Service#8'!AC41=1,1,0)","v":0},null,{"$f":"IF('Fiches_Utilisateurs_Service#8'!AE41=1,1,0)","v":0},null,{"$f":"IF('Fiches_Utilisateurs_Service#8'!AG41=1,1,0)","v":0},null,{"$f":"IF('Fiches_Utilisateurs_Service#8'!AI41=1,1,0)","v":0},null,{"$f":"IF('Fiches_Utilisateurs_Service#8'!AK41=1,1,0)","v":0},null,{"$f":"IF('Fiches_Utilisateurs_Service#8'!AM41=1,1,0)","v":0},null,{"$f":"IF('Fiches_Utilisateurs_Service#8'!AO41=1,1,0)","v":0},null,{"$f":"IF('Fiches_Utilisateurs_Service#8'!AQ41=1,1,0)","v":0},null,{"$f":"IF('Fiches_Utilisateurs_Service#8'!AS41=1,1,0)","v":0},null,{"$f":"IF('Fiches_Utilisateurs_Service#8'!AU41=1,1,0)","v":0},null,{"$f":"IF('Fiches_Utilisateurs_Service#8'!AW41=1,1,0)","v":0},null,{"$f":"IF('Fiches_Utilisateurs_Service#8'!AY41=1,1,0)","v":0},null,{"$f":"IF('Fiches_Utilisateurs_Service#8'!BA41=1,1,0)","v":0},null,{"$f":"IF('Fiches_Utilisateurs_Service#8'!BC41=1,1,0)","v":0},null,{"$f":"IF('Fiches_Utilisateurs_Service#8'!BE41=1,1,0)","v":0},null,{"$f":"IF('Fiches_Utilisateurs_Service#8'!BG41=1,1,0)","v":0},null,{"$f":"IF('Fiches_Utilisateurs_Service#8'!BI41=1,1,0)","v":0},null,{"$f":"IF('Fiches_Utilisateurs_Service#8'!BK41=1,1,0)","v":0},null,{"$f":"IF('Fiches_Utilisateurs_Service#8'!BM41=1,1,0)","v":0},null,{"$f":"IF('Fiches_Utilisateurs_Service#8'!BO41=1,1,0)","v":0},null,{"$f":"IF('Fiches_Utilisateurs_Service#8'!BQ41=1,1,0)","v":0},null,{"$f":"IF('Fiches_Utilisateurs_Service#8'!BS41=1,1,0)","v":0},null,{"$f":"IF('Fiches_Utilisateurs_Service#8'!BU41=1,1,0)","v":0},null,{"$f":"IF('Fiches_Utilisateurs_Service#8'!BW41=1,1,0)","v":0},null,{"$f":"IF('Fiches_Utilisateurs_Service#8'!BY41=1,1,0)","v":0},null,{"$f":"IF('Fiches_Utilisateurs_Service#8'!CA41=1,1,0)","v":0},null,{"$f":"IF('Fiches_Utilisateurs_Service#8'!CC41=1,1,0)","v":0}]
[]
[null,null,{"$f":"IF('Fiches_Utilisateurs_Service#8'!C43=1,1,0)","v":0},null,{"$f":"IF('Fiches_Utilisateurs_Service#8'!E43=1,1,0)","v":0},null,{"$f":"IF('Fiches_Utilisateurs_Service#8'!G43=1,1,0)","v":0},null,{"$f":"IF('Fiches_Utilisateurs_Service#8'!I43=1,1,0)","v":0},null,{"$f":"IF('Fiches_Utilisateurs_Service#8'!K43=1,1,0)","v":0},null,{"$f":"IF('Fiches_Utilisateurs_Service#8'!M43=1,1,0)","v":0},null,{"$f":"IF('Fiches_Utilisateurs_Service#8'!O43=1,1,0)","v":0},null,{"$f":"IF('Fiches_Utilisateurs_Service#8'!Q43=1,1,0)","v":0},null,{"$f":"IF('Fiches_Utilisateurs_Service#8'!S43=1,1,0)","v":0},null,{"$f":"IF('Fiches_Utilisateurs_Service#8'!U43=1,1,0)","v":0},null,{"$f":"IF('Fiches_Utilisateurs_Service#8'!W43=1,1,0)","v":0},null,{"$f":"IF('Fiches_Utilisateurs_Service#8'!Y43=1,1,0)","v":0},null,{"$f":"IF('Fiches_Utilisateurs_Service#8'!AA43=1,1,0)","v":0},null,{"$f":"IF('Fiches_Utilisateurs_Service#8'!AC43=1,1,0)","v":0},null,{"$f":"IF('Fiches_Utilisateurs_Service#8'!AE43=1,1,0)","v":0},null,{"$f":"IF('Fiches_Utilisateurs_Service#8'!AG43=1,1,0)","v":0},null,{"$f":"IF('Fiches_Utilisateurs_Service#8'!AI43=1,1,0)","v":0},null,{"$f":"IF('Fiches_Utilisateurs_Service#8'!AK43=1,1,0)","v":0},null,{"$f":"IF('Fiches_Utilisateurs_Service#8'!AM43=1,1,0)","v":0},null,{"$f":"IF('Fiches_Utilisateurs_Service#8'!AO43=1,1,0)","v":0},null,{"$f":"IF('Fiches_Utilisateurs_Service#8'!AQ43=1,1,0)","v":0},null,{"$f":"IF('Fiches_Utilisateurs_Service#8'!AS43=1,1,0)","v":0},null,{"$f":"IF('Fiches_Utilisateurs_Service#8'!AU43=1,1,0)","v":0},null,{"$f":"IF('Fiches_Utilisateurs_Service#8'!AW43=1,1,0)","v":0},null,{"$f":"IF('Fiches_Utilisateurs_Service#8'!AY43=1,1,0)","v":0},null,{"$f":"IF('Fiches_Utilisateurs_Service#8'!BA43=1,1,0)","v":0},null,{"$f":"IF('Fiches_Utilisateurs_Service#8'!BC43=1,1,0)","v":0},null,{"$f":"IF('Fiches_Utilisateurs_Service#8'!BE43=1,1,0)","v":0},null,{"$f":"IF('Fiches_Utilisateurs_Service#8'!BG43=1,1,0)","v":0},null,{"$f":"IF('Fiches_Utilisateurs_Service#8'!BI43=1,1,0)","v":0},null,{"$f":"IF('Fiches_Utilisateurs_Service#8'!BK43=1,1,0)","v":0},null,{"$f":"IF('Fiches_Utilisateurs_Service#8'!BM43=1,1,0)","v":0},null,{"$f":"IF('Fiches_Utilisateurs_Service#8'!BO43=1,1,0)","v":0},null,{"$f":"IF('Fiches_Utilisateurs_Service#8'!BQ43=1,1,0)","v":0},null,{"$f":"IF('Fiches_Utilisateurs_Service#8'!BS43=1,1,0)","v":0},null,{"$f":"IF('Fiches_Utilisateurs_Service#8'!BU43=1,1,0)","v":0},null,{"$f":"IF('Fiches_Utilisateurs_Service#8'!BW43=1,1,0)","v":0},null,{"$f":"IF('Fiches_Utilisateurs_Service#8'!BY43=1,1,0)","v":0},null,{"$f":"IF('Fiches_Utilisateurs_Service#8'!CA43=1,1,0)","v":0},null,{"$f":"IF('Fiches_Utilisateurs_Service#8'!CC43=1,1,0)","v":0}]
[]
["tot propre",{"$f":"SUM(C45:CC45)","v":0},{"$f":"SUM(C39:C43)","v":0},null,{"$f":"SUM(E39:E43)","v":0},null,{"$f":"SUM(G39:G43)","v":0},null,{"$f":"SUM(I39:I43)","v":0},null,{"$f":"SUM(K39:K43)","v":0},null,{"$f":"SUM(M39:M43)","v":0},null,{"$f":"SUM(O39:O43)","v":0},null,{"$f":"SUM(Q39:Q43)","v":0},null,{"$f":"SUM(S39:S43)","v":0},null,{"$f":"SUM(U39:U43)","v":0},null,{"$f":"SUM(W39:W43)","v":0},null,{"$f":"SUM(Y39:Y43)","v":0},null,{"$f":"SUM(AA39:AA43)","v":0},null,{"$f":"SUM(AC39:AC43)","v":0},null,{"$f":"SUM(AE39:AE43)","v":0},null,{"$f":"SUM(AG39:AG43)","v":0},null,{"$f":"SUM(AI39:AI43)","v":0},null,{"$f":"SUM(AK39:AK43)","v":0},null,{"$f":"SUM(AM39:AM43)","v":0},null,{"$f":"SUM(AO39:AO43)","v":0},null,{"$f":"SUM(AQ39:AQ43)","v":0},null,{"$f":"SUM(AS39:AS43)","v":0},null,{"$f":"SUM(AU39:AU43)","v":0},null,{"$f":"SUM(AW39:AW43)","v":0},null,{"$f":"SUM(AY39:AY43)","v":0},null,{"$f":"SUM(BA39:BA43)","v":0},null,{"$f":"SUM(BC39:BC43)","v":0},null,{"$f":"SUM(BE39:BE43)","v":0},null,{"$f":"SUM(BG39:BG43)","v":0},null,{"$f":"SUM(BI39:BI43)","v":0},null,{"$f":"SUM(BK39:BK43)","v":0},null,{"$f":"SUM(BM39:BM43)","v":0},null,{"$f":"SUM(BO39:BO43)","v":0},null,{"$f":"SUM(BQ39:BQ43)","v":0},null,{"$f":"SUM(BS39:BS43)","v":0},null,{"$f":"SUM(BU39:BU43)","v":0},null,{"$f":"SUM(BW39:BW43)","v":0},null,{"$f":"SUM(BY39:BY43)","v":0},null,{"$f":"SUM(CA39:CA43)","v":0},null,{"$f":"SUM(CC39:CC43)","v":0}]
[]
["tot tot",{"$f":"SUM(C47:CC47)","v":0},{"$f":"C45+C37","v":0},null,{"$f":"E45+E37","v":0},null,{"$f":"G45+G37","v":0},null,{"$f":"I45+I37","v":0},null,{"$f":"K45+K37","v":0},null,{"$f":"M45+M37","v":0},null,{"$f":"O45+O37","v":0},null,{"$f":"Q45+Q37","v":0},null,{"$f":"S45+S37","v":0},null,{"$f":"U45+U37","v":0},null,{"$f":"W45+W37","v":0},null,{"$f":"Y45+Y37","v":0},null,{"$f":"AA45+AA37","v":0},null,{"$f":"AC45+AC37","v":0},null,{"$f":"AE45+AE37","v":0},null,{"$f":"AG45+AG37","v":0},null,{"$f":"AI45+AI37","v":0},null,{"$f":"AK45+AK37","v":0},null,{"$f":"AM45+AM37","v":0},null,{"$f":"AO45+AO37","v":0},null,{"$f":"AQ45+AQ37","v":0},null,{"$f":"AS45+AS37","v":0},null,{"$f":"AU45+AU37","v":0},null,{"$f":"AW45+AW37","v":0},null,{"$f":"AY45+AY37","v":0},null,{"$f":"BA45+BA37","v":0},null,{"$f":"BC45+BC37","v":0},null,{"$f":"BE45+BE37","v":0},null,{"$f":"BG45+BG37","v":0},null,{"$f":"BI45+BI37","v":0},null,{"$f":"BK45+BK37","v":0},null,{"$f":"BM45+BM37","v":0},null,{"$f":"BO45+BO37","v":0},null,{"$f":"BQ45+BQ37","v":0},null,{"$f":"BS45+BS37","v":0},null,{"$f":"BU45+BU37","v":0},null,{"$f":"BW45+BW37","v":0},null,{"$f":"BY45+BY37","v":0},null,{"$f":"CA45+CA37","v":0},null,{"$f":"CC45+CC37","v":0}]
[]
[]
[]
[]
[1,{"$f":"SUM(C52:CC52)","v":0},{"$f":"IF(C11=\"1\",1,0)","v":0},null,{"$f":"IF(E11=\"1\",1,0)","v":0},null,0,null,0,null,0,null,0,null,0,null,0,null,0,null,0,null,0,null,0,null,0,null,0,null,0,null,0,null,0,null,0,null,0,null,0,null,0,null,0,null,0,null,0,null,0,null,0,null,0,null,0,null,0,null,0,null,0,null,0,null,0,null,{"$f":"IF(BQ11=\"1\",1,0)","v":0},null,0,null,0,null,0,null,0,null,0,null,0]
[null,0,{"$f":"IF(C52=1,(C77+C82),0)","v":0},null,{"$f":"IF(E52=1,(E77+E82),0)","v":0},null,{"$f":"IF(G52=1,(G77+G82),0)","v":0},null,{"$f":"IF(I52=1,(I77+I82),0)","v":0},null,{"$f":"IF(K52=1,(K77+K82),0)","v":0},null,{"$f":"IF(M52=1,(M77+M82),0)","v":0},null,{"$f":"IF(O52=1,(O77+O82),0)","v":0},null,{"$f":"IF(Q52=1,(Q77+Q82),0)","v":0},null,{"$f":"IF(S52=1,(S77+S82),0)","v":0},null,{"$f":"IF(U52=1,(U77+U82),0)","v":0},null,{"$f":"IF(W52=1,(W77+W82),0)","v":0},null,{"$f":"IF(Y52=1,(Y77+Y82),0)","v":0},null,{"$f":"IF(AA52=1,(AA77+AA82),0)","v":0},null,{"$f":"IF(AC52=1,(AC77+AC82),0)","v":0},null,{"$f":"IF(AE52=1,(AE77+AE82),0)","v":0},null,{"$f":"IF(AG52=1,(AG77+AG82),0)","v":0},null,{"$f":"IF(AI52=1,(AI77+AI82),0)","v":0},null,{"$f":"IF(AK52=1,(AK77+AK82),0)","v":0},null,{"$f":"IF(AM52=1,(AM77+AM82),0)","v":0},null,{"$f":"IF(AO52=1,(AO77+AO82),0)","v":0},null,{"$f":"IF(AQ52=1,(AQ77+AQ82),0)","v":0},null,{"$f":"IF(AS52=1,(AS77+AS82),0)","v":0},null,{"$f":"IF(AU52=1,(AU77+AU82),0)","v":0},null,{"$f":"IF(AW52=1,(AW77+AW82),0)","v":0},null,{"$f":"IF(AY52=1,(AY77+AY82),0)","v":0},null,{"$f":"IF(BA52=1,(BA77+BA82),0)","v":0},null,{"$f":"IF(BC52=1,(BC77+BC82),0)","v":0},null,{"$f":"IF(BE52=1,(BE77+BE82),0)","v":0},null,{"$f":"IF(BG52=1,(BG77+BG82),0)","v":0},null,{"$f":"IF(BI52=1,(BI77+BI82),0)","v":0},null,{"$f":"IF(BK52=1,(BK77+BK82),0)","v":0},null,{"$f":"IF(BM52=1,(BM77+BM82),0)","v":0},null,{"$f":"IF(BO52=1,(BO77+BO82),0)","v":0},null,{"$f":"IF(BQ52=1,(BQ77+BQ82),0)","v":0},null,{"$f":"IF(BS52=1,(BS77+BS82),0)","v":0},null,{"$f":"IF(BU52=1,(BU77+BU82),0)","v":0},null,{"$f":"IF(BW52=1,(BW77+BW82),0)","v":0},null,{"$f":"IF(BY52=1,(BY77+BY82),0)","v":0},null,{"$f":"IF(CA52=1,(CA77+CA82),0)","v":0},null,{"$f":"IF(CC52=1,(CC77+CC82),0)","v":0}]
[2,0,{"$f":"IF(C11=\"2\",1,0)","v":0},null,{"$f":"IF(E11=\"2\",1,0)","v":0},null,0,null,0,null,0,null,0,null,0,null,0,null,0,null,0,null,0,null,0,null,0,null,0,null,0,null,0,null,0,null,0,null,0,null,0,null,0,null,0,null,0,null,0,null,0,null,0,null,0,null,0,null,0,null,0,null,0,null,0,null,0,null,{"$f":"IF(BQ11=\"2\",1,0)","v":0},null,0,null,0,null,0,null,0,null,0,null,0]
[null,0,{"$f":"IF(C54=1,(C77+C82),0)","v":0},null,{"$f":"IF(E54=1,(E77+E82),0)","v":0},null,{"$f":"IF(G54=1,(G77+G82),0)","v":0},null,{"$f":"IF(I54=1,(I77+I82),0)","v":0},null,{"$f":"IF(K54=1,(K77+K82),0)","v":0},null,{"$f":"IF(M54=1,(M77+M82),0)","v":0},null,{"$f":"IF(O54=1,(O77+O82),0)","v":0},null,{"$f":"IF(Q54=1,(Q77+Q82),0)","v":0},null,{"$f":"IF(S54=1,(S77+S82),0)","v":0},null,{"$f":"IF(U54=1,(U77+U82),0)","v":0},null,{"$f":"IF(W54=1,(W77+W82),0)","v":0},null,{"$f":"IF(Y54=1,(Y77+Y82),0)","v":0},null,{"$f":"IF(AA54=1,(AA77+AA82),0)","v":0},null,{"$f":"IF(AC54=1,(AC77+AC82),0)","v":0},null,{"$f":"IF(AE54=1,(AE77+AE82),0)","v":0},null,{"$f":"IF(AG54=1,(AG77+AG82),0)","v":0},null,{"$f":"IF(AI54=1,(AI77+AI82),0)","v":0},null,{"$f":"IF(AK54=1,(AK77+AK82),0)","v":0},null,{"$f":"IF(AM54=1,(AM77+AM82),0)","v":0},null,{"$f":"IF(AO54=1,(AO77+AO82),0)","v":0},null,{"$f":"IF(AQ54=1,(AQ77+AQ82),0)","v":0},null,{"$f":"IF(AS54=1,(AS77+AS82),0)","v":0},null,{"$f":"IF(AU54=1,(AU77+AU82),0)","v":0},null,{"$f":"IF(AW54=1,(AW77+AW82),0)","v":0},null,{"$f":"IF(AY54=1,(AY77+AY82),0)","v":0},null,{"$f":"IF(BA54=1,(BA77+BA82),0)","v":0},null,{"$f":"IF(BC54=1,(BC77+BC82),0)","v":0},null,{"$f":"IF(BE54=1,(BE77+BE82),0)","v":0},null,{"$f":"IF(BG54=1,(BG77+BG82),0)","v":0},null,{"$f":"IF(BI54=1,(BI77+BI82),0)","v":0},null,{"$f":"IF(BK54=1,(BK77+BK82),0)","v":0},null,{"$f":"IF(BM54=1,(BM77+BM82),0)","v":0},null,{"$f":"IF(BO54=1,(BO77+BO82),0)","v":0},null,{"$f":"IF(BQ54=1,(BQ77+BQ82),0)","v":0},null,{"$f":"IF(BS54=1,(BS77+BS82),0)","v":0},null,{"$f":"IF(BU54=1,(BU77+BU82),0)","v":0},null,{"$f":"IF(BW54=1,(BW77+BW82),0)","v":0},null,{"$f":"IF(BY54=1,(BY77+BY82),0)","v":0},null,{"$f":"IF(CA54=1,(CA77+CA82),0)","v":0},null,{"$f":"IF(CC54=1,(CC77+CC82),0)","v":0}]
[3,0,{"$f":"IF(C11=\"3\",1,0)","v":0},null,{"$f":"IF(E11=\"3\",1,0)","v":0},null,0,null,0,null,0,null,0,null,0,null,0,null,0,null,0,null,0,null,0,null,0,null,0,null,0,null,0,null,0,null,0,null,0,null,0,null,0,null,0,null,0,null,0,null,0,null,0,null,0,null,0,null,0,null,0,null,0,null,0,null,0,null,{"$f":"IF(BQ11=\"3\",1,0)","v":0},null,0,null,0,null,0,null,0,null,0,null,0]
[null,0,{"$f":"IF(C56=1,(C77+C82),0)","v":0},null,{"$f":"IF(E56=1,(E77+E82),0)","v":0},null,{"$f":"IF(G56=1,(G77+G82),0)","v":0},null,{"$f":"IF(I56=1,(I77+I82),0)","v":0},null,{"$f":"IF(K56=1,(K77+K82),0)","v":0},null,{"$f":"IF(M56=1,(M77+M82),0)","v":0},null,{"$f":"IF(O56=1,(O77+O82),0)","v":0},null,{"$f":"IF(Q56=1,(Q77+Q82),0)","v":0},null,{"$f":"IF(S56=1,(S77+S82),0)","v":0},null,{"$f":"IF(U56=1,(U77+U82),0)","v":0},null,{"$f":"IF(W56=1,(W77+W82),0)","v":0},null,{"$f":"IF(Y56=1,(Y77+Y82),0)","v":0},null,{"$f":"IF(AA56=1,(AA77+AA82),0)","v":0},null,{"$f":"IF(AC56=1,(AC77+AC82),0)","v":0},null,{"$f":"IF(AE56=1,(AE77+AE82),0)","v":0},null,{"$f":"IF(AG56=1,(AG77+AG82),0)","v":0},null,{"$f":"IF(AI56=1,(AI77+AI82),0)","v":0},null,{"$f":"IF(AK56=1,(AK77+AK82),0)","v":0},null,{"$f":"IF(AM56=1,(AM77+AM82),0)","v":0},null,{"$f":"IF(AO56=1,(AO77+AO82),0)","v":0},null,{"$f":"IF(AQ56=1,(AQ77+AQ82),0)","v":0},null,{"$f":"IF(AS56=1,(AS77+AS82),0)","v":0},null,{"$f":"IF(AU56=1,(AU77+AU82),0)","v":0},null,{"$f":"IF(AW56=1,(AW77+AW82),0)","v":0},null,{"$f":"IF(AY56=1,(AY77+AY82),0)","v":0},null,{"$f":"IF(BA56=1,(BA77+BA82),0)","v":0},null,{"$f":"IF(BC56=1,(BC77+BC82),0)","v":0},null,{"$f":"IF(BE56=1,(BE77+BE82),0)","v":0},null,{"$f":"IF(BG56=1,(BG77+BG82),0)","v":0},null,{"$f":"IF(BI56=1,(BI77+BI82),0)","v":0},null,{"$f":"IF(BK56=1,(BK77+BK82),0)","v":0},null,{"$f":"IF(BM56=1,(BM77+BM82),0)","v":0},null,{"$f":"IF(BO56=1,(BO77+BO82),0)","v":0},null,{"$f":"IF(BQ56=1,(BQ77+BQ82),0)","v":0},null,{"$f":"IF(BS56=1,(BS77+BS82),0)","v":0},null,{"$f":"IF(BU56=1,(BU77+BU82),0)","v":0},null,{"$f":"IF(BW56=1,(BW77+BW82),0)","v":0},null,{"$f":"IF(BY56=1,(BY77+BY82),0)","v":0},null,{"$f":"IF(CA56=1,(CA77+CA82),0)","v":0},null,{"$f":"IF(CC56=1,(CC77+CC82),0)","v":0}]
[4,0,{"$f":"IF(C11=\"4\",1,0)","v":0},null,{"$f":"IF(E11=\"4\",1,0)","v":0},null,0,null,0,null,0,null,0,null,0,null,0,null,0,null,0,null,0,null,0,null,0,null,0,null,0,null,0,null,0,null,0,null,0,null,0,null,0,null,0,null,0,null,0,null,0,null,0,null,0,null,0,null,0,null,0,null,0,null,0,null,0,null,{"$f":"IF(BQ11=\"4\",1,0)","v":0},null,0,null,0,null,0,null,0,null,0,null,0]
[null,0,{"$f":"IF(C58=1,(C77+C82),0)","v":0},null,{"$f":"IF(E58=1,(E77+E82),0)","v":0},null,{"$f":"IF(G58=1,(G77+G82),0)","v":0},null,{"$f":"IF(I58=1,(I77+I82),0)","v":0},null,{"$f":"IF(K58=1,(K77+K82),0)","v":0},null,{"$f":"IF(M58=1,(M77+M82),0)","v":0},null,{"$f":"IF(O58=1,(O77+O82),0)","v":0},null,{"$f":"IF(Q58=1,(Q77+Q82),0)","v":0},null,{"$f":"IF(S58=1,(S77+S82),0)","v":0},null,{"$f":"IF(U58=1,(U77+U82),0)","v":0},null,{"$f":"IF(W58=1,(W77+W82),0)","v":0},null,{"$f":"IF(Y58=1,(Y77+Y82),0)","v":0},null,{"$f":"IF(AA58=1,(AA77+AA82),0)","v":0},null,{"$f":"IF(AC58=1,(AC77+AC82),0)","v":0},null,{"$f":"IF(AE58=1,(AE77+AE82),0)","v":0},null,{"$f":"IF(AG58=1,(AG77+AG82),0)","v":0},null,{"$f":"IF(AI58=1,(AI77+AI82),0)","v":0},null,{"$f":"IF(AK58=1,(AK77+AK82),0)","v":0},null,{"$f":"IF(AM58=1,(AM77+AM82),0)","v":0},null,{"$f":"IF(AO58=1,(AO77+AO82),0)","v":0},null,{"$f":"IF(AQ58=1,(AQ77+AQ82),0)","v":0},null,{"$f":"IF(AS58=1,(AS77+AS82),0)","v":0},null,{"$f":"IF(AU58=1,(AU77+AU82),0)","v":0},null,{"$f":"IF(AW58=1,(AW77+AW82),0)","v":0},null,{"$f":"IF(AY58=1,(AY77+AY82),0)","v":0},null,{"$f":"IF(BA58=1,(BA77+BA82),0)","v":0},null,{"$f":"IF(BC58=1,(BC77+BC82),0)","v":0},null,{"$f":"IF(BE58=1,(BE77+BE82),0)","v":0},null,{"$f":"IF(BG58=1,(BG77+BG82),0)","v":0},null,{"$f":"IF(BI58=1,(BI77+BI82),0)","v":0},null,{"$f":"IF(BK58=1,(BK77+BK82),0)","v":0},null,{"$f":"IF(BM58=1,(BM77+BM82),0)","v":0},null,{"$f":"IF(BO58=1,(BO77+BO82),0)","v":0},null,{"$f":"IF(BQ58=1,(BQ77+BQ82),0)","v":0},null,{"$f":"IF(BS58=1,(BS77+BS82),0)","v":0},null,{"$f":"IF(BU58=1,(BU77+BU82),0)","v":0},null,{"$f":"IF(BW58=1,(BW77+BW82),0)","v":0},null,{"$f":"IF(BY58=1,(BY77+BY82),0)","v":0},null,{"$f":"IF(CA58=1,(CA77+CA82),0)","v":0},null,{"$f":"IF(CC58=1,(CC77+CC82),0)","v":0}]
[5,0,{"$f":"IF(C11=\"5\",1,0)","v":0},null,{"$f":"IF(E11=\"5\",1,0)","v":0},null,0,null,0,null,0,null,0,null,0,null,0,null,0,null,0,null,0,null,0,null,0,null,0,null,0,null,0,null,0,null,0,null,0,null,0,null,0,null,0,null,0,null,0,null,0,null,0,null,0,null,0,null,0,null,0,null,0,null,0,null,0,null,{"$f":"IF(BQ11=\"5\",1,0)","v":0},null,0,null,0,null,0,null,0,null,0,null,0]
[null,0,{"$f":"IF(C60=1,(C77+C82),0)","v":0},null,{"$f":"IF(E60=1,(E77+E82),0)","v":0},null,{"$f":"IF(G60=1,(G77+G82),0)","v":0},null,{"$f":"IF(I60=1,(I77+I82),0)","v":0},null,{"$f":"IF(K60=1,(K77+K82),0)","v":0},null,{"$f":"IF(M60=1,(M77+M82),0)","v":0},null,{"$f":"IF(O60=1,(O77+O82),0)","v":0},null,{"$f":"IF(Q60=1,(Q77+Q82),0)","v":0},null,{"$f":"IF(S60=1,(S77+S82),0)","v":0},null,{"$f":"IF(U60=1,(U77+U82),0)","v":0},null,{"$f":"IF(W60=1,(W77+W82),0)","v":0},null,{"$f":"IF(Y60=1,(Y77+Y82),0)","v":0},null,{"$f":"IF(AA60=1,(AA77+AA82),0)","v":0},null,{"$f":"IF(AC60=1,(AC77+AC82),0)","v":0},null,{"$f":"IF(AE60=1,(AE77+AE82),0)","v":0},null,{"$f":"IF(AG60=1,(AG77+AG82),0)","v":0},null,{"$f":"IF(AI60=1,(AI77+AI82),0)","v":0},null,{"$f":"IF(AK60=1,(AK77+AK82),0)","v":0},null,{"$f":"IF(AM60=1,(AM77+AM82),0)","v":0},null,{"$f":"IF(AO60=1,(AO77+AO82),0)","v":0},null,{"$f":"IF(AQ60=1,(AQ77+AQ82),0)","v":0},null,{"$f":"IF(AS60=1,(AS77+AS82),0)","v":0},null,{"$f":"IF(AU60=1,(AU77+AU82),0)","v":0},null,{"$f":"IF(AW60=1,(AW77+AW82),0)","v":0},null,{"$f":"IF(AY60=1,(AY77+AY82),0)","v":0},null,{"$f":"IF(BA60=1,(BA77+BA82),0)","v":0},null,{"$f":"IF(BC60=1,(BC77+BC82),0)","v":0},null,{"$f":"IF(BE60=1,(BE77+BE82),0)","v":0},null,{"$f":"IF(BG60=1,(BG77+BG82),0)","v":0},null,{"$f":"IF(BI60=1,(BI77+BI82),0)","v":0},null,{"$f":"IF(BK60=1,(BK77+BK82),0)","v":0},null,{"$f":"IF(BM60=1,(BM77+BM82),0)","v":0},null,{"$f":"IF(BO60=1,(BO77+BO82),0)","v":0},null,{"$f":"IF(BQ60=1,(BQ77+BQ82),0)","v":0},null,{"$f":"IF(BS60=1,(BS77+BS82),0)","v":0},null,{"$f":"IF(BU60=1,(BU77+BU82),0)","v":0},null,{"$f":"IF(BW60=1,(BW77+BW82),0)","v":0},null,{"$f":"IF(BY60=1,(BY77+BY82),0)","v":0},null,{"$f":"IF(CA60=1,(CA77+CA82),0)","v":0},null,{"$f":"IF(CC60=1,(CC77+CC82),0)","v":0}]
[6,0,{"$f":"IF(C11=\"6\",1,0)","v":0},null,{"$f":"IF(E11=\"6\",1,0)","v":0},null,0,null,0,null,0,null,0,null,0,null,0,null,0,null,0,null,0,null,0,null,0,null,0,null,0,null,0,null,0,null,0,null,0,null,0,null,0,null,0,null,0,null,0,null,0,null,0,null,0,null,0,null,0,null,0,null,0,null,0,null,0,null,{"$f":"IF(BQ11=\"6\",1,0)","v":0},null,0,null,0,null,0,null,0,null,0,null,0]
[null,0,{"$f":"IF(C62=1,(C77+C82),0)","v":0},null,{"$f":"IF(E62=1,(E77+E82),0)","v":0},null,{"$f":"IF(G62=1,(G77+G82),0)","v":0},null,{"$f":"IF(I62=1,(I77+I82),0)","v":0},null,{"$f":"IF(K62=1,(K77+K82),0)","v":0},null,{"$f":"IF(M62=1,(M77+M82),0)","v":0},null,{"$f":"IF(O62=1,(O77+O82),0)","v":0},null,{"$f":"IF(Q62=1,(Q77+Q82),0)","v":0},null,{"$f":"IF(S62=1,(S77+S82),0)","v":0},null,{"$f":"IF(U62=1,(U77+U82),0)","v":0},null,{"$f":"IF(W62=1,(W77+W82),0)","v":0},null,{"$f":"IF(Y62=1,(Y77+Y82),0)","v":0},null,{"$f":"IF(AA62=1,(AA77+AA82),0)","v":0},null,{"$f":"IF(AC62=1,(AC77+AC82),0)","v":0},null,{"$f":"IF(AE62=1,(AE77+AE82),0)","v":0},null,{"$f":"IF(AG62=1,(AG77+AG82),0)","v":0},null,{"$f":"IF(AI62=1,(AI77+AI82),0)","v":0},null,{"$f":"IF(AK62=1,(AK77+AK82),0)","v":0},null,{"$f":"IF(AM62=1,(AM77+AM82),0)","v":0},null,{"$f":"IF(AO62=1,(AO77+AO82),0)","v":0},null,{"$f":"IF(AQ62=1,(AQ77+AQ82),0)","v":0},null,{"$f":"IF(AS62=1,(AS77+AS82),0)","v":0},null,{"$f":"IF(AU62=1,(AU77+AU82),0)","v":0},null,{"$f":"IF(AW62=1,(AW77+AW82),0)","v":0},null,{"$f":"IF(AY62=1,(AY77+AY82),0)","v":0},null,{"$f":"IF(BA62=1,(BA77+BA82),0)","v":0},null,{"$f":"IF(BC62=1,(BC77+BC82),0)","v":0},null,{"$f":"IF(BE62=1,(BE77+BE82),0)","v":0},null,{"$f":"IF(BG62=1,(BG77+BG82),0)","v":0},null,{"$f":"IF(BI62=1,(BI77+BI82),0)","v":0},null,{"$f":"IF(BK62=1,(BK77+BK82),0)","v":0},null,{"$f":"IF(BM62=1,(BM77+BM82),0)","v":0},null,{"$f":"IF(BO62=1,(BO77+BO82),0)","v":0},null,{"$f":"IF(BQ62=1,(BQ77+BQ82),0)","v":0},null,{"$f":"IF(BS62=1,(BS77+BS82),0)","v":0},null,{"$f":"IF(BU62=1,(BU77+BU82),0)","v":0},null,{"$f":"IF(BW62=1,(BW77+BW82),0)","v":0},null,{"$f":"IF(BY62=1,(BY77+BY82),0)","v":0},null,{"$f":"IF(CA62=1,(CA77+CA82),0)","v":0},null,{"$f":"IF(CC62=1,(CC77+CC82),0)","v":0}]
[7,0,{"$f":"IF(C11=\"7\",1,0)","v":0},null,{"$f":"IF(E11=\"7\",1,0)","v":0},null,0,null,0,null,0,null,0,null,0,null,0,null,0,null,0,null,0,null,0,null,0,null,0,null,0,null,0,null,0,null,0,null,0,null,0,null,0,null,0,null,0,null,0,null,0,null,0,null,0,null,0,null,0,null,0,null,0,null,0,null,0,null,{"$f":"IF(BQ11=\"7\",1,0)","v":0},null,0,null,0,null,0,null,0,null,0,null,0]
[null,0,{"$f":"IF(C64=1,(C77+C82),0)","v":0},null,{"$f":"IF(E64=1,(E77+E82),0)","v":0},null,{"$f":"IF(G64=1,(G77+G82),0)","v":0},null,{"$f":"IF(I64=1,(I77+I82),0)","v":0},null,{"$f":"IF(K64=1,(K77+K82),0)","v":0},null,{"$f":"IF(M64=1,(M77+M82),0)","v":0},null,{"$f":"IF(O64=1,(O77+O82),0)","v":0},null,{"$f":"IF(Q64=1,(Q77+Q82),0)","v":0},null,{"$f":"IF(S64=1,(S77+S82),0)","v":0},null,{"$f":"IF(U64=1,(U77+U82),0)","v":0},null,{"$f":"IF(W64=1,(W77+W82),0)","v":0},null,{"$f":"IF(Y64=1,(Y77+Y82),0)","v":0},null,{"$f":"IF(AA64=1,(AA77+AA82),0)","v":0},null,{"$f":"IF(AC64=1,(AC77+AC82),0)","v":0},null,{"$f":"IF(AE64=1,(AE77+AE82),0)","v":0},null,{"$f":"IF(AG64=1,(AG77+AG82),0)","v":0},null,{"$f":"IF(AI64=1,(AI77+AI82),0)","v":0},null,{"$f":"IF(AK64=1,(AK77+AK82),0)","v":0},null,{"$f":"IF(AM64=1,(AM77+AM82),0)","v":0},null,{"$f":"IF(AO64=1,(AO77+AO82),0)","v":0},null,{"$f":"IF(AQ64=1,(AQ77+AQ82),0)","v":0},null,{"$f":"IF(AS64=1,(AS77+AS82),0)","v":0},null,{"$f":"IF(AU64=1,(AU77+AU82),0)","v":0},null,{"$f":"IF(AW64=1,(AW77+AW82),0)","v":0},null,{"$f":"IF(AY64=1,(AY77+AY82),0)","v":0},null,{"$f":"IF(BA64=1,(BA77+BA82),0)","v":0},null,{"$f":"IF(BC64=1,(BC77+BC82),0)","v":0},null,{"$f":"IF(BE64=1,(BE77+BE82),0)","v":0},null,{"$f":"IF(BG64=1,(BG77+BG82),0)","v":0},null,{"$f":"IF(BI64=1,(BI77+BI82),0)","v":0},null,{"$f":"IF(BK64=1,(BK77+BK82),0)","v":0},null,{"$f":"IF(BM64=1,(BM77+BM82),0)","v":0},null,{"$f":"IF(BO64=1,(BO77+BO82),0)","v":0},null,{"$f":"IF(BQ64=1,(BQ77+BQ82),0)","v":0},null,{"$f":"IF(BS64=1,(BS77+BS82),0)","v":0},null,{"$f":"IF(BU64=1,(BU77+BU82),0)","v":0},null,{"$f":"IF(BW64=1,(BW77+BW82),0)","v":0},null,{"$f":"IF(BY64=1,(BY77+BY82),0)","v":0},null,{"$f":"IF(CA64=1,(CA77+CA82),0)","v":0},null,{"$f":"IF(CC64=1,(CC77+CC82),0)","v":0}]
[8,0,{"$f":"IF(C11=\"8\",1,0)","v":0},null,{"$f":"IF(E11=\"8\",1,0)","v":0},null,0,null,0,null,0,null,0,null,0,null,0,null,0,null,0,null,0,null,0,null,0,null,0,null,0,null,0,null,0,null,0,null,0,null,0,null,0,null,0,null,0,null,0,null,0,null,0,null,0,null,0,null,0,null,0,null,0,null,0,null,0,null,{"$f":"IF(BQ11=\"8\",1,0)","v":0},null,0,null,0,null,0,null,0,null,0,null,0]
[null,0,{"$f":"IF(C66=1,(C77+C82),0)","v":0},null,{"$f":"IF(E66=1,(E77+E82),0)","v":0},null,{"$f":"IF(G66=1,(G77+G82),0)","v":0},null,{"$f":"IF(I66=1,(I77+I82),0)","v":0},null,{"$f":"IF(K66=1,(K77+K82),0)","v":0},null,{"$f":"IF(M66=1,(M77+M82),0)","v":0},null,{"$f":"IF(O66=1,(O77+O82),0)","v":0},null,{"$f":"IF(Q66=1,(Q77+Q82),0)","v":0},null,{"$f":"IF(S66=1,(S77+S82),0)","v":0},null,{"$f":"IF(U66=1,(U77+U82),0)","v":0},null,{"$f":"IF(W66=1,(W77+W82),0)","v":0},null,{"$f":"IF(Y66=1,(Y77+Y82),0)","v":0},null,{"$f":"IF(AA66=1,(AA77+AA82),0)","v":0},null,{"$f":"IF(AC66=1,(AC77+AC82),0)","v":0},null,{"$f":"IF(AE66=1,(AE77+AE82),0)","v":0},null,{"$f":"IF(AG66=1,(AG77+AG82),0)","v":0},null,{"$f":"IF(AI66=1,(AI77+AI82),0)","v":0},null,{"$f":"IF(AK66=1,(AK77+AK82),0)","v":0},null,{"$f":"IF(AM66=1,(AM77+AM82),0)","v":0},null,{"$f":"IF(AO66=1,(AO77+AO82),0)","v":0},null,{"$f":"IF(AQ66=1,(AQ77+AQ82),0)","v":0},null,{"$f":"IF(AS66=1,(AS77+AS82),0)","v":0},null,{"$f":"IF(AU66=1,(AU77+AU82),0)","v":0},null,{"$f":"IF(AW66=1,(AW77+AW82),0)","v":0},null,{"$f":"IF(AY66=1,(AY77+AY82),0)","v":0},null,{"$f":"IF(BA66=1,(BA77+BA82),0)","v":0},null,{"$f":"IF(BC66=1,(BC77+BC82),0)","v":0},null,{"$f":"IF(BE66=1,(BE77+BE82),0)","v":0},null,{"$f":"IF(BG66=1,(BG77+BG82),0)","v":0},null,{"$f":"IF(BI66=1,(BI77+BI82),0)","v":0},null,{"$f":"IF(BK66=1,(BK77+BK82),0)","v":0},null,{"$f":"IF(BM66=1,(BM77+BM82),0)","v":0},null,{"$f":"IF(BO66=1,(BO77+BO82),0)","v":0},null,{"$f":"IF(BQ66=1,(BQ77+BQ82),0)","v":0},null,{"$f":"IF(BS66=1,(BS77+BS82),0)","v":0},null,{"$f":"IF(BU66=1,(BU77+BU82),0)","v":0},null,{"$f":"IF(BW66=1,(BW77+BW82),0)","v":0},null,{"$f":"IF(BY66=1,(BY77+BY82),0)","v":0},null,{"$f":"IF(CA66=1,(CA77+CA82),0)","v":0},null,{"$f":"IF(CC66=1,(CC77+CC82),0)","v":0}]
[9,0,{"$f":"IF(C11=\"9\",1,0)","v":0},null,{"$f":"IF(E11=\"9\",1,0)","v":0},null,0,null,0,null,0,null,0,null,0,null,0,null,0,null,0,null,0,null,0,null,0,null,0,null,0,null,0,null,0,null,0,null,0,null,0,null,0,null,0,null,0,null,0,null,0,null,0,null,0,null,0,null,0,null,0,null,0,null,0,null,0,null,{"$f":"IF(BQ11=\"9\",1,0)","v":0},null,0,null,0,null,0,null,0,null,0,null,0]
[null,0,{"$f":"IF(C68=1,(C77+C82),0)","v":0},null,{"$f":"IF(E68=1,(E77+E82),0)","v":0},null,{"$f":"IF(G68=1,(G77+G82),0)","v":0},null,{"$f":"IF(I68=1,(I77+I82),0)","v":0},null,{"$f":"IF(K68=1,(K77+K82),0)","v":0},null,{"$f":"IF(M68=1,(M77+M82),0)","v":0},null,{"$f":"IF(O68=1,(O77+O82),0)","v":0},null,{"$f":"IF(Q68=1,(Q77+Q82),0)","v":0},null,{"$f":"IF(S68=1,(S77+S82),0)","v":0},null,{"$f":"IF(U68=1,(U77+U82),0)","v":0},null,{"$f":"IF(W68=1,(W77+W82),0)","v":0},null,{"$f":"IF(Y68=1,(Y77+Y82),0)","v":0},null,{"$f":"IF(AA68=1,(AA77+AA82),0)","v":0},null,{"$f":"IF(AC68=1,(AC77+AC82),0)","v":0},null,{"$f":"IF(AE68=1,(AE77+AE82),0)","v":0},null,{"$f":"IF(AG68=1,(AG77+AG82),0)","v":0},null,{"$f":"IF(AI68=1,(AI77+AI82),0)","v":0},null,{"$f":"IF(AK68=1,(AK77+AK82),0)","v":0},null,{"$f":"IF(AM68=1,(AM77+AM82),0)","v":0},null,{"$f":"IF(AO68=1,(AO77+AO82),0)","v":0},null,{"$f":"IF(AQ68=1,(AQ77+AQ82),0)","v":0},null,{"$f":"IF(AS68=1,(AS77+AS82),0)","v":0},null,{"$f":"IF(AU68=1,(AU77+AU82),0)","v":0},null,{"$f":"IF(AW68=1,(AW77+AW82),0)","v":0},null,{"$f":"IF(AY68=1,(AY77+AY82),0)","v":0},null,{"$f":"IF(BA68=1,(BA77+BA82),0)","v":0},null,{"$f":"IF(BC68=1,(BC77+BC82),0)","v":0},null,{"$f":"IF(BE68=1,(BE77+BE82),0)","v":0},null,{"$f":"IF(BG68=1,(BG77+BG82),0)","v":0},null,{"$f":"IF(BI68=1,(BI77+BI82),0)","v":0},null,{"$f":"IF(BK68=1,(BK77+BK82),0)","v":0},null,{"$f":"IF(BM68=1,(BM77+BM82),0)","v":0},null,{"$f":"IF(BO68=1,(BO77+BO82),0)","v":0},null,{"$f":"IF(BQ68=1,(BQ77+BQ82),0)","v":0},null,{"$f":"IF(BS68=1,(BS77+BS82),0)","v":0},null,{"$f":"IF(BU68=1,(BU77+BU82),0)","v":0},null,{"$f":"IF(BW68=1,(BW77+BW82),0)","v":0},null,{"$f":"IF(BY68=1,(BY77+BY82),0)","v":0},null,{"$f":"IF(CA68=1,(CA77+CA82),0)","v":0},null,{"$f":"IF(CC68=1,(CC77+CC82),0)","v":0}]
[10,0,{"$f":"IF(C11=\"10\",1,0)","v":0},null,{"$f":"IF(E11=\"10\",1,0)","v":0},null,0,null,0,null,0,null,0,null,0,null,0,null,0,null,0,null,0,null,0,null,0,null,0,null,0,null,0,null,0,null,0,null,0,null,0,null,0,null,0,null,0,null,0,null,0,null,0,null,0,null,0,null,0,null,0,null,0,null,0,null,0,null,{"$f":"IF(BQ11=\"10\",1,0)","v":0},null,0,null,0,null,0,null,0,null,0,null,0]
[null,0,{"$f":"IF(C70=1,(C77+C82),0)","v":0},null,{"$f":"IF(E70=1,(E77+E82),0)","v":0},null,{"$f":"IF(G70=1,(G77+G82),0)","v":0},null,{"$f":"IF(I70=1,(I77+I82),0)","v":0},null,{"$f":"IF(K70=1,(K77+K82),0)","v":0},null,{"$f":"IF(M70=1,(M77+M82),0)","v":0},null,{"$f":"IF(O70=1,(O77+O82),0)","v":0},null,{"$f":"IF(Q70=1,(Q77+Q82),0)","v":0},null,{"$f":"IF(S70=1,(S77+S82),0)","v":0},null,{"$f":"IF(U70=1,(U77+U82),0)","v":0},null,{"$f":"IF(W70=1,(W77+W82),0)","v":0},null,{"$f":"IF(Y70=1,(Y77+Y82),0)","v":0},null,{"$f":"IF(AA70=1,(AA77+AA82),0)","v":0},null,{"$f":"IF(AC70=1,(AC77+AC82),0)","v":0},null,{"$f":"IF(AE70=1,(AE77+AE82),0)","v":0},null,{"$f":"IF(AG70=1,(AG77+AG82),0)","v":0},null,{"$f":"IF(AI70=1,(AI77+AI82),0)","v":0},null,{"$f":"IF(AK70=1,(AK77+AK82),0)","v":0},null,{"$f":"IF(AM70=1,(AM77+AM82),0)","v":0},null,{"$f":"IF(AO70=1,(AO77+AO82),0)","v":0},null,{"$f":"IF(AQ70=1,(AQ77+AQ82),0)","v":0},null,{"$f":"IF(AS70=1,(AS77+AS82),0)","v":0},null,{"$f":"IF(AU70=1,(AU77+AU82),0)","v":0},null,{"$f":"IF(AW70=1,(AW77+AW82),0)","v":0},null,{"$f":"IF(AY70=1,(AY77+AY82),0)","v":0},null,{"$f":"IF(BA70=1,(BA77+BA82),0)","v":0},null,{"$f":"IF(BC70=1,(BC77+BC82),0)","v":0},null,{"$f":"IF(BE70=1,(BE77+BE82),0)","v":0},null,{"$f":"IF(BG70=1,(BG77+BG82),0)","v":0},null,{"$f":"IF(BI70=1,(BI77+BI82),0)","v":0},null,{"$f":"IF(BK70=1,(BK77+BK82),0)","v":0},null,{"$f":"IF(BM70=1,(BM77+BM82),0)","v":0},null,{"$f":"IF(BO70=1,(BO77+BO82),0)","v":0},null,{"$f":"IF(BQ70=1,(BQ77+BQ82),0)","v":0},null,{"$f":"IF(BS70=1,(BS77+BS82),0)","v":0},null,{"$f":"IF(BU70=1,(BU77+BU82),0)","v":0},null,{"$f":"IF(BW70=1,(BW77+BW82),0)","v":0},null,{"$f":"IF(BY70=1,(BY77+BY82),0)","v":0},null,{"$f":"IF(CA70=1,(CA77+CA82),0)","v":0},null,{"$f":"IF(CC70=1,(CC77+CC82),0)","v":0}]
[]
["Linge sale"]
["Evacuation",{"$f":"SUM(C74:CC74)","v":0},{"$f":"(2*C15)+C17+C21+C23","v":0},null,{"$f":"(2*E15)+E17+E21+E23","v":0},null,{"$f":"(2*G15)+G17+G21+G23","v":0},null,{"$f":"(2*I15)+I17+I21+I23","v":0},null,{"$f":"(2*K15)+K17+K21+K23","v":0},null,{"$f":"(2*M15)+M17+M21+M23","v":0},null,{"$f":"(2*O15)+O17+O21+O23","v":0},null,{"$f":"(2*Q15)+Q17+Q21+Q23","v":0},null,{"$f":"(2*S15)+S17+S21+S23","v":0},null,{"$f":"(2*U15)+U17+U21+U23","v":0},null,{"$f":"(2*W15)+W17+W21+W23","v":0},null,{"$f":"(2*Y15)+Y17+Y21+Y23","v":0},null,{"$f":"(2*AA15)+AA17+AA21+AA23","v":0},null,{"$f":"(2*AC15)+AC17+AC21+AC23","v":0},null,{"$f":"(2*AE15)+AE17+AE21+AE23","v":0},null,{"$f":"(2*AG15)+AG17+AG21+AG23","v":0},null,{"$f":"(2*AI15)+AI17+AI21+AI23","v":0},null,{"$f":"(2*AK15)+AK17+AK21+AK23","v":0},null,{"$f":"(2*AM15)+AM17+AM21+AM23","v":0},null,{"$f":"(2*AO15)+AO17+AO21+AO23","v":0},null,{"$f":"(2*AQ15)+AQ17+AQ21+AQ23","v":0},null,{"$f":"(2*AS15)+AS17+AS21+AS23","v":0},null,{"$f":"(2*AU15)+AU17+AU21+AU23","v":0},null,{"$f":"(2*AW15)+AW17+AW21+AW23","v":0},null,{"$f":"(2*AY15)+AY17+AY21+AY23","v":0},null,{"$f":"(2*BA15)+BA17+BA21+BA23","v":0},null,{"$f":"(2*BC15)+BC17+BC21+BC23","v":0},null,{"$f":"(2*BE15)+BE17+BE21+BE23","v":0},null,{"$f":"(2*BG15)+BG17+BG21+BG23","v":0},null,{"$f":"(2*BI15)+BI17+BI21+BI23","v":0},null,{"$f":"(2*BK15)+BK17+BK21+BK23","v":0},null,{"$f":"(2*BM15)+BM17+BM21+BM23","v":0},null,{"$f":"(2*BO15)+BO17+BO21+BO23","v":0},null,{"$f":"(2*BQ15)+BQ17+BQ21+BQ23","v":0},null,{"$f":"(2*BS15)+BS17+BS21+BS23","v":0},null,{"$f":"(2*BU15)+BU17+BU21+BU23","v":0},null,{"$f":"(2*BW15)+BW17+BW21+BW23","v":0},null,{"$f":"(2*BY15)+BY17+BY21+BY23","v":0},null,{"$f":"(2*CA15)+CA17+CA21+CA23","v":0},null,{"$f":"(2*CC15)+CC17+CC21+CC23","v":0}]
["Protection",{"$f":"SUM(C75:CC75)","v":0},{"$f":"C19+(2*C25)+(2*C27)+(2*C29)+(2*C35)","v":0},null,{"$f":"E19+(2*E25)+(2*E27)+(2*E29)+(2*E35)","v":0},null,{"$f":"G19+(2*G25)+(2*G27)+(2*G29)+(2*G35)","v":0},null,{"$f":"I19+(2*I25)+(2*I27)+(2*I29)+(2*I35)","v":0},null,{"$f":"K19+(2*K25)+(2*K27)+(2*K29)+(2*K35)","v":0},null,{"$f":"M19+(2*M25)+(2*M27)+(2*M29)+(2*M35)","v":0},null,{"$f":"O19+(2*O25)+(2*O27)+(2*O29)+(2*O35)","v":0},null,{"$f":"Q19+(2*Q25)+(2*Q27)+(2*Q29)+(2*Q35)","v":0},null,{"$f":"S19+(2*S25)+(2*S27)+(2*S29)+(2*S35)","v":0},null,{"$f":"U19+(2*U25)+(2*U27)+(2*U29)+(2*U35)","v":0},null,{"$f":"W19+(2*W25)+(2*W27)+(2*W29)+(2*W35)","v":0},null,{"$f":"Y19+(2*Y25)+(2*Y27)+(2*Y29)+(2*Y35)","v":0},null,{"$f":"AA19+(2*AA25)+(2*AA27)+(2*AA29)+(2*AA35)","v":0},null,{"$f":"AC19+(2*AC25)+(2*AC27)+(2*AC29)+(2*AC35)","v":0},null,{"$f":"AE19+(2*AE25)+(2*AE27)+(2*AE29)+(2*AE35)","v":0},null,{"$f":"AG19+(2*AG25)+(2*AG27)+(2*AG29)+(2*AG35)","v":0},null,{"$f":"AI19+(2*AI25)+(2*AI27)+(2*AI29)+(2*AI35)","v":0},null,{"$f":"AK19+(2*AK25)+(2*AK27)+(2*AK29)+(2*AK35)","v":0},null,{"$f":"AM19+(2*AM25)+(2*AM27)+(2*AM29)+(2*AM35)","v":0},null,{"$f":"AO19+(2*AO25)+(2*AO27)+(2*AO29)+(2*AO35)","v":0},null,{"$f":"AQ19+(2*AQ25)+(2*AQ27)+(2*AQ29)+(2*AQ35)","v":0},null,{"$f":"AS19+(2*AS25)+(2*AS27)+(2*AS29)+(2*AS35)","v":0},null,{"$f":"AU19+(2*AU25)+(2*AU27)+(2*AU29)+(2*AU35)","v":0},null,{"$f":"AW19+(2*AW25)+(2*AW27)+(2*AW29)+(2*AW35)","v":0},null,{"$f":"AY19+(2*AY25)+(2*AY27)+(2*AY29)+(2*AY35)","v":0},null,{"$f":"BA19+(2*BA25)+(2*BA27)+(2*BA29)+(2*BA35)","v":0},null,{"$f":"BC19+(2*BC25)+(2*BC27)+(2*BC29)+(2*BC35)","v":0},null,{"$f":"BE19+(2*BE25)+(2*BE27)+(2*BE29)+(2*BE35)","v":0},null,{"$f":"BG19+(2*BG25)+(2*BG27)+(2*BG29)+(2*BG35)","v":0},null,{"$f":"BI19+(2*BI25)+(2*BI27)+(2*BI29)+(2*BI35)","v":0},null,{"$f":"BK19+(2*BK25)+(2*BK27)+(2*BK29)+(2*BK35)","v":0},null,{"$f":"BM19+(2*BM25)+(2*BM27)+(2*BM29)+(2*BM35)","v":0},null,{"$f":"BO19+(2*BO25)+(2*BO27)+(2*BO29)+(2*BO35)","v":0},null,{"$f":"BQ19+(2*BQ25)+(2*BQ27)+(2*BQ29)+(2*BQ35)","v":0},null,{"$f":"BS19+(2*BS25)+(2*BS27)+(2*BS29)+(2*BS35)","v":0},null,{"$f":"BU19+(2*BU25)+(2*BU27)+(2*BU29)+(2*BU35)","v":0},null,{"$f":"BW19+(2*BW25)+(2*BW27)+(2*BW29)+(2*BW35)","v":0},null,{"$f":"BY19+(2*BY25)+(2*BY27)+(2*BY29)+(2*BY35)","v":0},null,{"$f":"CA19+(2*CA25)+(2*CA27)+(2*CA29)+(2*CA35)","v":0},null,{"$f":"CC19+(2*CC25)+(2*CC27)+(2*CC29)+(2*CC35)","v":0}]
["Transport",{"$f":"SUM(C76:CC76)","v":0},{"$f":"C31+C33","v":0},null,{"$f":"E31+E33","v":0},null,{"$f":"G31+G33","v":0},null,{"$f":"I31+I33","v":0},null,{"$f":"K31+K33","v":0},null,{"$f":"M31+M33","v":0},null,{"$f":"O31+O33","v":0},null,{"$f":"Q31+Q33","v":0},null,{"$f":"S31+S33","v":0},null,{"$f":"U31+U33","v":0},null,{"$f":"W31+W33","v":0},null,{"$f":"Y31+Y33","v":0},null,{"$f":"AA31+AA33","v":0},null,{"$f":"AC31+AC33","v":0},null,{"$f":"AE31+AE33","v":0},null,{"$f":"AG31+AG33","v":0},null,{"$f":"AI31+AI33","v":0},null,{"$f":"AK31+AK33","v":0},null,{"$f":"AM31+AM33","v":0},null,{"$f":"AO31+AO33","v":0},null,{"$f":"AQ31+AQ33","v":0},null,{"$f":"AS31+AS33","v":0},null,{"$f":"AU31+AU33","v":0},null,{"$f":"AW31+AW33","v":0},null,{"$f":"AY31+AY33","v":0},null,{"$f":"BA31+BA33","v":0},null,{"$f":"BC31+BC33","v":0},null,{"$f":"BE31+BE33","v":0},null,{"$f":"BG31+BG33","v":0},null,{"$f":"BI31+BI33","v":0},null,{"$f":"BK31+BK33","v":0},null,{"$f":"BM31+BM33","v":0},null,{"$f":"BO31+BO33","v":0},null,{"$f":"BQ31+BQ33","v":0},null,{"$f":"BS31+BS33","v":0},null,{"$f":"BU31+BU33","v":0},null,{"$f":"BW31+BW33","v":0},null,{"$f":"BY31+BY33","v":0},null,{"$f":"CA31+CA33","v":0},null,{"$f":"CC31+CC33","v":0}]
["Tot linge sale",{"$f":"SUM(C77:CC77)","v":0},{"$f":"SUM(C74:C76)","v":0},null,{"$f":"SUM(E74:E76)","v":0},null,{"$f":"SUM(G74:G76)","v":0},null,{"$f":"SUM(I74:I76)","v":0},null,{"$f":"SUM(K74:K76)","v":0},null,{"$f":"SUM(M74:M76)","v":0},null,{"$f":"SUM(O74:O76)","v":0},null,{"$f":"SUM(Q74:Q76)","v":0},null,{"$f":"SUM(S74:S76)","v":0},null,{"$f":"SUM(U74:U76)","v":0},null,{"$f":"SUM(W74:W76)","v":0},null,{"$f":"SUM(Y74:Y76)","v":0},null,{"$f":"SUM(AA74:AA76)","v":0},null,{"$f":"SUM(AC74:AC76)","v":0},null,{"$f":"SUM(AE74:AE76)","v":0},null,{"$f":"SUM(AG74:AG76)","v":0},null,{"$f":"SUM(AI74:AI76)","v":0},null,{"$f":"SUM(AK74:AK76)","v":0},null,{"$f":"SUM(AM74:AM76)","v":0},null,{"$f":"SUM(AO74:AO76)","v":0},null,{"$f":"SUM(AQ74:AQ76)","v":0},null,{"$f":"SUM(AS74:AS76)","v":0},null,{"$f":"SUM(AU74:AU76)","v":0},null,{"$f":"SUM(AW74:AW76)","v":0},null,{"$f":"SUM(AY74:AY76)","v":0},null,{"$f":"SUM(BA74:BA76)","v":0},null,{"$f":"SUM(BC74:BC76)","v":0},null,{"$f":"SUM(BE74:BE76)","v":0},null,{"$f":"SUM(BG74:BG76)","v":0},null,{"$f":"SUM(BI74:BI76)","v":0},null,{"$f":"SUM(BK74:BK76)","v":0},null,{"$f":"SUM(BM74:BM76)","v":0},null,{"$f":"SUM(BO74:BO76)","v":0},null,{"$f":"SUM(BQ74:BQ76)","v":0},null,{"$f":"SUM(BS74:BS76)","v":0},null,{"$f":"SUM(BU74:BU76)","v":0},null,{"$f":"SUM(BW74:BW76)","v":0},null,{"$f":"SUM(BY74:BY76)","v":0},null,{"$f":"SUM(CA74:CA76)","v":0},null,{"$f":"SUM(CC74:CC76)","v":0}]
[]
["Linge propre"]
["Hygiène",{"$f":"SUM(C80:CC80)","v":0},{"$f":"(2*C39)","v":0},null,{"$f":"(2*E39)","v":0},null,{"$f":"(2*G39)","v":0},null,{"$f":"(2*I39)","v":0},null,{"$f":"(2*K39)","v":0},null,{"$f":"(2*M39)","v":0},null,{"$f":"(2*O39)","v":0},null,{"$f":"(2*Q39)","v":0},null,{"$f":"(2*S39)","v":0},null,{"$f":"(2*U39)","v":0},null,{"$f":"(2*W39)","v":0},null,{"$f":"(2*Y39)","v":0},null,{"$f":"(2*AA39)","v":0},null,{"$f":"(2*AC39)","v":0},null,{"$f":"(2*AE39)","v":0},null,{"$f":"(2*AG39)","v":0},null,{"$f":"(2*AI39)","v":0},null,{"$f":"(2*AK39)","v":0},null,{"$f":"(2*AM39)","v":0},null,{"$f":"(2*AO39)","v":0},null,{"$f":"(2*AQ39)","v":0},null,{"$f":"(2*AS39)","v":0},null,{"$f":"(2*AU39)","v":0},null,{"$f":"(2*AW39)","v":0},null,{"$f":"(2*AY39)","v":0},null,{"$f":"(2*BA39)","v":0},null,{"$f":"(2*BC39)","v":0},null,{"$f":"(2*BE39)","v":0},null,{"$f":"(2*BG39)","v":0},null,{"$f":"(2*BI39)","v":0},null,{"$f":"(2*BK39)","v":0},null,{"$f":"(2*BM39)","v":0},null,{"$f":"(2*BO39)","v":0},null,{"$f":"(2*BQ39)","v":0},null,{"$f":"(2*BS39)","v":0},null,{"$f":"(2*BU39)","v":0},null,{"$f":"(2*BW39)","v":0},null,{"$f":"(2*BY39)","v":0},null,{"$f":"(2*CA39)","v":0},null,{"$f":"(2*CC39)","v":0}]
["Utilisation",{"$f":"SUM(C81:CC81)","v":0},{"$f":"C41+C43","v":0},null,{"$f":"E41+E43","v":0},null,{"$f":"G41+G43","v":0},null,{"$f":"I41+I43","v":0},null,{"$f":"K41+K43","v":0},null,{"$f":"M41+M43","v":0},null,{"$f":"O41+O43","v":0},null,{"$f":"Q41+Q43","v":0},null,{"$f":"S41+S43","v":0},null,{"$f":"U41+U43","v":0},null,{"$f":"W41+W43","v":0},null,{"$f":"Y41+Y43","v":0},null,{"$f":"AA41+AA43","v":0},null,{"$f":"AC41+AC43","v":0},null,{"$f":"AE41+AE43","v":0},null,{"$f":"AG41+AG43","v":0},null,{"$f":"AI41+AI43","v":0},null,{"$f":"AK41+AK43","v":0},null,{"$f":"AM41+AM43","v":0},null,{"$f":"AO41+AO43","v":0},null,{"$f":"AQ41+AQ43","v":0},null,{"$f":"AS41+AS43","v":0},null,{"$f":"AU41+AU43","v":0},null,{"$f":"AW41+AW43","v":0},null,{"$f":"AY41+AY43","v":0},null,{"$f":"BA41+BA43","v":0},null,{"$f":"BC41+BC43","v":0},null,{"$f":"BE41+BE43","v":0},null,{"$f":"BG41+BG43","v":0},null,{"$f":"BI41+BI43","v":0},null,{"$f":"BK41+BK43","v":0},null,{"$f":"BM41+BM43","v":0},null,{"$f":"BO41+BO43","v":0},null,{"$f":"BQ41+BQ43","v":0},null,{"$f":"BS41+BS43","v":0},null,{"$f":"BU41+BU43","v":0},null,{"$f":"BW41+BW43","v":0},null,{"$f":"BY41+BY43","v":0},null,{"$f":"CA41+CA43","v":0},null,{"$f":"CC41+CC43","v":0}]
["Tot linge prop",{"$f":"SUM(C82:CC82)","v":0},{"$f":"SUM(C80:C81)","v":0},null,{"$f":"SUM(E80:E81)","v":0},null,{"$f":"SUM(G80:G81)","v":0},null,{"$f":"SUM(I80:I81)","v":0},null,{"$f":"SUM(K80:K81)","v":0},null,{"$f":"SUM(M80:M81)","v":0},null,{"$f":"SUM(O80:O81)","v":0},null,{"$f":"SUM(Q80:Q81)","v":0},null,{"$f":"SUM(S80:S81)","v":0},null,{"$f":"SUM(U80:U81)","v":0},null,{"$f":"SUM(W80:W81)","v":0},null,{"$f":"SUM(Y80:Y81)","v":0},null,{"$f":"SUM(AA80:AA81)","v":0},null,{"$f":"SUM(AC80:AC81)","v":0},null,{"$f":"SUM(AE80:AE81)","v":0},null,{"$f":"SUM(AG80:AG81)","v":0},null,{"$f":"SUM(AI80:AI81)","v":0},null,{"$f":"SUM(AK80:AK81)","v":0},null,{"$f":"SUM(AM80:AM81)","v":0},null,{"$f":"SUM(AO80:AO81)","v":0},null,{"$f":"SUM(AQ80:AQ81)","v":0},null,{"$f":"SUM(AS80:AS81)","v":0},null,{"$f":"SUM(AU80:AU81)","v":0},null,{"$f":"SUM(AW80:AW81)","v":0},null,{"$f":"SUM(AY80:AY81)","v":0},null,{"$f":"SUM(BA80:BA81)","v":0},null,{"$f":"SUM(BC80:BC81)","v":0},null,{"$f":"SUM(BE80:BE81)","v":0},null,{"$f":"SUM(BG80:BG81)","v":0},null,{"$f":"SUM(BI80:BI81)","v":0},null,{"$f":"SUM(BK80:BK81)","v":0},null,{"$f":"SUM(BM80:BM81)","v":0},null,{"$f":"SUM(BO80:BO81)","v":0},null,{"$f":"SUM(BQ80:BQ81)","v":0},null,{"$f":"SUM(BS80:BS81)","v":0},null,{"$f":"SUM(BU80:BU81)","v":0},null,{"$f":"SUM(BW80:BW81)","v":0},null,{"$f":"SUM(BY80:BY81)","v":0},null,{"$f":"SUM(CA80:CA81)","v":0},null,{"$f":"SUM(CC80:CC81)","v":0}]

{"sheet":"Poster_Service#8","index":30,"n_rows":46,"n_cols":16,"rows_kept":46,"cut":false,"hidden":true,"merged":[[19,5,19,6],[18,5,18,6],[0,1,0,13],[5,0,5,6],[11,0,11,6],[12,0,12,6],[1,12,1,13],[23,5,23,6],[24,5,24,6],[28,0,33,13],[15,5,15,6],[15,2,15,4],[16,5,16,6],[22,5,22,6],[21,5,21,6],[21,2,21,4],[17,5,17,6]]}
[null,"Audit de la fonction linge en établissement de santé et en EHPAD",null,null,null,null,null,null,null,null,null,null,null,null,"   Pour imprimer le poster:"]
[null,null,null,null,null,null,null,null,"ETABLISSEMENT :",{"$f":"IF(NOM=\"\",\"à préciser\",NOM)","v":"à préciser"},null,null,"Date de réalisation",null,"   Menu \"Fichier\" puis \"Imprimer\""]
[null,null,null,null,null,null,null,null,"SERVICE : ",{"$f":"IF(SERVICE8=\"\",\"à préciser\",SERVICE8)","v":"à préciser"},null,null,"de : ",{"$f":"IF(SERVICE8=\"\",\"à préciser\",(MIN(Fiches_Services!Q9,'Fiches_Utilisateurs_Service#8'!C7:CC7)))","v":"à préciser"}]
[null,null,null,null,null,null,null,null,null,null,null,null,"au : ",{"$f":"IF(SERVICE8=\"\",\"à préciser\",(MAX(Fiches_Services!Q9,'Fiches_Utilisateurs_Service#8'!C7:CC7)))","v":"à préciser"},"Vous ne pourrez imprimer le poster que"]
["Méthodologie",null,null,null,null,null,null,null,"Score \"utilisateur\" du service par catégories professionnelles",null,null,null,null,null,"si vous avez saisi vos axes d'amélioration"]
["Le recueil des données a été réalisé au niveau:",null,null,null,null,null,null,null,null,null,null,null,null,null,"et commentaires dans l'encadré jaune."]
["       Du service : ",null,null,null,null,null,"le recensement des locaux, du matériel et des procédures   "]
[null,null,null,null,null,null,"disponibles dans les services en lien avec la fonction linge.  "]
["De l'utilisateur : ",null,null,null,null,null,"l'observation des pratiques afin de vérifier l'adéquation avec"]
[null,null,null,null,null,null,"avec les recommandations de bonnes pratiques.                   "]
["Résultats"]
["Les pourcentages d'objectifs atteints sont présentés pour le service. "]
["Les résultats détaillés figurent dans le rapport d'analyse finale."]
[null,null,"Services évalués de l'établissement n =",{"$f":"(\" \"&SERVICES&\" services\")","v":" 0 services"}]
[]
["► Score \"service\"",null,"Service",null,null,"Etablissement"]
["Gestion du linge sale",null,{"$f":"IF(Rapport!F877=\"non saisi\",\"-\",Rapport!F877)","v":"-"},16,{"$f":"Rapport!H877","v":"non saisi"},{"$f":"IF(Rapport!H158=\"non saisi\",\"-\",Rapport!H158)","v":"-"}]
["Gestion du linge propre",null,{"$f":"IF(Rapport!F878=\"non saisi\",\"-\",Rapport!F878)","v":"-"},12,{"$f":"Rapport!H878","v":"non saisi"},{"$f":"IF(Rapport!H159=\"non saisi\",\"-\",Rapport!H159)","v":"-"}]
["Bionettoyage et traçabilité ",null,{"$f":"IF(Rapport!F879=\"non saisi\",\"-\",Rapport!F879)","v":"-"},12,{"$f":"Rapport!H879","v":"non saisi"},{"$f":"IF(Rapport!H160=\"non saisi\",\"-\",Rapport!H160)","v":"-"}]
["Score total",null,{"$f":"IF(Rapport!F880=\"non saisi\",\"-\",Rapport!F880)","v":"-"},40,{"$f":"Rapport!H880","v":"non saisi"},{"$f":"IF(Rapport!H161=\"non saisi\",\"-\",Rapport!H161)","v":"-"}]
[]
["► Score \"utilisateur\"",null,"Service",null,null,"Etablissement"]
["Evacuation du linge sale",null,{"$f":"IF(Rapport!F931=\"non saisi\",\"-\",Rapport!F931)","v":"-"},16,{"$f":"IF(Rapport!H931=\"non saisi\",\"-\",Rapport!H931)","v":"-"},{"$f":"IF(Rapport!H200=\"non saisi\",\"-\",Rapport!H200)","v":"-"}]
["Utilisation du linge propre",null,{"$f":"IF(Rapport!F932=\"non saisi\",\"-\",Rapport!F932)","v":"-"},4,{"$f":"IF(Rapport!H932=\"non saisi\",\"-\",Rapport!H932)","v":"-"},{"$f":"IF(Rapport!H201=\"non saisi\",\"-\",Rapport!H201)","v":"-"}]
["Score total",null,{"$f":"IF(Rapport!F933=\"non saisi\",\"-\",Rapport!F933)","v":"-"},20,{"$f":"IF(Rapport!H933=\"non saisi\",\"-\",Rapport!H933)","v":"-"},{"$f":"IF(Rapport!H202=\"non saisi\",\"-\",Rapport!H202)","v":"-"}]
[]
["Axes d'amélioration et commentaires"]
[]
[null,null,null,null,null,null,null,null,null,null,null,null,null,null,"◄ avant d'imprimer, veuillez"]
[null,null,null,null,null,null,null,null,null,null,null,null,null,null,"tapez vos axes d'amélioration"]
[null,null,null,null,null,null,null,null,null,null,null,null,null,null,"et commentaires dans le cadre"]
[null,null,null,null,null,null,null,null,null,null,null,null,null,null,"ci-contre."]
[]
[]
[]
[null,null,null,null,null,null,null,null,"La mise en œuvre d'actions d'amélioration avant une nouvelle évaluation contribue au processus d'amélioration de la qualité des soins"]
[null,null,null,null,null,null,null,null,null,null,null,null,null,null,"Autre",{"$f":"Rapport!H971","v":"non saisi"}]
[null,null,null,null,null,null,null,null,null,null,null,null,null,null,"Etudiant",{"$f":"Rapport!H970","v":"non saisi"}]
["L'établissement est en retard et doit assurer les meilleures conditions d’hygiène et de protection des patients et des personnels vis-à-vis du risque infectieux. ",null,null,null,null,null,null,null,null,null,null,null,null,null,"Brancardier",{"$f":"Rapport!H969","v":"non saisi"}]
[null,null,null,null,null,null,null,null,null,null,null,null,null,null,"Ambulancier",{"$f":"Rapport!H968","v":"non saisi"}]
["l'établissement a mis en place une politique qualité des activités et des prestations relatives aux articles de linge, il doit poursuivre ses actions",null,null,null,null,null,null,null,null,null,null,null,null,null,"Agent hospitalier",{"$f":"Rapport!H967","v":"non saisi"}]
["L'établissement est fortement engagé dans la qualité des activités relatives aux articles de linge, il doit poursuivre ses actions",null,null,null,null,null,null,null,null,null,null,null,null,null,"Aide-soignante/aux. puériculture",{"$f":"Rapport!H966","v":"non saisi"}]
[null,null,null,null,null,null,null,null,null,null,null,null,null,null,"Manipulateur radio",{"$f":"Rapport!H965","v":"non saisi"}]
[null,null,null,null,null,null,null,null,null,null,null,null,null,null,"Kinésithérapeute",{"$f":"Rapport!H964","v":"non saisi"}]
[null,null,null,null,null,null,null,null,null,null,null,null,null,null,"Sage-femme",{"$f":"Rapport!H963","v":"non saisi"}]
[null,null,null,null,null,null,null,null,null,null,null,null,null,null,"Infirmière et IDE spécialisée",{"$f":"Rapport!H962","v":"non saisi"}]

{"sheet":"Fiches_Utilisateurs_Service#9","index":31,"n_rows":47,"n_cols":82,"rows_kept":47,"cut":false,"hidden":false,"merged":[[0,0,0,2],[1,0,1,2]]}
["FICHE N° 2"]
["UTILISATEURS SERVICE #9"]
[null,null,"Utilisateur #1",null,"Utilisateur #2",null,"Utilisateur #3",null,"Utilisateur #4",null,"Utilisateur #5",null,"Utilisateur #6",null,"Utilisateur #7",null,"Utilisateur #8",null,"Utilisateur #9",null,"Utilisateur #10",null,"Utilisateur #11",null,"Utilisateur #12",null,"Utilisateur #13",null,"Utilisateur #14",null,"Utilisateur #15",null,"Utilisateur #16",null,"Utilisateur #17",null,"Utilisateur #18",null,"Utilisateur #19",null,"Utilisateur #20",null,"Utilisateur #21",null,"Utilisateur #22",null,"Utilisateur #23",null,"Utilisateur #24",null,"Utilisateur #25",null,"Utilisateur #26",null,"Utilisateur #27",null,"Utilisateur #28",null,"Utilisateur #29",null,"Utilisateur #30",null,"Utilisateur #31",null,"Utilisateur #32",null,"Utilisateur #33",null,"Utilisateur #34",null,"Utilisateur #35",null,"Utilisateur #36",null,"Utilisateur #37",null,"Utilisateur #38",null,"Utilisateur #39",null,"Utilisateur #40"]
[]
[null,"VERIFICATION DONNEES NON SAISIES/N° DE SAISIE DE FICHE",{"$f":"C45","v":"non saisies"},null,{"$f":"E45","v":"non saisies"},null,{"$f":"G45","v":"non saisies"},null,{"$f":"I45","v":"non saisies"},null,{"$f":"K45","v":"non saisies"},null,{"$f":"M45","v":"non saisies"},null,{"$f":"O45","v":"non saisies"},null,{"$f":"Q45","v":"non saisies"},null,{"$f":"S45","v":"non saisies"},null,{"$f":"U45","v":"non saisies"},null,{"$f":"W45","v":"non saisies"},null,{"$f":"Y45","v":"non saisies"},null,{"$f":"AA45","v":"non saisies"},null,{"$f":"AC45","v":"non saisies"},null,{"$f":"AE45","v":"non saisies"},null,{"$f":"AG45","v":"non saisies"},null,{"$f":"AI45","v":"non saisies"},null,{"$f":"AK45","v":"non saisies"},null,{"$f":"AM45","v":"non saisies"},null,{"$f":"AO45","v":"non saisies"},null,{"$f":"AQ45","v":"non saisies"},null,{"$f":"AS45","v":"non saisies"},null,{"$f":"AU45","v":"non saisies"},null,{"$f":"AW45","v":"non saisies"},null,{"$f":"AY45","v":"non saisies"},null,{"$f":"BA45","v":"non saisies"},null,{"$f":"BC45","v":"non saisies"},null,{"$f":"BE45","v":"non saisies"},null,{"$f":"BG45","v":"non saisies"},null,{"$f":"BI45","v":"non saisies"},null,{"$f":"BK45","v":"non saisies"},null,{"$f":"BM45","v":"non saisies"},null,{"$f":"BO45","v":"non saisies"},null,{"$f":"BQ45","v":"non saisies"},null,{"$f":"BS45","v":"non saisies"},null,{"$f":"BU45","v":"non saisies"},null,{"$f":"BW45","v":"non saisies"},null,{"$f":"BY45","v":"non saisies"},null,{"$f":"CA45","v":"non saisies"},null,{"$f":"CC45","v":"non saisies"}]
[]
[null,"Date"]
[]
[null,"Nom du service",{"$f":"IF(SERVICE9=\"\",\"non saisi\",SERVICE9)","v":"non saisi"},null,{"$f":"IF(SERVICE9=\"\",\"non saisi\",SERVICE9)","v":"non saisi"},null,{"$f":"IF(SERVICE9=\"\",\"non saisi\",SERVICE9)","v":"non saisi"},null,{"$f":"IF(SERVICE9=\"\",\"non saisi\",SERVICE9)","v":"non saisi"},null,{"$f":"IF(SERVICE9=\"\",\"non saisi\",SERVICE9)","v":"non saisi"},null,{"$f":"IF(SERVICE9=\"\",\"non saisi\",SERVICE9)","v":"non saisi"},null,{"$f":"IF(SERVICE9=\"\",\"non saisi\",SERVICE9)","v":"non saisi"},null,{"$f":"IF(SERVICE9=\"\",\"non saisi\",SERVICE9)","v":"non saisi"},null,{"$f":"IF(SERVICE9=\"\",\"non saisi\",SERVICE9)","v":"non saisi"},null,{"$f":"IF(SERVICE9=\"\",\"non saisi\",SERVICE9)","v":"non saisi"},null,{"$f":"IF(SERVICE9=\"\",\"non saisi\",SERVICE9)","v":"non saisi"},null,{"$f":"IF(SERVICE9=\"\",\"non saisi\",SERVICE9)","v":"non saisi"},null,{"$f":"IF(SERVICE9=\"\",\"non saisi\",SERVICE9)","v":"non saisi"},null,{"$f":"IF(SERVICE9=\"\",\"non saisi\",SERVICE9)","v":"non saisi"},null,{"$f":"IF(SERVICE9=\"\",\"non saisi\",SERVICE9)","v":"non saisi"},null,{"$f":"IF(SERVICE9=\"\",\"non saisi\",SERVICE9)","v":"non saisi"},null,{"$f":"IF(SERVICE9=\"\",\"non saisi\",SERVICE9)","v":"non saisi"},null,{"$f":"IF(SERVICE9=\"\",\"non saisi\",SERVICE9)","v":"non saisi"},null,{"$f":"IF(SERVICE9=\"\",\"non saisi\",SERVICE9)","v":"non saisi"},null,{"$f":"IF(SERVICE9=\"\",\"non saisi\",SERVICE9)","v":"non saisi"},null,{"$f":"IF(SERVICE9=\"\",\"non saisi\",SERVICE9)","v":"non saisi"},null,{"$f":"IF(SERVICE9=\"\",\"non saisi\",SERVICE9)","v":"non saisi"},null,{"$f":"IF(SERVICE9=\"\",\"non saisi\",SERVICE9)","v":"non saisi"},null,{"$f":"IF(SERVICE9=\"\",\"non saisi\",SERVICE9)","v":"non saisi"},null,{"$f":"IF(SERVICE9=\"\",\"non saisi\",SERVICE9)","v":"non saisi"},null,{"$f":"IF(SERVICE9=\"\",\"non saisi\",SERVICE9)","v":"non saisi"},null,{"$f":"IF(SERVICE9=\"\",\"non saisi\",SERVICE9)","v":"non saisi"},null,{"$f":"IF(SERVICE9=\"\",\"non saisi\",SERVICE9)","v":"non saisi"},null,{"$f":"IF(SERVICE9=\"\",\"non saisi\",SERVICE9)","v":"non saisi"},null,{"$f":"IF(SERVICE9=\"\",\"non saisi\",SERVICE9)","v":"non saisi"},null,{"$f":"IF(SERVICE9=\"\",\"non saisi\",SERVICE9)","v":"non saisi"},null,{"$f":"IF(SERVICE9=\"\",\"non saisi\",SERVICE9)","v":"non saisi"},null,{"$f":"IF(SERVICE9=\"\",\"non saisi\",SERVICE9)","v":"non saisi"},null,{"$f":"IF(SERVICE9=\"\",\"non saisi\",SERVICE9)","v":"non saisi"},null,{"$f":"IF(SERVICE9=\"\",\"non saisi\",SERVICE9)","v":"non saisi"},null,{"$f":"IF(SERVICE9=\"\",\"non saisi\",SERVICE9)","v":"non saisi"},null,{"$f":"IF(SERVICE9=\"\",\"non saisi\",SERVICE9)","v":"non saisi"},null,{"$f":"IF(SERVICE9=\"\",\"non saisi\",SERVICE9)","v":"non saisi"},null,{"$f":"IF(SERVICE9=\"\",\"non saisi\",SERVICE9)","v":"non saisi"},null,{"$f":"IF(SERVICE9=\"\",\"non saisi\",SERVICE9)","v":"non saisi"}]
[]
[null,"Fonction du personnel",null,null,null,null,null,null,null,null,null,null,null,null,null,null,null,null,null,null,null,null,null,null,null,null,null,null,null,null,null,null,null,null,null,null,null,null,null,null,null,null,null,null,null,null,null,null,null,null,null,null,null,null,null,null,null,null,null,null,null,null,null,null,null,null,null,null,null,null,null,null,null,null,null,null,null,null,null,null,null,"1 Infirmière et IDE spécialisée"]
[null,null,null,null,null,null,null,null,null,null,null,null,null,null,null,null,null,null,null,null,null,null,null,null,null,null,null,null,null,null,null,null,null,null,null,null,null,null,null,null,null,null,null,null,null,null,null,null,null,null,null,null,null,null,null,null,null,null,null,null,null,null,null,null,null,null,null,null,null,null,null,null,null,null,null,null,null,null,null,null,null,"2 Sage Femme"]
["Linge sale",null,"1 Oui - 2 Non",null,"1 Oui - 2 Non",null,"1 Oui - 2 Non",null,"1 Oui - 2 Non",null,"1 Oui - 2 Non",null,"1 Oui - 2 Non",null,"1 Oui - 2 Non",null,"1 Oui - 2 Non",null,"1 Oui - 2 Non",null,"1 Oui - 2 Non",null,"1 Oui - 2 Non",null,"1 Oui - 2 Non",null,"1 Oui - 2 Non",null,"1 Oui - 2 Non",null,"1 Oui - 2 Non",null,"1 Oui - 2 Non",null,"1 Oui - 2 Non",null,"1 Oui - 2 Non",null,"1 Oui - 2 Non",null,"1 Oui - 2 Non",null,"1 Oui - 2 Non",null,"1 Oui - 2 Non",null,"1 Oui - 2 Non",null,"1 Oui - 2 Non",null,"1 Oui - 2 Non",null,"1 Oui - 2 Non",null,"1 Oui - 2 Non",null,"1 Oui - 2 Non",null,"1 Oui - 2 Non",null,"1 Oui - 2 Non",null,"1 Oui - 2 Non",null,"1 Oui - 2 Non",null,"1 Oui - 2 Non",null,"1 Oui - 2 Non",null,"1 Oui - 2 Non",null,"1 Oui - 2 Non",null,"1 Oui - 2 Non",null,"1 Oui - 2 Non",null,"1 Oui - 2 Non",null,"1 Oui - 2 Non","3 Kinésithérapeute"]
[null,null,null,null,null,null,null,null,null,null,null,null,null,null,null,null,null,null,null,null,null,null,null,null,null,null,null,null,null,null,null,null,null,null,null,null,null,null,null,null,null,null,null,null,null,null,null,null,null,null,null,null,null,null,null,null,null,null,null,null,null,null,null,null,null,null,null,null,null,null,null,null,null,null,null,null,null,null,null,null,null,"4 Manipulateur Radio"]
[1,"Le linge sale est évacué à la fin du soin, sans dépose sur le sol",null,null,null,null,null,null,null,null,null,null,null,null,null,null,null,null,null,null,null,null,null,null,null,null,null,null,null,null,null,null,null,null,null,null,null,null,null,null,null,null,null,null,null,null,null,null,null,null,null,null,null,null,null,null,null,null,null,null,null,null,null,null,null,null,null,null,null,null,null,null,null,null,null,null,null,null,null,null,null,"5 Aide soignante/aux. de puériculture"]
[null,null,null,null,null,null,null,null,null,null,null,null,null,null,null,null,null,null,null,null,null,null,null,null,null,null,null,null,null,null,null,null,null,null,null,null,null,null,null,null,null,null,null,null,null,null,null,null,null,null,null,null,null,null,null,null,null,null,null,null,null,null,null,null,null,null,null,null,null,null,null,null,null,null,null,null,null,null,null,null,null,"6 Agent Hospitalier"]
[2,"Le professionnel vérifie l’absence d’objet étranger",null,null,null,null,null,null,null,null,null,null,null,null,null,null,null,null,null,null,null,null,null,null,null,null,null,null,null,null,null,null,null,null,null,null,null,null,null,null,null,null,null,null,null,null,null,null,null,null,null,null,null,null,null,null,null,null,null,null,null,null,null,null,null,null,null,null,null,null,null,null,null,null,null,null,null,null,null,null,null,"7 Ambulancier"]
[null,null,null,null,null,null,null,null,null,null,null,null,null,null,null,null,null,null,null,null,null,null,null,null,null,null,null,null,null,null,null,null,null,null,null,null,null,null,null,null,null,null,null,null,null,null,null,null,null,null,null,null,null,null,null,null,null,null,null,null,null,null,null,null,null,null,null,null,null,null,null,null,null,null,null,null,null,null,null,null,null,"8 Brancardier"]
[3,"Le professionnel porte des gants lors de la manipulation de linge souillé par des liquides biologiques",null,null,null,null,null,null,null,null,null,null,null,null,null,null,null,null,null,null,null,null,null,null,null,null,null,null,null,null,null,null,null,null,null,null,null,null,null,null,null,null,null,null,null,null,null,null,null,null,null,null,null,null,null,null,null,null,null,null,null,null,null,null,null,null,null,null,null,null,null,null,null,null,null,null,null,null,null,null,null,"9 Etudiant"]
[null,null,null,null,null,null,null,null,null,null,null,null,null,null,null,null,null,null,null,null,null,null,null,null,null,null,null,null,null,null,null,null,null,null,null,null,null,null,null,null,null,null,null,null,null,null,null,null,null,null,null,null,null,null,null,null,null,null,null,null,null,null,null,null,null,null,null,null,null,null,null,null,null,null,null,null,null,null,null,null,null,"10 Autre"]
[4,"Le professionnel manipule le linge sale avec des gestes mesurés pour limiter la contamination de l'environnement",null,null,null,null,null,null,null,null,null,null,null,null,null,null,null,null,null,null,null,null,null,null,null,null,null,null,null,null,null,null,null,null,null,null,null,null,null,null,null,null,null,null,null,null,null,null,null,null,null,null,null,null,null,null,null,null,null,null,null,null,null,null,null,null,null,null,null,null,null,null,null,null,null,null,null,null,null,null,null,1]
[null,null,null,null,null,null,null,null,null,null,null,null,null,null,null,null,null,null,null,null,null,null,null,null,null,null,null,null,null,null,null,null,null,null,null,null,null,null,null,null,null,null,null,null,null,null,null,null,null,null,null,null,null,null,null,null,null,null,null,null,null,null,null,null,null,null,null,null,null,null,null,null,null,null,null,null,null,null,null,null,null,2]
[5,"Les articles sont répartis selon la procédure de tri de l'établissement",null,null,null,null,null,null,null,null,null,null,null,null,null,null,null,null,null,null,null,null,null,null,null,null,null,null,null,null,null,null,null,null,null,null,null,null,null,null,null,null,null,null,null,null,null,null,null,null,null,null,null,null,null,null,null,null,null,null,null,null,null,null,null,null,null,null,null,null,null,null,null,null,null,null,null,null,null,null,null,3]
[null,null,null,null,null,null,null,null,null,null,null,null,null,null,null,null,null,null,null,null,null,null,null,null,null,null,null,null,null,null,null,null,null,null,null,null,null,null,null,null,null,null,null,null,null,null,null,null,null,null,null,null,null,null,null,null,null,null,null,null,null,null,null,null,null,null,null,null,null,null,null,null,null,null,null,null,null,null,null,null,null,4]
[6,"Le linge est tenu à distance de la tenue professionnelle",null,null,null,null,null,null,null,null,null,null,null,null,null,null,null,null,null,null,null,null,null,null,null,null,null,null,null,null,null,null,null,null,null,null,null,null,null,null,null,null,null,null,null,null,null,null,null,null,null,null,null,null,null,null,null,null,null,null,null,null,null,null,null,null,null,null,null,null,null,null,null,null,null,null,null,null,null,null,null,5]
[null,null,null,null,null,null,null,null,null,null,null,null,null,null,null,null,null,null,null,null,null,null,null,null,null,null,null,null,null,null,null,null,null,null,null,null,null,null,null,null,null,null,null,null,null,null,null,null,null,null,null,null,null,null,null,null,null,null,null,null,null,null,null,null,null,null,null,null,null,null,null,null,null,null,null,null,null,null,null,null,null,6]
[7,"Le système d'ouverture du chariot des sacs collecteurs de linge sale est manipulé sans les mains",null,null,null,null,null,null,null,null,null,null,null,null,null,null,null,null,null,null,null,null,null,null,null,null,null,null,null,null,null,null,null,null,null,null,null,null,null,null,null,null,null,null,null,null,null,null,null,null,null,null,null,null,null,null,null,null,null,null,null,null,null,null,null,null,null,null,null,null,null,null,null,null,null,null,null,null,null,null,null,7]
[null,null,null,null,null,null,null,null,null,null,null,null,null,null,null,null,null,null,null,null,null,null,null,null,null,null,null,null,null,null,null,null,null,null,null,null,null,null,null,null,null,null,null,null,null,null,null,null,null,null,null,null,null,null,null,null,null,null,null,null,null,null,null,null,null,null,null,null,null,null,null,null,null,null,null,null,null,null,null,null,null,8]
[8,"Le professionnel réalise une hygiène des mains après avoir manipulé le linge sale",null,null,null,null,null,null,null,null,null,null,null,null,null,null,null,null,null,null,null,null,null,null,null,null,null,null,null,null,null,null,null,null,null,null,null,null,null,null,null,null,null,null,null,null,null,null,null,null,null,null,null,null,null,null,null,null,null,null,null,null,null,null,null,null,null,null,null,null,null,null,null,null,null,null,null,null,null,null,null,9]
[null,null,null,null,null,null,null,null,null,null,null,null,null,null,null,null,null,null,null,null,null,null,null,null,null,null,null,null,null,null,null,null,null,null,null,null,null,null,null,null,null,null,null,null,null,null,null,null,null,null,null,null,null,null,null,null,null,null,null,null,null,null,null,null,null,null,null,null,null,null,null,null,null,null,null,null,null,null,null,null,null,10]
[9,"Dès la fin de l'activité, les sacs de linge sale sont évacués vers un local de stockage réservé"]
[null,"Si Non Observé (NO) coder 3"]
[10,"Les sacs de linge sale sont transportés sans être traînés par terre lors de transport"]
[null,"Si Non Observé (NO) coder 3"]
[11,"Le professionnel réalise une hygiène des mains après avoir manipulé les sacs de linge"]
[null,"Si Non Observé (NO) coder 3"]
["Linge propre",null,"1 Oui - 2 Non",null,"1 Oui - 2 Non",null,"1 Oui - 2 Non",null,"1 Oui - 2 Non",null,"1 Oui - 2 Non",null,"1 Oui - 2 Non",null,"1 Oui - 2 Non",null,"1 Oui - 2 Non",null,"1 Oui - 2 Non",null,"1 Oui - 2 Non",null,"1 Oui - 2 Non",null,"1 Oui - 2 Non",null,"1 Oui - 2 Non",null,"1 Oui - 2 Non",null,"1 Oui - 2 Non",null,"1 Oui - 2 Non",null,"1 Oui - 2 Non",null,"1 Oui - 2 Non",null,"1 Oui - 2 Non",null,"1 Oui - 2 Non",null,"1 Oui - 2 Non",null,"1 Oui - 2 Non",null,"1 Oui - 2 Non",null,"1 Oui - 2 Non",null,"1 Oui - 2 Non",null,"1 Oui - 2 Non",null,"1 Oui - 2 Non",null,"1 Oui - 2 Non",null,"1 Oui - 2 Non",null,"1 Oui - 2 Non",null,"1 Oui - 2 Non",null,"1 Oui - 2 Non",null,"1 Oui - 2 Non",null,"1 Oui - 2 Non",null,"1 Oui - 2 Non",null,"1 Oui - 2 Non",null,"1 Oui - 2 Non",null,"1 Oui - 2 Non",null,"1 Oui - 2 Non",null,"1 Oui - 2 Non"]
[]
[12,"Le professionnel réalise une hygiène des mains avant de manipuler le linge propre "]
[]
[13,"Le linge est déconditionné au fur et à mesure des besoins"]
[]
[14,"Le linge entré dans la chambre et non utilisé est évacué (considéré comme sale)"]
[]
[null,"VERIFICATION DONNEES NON SAISIES/N° DE SAISIE DE FICHE",{"$f":"IF(OR(C7=\"\",C9=\"non saisi\",C11=\"\",C15=\"\",C17=\"\",C19=\"\",C21=\"\",C23=\"\",C25=\"\",C27=\"\",C29=\"\",C31=\"\",C33=\"\",C35=\"\",C39=\"\",C41=\"\",C43=\"\"),\"non saisies\",(SERVICES+_OBS1+_OBS2+_OBS3+_OBS4+_OBS5+_OBS6+_OBS7+_OBS8+1))","v":"non saisies"},null,{"$f":"IF(OR(E7=\"\",E9=\"non saisi\",E11=\"\",E15=\"\",E17=\"\",E19=\"\",E21=\"\",E23=\"\",E25=\"\",E27=\"\",E29=\"\",E31=\"\",E33=\"\",E35=\"\",E39=\"\",E41=\"\",E43=\"\"),\"non saisies\",(SERVICES+_OBS1+_OBS2+_OBS3+_OBS4+_OBS5+_OBS6+_OBS7+_OBS8+2))","v":"non saisies"},null,{"$f":"IF(OR(G7=\"\",G9=\"non saisi\",G11=\"\",G15=\"\",G17=\"\",G19=\"\",G21=\"\",G23=\"\",G25=\"\",G27=\"\",G29=\"\",G31=\"\",G33=\"\",G35=\"\",G39=\"\",G41=\"\",G43=\"\"),\"non saisies\",(SERVICES+_OBS1+_OBS2+_OBS3+_OBS4+_OBS5+_OBS6+_OBS7+_OBS8+3))","v":"non saisies"},null,{"$f":"IF(OR(I7=\"\",I9=\"non saisi\",I11=\"\",I15=\"\",I17=\"\",I19=\"\",I21=\"\",I23=\"\",I25=\"\",I27=\"\",I29=\"\",I31=\"\",I33=\"\",I35=\"\",I39=\"\",I41=\"\",I43=\"\"),\"non saisies\",(SERVICES+_OBS1+_OBS2+_OBS3+_OBS4+_OBS5+_OBS6+_OBS7+_OBS8+4))","v":"non saisies"},null,{"$f":"IF(OR(K7=\"\",K9=\"non saisi\",K11=\"\",K15=\"\",K17=\"\",K19=\"\",K21=\"\",K23=\"\",K25=\"\",K27=\"\",K29=\"\",K31=\"\",K33=\"\",K35=\"\",K39=\"\",K41=\"\",K43=\"\"),\"non saisies\",(SERVICES+_OBS1+_OBS2+_OBS3+_OBS4+_OBS5+_OBS6+_OBS7+_OBS8+5))","v":"non saisies"},null,{"$f":"IF(OR(M7=\"\",M9=\"non saisi\",M11=\"\",M15=\"\",M17=\"\",M19=\"\",M21=\"\",M23=\"\",M25=\"\",M27=\"\",M29=\"\",M31=\"\",M33=\"\",M35=\"\",M39=\"\",M41=\"\",M43=\"\"),\"non saisies\",(SERVICES+_OBS1+_OBS2+_OBS3+_OBS4+_OBS5+_OBS6+_OBS7+_OBS8+6))","v":"non saisies"},null,{"$f":"IF(OR(O7=\"\",O9=\"non saisi\",O11=\"\",O15=\"\",O17=\"\",O19=\"\",O21=\"\",O23=\"\",O25=\"\",O27=\"\",O29=\"\",O31=\"\",O33=\"\",O35=\"\",O39=\"\",O41=\"\",O43=\"\"),\"non saisies\",(SERVICES+_OBS1+_OBS2+_OBS3+_OBS4+_OBS5+_OBS6+_OBS7+_OBS8+7))","v":"non saisies"},null,{"$f":"IF(OR(Q7=\"\",Q9=\"non saisi\",Q11=\"\",Q15=\"\",Q17=\"\",Q19=\"\",Q21=\"\",Q23=\"\",Q25=\"\",Q27=\"\",Q29=\"\",Q31=\"\",Q33=\"\",Q35=\"\",Q39=\"\",Q41=\"\",Q43=\"\"),\"non saisies\",(SERVICES+_OBS1+_OBS2+_OBS3+_OBS4+_OBS5+_OBS6+_OBS7+_OBS8+8))","v":"non saisies"},null,{"$f":"IF(OR(S7=\"\",S9=\"non saisi\",S11=\"\",S15=\"\",S17=\"\",S19=\"\",S21=\"\",S23=\"\",S25=\"\",S27=\"\",S29=\"\",S31=\"\",S33=\"\",S35=\"\",S39=\"\",S41=\"\",S43=\"\"),\"non saisies\",(SERVICES+_OBS1+_OBS2+_OBS3+_OBS4+_OBS5+_OBS6+_OBS7+_OBS8+9))","v":"non saisies"},null,{"$f":"IF(OR(U7=\"\",U9=\"non saisi\",U11=\"\",U15=\"\",U17=\"\",U19=\"\",U21=\"\",U23=\"\",U25=\"\",U27=\"\",U29=\"\",U31=\"\",U33=\"\",U35=\"\",U39=\"\",U41=\"\",U43=\"\"),\"non saisies\",(SERVICES+_OBS1+_OBS2+_OBS3+_OBS4+_OBS5+_OBS6+_OBS7+_OBS8+10))","v":"non saisies"},null,{"$f":"IF(OR(W7=\"\",W9=\"non saisi\",W11=\"\",W15=\"\",W17=\"\",W19=\"\",W21=\"\",W23=\"\",W25=\"\",W27=\"\",W29=\"\",W31=\"\",W33=\"\",W35=\"\",W39=\"\",W41=\"\",W43=\"\"),\"non saisies\",(SERVICES+_OBS1+_OBS2+_OBS3+_OBS4+_OBS5+_OBS6+_OBS7+_OBS8+11))","v":"non saisies"},null,{"$f":"IF(OR(Y7=\"\",Y9=\"non saisi\",Y11=\"\",Y15=\"\",Y17=\"\",Y19=\"\",Y21=\"\",Y23=\"\",Y25=\"\",Y27=\"\",Y29=\"\",Y31=\"\",Y33=\"\",Y35=\"\",Y39=\"\",Y41=\"\",Y43=\"\"),\"non saisies\",(SERVICES+_OBS1+_OBS2+_OBS3+_OBS4+_OBS5+_OBS6+_OBS7+_OBS8+12))","v":"non saisies"},null,{"$f":"IF(OR(AA7=\"\",AA9=\"non saisi\",AA11=\"\",AA15=\"\",AA17=\"\",AA19=\"\",AA21=\"\",AA23=\"\",AA25=\"\",AA27=\"\",AA29=\"\",AA31=\"\",AA33=\"\",AA35=\"\",AA39=\"\",AA41=\"\",AA43=\"\"),\"non saisies\",(SERVICES+_OBS1+_OBS2+_OBS3+_OBS4+_OBS5+_OBS6+_OBS7+_OBS8+13))","v":"non saisies"},null,{"$f":"IF(OR(AC7=\"\",AC9=\"non saisi\",AC11=\"\",AC15=\"\",AC17=\"\",AC19=\"\",AC21=\"\",AC23=\"\",AC25=\"\",AC27=\"\",AC29=\"\",AC31=\"\",AC33=\"\",AC35=\"\",AC39=\"\",AC41=\"\",AC43=\"\"),\"non saisies\",(SERVICES+_OBS1+_OBS2+_OBS3+_OBS4+_OBS5+_OBS6+_OBS7+_OBS8+14))","v":"non saisies"},null,{"$f":"IF(OR(AE7=\"\",AE9=\"non saisi\",AE11=\"\",AE15=\"\",AE17=\"\",AE19=\"\",AE21=\"\",AE23=\"\",AE25=\"\",AE27=\"\",AE29=\"\",AE31=\"\",AE33=\"\",AE35=\"\",AE39=\"\",AE41=\"\",AE43=\"\"),\"non saisies\",(SERVICES+_OBS1+_OBS2+_OBS3+_OBS4+_OBS5+_OBS6+_OBS7+_OBS8+15))","v":"non saisies"},null,{"$f":"IF(OR(AG7=\"\",AG9=\"non saisi\",AG11=\"\",AG15=\"\",AG17=\"\",AG19=\"\",AG21=\"\",AG23=\"\",AG25=\"\",AG27=\"\",AG29=\"\",AG31=\"\",AG33=\"\",AG35=\"\",AG39=\"\",AG41=\"\",AG43=\"\"),\"non saisies\",(SERVICES+_OBS1+_OBS2+_OBS3+_OBS4+_OBS5+_OBS6+_OBS7+_OBS8+16))","v":"non saisies"},null,{"$f":"IF(OR(AI7=\"\",AI9=\"non saisi\",AI11=\"\",AI15=\"\",AI17=\"\",AI19=\"\",AI21=\"\",AI23=\"\",AI25=\"\",AI27=\"\",AI29=\"\",AI31=\"\",AI33=\"\",AI35=\"\",AI39=\"\",AI41=\"\",AI43=\"\"),\"non saisies\",(SERVICES+_OBS1+_OBS2+_OBS3+_OBS4+_OBS5+_OBS6+_OBS7+_OBS8+17))","v":"non saisies"},null,{"$f":"IF(OR(AK7=\"\",AK9=\"non saisi\",AK11=\"\",AK15=\"\",AK17=\"\",AK19=\"\",AK21=\"\",AK23=\"\",AK25=\"\",AK27=\"\",AK29=\"\",AK31=\"\",AK33=\"\",AK35=\"\",AK39=\"\",AK41=\"\",AK43=\"\"),\"non saisies\",(SERVICES+_OBS1+_OBS2+_OBS3+_OBS4+_OBS5+_OBS6+_OBS7+_OBS8+18))","v":"non saisies"},null,{"$f":"IF(OR(AM7=\"\",AM9=\"non saisi\",AM11=\"\",AM15=\"\",AM17=\"\",AM19=\"\",AM21=\"\",AM23=\"\",AM25=\"\",AM27=\"\",AM29=\"\",AM31=\"\",AM33=\"\",AM35=\"\",AM39=\"\",AM41=\"\",AM43=\"\"),\"non saisies\",(SERVICES+_OBS1+_OBS2+_OBS3+_OBS4+_OBS5+_OBS6+_OBS7+_OBS8+19))","v":"non saisies"},null,{"$f":"IF(OR(AO7=\"\",AO9=\"non saisi\",AO11=\"\",AO15=\"\",AO17=\"\",AO19=\"\",AO21=\"\",AO23=\"\",AO25=\"\",AO27=\"\",AO29=\"\",AO31=\"\",AO33=\"\",AO35=\"\",AO39=\"\",AO41=\"\",AO43=\"\"),\"non saisies\",(SERVICES+_OBS1+_OBS2+_OBS3+_OBS4+_OBS5+_OBS6+_OBS7+_OBS8+20))","v":"non saisies"},null,{"$f":"IF(OR(AQ7=\"\",AQ9=\"non saisi\",AQ11=\"\",AQ15=\"\",AQ17=\"\",AQ19=\"\",AQ21=\"\",AQ23=\"\",AQ25=\"\",AQ27=\"\",AQ29=\"\",AQ31=\"\",AQ33=\"\",AQ35=\"\",AQ39=\"\",AQ41=\"\",AQ43=\"\"),\"non saisies\",(SERVICES+_OBS1+_OBS2+_OBS3+_OBS4+_OBS5+_OBS6+_OBS7+_OBS8+21))","v":"non saisies"},null,{"$f":"IF(OR(AS7=\"\",AS9=\"non saisi\",AS11=\"\",AS15=\"\",AS17=\"\",AS19=\"\",AS21=\"\",AS23=\"\",AS25=\"\",AS27=\"\",AS29=\"\",AS31=\"\",AS33=\"\",AS35=\"\",AS39=\"\",AS41=\"\",AS43=\"\"),\"non saisies\",(SERVICES+_OBS1+_OBS2+_OBS3+_OBS4+_OBS5+_OBS6+_OBS7+_OBS8+22))","v":"non saisies"},null,{"$f":"IF(OR(AU7=\"\",AU9=\"non saisi\",AU11=\"\",AU15=\"\",AU17=\"\",AU19=\"\",AU21=\"\",AU23=\"\",AU25=\"\",AU27=\"\",AU29=\"\",AU31=\"\",AU33=\"\",AU35=\"\",AU39=\"\",AU41=\"\",AU43=\"\"),\"non saisies\",(SERVICES+_OBS1+_OBS2+_OBS3+_OBS4+_OBS5+_OBS6+_OBS7+_OBS8+23))","v":"non saisies"},null,{"$f":"IF(OR(AW7=\"\",AW9=\"non saisi\",AW11=\"\",AW15=\"\",AW17=\"\",AW19=\"\",AW21=\"\",AW23=\"\",AW25=\"\",AW27=\"\",AW29=\"\",AW31=\"\",AW33=\"\",AW35=\"\",AW39=\"\",AW41=\"\",AW43=\"\"),\"non saisies\",(SERVICES+_OBS1+_OBS2+_OBS3+_OBS4+_OBS5+_OBS6+_OBS7+_OBS8+24))","v":"non saisies"},null,{"$f":"IF(OR(AY7=\"\",AY9=\"non saisi\",AY11=\"\",AY15=\"\",AY17=\"\",AY19=\"\",AY21=\"\",AY23=\"\",AY25=\"\",AY27=\"\",AY29=\"\",AY31=\"\",AY33=\"\",AY35=\"\",AY39=\"\",AY41=\"\",AY43=\"\"),\"non saisies\",(SERVICES+_OBS1+_OBS2+_OBS3+_OBS4+_OBS5+_OBS6+_OBS7+_OBS8+25))","v":"non saisies"},null,{"$f":"IF(OR(BA7=\"\",BA9=\"non saisi\",BA11=\"\",BA15=\"\",BA17=\"\",BA19=\"\",BA21=\"\",BA23=\"\",BA25=\"\",BA27=\"\",BA29=\"\",BA31=\"\",BA33=\"\",BA35=\"\",BA39=\"\",BA41=\"\",BA43=\"\"),\"non saisies\",(SERVICES+_OBS1+_OBS2+_OBS3+_OBS4+_OBS5+_OBS6+_OBS7+_OBS8+26))","v":"non saisies"},null,{"$f":"IF(OR(BC7=\"\",BC9=\"non saisi\",BC11=\"\",BC15=\"\",BC17=\"\",BC19=\"\",BC21=\"\",BC23=\"\",BC25=\"\",BC27=\"\",BC29=\"\",BC31=\"\",BC33=\"\",BC35=\"\",BC39=\"\",BC41=\"\",BC43=\"\"),\"non saisies\",(SERVICES+_OBS1+_OBS2+_OBS3+_OBS4+_OBS5+_OBS6+_OBS7+_OBS8+27))","v":"non saisies"},null,{"$f":"IF(OR(BE7=\"\",BE9=\"non saisi\",BE11=\"\",BE15=\"\",BE17=\"\",BE19=\"\",BE21=\"\",BE23=\"\",BE25=\"\",BE27=\"\",BE29=\"\",BE31=\"\",BE33=\"\",BE35=\"\",BE39=\"\",BE41=\"\",BE43=\"\"),\"non saisies\",(SERVICES+_OBS1+_OBS2+_OBS3+_OBS4+_OBS5+_OBS6+_OBS7+_OBS8+28))","v":"non saisies"},null,{"$f":"IF(OR(BG7=\"\",BG9=\"non saisi\",BG11=\"\",BG15=\"\",BG17=\"\",BG19=\"\",BG21=\"\",BG23=\"\",BG25=\"\",BG27=\"\",BG29=\"\",BG31=\"\",BG33=\"\",BG35=\"\",BG39=\"\",BG41=\"\",BG43=\"\"),\"non saisies\",(SERVICES+_OBS1+_OBS2+_OBS3+_OBS4+_OBS5+_OBS6+_OBS7+_OBS8+29))","v":"non saisies"},null,{"$f":"IF(OR(BI7=\"\",BI9=\"non saisi\",BI11=\"\",BI15=\"\",BI17=\"\",BI19=\"\",BI21=\"\",BI23=\"\",BI25=\"\",BI27=\"\",BI29=\"\",BI31=\"\",BI33=\"\",BI35=\"\",BI39=\"\",BI41=\"\",BI43=\"\"),\"non saisies\",(SERVICES+_OBS1+_OBS2+_OBS3+_OBS4+_OBS5+_OBS6+_OBS7+_OBS8+30))","v":"non saisies"},null,{"$f":"IF(OR(BK7=\"\",BK9=\"non saisi\",BK11=\"\",BK15=\"\",BK17=\"\",BK19=\"\",BK21=\"\",BK23=\"\",BK25=\"\",BK27=\"\",BK29=\"\",BK31=\"\",BK33=\"\",BK35=\"\",BK39=\"\",BK41=\"\",BK43=\"\"),\"non saisies\",(SERVICES+_OBS1+_OBS2+_OBS3+_OBS4+_OBS5+_OBS6+_OBS7+_OBS8+31))","v":"non saisies"},null,{"$f":"IF(OR(BM7=\"\",BM9=\"non saisi\",BM11=\"\",BM15=\"\",BM17=\"\",BM19=\"\",BM21=\"\",BM23=\"\",BM25=\"\",BM27=\"\",BM29=\"\",BM31=\"\",BM33=\"\",BM35=\"\",BM39=\"\",BM41=\"\",BM43=\"\"),\"non saisies\",(SERVICES+_OBS1+_OBS2+_OBS3+_OBS4+_OBS5+_OBS6+_OBS7+_OBS8+32))","v":"non saisies"},null,{"$f":"IF(OR(BO7=\"\",BO9=\"non saisi\",BO11=\"\",BO15=\"\",BO17=\"\",BO19=\"\",BO21=\"\",BO23=\"\",BO25=\"\",BO27=\"\",BO29=\"\",BO31=\"\",BO33=\"\",BO35=\"\",BO39=\"\",BO41=\"\",BO43=\"\"),\"non saisies\",(SERVICES+_OBS1+_OBS2+_OBS3+_OBS4+_OBS5+_OBS6+_OBS7+_OBS8+33))","v":"non saisies"},null,{"$f":"IF(OR(BQ7=\"\",BQ9=\"non saisi\",BQ11=\"\",BQ15=\"\",BQ17=\"\",BQ19=\"\",BQ21=\"\",BQ23=\"\",BQ25=\"\",BQ27=\"\",BQ29=\"\",BQ31=\"\",BQ33=\"\",BQ35=\"\",BQ39=\"\",BQ41=\"\",BQ43=\"\"),\"non saisies\",(SERVICES+_OBS1+_OBS2+_OBS3+_OBS4+_OBS5+_OBS6+_OBS7+_OBS8+34))","v":"non saisies"},null,{"$f":"IF(OR(BS7=\"\",BS9=\"non saisi\",BS11=\"\",BS15=\"\",BS17=\"\",BS19=\"\",BS21=\"\",BS23=\"\",BS25=\"\",BS27=\"\",BS29=\"\",BS31=\"\",BS33=\"\",BS35=\"\",BS39=\"\",BS41=\"\",BS43=\"\"),\"non saisies\",(SERVICES+_OBS1+_OBS2+_OBS3+_OBS4+_OBS5+_OBS6+_OBS7+_OBS8+35))","v":"non saisies"},null,{"$f":"IF(OR(BU7=\"\",BU9=\"non saisi\",BU11=\"\",BU15=\"\",BU17=\"\",BU19=\"\",BU21=\"\",BU23=\"\",BU25=\"\",BU27=\"\",BU29=\"\",BU31=\"\",BU33=\"\",BU35=\"\",BU39=\"\",BU41=\"\",BU43=\"\"),\"non saisies\",(SERVICES+_OBS1+_OBS2+_OBS3+_OBS4+_OBS5+_OBS6+_OBS7+_OBS8+36))","v":"non saisies"},null,{"$f":"IF(OR(BW7=\"\",BW9=\"non saisi\",BW11=\"\",BW15=\"\",BW17=\"\",BW19=\"\",BW21=\"\",BW23=\"\",BW25=\"\",BW27=\"\",BW29=\"\",BW31=\"\",BW33=\"\",BW35=\"\",BW39=\"\",BW41=\"\",BW43=\"\"),\"non saisies\",(SERVICES+_OBS1+_OBS2+_OBS3+_OBS4+_OBS5+_OBS6+_OBS7+_OBS8+37))","v":"non saisies"},null,{"$f":"IF(OR(BY7=\"\",BY9=\"non saisi\",BY11=\"\",BY15=\"\",BY17=\"\",BY19=\"\",BY21=\"\",BY23=\"\",BY25=\"\",BY27=\"\",BY29=\"\",BY31=\"\",BY33=\"\",BY35=\"\",BY39=\"\",BY41=\"\",BY43=\"\"),\"non saisies\",(SERVICES+_OBS1+_OBS2+_OBS3+_OBS4+_OBS5+_OBS6+_OBS7+_OBS8+38))","v":"non saisies"},null,{"$f":"IF(OR(CA7=\"\",CA9=\"non saisi\",CA11=\"\",CA15=\"\",CA17=\"\",CA19=\"\",CA21=\"\",CA23=\"\",CA25=\"\",CA27=\"\",CA29=\"\",CA31=\"\",CA33=\"\",CA35=\"\",CA39=\"\",CA41=\"\",CA43=\"\"),\"non saisies\",(SERVICES+_OBS1+_OBS2+_OBS3+_OBS4+_OBS5+_OBS6+_OBS7+_OBS8+39))","v":"non saisies"},null,{"$f":"IF(OR(CC7=\"\",CC9=\"non saisi\",CC11=\"\",CC15=\"\",CC17=\"\",CC19=\"\",CC21=\"\",CC23=\"\",CC25=\"\",CC27=\"\",CC29=\"\",CC31=\"\",CC33=\"\",CC35=\"\",CC39=\"\",CC41=\"\",CC43=\"\"),\"non saisies\",(SERVICES+_OBS1+_OBS2+_OBS3+_OBS4+_OBS5+_OBS6+_OBS7+_OBS8+40))","v":"non saisies"}]
[]
[null,"MENU"]

{"sheet":"Score9","index":32,"n_rows":82,"n_cols":81,"rows_kept":82,"cut":false,"hidden":true,"merged":[]}
[]
[]
[]
[]
[]
[]
[null,null,{"$f":"IF('Fiches_Utilisateurs_Service#9'!C7=\"\",0,1)","v":0},null,{"$f":"IF('Fiches_Utilisateurs_Service#9'!E7=\"\",0,1)","v":0},null,{"$f":"IF('Fiches_Utilisateurs_Service#9'!G7=\"\",0,1)","v":0},null,{"$f":"IF('Fiches_Utilisateurs_Service#9'!I7=\"\",0,1)","v":0},null,{"$f":"IF('Fiches_Utilisateurs_Service#9'!K7=\"\",0,1)","v":0},null,{"$f":"IF('Fiches_Utilisateurs_Service#9'!M7=\"\",0,1)","v":0},null,{"$f":"IF('Fiches_Utilisateurs_Service#9'!O7=\"\",0,1)","v":0},null,{"$f":"IF('Fiches_Utilisateurs_Service#9'!Q7=\"\",0,1)","v":0},null,{"$f":"IF('Fiches_Utilisateurs_Service#9'!S7=\"\",0,1)","v":0},null,{"$f":"IF('Fiches_Utilisateurs_Service#9'!U7=\"\",0,1)","v":0},null,{"$f":"IF('Fiches_Utilisateurs_Service#9'!W7=\"\",0,1)","v":0},null,{"$f":"IF('Fiches_Utilisateurs_Service#9'!Y7=\"\",0,1)","v":0},null,{"$f":"IF('Fiches_Utilisateurs_Service#9'!AA7=\"\",0,1)","v":0},null,{"$f":"IF('Fiches_Utilisateurs_Service#9'!AC7=\"\",0,1)","v":0},null,{"$f":"IF('Fiches_Utilisateurs_Service#9'!AE7=\"\",0,1)","v":0},null,{"$f":"IF('Fiches_Utilisateurs_Service#9'!AG7=\"\",0,1)","v":0},null,{"$f":"IF('Fiches_Utilisateurs_Service#9'!AI7=\"\",0,1)","v":0},null,{"$f":"IF('Fiches_Utilisateurs_Service#9'!AK7=\"\",0,1)","v":0},null,{"$f":"IF('Fiches_Utilisateurs_Service#9'!AM7=\"\",0,1)","v":0},null,{"$f":"IF('Fiches_Utilisateurs_Service#9'!AO7=\"\",0,1)","v":0},null,{"$f":"IF('Fiches_Utilisateurs_Service#9'!AQ7=\"\",0,1)","v":0},null,{"$f":"IF('Fiches_Utilisateurs_Service#9'!AS7=\"\",0,1)","v":0},null,{"$f":"IF('Fiches_Utilisateurs_Service#9'!AU7=\"\",0,1)","v":0},null,{"$f":"IF('Fiches_Utilisateurs_Service#9'!AW7=\"\",0,1)","v":0},null,{"$f":"IF('Fiches_Utilisateurs_Service#9'!AY7=\"\",0,1)","v":0},null,{"$f":"IF('Fiches_Utilisateurs_Service#9'!BA7=\"\",0,1)","v":0},null,{"$f":"IF('Fiches_Utilisateurs_Service#9'!BC7=\"\",0,1)","v":0},null,{"$f":"IF('Fiches_Utilisateurs_Service#9'!BE7=\"\",0,1)","v":0},null,{"$f":"IF('Fiches_Utilisateurs_Service#9'!BG7=\"\",0,1)","v":0},null,{"$f":"IF('Fiches_Utilisateurs_Service#9'!BI7=\"\",0,1)","v":0},null,{"$f":"IF('Fiches_Utilisateurs_Service#9'!BK7=\"\",0,1)","v":0},null,{"$f":"IF('Fiches_Utilisateurs_Service#9'!BM7=\"\",0,1)","v":0},null,{"$f":"IF('Fiches_Utilisateurs_Service#9'!BO7=\"\",0,1)","v":0},null,{"$f":"IF('Fiches_Utilisateurs_Service#9'!BQ7=\"\",0,1)","v":0},null,{"$f":"IF('Fiches_Utilisateurs_Service#9'!BS7=\"\",0,1)","v":0},null,{"$f":"IF('Fiches_Utilisateurs_Service#9'!BU7=\"\",0,1)","v":0},null,{"$f":"IF('Fiches_Utilisateurs_Service#9'!BW7=\"\",0,1)","v":0},null,{"$f":"IF('Fiches_Utilisateurs_Service#9'!BY7=\"\",0,1)","v":0},null,{"$f":"IF('Fiches_Utilisateurs_Service#9'!CA7=\"\",0,1)","v":0},null,{"$f":"IF('Fiches_Utilisateurs_Service#9'!CC7=\"\",0,1)","v":0}]
[]
[]
[]
[null,null,{"$f":"IF(LEFT('Fiches_Utilisateurs_Service#9'!C11,2)=\"10\",\"10\",(IF('Fiches_Utilisateurs_Service#9'!C11=\"\",\"0\",LEFT('Fiches_Utilisateurs_Service#9'!C11,1))))","v":"0"},null,{"$f":"IF(LEFT('Fiches_Utilisateurs_Service#9'!E11,2)=\"10\",\"10\",(IF('Fiches_Utilisateurs_Service#9'!E11=\"\",\"0\",LEFT('Fiches_Utilisateurs_Service#9'!E11,1))))","v":"0"},null,{"$f":"IF(LEFT('Fiches_Utilisateurs_Service#9'!G11,2)=\"10\",\"10\",(IF('Fiches_Utilisateurs_Service#9'!G11=\"\",\"0\",LEFT('Fiches_Utilisateurs_Service#9'!G11,1))))","v":"0"},null,{"$f":"IF(LEFT('Fiches_Utilisateurs_Service#9'!I11,2)=\"10\",\"10\",(IF('Fiches_Utilisateurs_Service#9'!I11=\"\",\"0\",LEFT('Fiches_Utilisateurs_Service#9'!I11,1))))","v":"0"},null,{"$f":"IF(LEFT('Fiches_Utilisateurs_Service#9'!K11,2)=\"10\",\"10\",(IF('Fiches_Utilisateurs_Service#9'!K11=\"\",\"0\",LEFT('Fiches_Utilisateurs_Service#9'!K11,1))))","v":"0"},null,{"$f":"IF(LEFT('Fiches_Utilisateurs_Service#9'!M11,2)=\"10\",\"10\",(IF('Fiches_Utilisateurs_Service#9'!M11=\"\",\"0\",LEFT('Fiches_Utilisateurs_Service#9'!M11,1))))","v":"0"},null,{"$f":"IF(LEFT('Fiches_Utilisateurs_Service#9'!O11,2)=\"10\",\"10\",(IF('Fiches_Utilisateurs_Service#9'!O11=\"\",\"0\",LEFT('Fiches_Utilisateurs_Service#9'!O11,1))))","v":"0"},null,{"$f":"IF(LEFT('Fiches_Utilisateurs_Service#9'!Q11,2)=\"10\",\"10\",(IF('Fiches_Utilisateurs_Service#9'!Q11=\"\",\"0\",LEFT('Fiches_Utilisateurs_Service#9'!Q11,1))))","v":"0"},null,{"$f":"IF(LEFT('Fiches_Utilisateurs_Service#9'!S11,2)=\"10\",\"10\",(IF('Fiches_Utilisateurs_Service#9'!S11=\"\",\"0\",LEFT('Fiches_Utilisateurs_Service#9'!S11,1))))","v":"0"},null,{"$f":"IF(LEFT('Fiches_Utilisateurs_Service#9'!U11,2)=\"10\",\"10\",(IF('Fiches_Utilisateurs_Service#9'!U11=\"\",\"0\",LEFT('Fiches_Utilisateurs_Service#9'!U11,1))))","v":"0"},null,{"$f":"IF(LEFT('Fiches_Utilisateurs_Service#9'!W11,2)=\"10\",\"10\",(IF('Fiches_Utilisateurs_Service#9'!W11=\"\",\"0\",LEFT('Fiches_Utilisateurs_Service#9'!W11,1))))","v":"0"},null,{"$f":"IF(LEFT('Fiches_Utilisateurs_Service#9'!Y11,2)=\"10\",\"10\",(IF('Fiches_Utilisateurs_Service#9'!Y11=\"\",\"0\",LEFT('Fiches_Utilisateurs_Service#9'!Y11,1))))","v":"0"},null,{"$f":"IF(LEFT('Fiches_Utilisateurs_Service#9'!AA11,2)=\"10\",\"10\",(IF('Fiches_Utilisateurs_Service#9'!AA11=\"\",\"0\",LEFT('Fiches_Utilisateurs_Service#9'!AA11,1))))","v":"0"},null,{"$f":"IF(LEFT('Fiches_Utilisateurs_Service#9'!AC11,2)=\"10\",\"10\",(IF('Fiches_Utilisateurs_Service#9'!AC11=\"\",\"0\",LEFT('Fiches_Utilisateurs_Service#9'!AC11,1))))","v":"0"},null,{"$f":"IF(LEFT('Fiches_Utilisateurs_Service#9'!AE11,2)=\"10\",\"10\",(IF('Fiches_Utilisateurs_Service#9'!AE11=\"\",\"0\",LEFT('Fiches_Utilisateurs_Service#9'!AE11,1))))","v":"0"},null,{"$f":"IF(LEFT('Fiches_Utilisateurs_Service#9'!AG11,2)=\"10\",\"10\",(IF('Fiches_Utilisateurs_Service#9'!AG11=\"\",\"0\",LEFT('Fiches_Utilisateurs_Service#9'!AG11,1))))","v":"0"},null,{"$f":"IF(LEFT('Fiches_Utilisateurs_Service#9'!AI11,2)=\"10\",\"10\",(IF('Fiches_Utilisateurs_Service#9'!AI11=\"\",\"0\",LEFT('Fiches_Utilisateurs_Service#9'!AI11,1))))","v":"0"},null,{"$f":"IF(LEFT('Fiches_Utilisateurs_Service#9'!AK11,2)=\"10\",\"10\",(IF('Fiches_Utilisateurs_Service#9'!AK11=\"\",\"0\",LEFT('Fiches_Utilisateurs_Service#9'!AK11,1))))","v":"0"},null,{"$f":"IF(LEFT('Fiches_Utilisateurs_Service#9'!AM11,2)=\"10\",\"10\",(IF('Fiches_Utilisateurs_Service#9'!AM11=\"\",\"0\",LEFT('Fiches_Utilisateurs_Service#9'!AM11,1))))","v":"0"},null,{"$f":"IF(LEFT('Fiches_Utilisateurs_Service#9'!AO11,2)=\"10\",\"10\",(IF('Fiches_Utilisateurs_Service#9'!AO11=\"\",\"0\",LEFT('Fiches_Utilisateurs_Service#9'!AO11,1))))","v":"0"},null,{"$f":"IF(LEFT('Fiches_Utilisateurs_Service#9'!AQ11,2)=\"10\",\"10\",(IF('Fiches_Utilisateurs_Service#9'!AQ11=\"\",\"0\",LEFT('Fiches_Utilisateurs_Service#9'!AQ11,1))))","v":"0"},null,{"$f":"IF(LEFT('Fiches_Utilisateurs_Service#9'!AS11,2)=\"10\",\"10\",(IF('Fiches_Utilisateurs_Service#9'!AS11=\"\",\"0\",LEFT('Fiches_Utilisateurs_Service#9'!AS11,1))))","v":"0"},null,{"$f":"IF(LEFT('Fiches_Utilisateurs_Service#9'!AU11,2)=\"10\",\"10\",(IF('Fiches_Utilisateurs_Service#9'!AU11=\"\",\"0\",LEFT('Fiches_Utilisateurs_Service#9'!AU11,1))))","v":"0"},null,{"$f":"IF(LEFT('Fiches_Utilisateurs_Service#9'!AW11,2)=\"10\",\"10\",(IF('Fiches_Utilisateurs_Service#9'!AW11=\"\",\"0\",LEFT('Fiches_Utilisateurs_Service#9'!AW11,1))))","v":"0"},null,{"$f":"IF(LEFT('Fiches_Utilisateurs_Service#9'!AY11,2)=\"10\",\"10\",(IF('Fiches_Utilisateurs_Service#9'!AY11=\"\",\"0\",LEFT('Fiches_Utilisateurs_Service#9'!AY11,1))))","v":"0"},null,{"$f":"IF(LEFT('Fiches_Utilisateurs_Service#9'!BA11,2)=\"10\",\"10\",(IF('Fiches_Utilisateurs_Service#9'!BA11=\"\",\"0\",LEFT('Fiches_Utilisateurs_Service#9'!BA11,1))))","v":"0"},null,{"$f":"IF(LEFT('Fiches_Utilisateurs_Service#9'!BC11,2)=\"10\",\"10\",(IF('Fiches_Utilisateurs_Service#9'!BC11=\"\",\"0\",LEFT('Fiches_Utilisateurs_Service#9'!BC11,1))))","v":"0"},null,{"$f":"IF(LEFT('Fiches_Utilisateurs_Service#9'!BE11,2)=\"10\",\"10\",(IF('Fiches_Utilisateurs_Service#9'!BE11=\"\",\"0\",LEFT('Fiches_Utilisateurs_Service#9'!BE11,1))))","v":"0"},null,{"$f":"IF(LEFT('Fiches_Utilisateurs_Service#9'!BG11,2)=\"10\",\"10\",(IF('Fiches_Utilisateurs_Service#9'!BG11=\"\",\"0\",LEFT('Fiches_Utilisateurs_Service#9'!BG11,1))))","v":"0"},null,{"$f":"IF(LEFT('Fiches_Utilisateurs_Service#9'!BI11,2)=\"10\",\"10\",(IF('Fiches_Utilisateurs_Service#9'!BI11=\"\",\"0\",LEFT('Fiches_Utilisateurs_Service#9'!BI11,1))))","v":"0"},null,{"$f":"IF(LEFT('Fiches_Utilisateurs_Service#9'!BK11,2)=\"10\",\"10\",(IF('Fiches_Utilisateurs_Service#9'!BK11=\"\",\"0\",LEFT('Fiches_Utilisateurs_Service#9'!BK11,1))))","v":"0"},null,{"$f":"IF(LEFT('Fiches_Utilisateurs_Service#9'!BM11,2)=\"10\",\"10\",(IF('Fiches_Utilisateurs_Service#9'!BM11=\"\",\"0\",LEFT('Fiches_Utilisateurs_Service#9'!BM11,1))))","v":"0"},null,{"$f":"IF(LEFT('Fiches_Utilisateurs_Service#9'!BO11,2)=\"10\",\"10\",(IF('Fiches_Utilisateurs_Service#9'!BO11=\"\",\"0\",LEFT('Fiches_Utilisateurs_Service#9'!BO11,1))))","v":"0"},null,{"$f":"IF(LEFT('Fiches_Utilisateurs_Service#9'!BQ11,2)=\"10\",\"10\",(IF('Fiches_Utilisateurs_Service#9'!BQ11=\"\",\"0\",LEFT('Fiches_Utilisateurs_Service#9'!BQ11,1))))","v":"0"},null,{"$f":"IF(LEFT('Fiches_Utilisateurs_Service#9'!BS11,2)=\"10\",\"10\",(IF('Fiches_Utilisateurs_Service#9'!BS11=\"\",\"0\",LEFT('Fiches_Utilisateurs_Service#9'!BS11,1))))","v":"0"},null,{"$f":"IF(LEFT('Fiches_Utilisateurs_Service#9'!BU11,2)=\"10\",\"10\",(IF('Fiches_Utilisateurs_Service#9'!BU11=\"\",\"0\",LEFT('Fiches_Utilisateurs_Service#9'!BU11,1))))","v":"0"},null,{"$f":"IF(LEFT('Fiches_Utilisateurs_Service#9'!BW11,2)=\"10\",\"10\",(IF('Fiches_Utilisateurs_Service#9'!BW11=\"\",\"0\",LEFT('Fiches_Utilisateurs_Service#9'!BW11,1))))","v":"0"},null,{"$f":"IF(LEFT('Fiches_Utilisateurs_Service#9'!BY11,2)=\"10\",\"10\",(IF('Fiches_Utilisateurs_Service#9'!BY11=\"\",\"0\",LEFT('Fiches_Utilisateurs_Service#9'!BY11,1))))","v":"0"},null,{"$f":"IF(LEFT('Fiches_Utilisateurs_Service#9'!CA11,2)=\"10\",\"10\",(IF('Fiches_Utilisateurs_Service#9'!CA11=\"\",\"0\",LEFT('Fiches_Utilisateurs_Service#9'!CA11,1))))","v":"0"},null,{"$f":"IF(LEFT('Fiches_Utilisateurs_Service#9'!CC11,2)=\"10\",\"10\",(IF('Fiches_Utilisateurs_Service#9'!CC11=\"\",\"0\",LEFT('Fiches_Utilisateurs_Service#9'!CC11,1))))","v":"0"}]
[]
[]
[null,"glob tots"]
[null,null,{"$f":"IF('Fiches_Utilisateurs_Service#9'!C15=1,1,0)","v":0},null,{"$f":"IF('Fiches_Utilisateurs_Service#9'!E15=1,1,0)","v":0},null,{"$f":"IF('Fiches_Utilisateurs_Service#9'!G15=1,1,0)","v":0},null,{"$f":"IF('Fiches_Utilisateurs_Service#9'!I15=1,1,0)","v":0},null,{"$f":"IF('Fiches_Utilisateurs_Service#9'!K15=1,1,0)","v":0},null,{"$f":"IF('Fiches_Utilisateurs_Service#9'!M15=1,1,0)","v":0},null,{"$f":"IF('Fiches_Utilisateurs_Service#9'!O15=1,1,0)","v":0},null,{"$f":"IF('Fiches_Utilisateurs_Service#9'!Q15=1,1,0)","v":0},null,{"$f":"IF('Fiches_Utilisateurs_Service#9'!S15=1,1,0)","v":0},null,{"$f":"IF('Fiches_Utilisateurs_Service#9'!U15=1,1,0)","v":0},null,{"$f":"IF('Fiches_Utilisateurs_Service#9'!W15=1,1,0)","v":0},null,{"$f":"IF('Fiches_Utilisateurs_Service#9'!Y15=1,1,0)","v":0},null,{"$f":"IF('Fiches_Utilisateurs_Service#9'!AA15=1,1,0)","v":0},null,{"$f":"IF('Fiches_Utilisateurs_Service#9'!AC15=1,1,0)","v":0},null,{"$f":"IF('Fiches_Utilisateurs_Service#9'!AE15=1,1,0)","v":0},null,{"$f":"IF('Fiches_Utilisateurs_Service#9'!AG15=1,1,0)","v":0},null,{"$f":"IF('Fiches_Utilisateurs_Service#9'!AI15=1,1,0)","v":0},null,{"$f":"IF('Fiches_Utilisateurs_Service#9'!AK15=1,1,0)","v":0},null,{"$f":"IF('Fiches_Utilisateurs_Service#9'!AM15=1,1,0)","v":0},null,{"$f":"IF('Fiches_Utilisateurs_Service#9'!AO15=1,1,0)","v":0},null,{"$f":"IF('Fiches_Utilisateurs_Service#9'!AQ15=1,1,0)","v":0},null,{"$f":"IF('Fiches_Utilisateurs_Service#9'!AS15=1,1,0)","v":0},null,{"$f":"IF('Fiches_Utilisateurs_Service#9'!AU15=1,1,0)","v":0},null,{"$f":"IF('Fiches_Utilisateurs_Service#9'!AW15=1,1,0)","v":0},null,{"$f":"IF('Fiches_Utilisateurs_Service#9'!AY15=1,1,0)","v":0},null,{"$f":"IF('Fiches_Utilisateurs_Service#9'!BA15=1,1,0)","v":0},null,{"$f":"IF('Fiches_Utilisateurs_Service#9'!BC15=1,1,0)","v":0},null,{"$f":"IF('Fiches_Utilisateurs_Service#9'!BE15=1,1,0)","v":0},null,{"$f":"IF('Fiches_Utilisateurs_Service#9'!BG15=1,1,0)","v":0},null,{"$f":"IF('Fiches_Utilisateurs_Service#9'!BI15=1,1,0)","v":0},null,{"$f":"IF('Fiches_Utilisateurs_Service#9'!BK15=1,1,0)","v":0},null,{"$f":"IF('Fiches_Utilisateurs_Service#9'!BM15=1,1,0)","v":0},null,{"$f":"IF('Fiches_Utilisateurs_Service#9'!BO15=1,1,0)","v":0},null,{"$f":"IF('Fiches_Utilisateurs_Service#9'!BQ15=1,1,0)","v":0},null,{"$f":"IF('Fiches_Utilisateurs_Service#9'!BS15=1,1,0)","v":0},null,{"$f":"IF('Fiches_Utilisateurs_Service#9'!BU15=1,1,0)","v":0},null,{"$f":"IF('Fiches_Utilisateurs_Service#9'!BW15=1,1,0)","v":0},null,{"$f":"IF('Fiches_Utilisateurs_Service#9'!BY15=1,1,0)","v":0},null,{"$f":"IF('Fiches_Utilisateurs_Service#9'!CA15=1,1,0)","v":0},null,{"$f":"IF('Fiches_Utilisateurs_Service#9'!CC15=1,1,0)","v":0}]
[]
[null,null,{"$f":"IF('Fiches_Utilisateurs_Service#9'!C17=1,1,0)","v":0},null,{"$f":"IF('Fiches_Utilisateurs_Service#9'!E17=1,1,0)","v":0},null,{"$f":"IF('Fiches_Utilisateurs_Service#9'!G17=1,1,0)","v":0},null,{"$f":"IF('Fiches_Utilisateurs_Service#9'!I17=1,1,0)","v":0},null,{"$f":"IF('Fiches_Utilisateurs_Service#9'!K17=1,1,0)","v":0},null,{"$f":"IF('Fiches_Utilisateurs_Service#9'!M17=1,1,0)","v":0},null,{"$f":"IF('Fiches_Utilisateurs_Service#9'!O17=1,1,0)","v":0},null,{"$f":"IF('Fiches_Utilisateurs_Service#9'!Q17=1,1,0)","v":0},null,{"$f":"IF('Fiches_Utilisateurs_Service#9'!S17=1,1,0)","v":0},null,{"$f":"IF('Fiches_Utilisateurs_Service#9'!U17=1,1,0)","v":0},null,{"$f":"IF('Fiches_Utilisateurs_Service#9'!W17=1,1,0)","v":0},null,{"$f":"IF('Fiches_Utilisateurs_Service#9'!Y17=1,1,0)","v":0},null,{"$f":"IF('Fiches_Utilisateurs_Service#9'!AA17=1,1,0)","v":0},null,{"$f":"IF('Fiches_Utilisateurs_Service#9'!AC17=1,1,0)","v":0},null,{"$f":"IF('Fiches_Utilisateurs_Service#9'!AE17=1,1,0)","v":0},null,{"$f":"IF('Fiches_Utilisateurs_Service#9'!AG17=1,1,0)","v":0},null,{"$f":"IF('Fiches_Utilisateurs_Service#9'!AI17=1,1,0)","v":0},null,{"$f":"IF('Fiches_Utilisateurs_Service#9'!AK17=1,1,0)","v":0},null,{"$f":"IF('Fiches_Utilisateurs_Service#9'!AM17=1,1,0)","v":0},null,{"$f":"IF('Fiches_Utilisateurs_Service#9'!AO17=1,1,0)","v":0},null,{"$f":"IF('Fiches_Utilisateurs_Service#9'!AQ17=1,1,0)","v":0},null,{"$f":"IF('Fiches_Utilisateurs_Service#9'!AS17=1,1,0)","v":0},null,{"$f":"IF('Fiches_Utilisateurs_Service#9'!AU17=1,1,0)","v":0},null,{"$f":"IF('Fiches_Utilisateurs_Service#9'!AW17=1,1,0)","v":0},null,{"$f":"IF('Fiches_Utilisateurs_Service#9'!AY17=1,1,0)","v":0},null,{"$f":"IF('Fiches_Utilisateurs_Service#9'!BA17=1,1,0)","v":0},null,{"$f":"IF('Fiches_Utilisateurs_Service#9'!BC17=1,1,0)","v":0},null,{"$f":"IF('Fiches_Utilisateurs_Service#9'!BE17=1,1,0)","v":0},null,{"$f":"IF('Fiches_Utilisateurs_Service#9'!BG17=1,1,0)","v":0},null,{"$f":"IF('Fiches_Utilisateurs_Service#9'!BI17=1,1,0)","v":0},null,{"$f":"IF('Fiches_Utilisateurs_Service#9'!BK17=1,1,0)","v":0},null,{"$f":"IF('Fiches_Utilisateurs_Service#9'!BM17=1,1,0)","v":0},null,{"$f":"IF('Fiches_Utilisateurs_Service#9'!BO17=1,1,0)","v":0},null,{"$f":"IF('Fiches_Utilisateurs_Service#9'!BQ17=1,1,0)","v":0},null,{"$f":"IF('Fiches_Utilisateurs_Service#9'!BS17=1,1,0)","v":0},null,{"$f":"IF('Fiches_Utilisateurs_Service#9'!BU17=1,1,0)","v":0},null,{"$f":"IF('Fiches_Utilisateurs_Service#9'!BW17=1,1,0)","v":0},null,{"$f":"IF('Fiches_Utilisateurs_Service#9'!BY17=1,1,0)","v":0},null,{"$f":"IF('Fiches_Utilisateurs_Service#9'!CA17=1,1,0)","v":0},null,{"$f":"IF('Fiches_Utilisateurs_Service#9'!CC17=1,1,0)","v":0}]
[]
[null,null,{"$f":"IF('Fiches_Utilisateurs_Service#9'!C19=1,1,0)","v":0},null,{"$f":"IF('Fiches_Utilisateurs_Service#9'!E19=1,1,0)","v":0},null,{"$f":"IF('Fiches_Utilisateurs_Service#9'!G19=1,1,0)","v":0},null,{"$f":"IF('Fiches_Utilisateurs_Service#9'!I19=1,1,0)","v":0},null,{"$f":"IF('Fiches_Utilisateurs_Service#9'!K19=1,1,0)","v":0},null,{"$f":"IF('Fiches_Utilisateurs_Service#9'!M19=1,1,0)","v":0},null,{"$f":"IF('Fiches_Utilisateurs_Service#9'!O19=1,1,0)","v":0},null,{"$f":"IF('Fiches_Utilisateurs_Service#9'!Q19=1,1,0)","v":0},null,{"$f":"IF('Fiches_Utilisateurs_Service#9'!S19=1,1,0)","v":0},null,{"$f":"IF('Fiches_Utilisateurs_Service#9'!U19=1,1,0)","v":0},null,{"$f":"IF('Fiches_Utilisateurs_Service#9'!W19=1,1,0)","v":0},null,{"$f":"IF('Fiches_Utilisateurs_Service#9'!Y19=1,1,0)","v":0},null,{"$f":"IF('Fiches_Utilisateurs_Service#9'!AA19=1,1,0)","v":0},null,{"$f":"IF('Fiches_Utilisateurs_Service#9'!AC19=1,1,0)","v":0},null,{"$f":"IF('Fiches_Utilisateurs_Service#9'!AE19=1,1,0)","v":0},null,{"$f":"IF('Fiches_Utilisateurs_Service#9'!AG19=1,1,0)","v":0},null,{"$f":"IF('Fiches_Utilisateurs_Service#9'!AI19=1,1,0)","v":0},null,{"$f":"IF('Fiches_Utilisateurs_Service#9'!AK19=1,1,0)","v":0},null,{"$f":"IF('Fiches_Utilisateurs_Service#9'!AM19=1,1,0)","v":0},null,{"$f":"IF('Fiches_Utilisateurs_Service#9'!AO19=1,1,0)","v":0},null,{"$f":"IF('Fiches_Utilisateurs_Service#9'!AQ19=1,1,0)","v":0},null,{"$f":"IF('Fiches_Utilisateurs_Service#9'!AS19=1,1,0)","v":0},null,{"$f":"IF('Fiches_Utilisateurs_Service#9'!AU19=1,1,0)","v":0},null,{"$f":"IF('Fiches_Utilisateurs_Service#9'!AW19=1,1,0)","v":0},null,{"$f":"IF('Fiches_Utilisateurs_Service#9'!AY19=1,1,0)","v":0},null,{"$f":"IF('Fiches_Utilisateurs_Service#9'!BA19=1,1,0)","v":0},null,{"$f":"IF('Fiches_Utilisateurs_Service#9'!BC19=1,1,0)","v":0},null,{"$f":"IF('Fiches_Utilisateurs_Service#9'!BE19=1,1,0)","v":0},null,{"$f":"IF('Fiches_Utilisateurs_Service#9'!BG19=1,1,0)","v":0},null,{"$f":"IF('Fiches_Utilisateurs_Service#9'!BI19=1,1,0)","v":0},null,{"$f":"IF('Fiches_Utilisateurs_Service#9'!BK19=1,1,0)","v":0},null,{"$f":"IF('Fiches_Utilisateurs_Service#9'!BM19=1,1,0)","v":0},null,{"$f":"IF('Fiches_Utilisateurs_Service#9'!BO19=1,1,0)","v":0},null,{"$f":"IF('Fiches_Utilisateurs_Service#9'!BQ19=1,1,0)","v":0},null,{"$f":"IF('Fiches_Utilisateurs_Service#9'!BS19=1,1,0)","v":0},null,{"$f":"IF('Fiches_Utilisateurs_Service#9'!BU19=1,1,0)","v":0},null,{"$f":"IF('Fiches_Utilisateurs_Service#9'!BW19=1,1,0)","v":0},null,{"$f":"IF('Fiches_Utilisateurs_Service#9'!BY19=1,1,0)","v":0},null,{"$f":"IF('Fiches_Utilisateurs_Service#9'!CA19=1,1,0)","v":0},null,{"$f":"IF('Fiches_Utilisateurs_Service#9'!CC19=1,1,0)","v":0}]
[]
[null,null,{"$f":"IF('Fiches_Utilisateurs_Service#9'!C21=1,1,0)","v":0},null,{"$f":"IF('Fiches_Utilisateurs_Service#9'!E21=1,1,0)","v":0},null,{"$f":"IF('Fiches_Utilisateurs_Service#9'!G21=1,1,0)","v":0},null,{"$f":"IF('Fiches_Utilisateurs_Service#9'!I21=1,1,0)","v":0},null,{"$f":"IF('Fiches_Utilisateurs_Service#9'!K21=1,1,0)","v":0},null,{"$f":"IF('Fiches_Utilisateurs_Service#9'!M21=1,1,0)","v":0},null,{"$f":"IF('Fiches_Utilisateurs_Service#9'!O21=1,1,0)","v":0},null,{"$f":"IF('Fiches_Utilisateurs_Service#9'!Q21=1,1,0)","v":0},null,{"$f":"IF('Fiches_Utilisateurs_Service#9'!S21=1,1,0)","v":0},null,{"$f":"IF('Fiches_Utilisateurs_Service#9'!U21=1,1,0)","v":0},null,{"$f":"IF('Fiches_Utilisateurs_Service#9'!W21=1,1,0)","v":0},null,{"$f":"IF('Fiches_Utilisateurs_Service#9'!Y21=1,1,0)","v":0},null,{"$f":"IF('Fiches_Utilisateurs_Service#9'!AA21=1,1,0)","v":0},null,{"$f":"IF('Fiches_Utilisateurs_Service#9'!AC21=1,1,0)","v":0},null,{"$f":"IF('Fiches_Utilisateurs_Service#9'!AE21=1,1,0)","v":0},null,{"$f":"IF('Fiches_Utilisateurs_Service#9'!AG21=1,1,0)","v":0},null,{"$f":"IF('Fiches_Utilisateurs_Service#9'!AI21=1,1,0)","v":0},null,{"$f":"IF('Fiches_Utilisateurs_Service#9'!AK21=1,1,0)","v":0},null,{"$f":"IF('Fiches_Utilisateurs_Service#9'!AM21=1,1,0)","v":0},null,{"$f":"IF('Fiches_Utilisateurs_Service#9'!AO21=1,1,0)","v":0},null,{"$f":"IF('Fiches_Utilisateurs_Service#9'!AQ21=1,1,0)","v":0},null,{"$f":"IF('Fiches_Utilisateurs_Service#9'!AS21=1,1,0)","v":0},null,{"$f":"IF('Fiches_Utilisateurs_Service#9'!AU21=1,1,0)","v":0},null,{"$f":"IF('Fiches_Utilisateurs_Service#9'!AW21=1,1,0)","v":0},null,{"$f":"IF('Fiches_Utilisateurs_Service#9'!AY21=1,1,0)","v":0},null,{"$f":"IF('Fiches_Utilisateurs_Service#9'!BA21=1,1,0)","v":0},null,{"$f":"IF('Fiches_Utilisateurs_Service#9'!BC21=1,1,0)","v":0},null,{"$f":"IF('Fiches_Utilisateurs_Service#9'!BE21=1,1,0)","v":0},null,{"$f":"IF('Fiches_Utilisateurs_Service#9'!BG21=1,1,0)","v":0},null,{"$f":"IF('Fiches_Utilisateurs_Service#9'!BI21=1,1,0)","v":0},null,{"$f":"IF('Fiches_Utilisateurs_Service#9'!BK21=1,1,0)","v":0},null,{"$f":"IF('Fiches_Utilisateurs_Service#9'!BM21=1,1,0)","v":0},null,{"$f":"IF('Fiches_Utilisateurs_Service#9'!BO21=1,1,0)","v":0},null,{"$f":"IF('Fiches_Utilisateurs_Service#9'!BQ21=1,1,0)","v":0},null,{"$f":"IF('Fiches_Utilisateurs_Service#9'!BS21=1,1,0)","v":0},null,{"$f":"IF('Fiches_Utilisateurs_Service#9'!BU21=1,1,0)","v":0},null,{"$f":"IF('Fiches_Utilisateurs_Service#9'!BW21=1,1,0)","v":0},null,{"$f":"IF('Fiches_Utilisateurs_Service#9'!BY21=1,1,0)","v":0},null,{"$f":"IF('Fiches_Utilisateurs_Service#9'!CA21=1,1,0)","v":0},null,{"$f":"IF('Fiches_Utilisateurs_Service#9'!CC21=1,1,0)","v":0}]
[]
[null,null,{"$f":"IF('Fiches_Utilisateurs_Service#9'!C23=1,1,0)","v":0},null,{"$f":"IF('Fiches_Utilisateurs_Service#9'!E23=1,1,0)","v":0},null,{"$f":"IF('Fiches_Utilisateurs_Service#9'!G23=1,1,0)","v":0},null,{"$f":"IF('Fiches_Utilisateurs_Service#9'!I23=1,1,0)","v":0},null,{"$f":"IF('Fiches_Utilisateurs_Service#9'!K23=1,1,0)","v":0},null,{"$f":"IF('Fiches_Utilisateurs_Service#9'!M23=1,1,0)","v":0},null,{"$f":"IF('Fiches_Utilisateurs_Service#9'!O23=1,1,0)","v":0},null,{"$f":"IF('Fiches_Utilisateurs_Service#9'!Q23=1,1,0)","v":0},null,{"$f":"IF('Fiches_Utilisateurs_Service#9'!S23=1,1,0)","v":0},null,{"$f":"IF('Fiches_Utilisateurs_Service#9'!U23=1,1,0)","v":0},null,{"$f":"IF('Fiches_Utilisateurs_Service#9'!W23=1,1,0)","v":0},null,{"$f":"IF('Fiches_Utilisateurs_Service#9'!Y23=1,1,0)","v":0},null,{"$f":"IF('Fiches_Utilisateurs_Service#9'!AA23=1,1,0)","v":0},null,{"$f":"IF('Fiches_Utilisateurs_Service#9'!AC23=1,1,0)","v":0},null,{"$f":"IF('Fiches_Utilisateurs_Service#9'!AE23=1,1,0)","v":0},null,{"$f":"IF('Fiches_Utilisateurs_Service#9'!AG23=1,1,0)","v":0},null,{"$f":"IF('Fiches_Utilisateurs_Service#9'!AI23=1,1,0)","v":0},null,{"$f":"IF('Fiches_Utilisateurs_Service#9'!AK23=1,1,0)","v":0},null,{"$f":"IF('Fiches_Utilisateurs_Service#9'!AM23=1,1,0)","v":0},null,{"$f":"IF('Fiches_Utilisateurs_Service#9'!AO23=1,1,0)","v":0},null,{"$f":"IF('Fiches_Utilisateurs_Service#9'!AQ23=1,1,0)","v":0},null,{"$f":"IF('Fiches_Utilisateurs_Service#9'!AS23=1,1,0)","v":0},null,{"$f":"IF('Fiches_Utilisateurs_Service#9'!AU23=1,1,0)","v":0},null,{"$f":"IF('Fiches_Utilisateurs_Service#9'!AW23=1,1,0)","v":0},null,{"$f":"IF('Fiches_Utilisateurs_Service#9'!AY23=1,1,0)","v":0},null,{"$f":"IF('Fiches_Utilisateurs_Service#9'!BA23=1,1,0)","v":0},null,{"$f":"IF('Fiches_Utilisateurs_Service#9'!BC23=1,1,0)","v":0},null,{"$f":"IF('Fiches_Utilisateurs_Service#9'!BE23=1,1,0)","v":0},null,{"$f":"IF('Fiches_Utilisateurs_Service#9'!BG23=1,1,0)","v":0},null,{"$f":"IF('Fiches_Utilisateurs_Service#9'!BI23=1,1,0)","v":0},null,{"$f":"IF('Fiches_Utilisateurs_Service#9'!BK23=1,1,0)","v":0},null,{"$f":"IF('Fiches_Utilisateurs_Service#9'!BM23=1,1,0)","v":0},null,{"$f":"IF('Fiches_Utilisateurs_Service#9'!BO23=1,1,0)","v":0},null,{"$f":"IF('Fiches_Utilisateurs_Service#9'!BQ23=1,1,0)","v":0},null,{"$f":"IF('Fiches_Utilisateurs_Service#9'!BS23=1,1,0)","v":0},null,{"$f":"IF('Fiches_Utilisateurs_Service#9'!BU23=1,1,0)","v":0},null,{"$f":"IF('Fiches_Utilisateurs_Service#9'!BW23=1,1,0)","v":0},null,{"$f":"IF('Fiches_Utilisateurs_Service#9'!BY23=1,1,0)","v":0},null,{"$f":"IF('Fiches_Utilisateurs_Service#9'!CA23=1,1,0)","v":0},null,{"$f":"IF('Fiches_Utilisateurs_Service#9'!CC23=1,1,0)","v":0}]
[]
[null,null,{"$f":"IF('Fiches_Utilisateurs_Service#9'!C25=1,1,0)","v":0},null,{"$f":"IF('Fiches_Utilisateurs_Service#9'!E25=1,1,0)","v":0},null,{"$f":"IF('Fiches_Utilisateurs_Service#9'!G25=1,1,0)","v":0},null,{"$f":"IF('Fiches_Utilisateurs_Service#9'!I25=1,1,0)","v":0},null,{"$f":"IF('Fiches_Utilisateurs_Service#9'!K25=1,1,0)","v":0},null,{"$f":"IF('Fiches_Utilisateurs_Service#9'!M25=1,1,0)","v":0},null,{"$f":"IF('Fiches_Utilisateurs_Service#9'!O25=1,1,0)","v":0},null,{"$f":"IF('Fiches_Utilisateurs_Service#9'!Q25=1,1,0)","v":0},null,{"$f":"IF('Fiches_Utilisateurs_Service#9'!S25=1,1,0)","v":0},null,{"$f":"IF('Fiches_Utilisateurs_Service#9'!U25=1,1,0)","v":0},null,{"$f":"IF('Fiches_Utilisateurs_Service#9'!W25=1,1,0)","v":0},null,{"$f":"IF('Fiches_Utilisateurs_Service#9'!Y25=1,1,0)","v":0},null,{"$f":"IF('Fiches_Utilisateurs_Service#9'!AA25=1,1,0)","v":0},null,{"$f":"IF('Fiches_Utilisateurs_Service#9'!AC25=1,1,0)","v":0},null,{"$f":"IF('Fiches_Utilisateurs_Service#9'!AE25=1,1,0)","v":0},null,{"$f":"IF('Fiches_Utilisateurs_Service#9'!AG25=1,1,0)","v":0},null,{"$f":"IF('Fiches_Utilisateurs_Service#9'!AI25=1,1,0)","v":0},null,{"$f":"IF('Fiches_Utilisateurs_Service#9'!AK25=1,1,0)","v":0},null,{"$f":"IF('Fiches_Utilisateurs_Service#9'!AM25=1,1,0)","v":0},null,{"$f":"IF('Fiches_Utilisateurs_Service#9'!AO25=1,1,0)","v":0},null,{"$f":"IF('Fiches_Utilisateurs_Service#9'!AQ25=1,1,0)","v":0},null,{"$f":"IF('Fiches_Utilisateurs_Service#9'!AS25=1,1,0)","v":0},null,{"$f":"IF('Fiches_Utilisateurs_Service#9'!AU25=1,1,0)","v":0},null,{"$f":"IF('Fiches_Utilisateurs_Service#9'!AW25=1,1,0)","v":0},null,{"$f":"IF('Fiches_Utilisateurs_Service#9'!AY25=1,1,0)","v":0},null,{"$f":"IF('Fiches_Utilisateurs_Service#9'!BA25=1,1,0)","v":0},null,{"$f":"IF('Fiches_Utilisateurs_Service#9'!BC25=1,1,0)","v":0},null,{"$f":"IF('Fiches_Utilisateurs_Service#9'!BE25=1,1,0)","v":0},null,{"$f":"IF('Fiches_Utilisateurs_Service#9'!BG25=1,1,0)","v":0},null,{"$f":"IF('Fiches_Utilisateurs_Service#9'!BI25=1,1,0)","v":0},null,{"$f":"IF('Fiches_Utilisateurs_Service#9'!BK25=1,1,0)","v":0},null,{"$f":"IF('Fiches_Utilisateurs_Service#9'!BM25=1,1,0)","v":0},null,{"$f":"IF('Fiches_Utilisateurs_Service#9'!BO25=1,1,0)","v":0},null,{"$f":"IF('Fiches_Utilisateurs_Service#9'!BQ25=1,1,0)","v":0},null,{"$f":"IF('Fiches_Utilisateurs_Service#9'!BS25=1,1,0)","v":0},null,{"$f":"IF('Fiches_Utilisateurs_Service#9'!BU25=1,1,0)","v":0},null,{"$f":"IF('Fiches_Utilisateurs_Service#9'!BW25=1,1,0)","v":0},null,{"$f":"IF('Fiches_Utilisateurs_Service#9'!BY25=1,1,0)","v":0},null,{"$f":"IF('Fiches_Utilisateurs_Service#9'!CA25=1,1,0)","v":0},null,{"$f":"IF('Fiches_Utilisateurs_Service#9'!CC25=1,1,0)","v":0}]
[]
[null,null,{"$f":"IF('Fiches_Utilisateurs_Service#9'!C27=1,1,0)","v":0},null,{"$f":"IF('Fiches_Utilisateurs_Service#9'!E27=1,1,0)","v":0},null,{"$f":"IF('Fiches_Utilisateurs_Service#9'!G27=1,1,0)","v":0},null,{"$f":"IF('Fiches_Utilisateurs_Service#9'!I27=1,1,0)","v":0},null,{"$f":"IF('Fiches_Utilisateurs_Service#9'!K27=1,1,0)","v":0},null,{"$f":"IF('Fiches_Utilisateurs_Service#9'!M27=1,1,0)","v":0},null,{"$f":"IF('Fiches_Utilisateurs_Service#9'!O27=1,1,0)","v":0},null,{"$f":"IF('Fiches_Utilisateurs_Service#9'!Q27=1,1,0)","v":0},null,{"$f":"IF('Fiches_Utilisateurs_Service#9'!S27=1,1,0)","v":0},null,{"$f":"IF('Fiches_Utilisateurs_Service#9'!U27=1,1,0)","v":0},null,{"$f":"IF('Fiches_Utilisateurs_Service#9'!W27=1,1,0)","v":0},null,{"$f":"IF('Fiches_Utilisateurs_Service#9'!Y27=1,1,0)","v":0},null,{"$f":"IF('Fiches_Utilisateurs_Service#9'!AA27=1,1,0)","v":0},null,{"$f":"IF('Fiches_Utilisateurs_Service#9'!AC27=1,1,0)","v":0},null,{"$f":"IF('Fiches_Utilisateurs_Service#9'!AE27=1,1,0)","v":0},null,{"$f":"IF('Fiches_Utilisateurs_Service#9'!AG27=1,1,0)","v":0},null,{"$f":"IF('Fiches_Utilisateurs_Service#9'!AI27=1,1,0)","v":0},null,{"$f":"IF('Fiches_Utilisateurs_Service#9'!AK27=1,1,0)","v":0},null,{"$f":"IF('Fiches_Utilisateurs_Service#9'!AM27=1,1,0)","v":0},null,{"$f":"IF('Fiches_Utilisateurs_Service#9'!AO27=1,1,0)","v":0},null,{"$f":"IF('Fiches_Utilisateurs_Service#9'!AQ27=1,1,0)","v":0},null,{"$f":"IF('Fiches_Utilisateurs_Service#9'!AS27=1,1,0)","v":0},null,{"$f":"IF('Fiches_Utilisateurs_Service#9'!AU27=1,1,0)","v":0},null,{"$f":"IF('Fiches_Utilisateurs_Service#9'!AW27=1,1,0)","v":0},null,{"$f":"IF('Fiches_Utilisateurs_Service#9'!AY27=1,1,0)","v":0},null,{"$f":"IF('Fiches_Utilisateurs_Service#9'!BA27=1,1,0)","v":0},null,{"$f":"IF('Fiches_Utilisateurs_Service#9'!BC27=1,1,0)","v":0},null,{"$f":"IF('Fiches_Utilisateurs_Service#9'!BE27=1,1,0)","v":0},null,{"$f":"IF('Fiches_Utilisateurs_Service#9'!BG27=1,1,0)","v":0},null,{"$f":"IF('Fiches_Utilisateurs_Service#9'!BI27=1,1,0)","v":0},null,{"$f":"IF('Fiches_Utilisateurs_Service#9'!BK27=1,1,0)","v":0},null,{"$f":"IF('Fiches_Utilisateurs_Service#9'!BM27=1,1,0)","v":0},null,{"$f":"IF('Fiches_Utilisateurs_Service#9'!BO27=1,1,0)","v":0},null,{"$f":"IF('Fiches_Utilisateurs_Service#9'!BQ27=1,1,0)","v":0},null,{"$f":"IF('Fiches_Utilisateurs_Service#9'!BS27=1,1,0)","v":0},null,{"$f":"IF('Fiches_Utilisateurs_Service#9'!BU27=1,1,0)","v":0},null,{"$f":"IF('Fiches_Utilisateurs_Service#9'!BW27=1,1,0)","v":0},null,{"$f":"IF('Fiches_Utilisateurs_Service#9'!BY27=1,1,0)","v":0},null,{"$f":"IF('Fiches_Utilisateurs_Service#9'!CA27=1,1,0)","v":0},null,{"$f":"IF('Fiches_Utilisateurs_Service#9'!CC27=1,1,0)","v":0}]
[]
[null,null,{"$f":"IF('Fiches_Utilisateurs_Service#9'!C29=1,1,0)","v":0},null,{"$f":"IF('Fiches_Utilisateurs_Service#9'!E29=1,1,0)","v":0},null,{"$f":"IF('Fiches_Utilisateurs_Service#9'!G29=1,1,0)","v":0},null,{"$f":"IF('Fiches_Utilisateurs_Service#9'!I29=1,1,0)","v":0},null,{"$f":"IF('Fiches_Utilisateurs_Service#9'!K29=1,1,0)","v":0},null,{"$f":"IF('Fiches_Utilisateurs_Service#9'!M29=1,1,0)","v":0},null,{"$f":"IF('Fiches_Utilisateurs_Service#9'!O29=1,1,0)","v":0},null,{"$f":"IF('Fiches_Utilisateurs_Service#9'!Q29=1,1,0)","v":0},null,{"$f":"IF('Fiches_Utilisateurs_Service#9'!S29=1,1,0)","v":0},null,{"$f":"IF('Fiches_Utilisateurs_Service#9'!U29=1,1,0)","v":0},null,{"$f":"IF('Fiches_Utilisateurs_Service#9'!W29=1,1,0)","v":0},null,{"$f":"IF('Fiches_Utilisateurs_Service#9'!Y29=1,1,0)","v":0},null,{"$f":"IF('Fiches_Utilisateurs_Service#9'!AA29=1,1,0)","v":0},null,{"$f":"IF('Fiches_Utilisateurs_Service#9'!AC29=1,1,0)","v":0},null,{"$f":"IF('Fiches_Utilisateurs_Service#9'!AE29=1,1,0)","v":0},null,{"$f":"IF('Fiches_Utilisateurs_Service#9'!AG29=1,1,0)","v":0},null,{"$f":"IF('Fiches_Utilisateurs_Service#9'!AI29=1,1,0)","v":0},null,{"$f":"IF('Fiches_Utilisateurs_Service#9'!AK29=1,1,0)","v":0},null,{"$f":"IF('Fiches_Utilisateurs_Service#9'!AM29=1,1,0)","v":0},null,{"$f":"IF('Fiches_Utilisateurs_Service#9'!AO29=1,1,0)","v":0},null,{"$f":"IF('Fiches_Utilisateurs_Service#9'!AQ29=1,1,0)","v":0},null,{"$f":"IF('Fiches_Utilisateurs_Service#9'!AS29=1,1,0)","v":0},null,{"$f":"IF('Fiches_Utilisateurs_Service#9'!AU29=1,1,0)","v":0},null,{"$f":"IF('Fiches_Utilisateurs_Service#9'!AW29=1,1,0)","v":0},null,{"$f":"IF('Fiches_Utilisateurs_Service#9'!AY29=1,1,0)","v":0},null,{"$f":"IF('Fiches_Utilisateurs_Service#9'!BA29=1,1,0)","v":0},null,{"$f":"IF('Fiches_Utilisateurs_Service#9'!BC29=1,1,0)","v":0},null,{"$f":"IF('Fiches_Utilisateurs_Service#9'!BE29=1,1,0)","v":0},null,{"$f":"IF('Fiches_Utilisateurs_Service#9'!BG29=1,1,0)","v":0},null,{"$f":"IF('Fiches_Utilisateurs_Service#9'!BI29=1,1,0)","v":0},null,{"$f":"IF('Fiches_Utilisateurs_Service#9'!BK29=1,1,0)","v":0},null,{"$f":"IF('Fiches_Utilisateurs_Service#9'!BM29=1,1,0)","v":0},null,{"$f":"IF('Fiches_Utilisateurs_Service#9'!BO29=1,1,0)","v":0},null,{"$f":"IF('Fiches_Utilisateurs_Service#9'!BQ29=1,1,0)","v":0},null,{"$f":"IF('Fiches_Utilisateurs_Service#9'!BS29=1,1,0)","v":0},null,{"$f":"IF('Fiches_Utilisateurs_Service#9'!BU29=1,1,0)","v":0},null,{"$f":"IF('Fiches_Utilisateurs_Service#9'!BW29=1,1,0)","v":0},null,{"$f":"IF('Fiches_Utilisateurs_Service#9'!BY29=1,1,0)","v":0},null,{"$f":"IF('Fiches_Utilisateurs_Service#9'!CA29=1,1,0)","v":0},null,{"$f":"IF('Fiches_Utilisateurs_Service#9'!CC29=1,1,0)","v":0}]
[]
[null,null,{"$f":"IF('Fiches_Utilisateurs_Service#9'!C31=1,1,0)","v":0},null,{"$f":"IF('Fiches_Utilisateurs_Service#9'!E31=1,1,0)","v":0},null,{"$f":"IF('Fiches_Utilisateurs_Service#9'!G31=1,1,0)","v":0},null,{"$f":"IF('Fiches_Utilisateurs_Service#9'!I31=1,1,0)","v":0},null,{"$f":"IF('Fiches_Utilisateurs_Service#9'!K31=1,1,0)","v":0},null,{"$f":"IF('Fiches_Utilisateurs_Service#9'!M31=1,1,0)","v":0},null,{"$f":"IF('Fiches_Utilisateurs_Service#9'!O31=1,1,0)","v":0},null,{"$f":"IF('Fiches_Utilisateurs_Service#9'!Q31=1,1,0)","v":0},null,{"$f":"IF('Fiches_Utilisateurs_Service#9'!S31=1,1,0)","v":0},null,{"$f":"IF('Fiches_Utilisateurs_Service#9'!U31=1,1,0)","v":0},null,{"$f":"IF('Fiches_Utilisateurs_Service#9'!W31=1,1,0)","v":0},null,{"$f":"IF('Fiches_Utilisateurs_Service#9'!Y31=1,1,0)","v":0},null,{"$f":"IF('Fiches_Utilisateurs_Service#9'!AA31=1,1,0)","v":0},null,{"$f":"IF('Fiches_Utilisateurs_Service#9'!AC31=1,1,0)","v":0},null,{"$f":"IF('Fiches_Utilisateurs_Service#9'!AE31=1,1,0)","v":0},null,{"$f":"IF('Fiches_Utilisateurs_Service#9'!AG31=1,1,0)","v":0},null,{"$f":"IF('Fiches_Utilisateurs_Service#9'!AI31=1,1,0)","v":0},null,{"$f":"IF('Fiches_Utilisateurs_Service#9'!AK31=1,1,0)","v":0},null,{"$f":"IF('Fiches_Utilisateurs_Service#9'!AM31=1,1,0)","v":0},null,{"$f":"IF('Fiches_Utilisateurs_Service#9'!AO31=1,1,0)","v":0},null,{"$f":"IF('Fiches_Utilisateurs_Service#9'!AQ31=1,1,0)","v":0},null,{"$f":"IF('Fiches_Utilisateurs_Service#9'!AS31=1,1,0)","v":0},null,{"$f":"IF('Fiches_Utilisateurs_Service#9'!AU31=1,1,0)","v":0},null,{"$f":"IF('Fiches_Utilisateurs_Service#9'!AW31=1,1,0)","v":0},null,{"$f":"IF('Fiches_Utilisateurs_Service#9'!AY31=1,1,0)","v":0},null,{"$f":"IF('Fiches_Utilisateurs_Service#9'!BA31=1,1,0)","v":0},null,{"$f":"IF('Fiches_Utilisateurs_Service#9'!BC31=1,1,0)","v":0},null,{"$f":"IF('Fiches_Utilisateurs_Service#9'!BE31=1,1,0)","v":0},null,{"$f":"IF('Fiches_Utilisateurs_Service#9'!BG31=1,1,0)","v":0},null,{"$f":"IF('Fiches_Utilisateurs_Service#9'!BI31=1,1,0)","v":0},null,{"$f":"IF('Fiches_Utilisateurs_Service#9'!BK31=1,1,0)","v":0},null,{"$f":"IF('Fiches_Utilisateurs_Service#9'!BM31=1,1,0)","v":0},null,{"$f":"IF('Fiches_Utilisateurs_Service#9'!BO31=1,1,0)","v":0},null,{"$f":"IF('Fiches_Utilisateurs_Service#9'!BQ31=1,1,0)","v":0},null,{"$f":"IF('Fiches_Utilisateurs_Service#9'!BS31=1,1,0)","v":0},null,{"$f":"IF('Fiches_Utilisateurs_Service#9'!BU31=1,1,0)","v":0},null,{"$f":"IF('Fiches_Utilisateurs_Service#9'!BW31=1,1,0)","v":0},null,{"$f":"IF('Fiches_Utilisateurs_Service#9'!BY31=1,1,0)","v":0},null,{"$f":"IF('Fiches_Utilisateurs_Service#9'!CA31=1,1,0)","v":0},null,{"$f":"IF('Fiches_Utilisateurs_Service#9'!CC31=1,1,0)","v":0}]
[]
[null,null,{"$f":"IF('Fiches_Utilisateurs_Service#9'!C33=1,1,0)","v":0},null,{"$f":"IF('Fiches_Utilisateurs_Service#9'!E33=1,1,0)","v":0},null,{"$f":"IF('Fiches_Utilisateurs_Service#9'!G33=1,1,0)","v":0},null,{"$f":"IF('Fiches_Utilisateurs_Service#9'!I33=1,1,0)","v":0},null,{"$f":"IF('Fiches_Utilisateurs_Service#9'!K33=1,1,0)","v":0},null,{"$f":"IF('Fiches_Utilisateurs_Service#9'!M33=1,1,0)","v":0},null,{"$f":"IF('Fiches_Utilisateurs_Service#9'!O33=1,1,0)","v":0},null,{"$f":"IF('Fiches_Utilisateurs_Service#9'!Q33=1,1,0)","v":0},null,{"$f":"IF('Fiches_Utilisateurs_Service#9'!S33=1,1,0)","v":0},null,{"$f":"IF('Fiches_Utilisateurs_Service#9'!U33=1,1,0)","v":0},null,{"$f":"IF('Fiches_Utilisateurs_Service#9'!W33=1,1,0)","v":0},null,{"$f":"IF('Fiches_Utilisateurs_Service#9'!Y33=1,1,0)","v":0},null,{"$f":"IF('Fiches_Utilisateurs_Service#9'!AA33=1,1,0)","v":0},null,{"$f":"IF('Fiches_Utilisateurs_Service#9'!AC33=1,1,0)","v":0},null,{"$f":"IF('Fiches_Utilisateurs_Service#9'!AE33=1,1,0)","v":0},null,{"$f":"IF('Fiches_Utilisateurs_Service#9'!AG33=1,1,0)","v":0},null,{"$f":"IF('Fiches_Utilisateurs_Service#9'!AI33=1,1,0)","v":0},null,{"$f":"IF('Fiches_Utilisateurs_Service#9'!AK33=1,1,0)","v":0},null,{"$f":"IF('Fiches_Utilisateurs_Service#9'!AM33=1,1,0)","v":0},null,{"$f":"IF('Fiches_Utilisateurs_Service#9'!AO33=1,1,0)","v":0},null,{"$f":"IF('Fiches_Utilisateurs_Service#9'!AQ33=1,1,0)","v":0},null,{"$f":"IF('Fiches_Utilisateurs_Service#9'!AS33=1,1,0)","v":0},null,{"$f":"IF('Fiches_Utilisateurs_Service#9'!AU33=1,1,0)","v":0},null,{"$f":"IF('Fiches_Utilisateurs_Service#9'!AW33=1,1,0)","v":0},null,{"$f":"IF('Fiches_Utilisateurs_Service#9'!AY33=1,1,0)","v":0},null,{"$f":"IF('Fiches_Utilisateurs_Service#9'!BA33=1,1,0)","v":0},null,{"$f":"IF('Fiches_Utilisateurs_Service#9'!BC33=1,1,0)","v":0},null,{"$f":"IF('Fiches_Utilisateurs_Service#9'!BE33=1,1,0)","v":0},null,{"$f":"IF('Fiches_Utilisateurs_Service#9'!BG33=1,1,0)","v":0},null,{"$f":"IF('Fiches_Utilisateurs_Service#9'!BI33=1,1,0)","v":0},null,{"$f":"IF('Fiches_Utilisateurs_Service#9'!BK33=1,1,0)","v":0},null,{"$f":"IF('Fiches_Utilisateurs_Service#9'!BM33=1,1,0)","v":0},null,{"$f":"IF('Fiches_Utilisateurs_Service#9'!BO33=1,1,0)","v":0},null,{"$f":"IF('Fiches_Utilisateurs_Service#9'!BQ33=1,1,0)","v":0},null,{"$f":"IF('Fiches_Utilisateurs_Service#9'!BS33=1,1,0)","v":0},null,{"$f":"IF('Fiches_Utilisateurs_Service#9'!BU33=1,1,0)","v":0},null,{"$f":"IF('Fiches_Utilisateurs_Service#9'!BW33=1,1,0)","v":0},null,{"$f":"IF('Fiches_Utilisateurs_Service#9'!BY33=1,1,0)","v":0},null,{"$f":"IF('Fiches_Utilisateurs_Service#9'!CA33=1,1,0)","v":0},null,{"$f":"IF('Fiches_Utilisateurs_Service#9'!CC33=1,1,0)","v":0}]
[]
[null,null,{"$f":"IF('Fiches_Utilisateurs_Service#9'!C35=1,1,0)","v":0},null,{"$f":"IF('Fiches_Utilisateurs_Service#9'!E35=1,1,0)","v":0},null,{"$f":"IF('Fiches_Utilisateurs_Service#9'!G35=1,1,0)","v":0},null,{"$f":"IF('Fiches_Utilisateurs_Service#9'!I35=1,1,0)","v":0},null,{"$f":"IF('Fiches_Utilisateurs_Service#9'!K35=1,1,0)","v":0},null,{"$f":"IF('Fiches_Utilisateurs_Service#9'!M35=1,1,0)","v":0},null,{"$f":"IF('Fiches_Utilisateurs_Service#9'!O35=1,1,0)","v":0},null,{"$f":"IF('Fiches_Utilisateurs_Service#9'!Q35=1,1,0)","v":0},null,{"$f":"IF('Fiches_Utilisateurs_Service#9'!S35=1,1,0)","v":0},null,{"$f":"IF('Fiches_Utilisateurs_Service#9'!U35=1,1,0)","v":0},null,{"$f":"IF('Fiches_Utilisateurs_Service#9'!W35=1,1,0)","v":0},null,{"$f":"IF('Fiches_Utilisateurs_Service#9'!Y35=1,1,0)","v":0},null,{"$f":"IF('Fiches_Utilisateurs_Service#9'!AA35=1,1,0)","v":0},null,{"$f":"IF('Fiches_Utilisateurs_Service#9'!AC35=1,1,0)","v":0},null,{"$f":"IF('Fiches_Utilisateurs_Service#9'!AE35=1,1,0)","v":0},null,{"$f":"IF('Fiches_Utilisateurs_Service#9'!AG35=1,1,0)","v":0},null,{"$f":"IF('Fiches_Utilisateurs_Service#9'!AI35=1,1,0)","v":0},null,{"$f":"IF('Fiches_Utilisateurs_Service#9'!AK35=1,1,0)","v":0},null,{"$f":"IF('Fiches_Utilisateurs_Service#9'!AM35=1,1,0)","v":0},null,{"$f":"IF('Fiches_Utilisateurs_Service#9'!AO35=1,1,0)","v":0},null,{"$f":"IF('Fiches_Utilisateurs_Service#9'!AQ35=1,1,0)","v":0},null,{"$f":"IF('Fiches_Utilisateurs_Service#9'!AS35=1,1,0)","v":0},null,{"$f":"IF('Fiches_Utilisateurs_Service#9'!AU35=1,1,0)","v":0},null,{"$f":"IF('Fiches_Utilisateurs_Service#9'!AW35=1,1,0)","v":0},null,{"$f":"IF('Fiches_Utilisateurs_Service#9'!AY35=1,1,0)","v":0},null,{"$f":"IF('Fiches_Utilisateurs_Service#9'!BA35=1,1,0)","v":0},null,{"$f":"IF('Fiches_Utilisateurs_Service#9'!BC35=1,1,0)","v":0},null,{"$f":"IF('Fiches_Utilisateurs_Service#9'!BE35=1,1,0)","v":0},null,{"$f":"IF('Fiches_Utilisateurs_Service#9'!BG35=1,1,0)","v":0},null,{"$f":"IF('Fiches_Utilisateurs_Service#9'!BI35=1,1,0)","v":0},null,{"$f":"IF('Fiches_Utilisateurs_Service#9'!BK35=1,1,0)","v":0},null,{"$f":"IF('Fiches_Utilisateurs_Service#9'!BM35=1,1,0)","v":0},null,{"$f":"IF('Fiches_Utilisateurs_Service#9'!BO35=1,1,0)","v":0},null,{"$f":"IF('Fiches_Utilisateurs_Service#9'!BQ35=1,1,0)","v":0},null,{"$f":"IF('Fiches_Utilisateurs_Service#9'!BS35=1,1,0)","v":0},null,{"$f":"IF('Fiches_Utilisateurs_Service#9'!BU35=1,1,0)","v":0},null,{"$f":"IF('Fiches_Utilisateurs_Service#9'!BW35=1,1,0)","v":0},null,{"$f":"IF('Fiches_Utilisateurs_Service#9'!BY35=1,1,0)","v":0},null,{"$f":"IF('Fiches_Utilisateurs_Service#9'!CA35=1,1,0)","v":0},null,{"$f":"IF('Fiches_Utilisateurs_Service#9'!CC35=1,1,0)","v":0}]
[]
["tot sale",{"$f":"SUM(C37:CC37)","v":0},{"$f":"SUM(C15:C35)","v":0},null,{"$f":"SUM(E15:E35)","v":0},null,{"$f":"SUM(G15:G35)","v":0},null,{"$f":"SUM(I15:I35)","v":0},null,{"$f":"SUM(K15:K35)","v":0},null,{"$f":"SUM(M15:M35)","v":0},null,{"$f":"SUM(O15:O35)","v":0},null,{"$f":"SUM(Q15:Q35)","v":0},null,{"$f":"SUM(S15:S35)","v":0},null,{"$f":"SUM(U15:U35)","v":0},null,{"$f":"SUM(W15:W35)","v":0},null,{"$f":"SUM(Y15:Y35)","v":0},null,{"$f":"SUM(AA15:AA35)","v":0},null,{"$f":"SUM(AC15:AC35)","v":0},null,{"$f":"SUM(AE15:AE35)","v":0},null,{"$f":"SUM(AG15:AG35)","v":0},null,{"$f":"SUM(AI15:AI35)","v":0},null,{"$f":"SUM(AK15:AK35)","v":0},null,{"$f":"SUM(AM15:AM35)","v":0},null,{"$f":"SUM(AO15:AO35)","v":0},null,{"$f":"SUM(AQ15:AQ35)","v":0},null,{"$f":"SUM(AS15:AS35)","v":0},null,{"$f":"SUM(AU15:AU35)","v":0},null,{"$f":"SUM(AW15:AW35)","v":0},null,{"$f":"SUM(AY15:AY35)","v":0},null,{"$f":"SUM(BA15:BA35)","v":0},null,{"$f":"SUM(BC15:BC35)","v":0},null,{"$f":"SUM(BE15:BE35)","v":0},null,{"$f":"SUM(BG15:BG35)","v":0},null,{"$f":"SUM(BI15:BI35)","v":0},null,{"$f":"SUM(BK15:BK35)","v":0},null,{"$f":"SUM(BM15:BM35)","v":0},null,{"$f":"SUM(BO15:BO35)","v":0},null,{"$f":"SUM(BQ15:BQ35)","v":0},null,{"$f":"SUM(BS15:BS35)","v":0},null,{"$f":"SUM(BU15:BU35)","v":0},null,{"$f":"SUM(BW15:BW35)","v":0},null,{"$f":"SUM(BY15:BY35)","v":0},null,{"$f":"SUM(CA15:CA35)","v":0},null,{"$f":"SUM(CC15:CC35)","v":0}]
[]
[null,null,{"$f":"IF('Fiches_Utilisateurs_Service#9'!C39=1,1,0)","v":0},null,{"$f":"IF('Fiches_Utilisateurs_Service#9'!E39=1,1,0)","v":0},null,{"$f":"IF('Fiches_Utilisateurs_Service#9'!G39=1,1,0)","v":0},null,{"$f":"IF('Fiches_Utilisateurs_Service#9'!I39=1,1,0)","v":0},null,{"$f":"IF('Fiches_Utilisateurs_Service#9'!K39=1,1,0)","v":0},null,{"$f":"IF('Fiches_Utilisateurs_Service#9'!M39=1,1,0)","v":0},null,{"$f":"IF('Fiches_Utilisateurs_Service#9'!O39=1,1,0)","v":0},null,{"$f":"IF('Fiches_Utilisateurs_Service#9'!Q39=1,1,0)","v":0},null,{"$f":"IF('Fiches_Utilisateurs_Service#9'!S39=1,1,0)","v":0},null,{"$f":"IF('Fiches_Utilisateurs_Service#9'!U39=1,1,0)","v":0},null,{"$f":"IF('Fiches_Utilisateurs_Service#9'!W39=1,1,0)","v":0},null,{"$f":"IF('Fiches_Utilisateurs_Service#9'!Y39=1,1,0)","v":0},null,{"$f":"IF('Fiches_Utilisateurs_Service#9'!AA39=1,1,0)","v":0},null,{"$f":"IF('Fiches_Utilisateurs_Service#9'!AC39=1,1,0)","v":0},null,{"$f":"IF('Fiches_Utilisateurs_Service#9'!AE39=1,1,0)","v":0},null,{"$f":"IF('Fiches_Utilisateurs_Service#9'!AG39=1,1,0)","v":0},null,{"$f":"IF('Fiches_Utilisateurs_Service#9'!AI39=1,1,0)","v":0},null,{"$f":"IF('Fiches_Utilisateurs_Service#9'!AK39=1,1,0)","v":0},null,{"$f":"IF('Fiches_Utilisateurs_Service#9'!AM39=1,1,0)","v":0},null,{"$f":"IF('Fiches_Utilisateurs_Service#9'!AO39=1,1,0)","v":0},null,{"$f":"IF('Fiches_Utilisateurs_Service#9'!AQ39=1,1,0)","v":0},null,{"$f":"IF('Fiches_Utilisateurs_Service#9'!AS39=1,1,0)","v":0},null,{"$f":"IF('Fiches_Utilisateurs_Service#9'!AU39=1,1,0)","v":0},null,{"$f":"IF('Fiches_Utilisateurs_Service#9'!AW39=1,1,0)","v":0},null,{"$f":"IF('Fiches_Utilisateurs_Service#9'!AY39=1,1,0)","v":0},null,{"$f":"IF('Fiches_Utilisateurs_Service#9'!BA39=1,1,0)","v":0},null,{"$f":"IF('Fiches_Utilisateurs_Service#9'!BC39=1,1,0)","v":0},null,{"$f":"IF('Fiches_Utilisateurs_Service#9'!BE39=1,1,0)","v":0},null,{"$f":"IF('Fiches_Utilisateurs_Service#9'!BG39=1,1,0)","v":0},null,{"$f":"IF('Fiches_Utilisateurs_Service#9'!BI39=1,1,0)","v":0},null,{"$f":"IF('Fiches_Utilisateurs_Service#9'!BK39=1,1,0)","v":0},null,{"$f":"IF('Fiches_Utilisateurs_Service#9'!BM39=1,1,0)","v":0},null,{"$f":"IF('Fiches_Utilisateurs_Service#9'!BO39=1,1,0)","v":0},null,{"$f":"IF('Fiches_Utilisateurs_Service#9'!BQ39=1,1,0)","v":0},null,{"$f":"IF('Fiches_Utilisateurs_Service#9'!BS39=1,1,0)","v":0},null,{"$f":"IF('Fiches_Utilisateurs_Service#9'!BU39=1,1,0)","v":0},null,{"$f":"IF('Fiches_Utilisateurs_Service#9'!BW39=1,1,0)","v":0},null,{"$f":"IF('Fiches_Utilisateurs_Service#9'!BY39=1,1,0)","v":0},null,{"$f":"IF('Fiches_Utilisateurs_Service#9'!CA39=1,1,0)","v":0},null,{"$f":"IF('Fiches_Utilisateurs_Service#9'!CC39=1,1,0)","v":0}]
[]
[null,null,{"$f":"IF('Fiches_Utilisateurs_Service#9'!C41=1,1,0)","v":0},null,{"$f":"IF('Fiches_Utilisateurs_Service#9'!E41=1,1,0)","v":0},null,{"$f":"IF('Fiches_Utilisateurs_Service#9'!G41=1,1,0)","v":0},null,{"$f":"IF('Fiches_Utilisateurs_Service#9'!I41=1,1,0)","v":0},null,{"$f":"IF('Fiches_Utilisateurs_Service#9'!K41=1,1,0)","v":0},null,{"$f":"IF('Fiches_Utilisateurs_Service#9'!M41=1,1,0)","v":0},null,{"$f":"IF('Fiches_Utilisateurs_Service#9'!O41=1,1,0)","v":0},null,{"$f":"IF('Fiches_Utilisateurs_Service#9'!Q41=1,1,0)","v":0},null,{"$f":"IF('Fiches_Utilisateurs_Service#9'!S41=1,1,0)","v":0},null,{"$f":"IF('Fiches_Utilisateurs_Service#9'!U41=1,1,0)","v":0},null,{"$f":"IF('Fiches_Utilisateurs_Service#9'!W41=1,1,0)","v":0},null,{"$f":"IF('Fiches_Utilisateurs_Service#9'!Y41=1,1,0)","v":0},null,{"$f":"IF('Fiches_Utilisateurs_Service#9'!AA41=1,1,0)","v":0},null,{"$f":"IF('Fiches_Utilisateurs_Service#9'!AC41=1,1,0)","v":0},null,{"$f":"IF('Fiches_Utilisateurs_Service#9'!AE41=1,1,0)","v":0},null,{"$f":"IF('Fiches_Utilisateurs_Service#9'!AG41=1,1,0)","v":0},null,{"$f":"IF('Fiches_Utilisateurs_Service#9'!AI41=1,1,0)","v":0},null,{"$f":"IF('Fiches_Utilisateurs_Service#9'!AK41=1,1,0)","v":0},null,{"$f":"IF('Fiches_Utilisateurs_Service#9'!AM41=1,1,0)","v":0},null,{"$f":"IF('Fiches_Utilisateurs_Service#9'!AO41=1,1,0)","v":0},null,{"$f":"IF('Fiches_Utilisateurs_Service#9'!AQ41=1,1,0)","v":0},null,{"$f":"IF('Fiches_Utilisateurs_Service#9'!AS41=1,1,0)","v":0},null,{"$f":"IF('Fiches_Utilisateurs_Service#9'!AU41=1,1,0)","v":0},null,{"$f":"IF('Fiches_Utilisateurs_Service#9'!AW41=1,1,0)","v":0},null,{"$f":"IF('Fiches_Utilisateurs_Service#9'!AY41=1,1,0)","v":0},null,{"$f":"IF('Fiches_Utilisateurs_Service#9'!BA41=1,1,0)","v":0},null,{"$f":"IF('Fiches_Utilisateurs_Service#9'!BC41=1,1,0)","v":0},null,{"$f":"IF('Fiches_Utilisateurs_Service#9'!BE41=1,1,0)","v":0},null,{"$f":"IF('Fiches_Utilisateurs_Service#9'!BG41=1,1,0)","v":0},null,{"$f":"IF('Fiches_Utilisateurs_Service#9'!BI41=1,1,0)","v":0},null,{"$f":"IF('Fiches_Utilisateurs_Service#9'!BK41=1,1,0)","v":0},null,{"$f":"IF('Fiches_Utilisateurs_Service#9'!BM41=1,1,0)","v":0},null,{"$f":"IF('Fiches_Utilisateurs_Service#9'!BO41=1,1,0)","v":0},null,{"$f":"IF('Fiches_Utilisateurs_Service#9'!BQ41=1,1,0)","v":0},null,{"$f":"IF('Fiches_Utilisateurs_Service#9'!BS41=1,1,0)","v":0},null,{"$f":"IF('Fiches_Utilisateurs_Service#9'!BU41=1,1,0)","v":0},null,{"$f":"IF('Fiches_Utilisateurs_Service#9'!BW41=1,1,0)","v":0},null,{"$f":"IF('Fiches_Utilisateurs_Service#9'!BY41=1,1,0)","v":0},null,{"$f":"IF('Fiches_Utilisateurs_Service#9'!CA41=1,1,0)","v":0},null,{"$f":"IF('Fiches_Utilisateurs_Service#9'!CC41=1,1,0)","v":0}]
[]
[null,null,{"$f":"IF('Fiches_Utilisateurs_Service#9'!C43=1,1,0)","v":0},null,{"$f":"IF('Fiches_Utilisateurs_Service#9'!E43=1,1,0)","v":0},null,{"$f":"IF('Fiches_Utilisateurs_Service#9'!G43=1,1,0)","v":0},null,{"$f":"IF('Fiches_Utilisateurs_Service#9'!I43=1,1,0)","v":0},null,{"$f":"IF('Fiches_Utilisateurs_Service#9'!K43=1,1,0)","v":0},null,{"$f":"IF('Fiches_Utilisateurs_Service#9'!M43=1,1,0)","v":0},null,{"$f":"IF('Fiches_Utilisateurs_Service#9'!O43=1,1,0)","v":0},null,{"$f":"IF('Fiches_Utilisateurs_Service#9'!Q43=1,1,0)","v":0},null,{"$f":"IF('Fiches_Utilisateurs_Service#9'!S43=1,1,0)","v":0},null,{"$f":"IF('Fiches_Utilisateurs_Service#9'!U43=1,1,0)","v":0},null,{"$f":"IF('Fiches_Utilisateurs_Service#9'!W43=1,1,0)","v":0},null,{"$f":"IF('Fiches_Utilisateurs_Service#9'!Y43=1,1,0)","v":0},null,{"$f":"IF('Fiches_Utilisateurs_Service#9'!AA43=1,1,0)","v":0},null,{"$f":"IF('Fiches_Utilisateurs_Service#9'!AC43=1,1,0)","v":0},null,{"$f":"IF('Fiches_Utilisateurs_Service#9'!AE43=1,1,0)","v":0},null,{"$f":"IF('Fiches_Utilisateurs_Service#9'!AG43=1,1,0)","v":0},null,{"$f":"IF('Fiches_Utilisateurs_Service#9'!AI43=1,1,0)","v":0},null,{"$f":"IF('Fiches_Utilisateurs_Service#9'!AK43=1,1,0)","v":0},null,{"$f":"IF('Fiches_Utilisateurs_Service#9'!AM43=1,1,0)","v":0},null,{"$f":"IF('Fiches_Utilisateurs_Service#9'!AO43=1,1,0)","v":0},null,{"$f":"IF('Fiches_Utilisateurs_Service#9'!AQ43=1,1,0)","v":0},null,{"$f":"IF('Fiches_Utilisateurs_Service#9'!AS43=1,1,0)","v":0},null,{"$f":"IF('Fiches_Utilisateurs_Service#9'!AU43=1,1,0)","v":0},null,{"$f":"IF('Fiches_Utilisateurs_Service#9'!AW43=1,1,0)","v":0},null,{"$f":"IF('Fiches_Utilisateurs_Service#9'!AY43=1,1,0)","v":0},null,{"$f":"IF('Fiches_Utilisateurs_Service#9'!BA43=1,1,0)","v":0},null,{"$f":"IF('Fiches_Utilisateurs_Service#9'!BC43=1,1,0)","v":0},null,{"$f":"IF('Fiches_Utilisateurs_Service#9'!BE43=1,1,0)","v":0},null,{"$f":"IF('Fiches_Utilisateurs_Service#9'!BG43=1,1,0)","v":0},null,{"$f":"IF('Fiches_Utilisateurs_Service#9'!BI43=1,1,0)","v":0},null,{"$f":"IF('Fiches_Utilisateurs_Service#9'!BK43=1,1,0)","v":0},null,{"$f":"IF('Fiches_Utilisateurs_Service#9'!BM43=1,1,0)","v":0},null,{"$f":"IF('Fiches_Utilisateurs_Service#9'!BO43=1,1,0)","v":0},null,{"$f":"IF('Fiches_Utilisateurs_Service#9'!BQ43=1,1,0)","v":0},null,{"$f":"IF('Fiches_Utilisateurs_Service#9'!BS43=1,1,0)","v":0},null,{"$f":"IF('Fiches_Utilisateurs_Service#9'!BU43=1,1,0)","v":0},null,{"$f":"IF('Fiches_Utilisateurs_Service#9'!BW43=1,1,0)","v":0},null,{"$f":"IF('Fiches_Utilisateurs_Service#9'!BY43=1,1,0)","v":0},null,{"$f":"IF('Fiches_Utilisateurs_Service#9'!CA43=1,1,0)","v":0},null,{"$f":"IF('Fiches_Utilisateurs_Service#9'!CC43=1,1,0)","v":0}]
[]
["tot propre",{"$f":"SUM(C45:CC45)","v":0},{"$f":"SUM(C39:C43)","v":0},null,{"$f":"SUM(E39:E43)","v":0},null,{"$f":"SUM(G39:G43)","v":0},null,{"$f":"SUM(I39:I43)","v":0},null,{"$f":"SUM(K39:K43)","v":0},null,{"$f":"SUM(M39:M43)","v":0},null,{"$f":"SUM(O39:O43)","v":0},null,{"$f":"SUM(Q39:Q43)","v":0},null,{"$f":"SUM(S39:S43)","v":0},null,{"$f":"SUM(U39:U43)","v":0},null,{"$f":"SUM(W39:W43)","v":0},null,{"$f":"SUM(Y39:Y43)","v":0},null,{"$f":"SUM(AA39:AA43)","v":0},null,{"$f":"SUM(AC39:AC43)","v":0},null,{"$f":"SUM(AE39:AE43)","v":0},null,{"$f":"SUM(AG39:AG43)","v":0},null,{"$f":"SUM(AI39:AI43)","v":0},null,{"$f":"SUM(AK39:AK43)","v":0},null,{"$f":"SUM(AM39:AM43)","v":0},null,{"$f":"SUM(AO39:AO43)","v":0},null,{"$f":"SUM(AQ39:AQ43)","v":0},null,{"$f":"SUM(AS39:AS43)","v":0},null,{"$f":"SUM(AU39:AU43)","v":0},null,{"$f":"SUM(AW39:AW43)","v":0},null,{"$f":"SUM(AY39:AY43)","v":0},null,{"$f":"SUM(BA39:BA43)","v":0},null,{"$f":"SUM(BC39:BC43)","v":0},null,{"$f":"SUM(BE39:BE43)","v":0},null,{"$f":"SUM(BG39:BG43)","v":0},null,{"$f":"SUM(BI39:BI43)","v":0},null,{"$f":"SUM(BK39:BK43)","v":0},null,{"$f":"SUM(BM39:BM43)","v":0},null,{"$f":"SUM(BO39:BO43)","v":0},null,{"$f":"SUM(BQ39:BQ43)","v":0},null,{"$f":"SUM(BS39:BS43)","v":0},null,{"$f":"SUM(BU39:BU43)","v":0},null,{"$f":"SUM(BW39:BW43)","v":0},null,{"$f":"SUM(BY39:BY43)","v":0},null,{"$f":"SUM(CA39:CA43)","v":0},null,{"$f":"SUM(CC39:CC43)","v":0}]
[]
["tot tot",{"$f":"SUM(C47:CC47)","v":0},{"$f":"C45+C37","v":0},null,{"$f":"E45+E37","v":0},null,{"$f":"G45+G37","v":0},null,{"$f":"I45+I37","v":0},null,{"$f":"K45+K37","v":0},null,{"$f":"M45+M37","v":0},null,{"$f":"O45+O37","v":0},null,{"$f":"Q45+Q37","v":0},null,{"$f":"S45+S37","v":0},null,{"$f":"U45+U37","v":0},null,{"$f":"W45+W37","v":0},null,{"$f":"Y45+Y37","v":0},null,{"$f":"AA45+AA37","v":0},null,{"$f":"AC45+AC37","v":0},null,{"$f":"AE45+AE37","v":0},null,{"$f":"AG45+AG37","v":0},null,{"$f":"AI45+AI37","v":0},null,{"$f":"AK45+AK37","v":0},null,{"$f":"AM45+AM37","v":0},null,{"$f":"AO45+AO37","v":0},null,{"$f":"AQ45+AQ37","v":0},null,{"$f":"AS45+AS37","v":0},null,{"$f":"AU45+AU37","v":0},null,{"$f":"AW45+AW37","v":0},null,{"$f":"AY45+AY37","v":0},null,{"$f":"BA45+BA37","v":0},null,{"$f":"BC45+BC37","v":0},null,{"$f":"BE45+BE37","v":0},null,{"$f":"BG45+BG37","v":0},null,{"$f":"BI45+BI37","v":0},null,{"$f":"BK45+BK37","v":0},null,{"$f":"BM45+BM37","v":0},null,{"$f":"BO45+BO37","v":0},null,{"$f":"BQ45+BQ37","v":0},null,{"$f":"BS45+BS37","v":0},null,{"$f":"BU45+BU37","v":0},null,{"$f":"BW45+BW37","v":0},null,{"$f":"BY45+BY37","v":0},null,{"$f":"CA45+CA37","v":0},null,{"$f":"CC45+CC37","v":0}]
[]
[]
[]
[]
[1,{"$f":"SUM(C52:CC52)","v":0},{"$f":"IF(C11=\"1\",1,0)","v":0},null,{"$f":"IF(E11=\"1\",1,0)","v":0},null,0,null,0,null,0,null,0,null,0,null,0,null,0,null,0,null,0,null,0,null,0,null,0,null,0,null,0,null,0,null,0,null,0,null,0,null,0,null,0,null,0,null,0,null,0,null,0,null,0,null,0,null,0,null,0,null,0,null,0,null,0,null,{"$f":"IF(BQ11=\"1\",1,0)","v":0},null,0,null,0,null,0,null,0,null,0,null,0]
[null,0,{"$f":"IF(C52=1,(C77+C82),0)","v":0},null,{"$f":"IF(E52=1,(E77+E82),0)","v":0},null,{"$f":"IF(G52=1,(G77+G82),0)","v":0},null,{"$f":"IF(I52=1,(I77+I82),0)","v":0},null,{"$f":"IF(K52=1,(K77+K82),0)","v":0},null,{"$f":"IF(M52=1,(M77+M82),0)","v":0},null,{"$f":"IF(O52=1,(O77+O82),0)","v":0},null,{"$f":"IF(Q52=1,(Q77+Q82),0)","v":0},null,{"$f":"IF(S52=1,(S77+S82),0)","v":0},null,{"$f":"IF(U52=1,(U77+U82),0)","v":0},null,{"$f":"IF(W52=1,(W77+W82),0)","v":0},null,{"$f":"IF(Y52=1,(Y77+Y82),0)","v":0},null,{"$f":"IF(AA52=1,(AA77+AA82),0)","v":0},null,{"$f":"IF(AC52=1,(AC77+AC82),0)","v":0},null,{"$f":"IF(AE52=1,(AE77+AE82),0)","v":0},null,{"$f":"IF(AG52=1,(AG77+AG82),0)","v":0},null,{"$f":"IF(AI52=1,(AI77+AI82),0)","v":0},null,{"$f":"IF(AK52=1,(AK77+AK82),0)","v":0},null,{"$f":"IF(AM52=1,(AM77+AM82),0)","v":0},null,{"$f":"IF(AO52=1,(AO77+AO82),0)","v":0},null,{"$f":"IF(AQ52=1,(AQ77+AQ82),0)","v":0},null,{"$f":"IF(AS52=1,(AS77+AS82),0)","v":0},null,{"$f":"IF(AU52=1,(AU77+AU82),0)","v":0},null,{"$f":"IF(AW52=1,(AW77+AW82),0)","v":0},null,{"$f":"IF(AY52=1,(AY77+AY82),0)","v":0},null,{"$f":"IF(BA52=1,(BA77+BA82),0)","v":0},null,{"$f":"IF(BC52=1,(BC77+BC82),0)","v":0},null,{"$f":"IF(BE52=1,(BE77+BE82),0)","v":0},null,{"$f":"IF(BG52=1,(BG77+BG82),0)","v":0},null,{"$f":"IF(BI52=1,(BI77+BI82),0)","v":0},null,{"$f":"IF(BK52=1,(BK77+BK82),0)","v":0},null,{"$f":"IF(BM52=1,(BM77+BM82),0)","v":0},null,{"$f":"IF(BO52=1,(BO77+BO82),0)","v":0},null,{"$f":"IF(BQ52=1,(BQ77+BQ82),0)","v":0},null,{"$f":"IF(BS52=1,(BS77+BS82),0)","v":0},null,{"$f":"IF(BU52=1,(BU77+BU82),0)","v":0},null,{"$f":"IF(BW52=1,(BW77+BW82),0)","v":0},null,{"$f":"IF(BY52=1,(BY77+BY82),0)","v":0},null,{"$f":"IF(CA52=1,(CA77+CA82),0)","v":0},null,{"$f":"IF(CC52=1,(CC77+CC82),0)","v":0}]
[2,0,{"$f":"IF(C11=\"2\",1,0)","v":0},null,{"$f":"IF(E11=\"2\",1,0)","v":0},null,0,null,0,null,0,null,0,null,0,null,0,null,0,null,0,null,0,null,0,null,0,null,0,null,0,null,0,null,0,null,0,null,0,null,0,null,0,null,0,null,0,null,0,null,0,null,0,null,0,null,0,null,0,null,0,null,0,null,0,null,0,null,{"$f":"IF(BQ11=\"2\",1,0)","v":0},null,0,null,0,null,0,null,0,null,0,null,0]
[null,0,{"$f":"IF(C54=1,(C77+C82),0)","v":0},null,{"$f":"IF(E54=1,(E77+E82),0)","v":0},null,{"$f":"IF(G54=1,(G77+G82),0)","v":0},null,{"$f":"IF(I54=1,(I77+I82),0)","v":0},null,{"$f":"IF(K54=1,(K77+K82),0)","v":0},null,{"$f":"IF(M54=1,(M77+M82),0)","v":0},null,{"$f":"IF(O54=1,(O77+O82),0)","v":0},null,{"$f":"IF(Q54=1,(Q77+Q82),0)","v":0},null,{"$f":"IF(S54=1,(S77+S82),0)","v":0},null,{"$f":"IF(U54=1,(U77+U82),0)","v":0},null,{"$f":"IF(W54=1,(W77+W82),0)","v":0},null,{"$f":"IF(Y54=1,(Y77+Y82),0)","v":0},null,{"$f":"IF(AA54=1,(AA77+AA82),0)","v":0},null,{"$f":"IF(AC54=1,(AC77+AC82),0)","v":0},null,{"$f":"IF(AE54=1,(AE77+AE82),0)","v":0},null,{"$f":"IF(AG54=1,(AG77+AG82),0)","v":0},null,{"$f":"IF(AI54=1,(AI77+AI82),0)","v":0},null,{"$f":"IF(AK54=1,(AK77+AK82),0)","v":0},null,{"$f":"IF(AM54=1,(AM77+AM82),0)","v":0},null,{"$f":"IF(AO54=1,(AO77+AO82),0)","v":0},null,{"$f":"IF(AQ54=1,(AQ77+AQ82),0)","v":0},null,{"$f":"IF(AS54=1,(AS77+AS82),0)","v":0},null,{"$f":"IF(AU54=1,(AU77+AU82),0)","v":0},null,{"$f":"IF(AW54=1,(AW77+AW82),0)","v":0},null,{"$f":"IF(AY54=1,(AY77+AY82),0)","v":0},null,{"$f":"IF(BA54=1,(BA77+BA82),0)","v":0},null,{"$f":"IF(BC54=1,(BC77+BC82),0)","v":0},null,{"$f":"IF(BE54=1,(BE77+BE82),0)","v":0},null,{"$f":"IF(BG54=1,(BG77+BG82),0)","v":0},null,{"$f":"IF(BI54=1,(BI77+BI82),0)","v":0},null,{"$f":"IF(BK54=1,(BK77+BK82),0)","v":0},null,{"$f":"IF(BM54=1,(BM77+BM82),0)","v":0},null,{"$f":"IF(BO54=1,(BO77+BO82),0)","v":0},null,{"$f":"IF(BQ54=1,(BQ77+BQ82),0)","v":0},null,{"$f":"IF(BS54=1,(BS77+BS82),0)","v":0},null,{"$f":"IF(BU54=1,(BU77+BU82),0)","v":0},null,{"$f":"IF(BW54=1,(BW77+BW82),0)","v":0},null,{"$f":"IF(BY54=1,(BY77+BY82),0)","v":0},null,{"$f":"IF(CA54=1,(CA77+CA82),0)","v":0},null,{"$f":"IF(CC54=1,(CC77+CC82),0)","v":0}]
[3,0,{"$f":"IF(C11=\"3\",1,0)","v":0},null,{"$f":"IF(E11=\"3\",1,0)","v":0},null,0,null,0,null,0,null,0,null,0,null,0,null,0,null,0,null,0,null,0,null,0,null,0,null,0,null,0,null,0,null,0,null,0,null,0,null,0,null,0,null,0,null,0,null,0,null,0,null,0,null,0,null,0,null,0,null,0,null,0,null,0,null,{"$f":"IF(BQ11=\"3\",1,0)","v":0},null,0,null,0,null,0,null,0,null,0,null,0]
[null,0,{"$f":"IF(C56=1,(C77+C82),0)","v":0},null,{"$f":"IF(E56=1,(E77+E82),0)","v":0},null,{"$f":"IF(G56=1,(G77+G82),0)","v":0},null,{"$f":"IF(I56=1,(I77+I82),0)","v":0},null,{"$f":"IF(K56=1,(K77+K82),0)","v":0},null,{"$f":"IF(M56=1,(M77+M82),0)","v":0},null,{"$f":"IF(O56=1,(O77+O82),0)","v":0},null,{"$f":"IF(Q56=1,(Q77+Q82),0)","v":0},null,{"$f":"IF(S56=1,(S77+S82),0)","v":0},null,{"$f":"IF(U56=1,(U77+U82),0)","v":0},null,{"$f":"IF(W56=1,(W77+W82),0)","v":0},null,{"$f":"IF(Y56=1,(Y77+Y82),0)","v":0},null,{"$f":"IF(AA56=1,(AA77+AA82),0)","v":0},null,{"$f":"IF(AC56=1,(AC77+AC82),0)","v":0},null,{"$f":"IF(AE56=1,(AE77+AE82),0)","v":0},null,{"$f":"IF(AG56=1,(AG77+AG82),0)","v":0},null,{"$f":"IF(AI56=1,(AI77+AI82),0)","v":0},null,{"$f":"IF(AK56=1,(AK77+AK82),0)","v":0},null,{"$f":"IF(AM56=1,(AM77+AM82),0)","v":0},null,{"$f":"IF(AO56=1,(AO77+AO82),0)","v":0},null,{"$f":"IF(AQ56=1,(AQ77+AQ82),0)","v":0},null,{"$f":"IF(AS56=1,(AS77+AS82),0)","v":0},null,{"$f":"IF(AU56=1,(AU77+AU82),0)","v":0},null,{"$f":"IF(AW56=1,(AW77+AW82),0)","v":0},null,{"$f":"IF(AY56=1,(AY77+AY82),0)","v":0},null,{"$f":"IF(BA56=1,(BA77+BA82),0)","v":0},null,{"$f":"IF(BC56=1,(BC77+BC82),0)","v":0},null,{"$f":"IF(BE56=1,(BE77+BE82),0)","v":0},null,{"$f":"IF(BG56=1,(BG77+BG82),0)","v":0},null,{"$f":"IF(BI56=1,(BI77+BI82),0)","v":0},null,{"$f":"IF(BK56=1,(BK77+BK82),0)","v":0},null,{"$f":"IF(BM56=1,(BM77+BM82),0)","v":0},null,{"$f":"IF(BO56=1,(BO77+BO82),0)","v":0},null,{"$f":"IF(BQ56=1,(BQ77+BQ82),0)","v":0},null,{"$f":"IF(BS56=1,(BS77+BS82),0)","v":0},null,{"$f":"IF(BU56=1,(BU77+BU82),0)","v":0},null,{"$f":"IF(BW56=1,(BW77+BW82),0)","v":0},null,{"$f":"IF(BY56=1,(BY77+BY82),0)","v":0},null,{"$f":"IF(CA56=1,(CA77+CA82),0)","v":0},null,{"$f":"IF(CC56=1,(CC77+CC82),0)","v":0}]
[4,0,{"$f":"IF(C11=\"4\",1,0)","v":0},null,{"$f":"IF(E11=\"4\",1,0)","v":0},null,0,null,0,null,0,null,0,null,0,null,0,null,0,null,0,null,0,null,0,null,0,null,0,null,0,null,0,null,0,null,0,null,0,null,0,null,0,null,0,null,0,null,0,null,0,null,0,null,0,null,0,null,0,null,0,null,0,null,0,null,0,null,{"$f":"IF(BQ11=\"4\",1,0)","v":0},null,0,null,0,null,0,null,0,null,0,null,0]
[null,0,{"$f":"IF(C58=1,(C77+C82),0)","v":0},null,{"$f":"IF(E58=1,(E77+E82),0)","v":0},null,{"$f":"IF(G58=1,(G77+G82),0)","v":0},null,{"$f":"IF(I58=1,(I77+I82),0)","v":0},null,{"$f":"IF(K58=1,(K77+K82),0)","v":0},null,{"$f":"IF(M58=1,(M77+M82),0)","v":0},null,{"$f":"IF(O58=1,(O77+O82),0)","v":0},null,{"$f":"IF(Q58=1,(Q77+Q82),0)","v":0},null,{"$f":"IF(S58=1,(S77+S82),0)","v":0},null,{"$f":"IF(U58=1,(U77+U82),0)","v":0},null,{"$f":"IF(W58=1,(W77+W82),0)","v":0},null,{"$f":"IF(Y58=1,(Y77+Y82),0)","v":0},null,{"$f":"IF(AA58=1,(AA77+AA82),0)","v":0},null,{"$f":"IF(AC58=1,(AC77+AC82),0)","v":0},null,{"$f":"IF(AE58=1,(AE77+AE82),0)","v":0},null,{"$f":"IF(AG58=1,(AG77+AG82),0)","v":0},null,{"$f":"IF(AI58=1,(AI77+AI82),0)","v":0},null,{"$f":"IF(AK58=1,(AK77+AK82),0)","v":0},null,{"$f":"IF(AM58=1,(AM77+AM82),0)","v":0},null,{"$f":"IF(AO58=1,(AO77+AO82),0)","v":0},null,{"$f":"IF(AQ58=1,(AQ77+AQ82),0)","v":0},null,{"$f":"IF(AS58=1,(AS77+AS82),0)","v":0},null,{"$f":"IF(AU58=1,(AU77+AU82),0)","v":0},null,{"$f":"IF(AW58=1,(AW77+AW82),0)","v":0},null,{"$f":"IF(AY58=1,(AY77+AY82),0)","v":0},null,{"$f":"IF(BA58=1,(BA77+BA82),0)","v":0},null,{"$f":"IF(BC58=1,(BC77+BC82),0)","v":0},null,{"$f":"IF(BE58=1,(BE77+BE82),0)","v":0},null,{"$f":"IF(BG58=1,(BG77+BG82),0)","v":0},null,{"$f":"IF(BI58=1,(BI77+BI82),0)","v":0},null,{"$f":"IF(BK58=1,(BK77+BK82),0)","v":0},null,{"$f":"IF(BM58=1,(BM77+BM82),0)","v":0},null,{"$f":"IF(BO58=1,(BO77+BO82),0)","v":0},null,{"$f":"IF(BQ58=1,(BQ77+BQ82),0)","v":0},null,{"$f":"IF(BS58=1,(BS77+BS82),0)","v":0},null,{"$f":"IF(BU58=1,(BU77+BU82),0)","v":0},null,{"$f":"IF(BW58=1,(BW77+BW82),0)","v":0},null,{"$f":"IF(BY58=1,(BY77+BY82),0)","v":0},null,{"$f":"IF(CA58=1,(CA77+CA82),0)","v":0},null,{"$f":"IF(CC58=1,(CC77+CC82),0)","v":0}]
[5,0,{"$f":"IF(C11=\"5\",1,0)","v":0},null,{"$f":"IF(E11=\"5\",1,0)","v":0},null,0,null,0,null,0,null,0,null,0,null,0,null,0,null,0,null,0,null,0,null,0,null,0,null,0,null,0,null,0,null,0,null,0,null,0,null,0,null,0,null,0,null,0,null,0,null,0,null,0,null,0,null,0,null,0,null,0,null,0,null,0,null,{"$f":"IF(BQ11=\"5\",1,0)","v":0},null,0,null,0,null,0,null,0,null,0,null,0]
[null,0,{"$f":"IF(C60=1,(C77+C82),0)","v":0},null,{"$f":"IF(E60=1,(E77+E82),0)","v":0},null,{"$f":"IF(G60=1,(G77+G82),0)","v":0},null,{"$f":"IF(I60=1,(I77+I82),0)","v":0},null,{"$f":"IF(K60=1,(K77+K82),0)","v":0},null,{"$f":"IF(M60=1,(M77+M82),0)","v":0},null,{"$f":"IF(O60=1,(O77+O82),0)","v":0},null,{"$f":"IF(Q60=1,(Q77+Q82),0)","v":0},null,{"$f":"IF(S60=1,(S77+S82),0)","v":0},null,{"$f":"IF(U60=1,(U77+U82),0)","v":0},null,{"$f":"IF(W60=1,(W77+W82),0)","v":0},null,{"$f":"IF(Y60=1,(Y77+Y82),0)","v":0},null,{"$f":"IF(AA60=1,(AA77+AA82),0)","v":0},null,{"$f":"IF(AC60=1,(AC77+AC82),0)","v":0},null,{"$f":"IF(AE60=1,(AE77+AE82),0)","v":0},null,{"$f":"IF(AG60=1,(AG77+AG82),0)","v":0},null,{"$f":"IF(AI60=1,(AI77+AI82),0)","v":0},null,{"$f":"IF(AK60=1,(AK77+AK82),0)","v":0},null,{"$f":"IF(AM60=1,(AM77+AM82),0)","v":0},null,{"$f":"IF(AO60=1,(AO77+AO82),0)","v":0},null,{"$f":"IF(AQ60=1,(AQ77+AQ82),0)","v":0},null,{"$f":"IF(AS60=1,(AS77+AS82),0)","v":0},null,{"$f":"IF(AU60=1,(AU77+AU82),0)","v":0},null,{"$f":"IF(AW60=1,(AW77+AW82),0)","v":0},null,{"$f":"IF(AY60=1,(AY77+AY82),0)","v":0},null,{"$f":"IF(BA60=1,(BA77+BA82),0)","v":0},null,{"$f":"IF(BC60=1,(BC77+BC82),0)","v":0},null,{"$f":"IF(BE60=1,(BE77+BE82),0)","v":0},null,{"$f":"IF(BG60=1,(BG77+BG82),0)","v":0},null,{"$f":"IF(BI60=1,(BI77+BI82),0)","v":0},null,{"$f":"IF(BK60=1,(BK77+BK82),0)","v":0},null,{"$f":"IF(BM60=1,(BM77+BM82),0)","v":0},null,{"$f":"IF(BO60=1,(BO77+BO82),0)","v":0},null,{"$f":"IF(BQ60=1,(BQ77+BQ82),0)","v":0},null,{"$f":"IF(BS60=1,(BS77+BS82),0)","v":0},null,{"$f":"IF(BU60=1,(BU77+BU82),0)","v":0},null,{"$f":"IF(BW60=1,(BW77+BW82),0)","v":0},null,{"$f":"IF(BY60=1,(BY77+BY82),0)","v":0},null,{"$f":"IF(CA60=1,(CA77+CA82),0)","v":0},null,{"$f":"IF(CC60=1,(CC77+CC82),0)","v":0}]
[6,0,{"$f":"IF(C11=\"6\",1,0)","v":0},null,{"$f":"IF(E11=\"6\",1,0)","v":0},null,0,null,0,null,0,null,0,null,0,null,0,null,0,null,0,null,0,null,0,null,0,null,0,null,0,null,0,null,0,null,0,null,0,null,0,null,0,null,0,null,0,null,0,null,0,null,0,null,0,null,0,null,0,null,0,null,0,null,0,null,0,null,{"$f":"IF(BQ11=\"6\",1,0)","v":0},null,0,null,0,null,0,null,0,null,0,null,0]
[null,0,{"$f":"IF(C62=1,(C77+C82),0)","v":0},null,{"$f":"IF(E62=1,(E77+E82),0)","v":0},null,{"$f":"IF(G62=1,(G77+G82),0)","v":0},null,{"$f":"IF(I62=1,(I77+I82),0)","v":0},null,{"$f":"IF(K62=1,(K77+K82),0)","v":0},null,{"$f":"IF(M62=1,(M77+M82),0)","v":0},null,{"$f":"IF(O62=1,(O77+O82),0)","v":0},null,{"$f":"IF(Q62=1,(Q77+Q82),0)","v":0},null,{"$f":"IF(S62=1,(S77+S82),0)","v":0},null,{"$f":"IF(U62=1,(U77+U82),0)","v":0},null,{"$f":"IF(W62=1,(W77+W82),0)","v":0},null,{"$f":"IF(Y62=1,(Y77+Y82),0)","v":0},null,{"$f":"IF(AA62=1,(AA77+AA82),0)","v":0},null,{"$f":"IF(AC62=1,(AC77+AC82),0)","v":0},null,{"$f":"IF(AE62=1,(AE77+AE82),0)","v":0},null,{"$f":"IF(AG62=1,(AG77+AG82),0)","v":0},null,{"$f":"IF(AI62=1,(AI77+AI82),0)","v":0},null,{"$f":"IF(AK62=1,(AK77+AK82),0)","v":0},null,{"$f":"IF(AM62=1,(AM77+AM82),0)","v":0},null,{"$f":"IF(AO62=1,(AO77+AO82),0)","v":0},null,{"$f":"IF(AQ62=1,(AQ77+AQ82),0)","v":0},null,{"$f":"IF(AS62=1,(AS77+AS82),0)","v":0},null,{"$f":"IF(AU62=1,(AU77+AU82),0)","v":0},null,{"$f":"IF(AW62=1,(AW77+AW82),0)","v":0},null,{"$f":"IF(AY62=1,(AY77+AY82),0)","v":0},null,{"$f":"IF(BA62=1,(BA77+BA82),0)","v":0},null,{"$f":"IF(BC62=1,(BC77+BC82),0)","v":0},null,{"$f":"IF(BE62=1,(BE77+BE82),0)","v":0},null,{"$f":"IF(BG62=1,(BG77+BG82),0)","v":0},null,{"$f":"IF(BI62=1,(BI77+BI82),0)","v":0},null,{"$f":"IF(BK62=1,(BK77+BK82),0)","v":0},null,{"$f":"IF(BM62=1,(BM77+BM82),0)","v":0},null,{"$f":"IF(BO62=1,(BO77+BO82),0)","v":0},null,{"$f":"IF(BQ62=1,(BQ77+BQ82),0)","v":0},null,{"$f":"IF(BS62=1,(BS77+BS82),0)","v":0},null,{"$f":"IF(BU62=1,(BU77+BU82),0)","v":0},null,{"$f":"IF(BW62=1,(BW77+BW82),0)","v":0},null,{"$f":"IF(BY62=1,(BY77+BY82),0)","v":0},null,{"$f":"IF(CA62=1,(CA77+CA82),0)","v":0},null,{"$f":"IF(CC62=1,(CC77+CC82),0)","v":0}]
[7,0,{"$f":"IF(C11=\"7\",1,0)","v":0},null,{"$f":"IF(E11=\"7\",1,0)","v":0},null,0,null,0,null,0,null,0,null,0,null,0,null,0,null,0,null,0,null,0,null,0,null,0,null,0,null,0,null,0,null,0,null,0,null,0,null,0,null,0,null,0,null,0,null,0,null,0,null,0,null,0,null,0,null,0,null,0,null,0,null,0,null,{"$f":"IF(BQ11=\"7\",1,0)","v":0},null,0,null,0,null,0,null,0,null,0,null,0]
[null,0,{"$f":"IF(C64=1,(C77+C82),0)","v":0},null,{"$f":"IF(E64=1,(E77+E82),0)","v":0},null,{"$f":"IF(G64=1,(G77+G82),0)","v":0},null,{"$f":"IF(I64=1,(I77+I82),0)","v":0},null,{"$f":"IF(K64=1,(K77+K82),0)","v":0},null,{"$f":"IF(M64=1,(M77+M82),0)","v":0},null,{"$f":"IF(O64=1,(O77+O82),0)","v":0},null,{"$f":"IF(Q64=1,(Q77+Q82),0)","v":0},null,{"$f":"IF(S64=1,(S77+S82),0)","v":0},null,{"$f":"IF(U64=1,(U77+U82),0)","v":0},null,{"$f":"IF(W64=1,(W77+W82),0)","v":0},null,{"$f":"IF(Y64=1,(Y77+Y82),0)","v":0},null,{"$f":"IF(AA64=1,(AA77+AA82),0)","v":0},null,{"$f":"IF(AC64=1,(AC77+AC82),0)","v":0},null,{"$f":"IF(AE64=1,(AE77+AE82),0)","v":0},null,{"$f":"IF(AG64=1,(AG77+AG82),0)","v":0},null,{"$f":"IF(AI64=1,(AI77+AI82),0)","v":0},null,{"$f":"IF(AK64=1,(AK77+AK82),0)","v":0},null,{"$f":"IF(AM64=1,(AM77+AM82),0)","v":0},null,{"$f":"IF(AO64=1,(AO77+AO82),0)","v":0},null,{"$f":"IF(AQ64=1,(AQ77+AQ82),0)","v":0},null,{"$f":"IF(AS64=1,(AS77+AS82),0)","v":0},null,{"$f":"IF(AU64=1,(AU77+AU82),0)","v":0},null,{"$f":"IF(AW64=1,(AW77+AW82),0)","v":0},null,{"$f":"IF(AY64=1,(AY77+AY82),0)","v":0},null,{"$f":"IF(BA64=1,(BA77+BA82),0)","v":0},null,{"$f":"IF(BC64=1,(BC77+BC82),0)","v":0},null,{"$f":"IF(BE64=1,(BE77+BE82),0)","v":0},null,{"$f":"IF(BG64=1,(BG77+BG82),0)","v":0},null,{"$f":"IF(BI64=1,(BI77+BI82),0)","v":0},null,{"$f":"IF(BK64=1,(BK77+BK82),0)","v":0},null,{"$f":"IF(BM64=1,(BM77+BM82),0)","v":0},null,{"$f":"IF(BO64=1,(BO77+BO82),0)","v":0},null,{"$f":"IF(BQ64=1,(BQ77+BQ82),0)","v":0},null,{"$f":"IF(BS64=1,(BS77+BS82),0)","v":0},null,{"$f":"IF(BU64=1,(BU77+BU82),0)","v":0},null,{"$f":"IF(BW64=1,(BW77+BW82),0)","v":0},null,{"$f":"IF(BY64=1,(BY77+BY82),0)","v":0},null,{"$f":"IF(CA64=1,(CA77+CA82),0)","v":0},null,{"$f":"IF(CC64=1,(CC77+CC82),0)","v":0}]
[8,0,{"$f":"IF(C11=\"8\",1,0)","v":0},null,{"$f":"IF(E11=\"8\",1,0)","v":0},null,0,null,0,null,0,null,0,null,0,null,0,null,0,null,0,null,0,null,0,null,0,null,0,null,0,null,0,null,0,null,0,null,0,null,0,null,0,null,0,null,0,null,0,null,0,null,0,null,0,null,0,null,0,null,0,null,0,null,0,null,0,null,{"$f":"IF(BQ11=\"8\",1,0)","v":0},null,0,null,0,null,0,null,0,null,0,null,0]
[null,0,{"$f":"IF(C66=1,(C77+C82),0)","v":0},null,{"$f":"IF(E66=1,(E77+E82),0)","v":0},null,{"$f":"IF(G66=1,(G77+G82),0)","v":0},null,{"$f":"IF(I66=1,(I77+I82),0)","v":0},null,{"$f":"IF(K66=1,(K77+K82),0)","v":0},null,{"$f":"IF(M66=1,(M77+M82),0)","v":0},null,{"$f":"IF(O66=1,(O77+O82),0)","v":0},null,{"$f":"IF(Q66=1,(Q77+Q82),0)","v":0},null,{"$f":"IF(S66=1,(S77+S82),0)","v":0},null,{"$f":"IF(U66=1,(U77+U82),0)","v":0},null,{"$f":"IF(W66=1,(W77+W82),0)","v":0},null,{"$f":"IF(Y66=1,(Y77+Y82),0)","v":0},null,{"$f":"IF(AA66=1,(AA77+AA82),0)","v":0},null,{"$f":"IF(AC66=1,(AC77+AC82),0)","v":0},null,{"$f":"IF(AE66=1,(AE77+AE82),0)","v":0},null,{"$f":"IF(AG66=1,(AG77+AG82),0)","v":0},null,{"$f":"IF(AI66=1,(AI77+AI82),0)","v":0},null,{"$f":"IF(AK66=1,(AK77+AK82),0)","v":0},null,{"$f":"IF(AM66=1,(AM77+AM82),0)","v":0},null,{"$f":"IF(AO66=1,(AO77+AO82),0)","v":0},null,{"$f":"IF(AQ66=1,(AQ77+AQ82),0)","v":0},null,{"$f":"IF(AS66=1,(AS77+AS82),0)","v":0},null,{"$f":"IF(AU66=1,(AU77+AU82),0)","v":0},null,{"$f":"IF(AW66=1,(AW77+AW82),0)","v":0},null,{"$f":"IF(AY66=1,(AY77+AY82),0)","v":0},null,{"$f":"IF(BA66=1,(BA77+BA82),0)","v":0},null,{"$f":"IF(BC66=1,(BC77+BC82),0)","v":0},null,{"$f":"IF(BE66=1,(BE77+BE82),0)","v":0},null,{"$f":"IF(BG66=1,(BG77+BG82),0)","v":0},null,{"$f":"IF(BI66=1,(BI77+BI82),0)","v":0},null,{"$f":"IF(BK66=1,(BK77+BK82),0)","v":0},null,{"$f":"IF(BM66=1,(BM77+BM82),0)","v":0},null,{"$f":"IF(BO66=1,(BO77+BO82),0)","v":0},null,{"$f":"IF(BQ66=1,(BQ77+BQ82),0)","v":0},null,{"$f":"IF(BS66=1,(BS77+BS82),0)","v":0},null,{"$f":"IF(BU66=1,(BU77+BU82),0)","v":0},null,{"$f":"IF(BW66=1,(BW77+BW82),0)","v":0},null,{"$f":"IF(BY66=1,(BY77+BY82),0)","v":0},null,{"$f":"IF(CA66=1,(CA77+CA82),0)","v":0},null,{"$f":"IF(CC66=1,(CC77+CC82),0)","v":0}]
[9,0,{"$f":"IF(C11=\"9\",1,0)","v":0},null,{"$f":"IF(E11=\"9\",1,0)","v":0},null,0,null,0,null,0,null,0,null,0,null,0,null,0,null,0,null,0,null,0,null,0,null,0,null,0,null,0,null,0,null,0,null,0,null,0,null,0,null,0,null,0,null,0,null,0,null,0,null,0,null,0,null,0,null,0,null,0,null,0,null,0,null,{"$f":"IF(BQ11=\"9\",1,0)","v":0},null,0,null,0,null,0,null,0,null,0,null,0]
[null,0,{"$f":"IF(C68=1,(C77+C82),0)","v":0},null,{"$f":"IF(E68=1,(E77+E82),0)","v":0},null,{"$f":"IF(G68=1,(G77+G82),0)","v":0},null,{"$f":"IF(I68=1,(I77+I82),0)","v":0},null,{"$f":"IF(K68=1,(K77+K82),0)","v":0},null,{"$f":"IF(M68=1,(M77+M82),0)","v":0},null,{"$f":"IF(O68=1,(O77+O82),0)","v":0},null,{"$f":"IF(Q68=1,(Q77+Q82),0)","v":0},null,{"$f":"IF(S68=1,(S77+S82),0)","v":0},null,{"$f":"IF(U68=1,(U77+U82),0)","v":0},null,{"$f":"IF(W68=1,(W77+W82),0)","v":0},null,{"$f":"IF(Y68=1,(Y77+Y82),0)","v":0},null,{"$f":"IF(AA68=1,(AA77+AA82),0)","v":0},null,{"$f":"IF(AC68=1,(AC77+AC82),0)","v":0},null,{"$f":"IF(AE68=1,(AE77+AE82),0)","v":0},null,{"$f":"IF(AG68=1,(AG77+AG82),0)","v":0},null,{"$f":"IF(AI68=1,(AI77+AI82),0)","v":0},null,{"$f":"IF(AK68=1,(AK77+AK82),0)","v":0},null,{"$f":"IF(AM68=1,(AM77+AM82),0)","v":0},null,{"$f":"IF(AO68=1,(AO77+AO82),0)","v":0},null,{"$f":"IF(AQ68=1,(AQ77+AQ82),0)","v":0},null,{"$f":"IF(AS68=1,(AS77+AS82),0)","v":0},null,{"$f":"IF(AU68=1,(AU77+AU82),0)","v":0},null,{"$f":"IF(AW68=1,(AW77+AW82),0)","v":0},null,{"$f":"IF(AY68=1,(AY77+AY82),0)","v":0},null,{"$f":"IF(BA68=1,(BA77+BA82),0)","v":0},null,{"$f":"IF(BC68=1,(BC77+BC82),0)","v":0},null,{"$f":"IF(BE68=1,(BE77+BE82),0)","v":0},null,{"$f":"IF(BG68=1,(BG77+BG82),0)","v":0},null,{"$f":"IF(BI68=1,(BI77+BI82),0)","v":0},null,{"$f":"IF(BK68=1,(BK77+BK82),0)","v":0},null,{"$f":"IF(BM68=1,(BM77+BM82),0)","v":0},null,{"$f":"IF(BO68=1,(BO77+BO82),0)","v":0},null,{"$f":"IF(BQ68=1,(BQ77+BQ82),0)","v":0},null,{"$f":"IF(BS68=1,(BS77+BS82),0)","v":0},null,{"$f":"IF(BU68=1,(BU77+BU82),0)","v":0},null,{"$f":"IF(BW68=1,(BW77+BW82),0)","v":0},null,{"$f":"IF(BY68=1,(BY77+BY82),0)","v":0},null,{"$f":"IF(CA68=1,(CA77+CA82),0)","v":0},null,{"$f":"IF(CC68=1,(CC77+CC82),0)","v":0}]
[10,0,{"$f":"IF(C11=\"10\",1,0)","v":0},null,{"$f":"IF(E11=\"10\",1,0)","v":0},null,0,null,0,null,0,null,0,null,0,null,0,null,0,null,0,null,0,null,0,null,0,null,0,null,0,null,0,null,0,null,0,null,0,null,0,null,0,null,0,null,0,null,0,null,0,null,0,null,0,null,0,null,0,null,0,null,0,null,0,null,0,null,{"$f":"IF(BQ11=\"10\",1,0)","v":0},null,0,null,0,null,0,null,0,null,0,null,0]
[null,0,{"$f":"IF(C70=1,(C77+C82),0)","v":0},null,{"$f":"IF(E70=1,(E77+E82),0)","v":0},null,{"$f":"IF(G70=1,(G77+G82),0)","v":0},null,{"$f":"IF(I70=1,(I77+I82),0)","v":0},null,{"$f":"IF(K70=1,(K77+K82),0)","v":0},null,{"$f":"IF(M70=1,(M77+M82),0)","v":0},null,{"$f":"IF(O70=1,(O77+O82),0)","v":0},null,{"$f":"IF(Q70=1,(Q77+Q82),0)","v":0},null,{"$f":"IF(S70=1,(S77+S82),0)","v":0},null,{"$f":"IF(U70=1,(U77+U82),0)","v":0},null,{"$f":"IF(W70=1,(W77+W82),0)","v":0},null,{"$f":"IF(Y70=1,(Y77+Y82),0)","v":0},null,{"$f":"IF(AA70=1,(AA77+AA82),0)","v":0},null,{"$f":"IF(AC70=1,(AC77+AC82),0)","v":0},null,{"$f":"IF(AE70=1,(AE77+AE82),0)","v":0},null,{"$f":"IF(AG70=1,(AG77+AG82),0)","v":0},null,{"$f":"IF(AI70=1,(AI77+AI82),0)","v":0},null,{"$f":"IF(AK70=1,(AK77+AK82),0)","v":0},null,{"$f":"IF(AM70=1,(AM77+AM82),0)","v":0},null,{"$f":"IF(AO70=1,(AO77+AO82),0)","v":0},null,{"$f":"IF(AQ70=1,(AQ77+AQ82),0)","v":0},null,{"$f":"IF(AS70=1,(AS77+AS82),0)","v":0},null,{"$f":"IF(AU70=1,(AU77+AU82),0)","v":0},null,{"$f":"IF(AW70=1,(AW77+AW82),0)","v":0},null,{"$f":"IF(AY70=1,(AY77+AY82),0)","v":0},null,{"$f":"IF(BA70=1,(BA77+BA82),0)","v":0},null,{"$f":"IF(BC70=1,(BC77+BC82),0)","v":0},null,{"$f":"IF(BE70=1,(BE77+BE82),0)","v":0},null,{"$f":"IF(BG70=1,(BG77+BG82),0)","v":0},null,{"$f":"IF(BI70=1,(BI77+BI82),0)","v":0},null,{"$f":"IF(BK70=1,(BK77+BK82),0)","v":0},null,{"$f":"IF(BM70=1,(BM77+BM82),0)","v":0},null,{"$f":"IF(BO70=1,(BO77+BO82),0)","v":0},null,{"$f":"IF(BQ70=1,(BQ77+BQ82),0)","v":0},null,{"$f":"IF(BS70=1,(BS77+BS82),0)","v":0},null,{"$f":"IF(BU70=1,(BU77+BU82),0)","v":0},null,{"$f":"IF(BW70=1,(BW77+BW82),0)","v":0},null,{"$f":"IF(BY70=1,(BY77+BY82),0)","v":0},null,{"$f":"IF(CA70=1,(CA77+CA82),0)","v":0},null,{"$f":"IF(CC70=1,(CC77+CC82),0)","v":0}]
[]
["Linge sale"]
["Evacuation",{"$f":"SUM(C74:CC74)","v":0},{"$f":"(2*C15)+C17+C21+C23","v":0},null,{"$f":"(2*E15)+E17+E21+E23","v":0},null,{"$f":"(2*G15)+G17+G21+G23","v":0},null,{"$f":"(2*I15)+I17+I21+I23","v":0},null,{"$f":"(2*K15)+K17+K21+K23","v":0},null,{"$f":"(2*M15)+M17+M21+M23","v":0},null,{"$f":"(2*O15)+O17+O21+O23","v":0},null,{"$f":"(2*Q15)+Q17+Q21+Q23","v":0},null,{"$f":"(2*S15)+S17+S21+S23","v":0},null,{"$f":"(2*U15)+U17+U21+U23","v":0},null,{"$f":"(2*W15)+W17+W21+W23","v":0},null,{"$f":"(2*Y15)+Y17+Y21+Y23","v":0},null,{"$f":"(2*AA15)+AA17+AA21+AA23","v":0},null,{"$f":"(2*AC15)+AC17+AC21+AC23","v":0},null,{"$f":"(2*AE15)+AE17+AE21+AE23","v":0},null,{"$f":"(2*AG15)+AG17+AG21+AG23","v":0},null,{"$f":"(2*AI15)+AI17+AI21+AI23","v":0},null,{"$f":"(2*AK15)+AK17+AK21+AK23","v":0},null,{"$f":"(2*AM15)+AM17+AM21+AM23","v":0},null,{"$f":"(2*AO15)+AO17+AO21+AO23","v":0},null,{"$f":"(2*AQ15)+AQ17+AQ21+AQ23","v":0},null,{"$f":"(2*AS15)+AS17+AS21+AS23","v":0},null,{"$f":"(2*AU15)+AU17+AU21+AU23","v":0},null,{"$f":"(2*AW15)+AW17+AW21+AW23","v":0},null,{"$f":"(2*AY15)+AY17+AY21+AY23","v":0},null,{"$f":"(2*BA15)+BA17+BA21+BA23","v":0},null,{"$f":"(2*BC15)+BC17+BC21+BC23","v":0},null,{"$f":"(2*BE15)+BE17+BE21+BE23","v":0},null,{"$f":"(2*BG15)+BG17+BG21+BG23","v":0},null,{"$f":"(2*BI15)+BI17+BI21+BI23","v":0},null,{"$f":"(2*BK15)+BK17+BK21+BK23","v":0},null,{"$f":"(2*BM15)+BM17+BM21+BM23","v":0},null,{"$f":"(2*BO15)+BO17+BO21+BO23","v":0},null,{"$f":"(2*BQ15)+BQ17+BQ21+BQ23","v":0},null,{"$f":"(2*BS15)+BS17+BS21+BS23","v":0},null,{"$f":"(2*BU15)+BU17+BU21+BU23","v":0},null,{"$f":"(2*BW15)+BW17+BW21+BW23","v":0},null,{"$f":"(2*BY15)+BY17+BY21+BY23","v":0},null,{"$f":"(2*CA15)+CA17+CA21+CA23","v":0},null,{"$f":"(2*CC15)+CC17+CC21+CC23","v":0}]
["Protection",{"$f":"SUM(C75:CC75)","v":0},{"$f":"C19+(2*C25)+(2*C27)+(2*C29)+(2*C35)","v":0},null,{"$f":"E19+(2*E25)+(2*E27)+(2*E29)+(2*E35)","v":0},null,{"$f":"G19+(2*G25)+(2*G27)+(2*G29)+(2*G35)","v":0},null,{"$f":"I19+(2*I25)+(2*I27)+(2*I29)+(2*I35)","v":0},null,{"$f":"K19+(2*K25)+(2*K27)+(2*K29)+(2*K35)","v":0},null,{"$f":"M19+(2*M25)+(2*M27)+(2*M29)+(2*M35)","v":0},null,{"$f":"O19+(2*O25)+(2*O27)+(2*O29)+(2*O35)","v":0},null,{"$f":"Q19+(2*Q25)+(2*Q27)+(2*Q29)+(2*Q35)","v":0},null,{"$f":"S19+(2*S25)+(2*S27)+(2*S29)+(2*S35)","v":0},null,{"$f":"U19+(2*U25)+(2*U27)+(2*U29)+(2*U35)","v":0},null,{"$f":"W19+(2*W25)+(2*W27)+(2*W29)+(2*W35)","v":0},null,{"$f":"Y19+(2*Y25)+(2*Y27)+(2*Y29)+(2*Y35)","v":0},null,{"$f":"AA19+(2*AA25)+(2*AA27)+(2*AA29)+(2*AA35)","v":0},null,{"$f":"AC19+(2*AC25)+(2*AC27)+(2*AC29)+(2*AC35)","v":0},null,{"$f":"AE19+(2*AE25)+(2*AE27)+(2*AE29)+(2*AE35)","v":0},null,{"$f":"AG19+(2*AG25)+(2*AG27)+(2*AG29)+(2*AG35)","v":0},null,{"$f":"AI19+(2*AI25)+(2*AI27)+(2*AI29)+(2*AI35)","v":0},null,{"$f":"AK19+(2*AK25)+(2*AK27)+(2*AK29)+(2*AK35)","v":0},null,{"$f":"AM19+(2*AM25)+(2*AM27)+(2*AM29)+(2*AM35)","v":0},null,{"$f":"AO19+(2*AO25)+(2*AO27)+(2*AO29)+(2*AO35)","v":0},null,{"$f":"AQ19+(2*AQ25)+(2*AQ27)+(2*AQ29)+(2*AQ35)","v":0},null,{"$f":"AS19+(2*AS25)+(2*AS27)+(2*AS29)+(2*AS35)","v":0},null,{"$f":"AU19+(2*AU25)+(2*AU27)+(2*AU29)+(2*AU35)","v":0},null,{"$f":"AW19+(2*AW25)+(2*AW27)+(2*AW29)+(2*AW35)","v":0},null,{"$f":"AY19+(2*AY25)+(2*AY27)+(2*AY29)+(2*AY35)","v":0},null,{"$f":"BA19+(2*BA25)+(2*BA27)+(2*BA29)+(2*BA35)","v":0},null,{"$f":"BC19+(2*BC25)+(2*BC27)+(2*BC29)+(2*BC35)","v":0},null,{"$f":"BE19+(2*BE25)+(2*BE27)+(2*BE29)+(2*BE35)","v":0},null,{"$f":"BG19+(2*BG25)+(2*BG27)+(2*BG29)+(2*BG35)","v":0},null,{"$f":"BI19+(2*BI25)+(2*BI27)+(2*BI29)+(2*BI35)","v":0},null,{"$f":"BK19+(2*BK25)+(2*BK27)+(2*BK29)+(2*BK35)","v":0},null,{"$f":"BM19+(2*BM25)+(2*BM27)+(2*BM29)+(2*BM35)","v":0},null,{"$f":"BO19+(2*BO25)+(2*BO27)+(2*BO29)+(2*BO35)","v":0},null,{"$f":"BQ19+(2*BQ25)+(2*BQ27)+(2*BQ29)+(2*BQ35)","v":0},null,{"$f":"BS19+(2*BS25)+(2*BS27)+(2*BS29)+(2*BS35)","v":0},null,{"$f":"BU19+(2*BU25)+(2*BU27)+(2*BU29)+(2*BU35)","v":0},null,{"$f":"BW19+(2*BW25)+(2*BW27)+(2*BW29)+(2*BW35)","v":0},null,{"$f":"BY19+(2*BY25)+(2*BY27)+(2*BY29)+(2*BY35)","v":0},null,{"$f":"CA19+(2*CA25)+(2*CA27)+(2*CA29)+(2*CA35)","v":0},null,{"$f":"CC19+(2*CC25)+(2*CC27)+(2*CC29)+(2*CC35)","v":0}]
["Transport",{"$f":"SUM(C76:CC76)","v":0},{"$f":"C31+C33","v":0},null,{"$f":"E31+E33","v":0},null,{"$f":"G31+G33","v":0},null,{"$f":"I31+I33","v":0},null,{"$f":"K31+K33","v":0},null,{"$f":"M31+M33","v":0},null,{"$f":"O31+O33","v":0},null,{"$f":"Q31+Q33","v":0},null,{"$f":"S31+S33","v":0},null,{"$f":"U31+U33","v":0},null,{"$f":"W31+W33","v":0},null,{"$f":"Y31+Y33","v":0},null,{"$f":"AA31+AA33","v":0},null,{"$f":"AC31+AC33","v":0},null,{"$f":"AE31+AE33","v":0},null,{"$f":"AG31+AG33","v":0},null,{"$f":"AI31+AI33","v":0},null,{"$f":"AK31+AK33","v":0},null,{"$f":"AM31+AM33","v":0},null,{"$f":"AO31+AO33","v":0},null,{"$f":"AQ31+AQ33","v":0},null,{"$f":"AS31+AS33","v":0},null,{"$f":"AU31+AU33","v":0},null,{"$f":"AW31+AW33","v":0},null,{"$f":"AY31+AY33","v":0},null,{"$f":"BA31+BA33","v":0},null,{"$f":"BC31+BC33","v":0},null,{"$f":"BE31+BE33","v":0},null,{"$f":"BG31+BG33","v":0},null,{"$f":"BI31+BI33","v":0},null,{"$f":"BK31+BK33","v":0},null,{"$f":"BM31+BM33","v":0},null,{"$f":"BO31+BO33","v":0},null,{"$f":"BQ31+BQ33","v":0},null,{"$f":"BS31+BS33","v":0},null,{"$f":"BU31+BU33","v":0},null,{"$f":"BW31+BW33","v":0},null,{"$f":"BY31+BY33","v":0},null,{"$f":"CA31+CA33","v":0},null,{"$f":"CC31+CC33","v":0}]
["Tot linge sale",{"$f":"SUM(C77:CC77)","v":0},{"$f":"SUM(C74:C76)","v":0},null,{"$f":"SUM(E74:E76)","v":0},null,{"$f":"SUM(G74:G76)","v":0},null,{"$f":"SUM(I74:I76)","v":0},null,{"$f":"SUM(K74:K76)","v":0},null,{"$f":"SUM(M74:M76)","v":0},null,{"$f":"SUM(O74:O76)","v":0},null,{"$f":"SUM(Q74:Q76)","v":0},null,{"$f":"SUM(S74:S76)","v":0},null,{"$f":"SUM(U74:U76)","v":0},null,{"$f":"SUM(W74:W76)","v":0},null,{"$f":"SUM(Y74:Y76)","v":0},null,{"$f":"SUM(AA74:AA76)","v":0},null,{"$f":"SUM(AC74:AC76)","v":0},null,{"$f":"SUM(AE74:AE76)","v":0},null,{"$f":"SUM(AG74:AG76)","v":0},null,{"$f":"SUM(AI74:AI76)","v":0},null,{"$f":"SUM(AK74:AK76)","v":0},null,{"$f":"SUM(AM74:AM76)","v":0},null,{"$f":"SUM(AO74:AO76)","v":0},null,{"$f":"SUM(AQ74:AQ76)","v":0},null,{"$f":"SUM(AS74:AS76)","v":0},null,{"$f":"SUM(AU74:AU76)","v":0},null,{"$f":"SUM(AW74:AW76)","v":0},null,{"$f":"SUM(AY74:AY76)","v":0},null,{"$f":"SUM(BA74:BA76)","v":0},null,{"$f":"SUM(BC74:BC76)","v":0},null,{"$f":"SUM(BE74:BE76)","v":0},null,{"$f":"SUM(BG74:BG76)","v":0},null,{"$f":"SUM(BI74:BI76)","v":0},null,{"$f":"SUM(BK74:BK76)","v":0},null,{"$f":"SUM(BM74:BM76)","v":0},null,{"$f":"SUM(BO74:BO76)","v":0},null,{"$f":"SUM(BQ74:BQ76)","v":0},null,{"$f":"SUM(BS74:BS76)","v":0},null,{"$f":"SUM(BU74:BU76)","v":0},null,{"$f":"SUM(BW74:BW76)","v":0},null,{"$f":"SUM(BY74:BY76)","v":0},null,{"$f":"SUM(CA74:CA76)","v":0},null,{"$f":"SUM(CC74:CC76)","v":0}]
[]
["Linge propre"]
["Hygiène",{"$f":"SUM(C80:CC80)","v":0},{"$f":"(2*C39)","v":0},null,{"$f":"(2*E39)","v":0},null,{"$f":"(2*G39)","v":0},null,{"$f":"(2*I39)","v":0},null,{"$f":"(2*K39)","v":0},null,{"$f":"(2*M39)","v":0},null,{"$f":"(2*O39)","v":0},null,{"$f":"(2*Q39)","v":0},null,{"$f":"(2*S39)","v":0},null,{"$f":"(2*U39)","v":0},null,{"$f":"(2*W39)","v":0},null,{"$f":"(2*Y39)","v":0},null,{"$f":"(2*AA39)","v":0},null,{"$f":"(2*AC39)","v":0},null,{"$f":"(2*AE39)","v":0},null,{"$f":"(2*AG39)","v":0},null,{"$f":"(2*AI39)","v":0},null,{"$f":"(2*AK39)","v":0},null,{"$f":"(2*AM39)","v":0},null,{"$f":"(2*AO39)","v":0},null,{"$f":"(2*AQ39)","v":0},null,{"$f":"(2*AS39)","v":0},null,{"$f":"(2*AU39)","v":0},null,{"$f":"(2*AW39)","v":0},null,{"$f":"(2*AY39)","v":0},null,{"$f":"(2*BA39)","v":0},null,{"$f":"(2*BC39)","v":0},null,{"$f":"(2*BE39)","v":0},null,{"$f":"(2*BG39)","v":0},null,{"$f":"(2*BI39)","v":0},null,{"$f":"(2*BK39)","v":0},null,{"$f":"(2*BM39)","v":0},null,{"$f":"(2*BO39)","v":0},null,{"$f":"(2*BQ39)","v":0},null,{"$f":"(2*BS39)","v":0},null,{"$f":"(2*BU39)","v":0},null,{"$f":"(2*BW39)","v":0},null,{"$f":"(2*BY39)","v":0},null,{"$f":"(2*CA39)","v":0},null,{"$f":"(2*CC39)","v":0}]
["Utilisation",{"$f":"SUM(C81:CC81)","v":0},{"$f":"C41+C43","v":0},null,{"$f":"E41+E43","v":0},null,{"$f":"G41+G43","v":0},null,{"$f":"I41+I43","v":0},null,{"$f":"K41+K43","v":0},null,{"$f":"M41+M43","v":0},null,{"$f":"O41+O43","v":0},null,{"$f":"Q41+Q43","v":0},null,{"$f":"S41+S43","v":0},null,{"$f":"U41+U43","v":0},null,{"$f":"W41+W43","v":0},null,{"$f":"Y41+Y43","v":0},null,{"$f":"AA41+AA43","v":0},null,{"$f":"AC41+AC43","v":0},null,{"$f":"AE41+AE43","v":0},null,{"$f":"AG41+AG43","v":0},null,{"$f":"AI41+AI43","v":0},null,{"$f":"AK41+AK43","v":0},null,{"$f":"AM41+AM43","v":0},null,{"$f":"AO41+AO43","v":0},null,{"$f":"AQ41+AQ43","v":0},null,{"$f":"AS41+AS43","v":0},null,{"$f":"AU41+AU43","v":0},null,{"$f":"AW41+AW43","v":0},null,{"$f":"AY41+AY43","v":0},null,{"$f":"BA41+BA43","v":0},null,{"$f":"BC41+BC43","v":0},null,{"$f":"BE41+BE43","v":0},null,{"$f":"BG41+BG43","v":0},null,{"$f":"BI41+BI43","v":0},null,{"$f":"BK41+BK43","v":0},null,{"$f":"BM41+BM43","v":0},null,{"$f":"BO41+BO43","v":0},null,{"$f":"BQ41+BQ43","v":0},null,{"$f":"BS41+BS43","v":0},null,{"$f":"BU41+BU43","v":0},null,{"$f":"BW41+BW43","v":0},null,{"$f":"BY41+BY43","v":0},null,{"$f":"CA41+CA43","v":0},null,{"$f":"CC41+CC43","v":0}]
["Tot linge prop",{"$f":"SUM(C82:CC82)","v":0},{"$f":"SUM(C80:C81)","v":0},null,{"$f":"SUM(E80:E81)","v":0},null,{"$f":"SUM(G80:G81)","v":0},null,{"$f":"SUM(I80:I81)","v":0},null,{"$f":"SUM(K80:K81)","v":0},null,{"$f":"SUM(M80:M81)","v":0},null,{"$f":"SUM(O80:O81)","v":0},null,{"$f":"SUM(Q80:Q81)","v":0},null,{"$f":"SUM(S80:S81)","v":0},null,{"$f":"SUM(U80:U81)","v":0},null,{"$f":"SUM(W80:W81)","v":0},null,{"$f":"SUM(Y80:Y81)","v":0},null,{"$f":"SUM(AA80:AA81)","v":0},null,{"$f":"SUM(AC80:AC81)","v":0},null,{"$f":"SUM(AE80:AE81)","v":0},null,{"$f":"SUM(AG80:AG81)","v":0},null,{"$f":"SUM(AI80:AI81)","v":0},null,{"$f":"SUM(AK80:AK81)","v":0},null,{"$f":"SUM(AM80:AM81)","v":0},null,{"$f":"SUM(AO80:AO81)","v":0},null,{"$f":"SUM(AQ80:AQ81)","v":0},null,{"$f":"SUM(AS80:AS81)","v":0},null,{"$f":"SUM(AU80:AU81)","v":0},null,{"$f":"SUM(AW80:AW81)","v":0},null,{"$f":"SUM(AY80:AY81)","v":0},null,{"$f":"SUM(BA80:BA81)","v":0},null,{"$f":"SUM(BC80:BC81)","v":0},null,{"$f":"SUM(BE80:BE81)","v":0},null,{"$f":"SUM(BG80:BG81)","v":0},null,{"$f":"SUM(BI80:BI81)","v":0},null,{"$f":"SUM(BK80:BK81)","v":0},null,{"$f":"SUM(BM80:BM81)","v":0},null,{"$f":"SUM(BO80:BO81)","v":0},null,{"$f":"SUM(BQ80:BQ81)","v":0},null,{"$f":"SUM(BS80:BS81)","v":0},null,{"$f":"SUM(BU80:BU81)","v":0},null,{"$f":"SUM(BW80:BW81)","v":0},null,{"$f":"SUM(BY80:BY81)","v":0},null,{"$f":"SUM(CA80:CA81)","v":0},null,{"$f":"SUM(CC80:CC81)","v":0}]

{"sheet":"Poster_Service#9","index":33,"n_rows":46,"n_cols":16,"rows_kept":46,"cut":false,"hidden":true,"merged":[[23,5,23,6],[24,5,24,6],[28,0,33,13],[15,5,15,6],[15,2,15,4],[16,5,16,6],[22,5,22,6],[21,5,21,6],[21,2,21,4],[17,5,17,6],[19,5,19,6],[18,5,18,6],[0,1,0,13],[5,0,5,6],[11,0,11,6],[12,0,12,6],[1,12,1,13]]}
[null,"Audit de la fonction linge en établissement de santé et en EHPAD",null,null,null,null,null,null,null,null,null,null,null,null,"   Pour imprimer le poster:"]
[null,null,null,null,null,null,null,null,"ETABLISSEMENT :",{"$f":"IF(NOM=\"\",\"à préciser\",NOM)","v":"à préciser"},null,null,"Date de réalisation",null,"   Menu \"Fichier\" puis \"Imprimer\""]
[null,null,null,null,null,null,null,null,"SERVICE : ",{"$f":"IF(SERVICE9=\"\",\"à préciser\",SERVICE9)","v":"à préciser"},null,null,"de : ",{"$f":"IF(SERVICE9=\"\",\"à préciser\",(MIN(Fiches_Services!S9,'Fiches_Utilisateurs_Service#9'!C7:CC7)))","v":"à préciser"}]
[null,null,null,null,null,null,null,null,null,null,null,null,"au : ",{"$f":"IF(SERVICE9=\"\",\"à préciser\",(MAX(Fiches_Services!S9,'Fiches_Utilisateurs_Service#9'!C7:CC7)))","v":"à préciser"},"Vous ne pourrez imprimer le poster que"]
["Méthodologie",null,null,null,null,null,null,null,"Score \"utilisateur\" du service par catégories professionnelles",null,null,null,null,null,"si vous avez saisi vos axes d'amélioration"]
["Le recueil des données a été réalisé au niveau:",null,null,null,null,null,null,null,null,null,null,null,null,null,"et commentaires dans l'encadré jaune."]
["       Du service : ",null,null,null,null,null,"le recensement des locaux, du matériel et des procédures   "]
[null,null,null,null,null,null,"disponibles dans les services en lien avec la fonction linge.  "]
["De l'utilisateur : ",null,null,null,null,null,"l'observation des pratiques afin de vérifier l'adéquation avec"]
[null,null,null,null,null,null,"avec les recommandations de bonnes pratiques.                   "]
["Résultats"]
["Les pourcentages d'objectifs atteints sont présentés pour le service. "]
["Les résultats détaillés figurent dans le rapport d'analyse finale."]
[null,null,"Services évalués de l'établissement n =",{"$f":"(\" \"&SERVICES&\" services\")","v":" 0 services"}]
[]
["► Score \"service\"",null,"Service",null,null,"Etablissement"]
["Gestion du linge sale",null,{"$f":"IF(Rapport!F985=\"non saisi\",\"-\",Rapport!F985)","v":"-"},16,{"$f":"Rapport!H985","v":"non saisi"},{"$f":"IF(Rapport!H158=\"non saisi\",\"-\",Rapport!H158)","v":"-"}]
["Gestion du linge propre",null,{"$f":"IF(Rapport!F986=\"non saisi\",\"-\",Rapport!F986)","v":"-"},12,{"$f":"Rapport!H986","v":"non saisi"},{"$f":"IF(Rapport!H159=\"non saisi\",\"-\",Rapport!H159)","v":"-"}]
["Bionettoyage et traçabilité ",null,{"$f":"IF(Rapport!F987=\"non saisi\",\"-\",Rapport!F987)","v":"-"},12,{"$f":"Rapport!H987","v":"non saisi"},{"$f":"IF(Rapport!H160=\"non saisi\",\"-\",Rapport!H160)","v":"-"}]
["Score total",null,{"$f":"IF(Rapport!F988=\"non saisi\",\"-\",Rapport!F988)","v":"-"},40,{"$f":"Rapport!H988","v":"non saisi"},{"$f":"IF(Rapport!H161=\"non saisi\",\"-\",Rapport!H161)","v":"-"}]
[]
["► Score \"utilisateur\"",null,"Service",null,null,"Etablissement"]
["Evacuation du linge sale",null,{"$f":"IF(Rapport!F1039=\"non saisi\",\"-\",Rapport!F1039)","v":"-"},16,{"$f":"IF(Rapport!H1039=\"non saisi\",\"-\",Rapport!H1039)","v":"-"},{"$f":"IF(Rapport!H200=\"non saisi\",\"-\",Rapport!H200)","v":"-"}]
["Utilisation du linge propre",null,{"$f":"IF(Rapport!F1040=\"non saisi\",\"-\",Rapport!F1040)","v":"-"},4,{"$f":"IF(Rapport!H1040=\"non saisi\",\"-\",Rapport!H1040)","v":"-"},{"$f":"IF(Rapport!H201=\"non saisi\",\"-\",Rapport!H201)","v":"-"}]
["Score total",null,{"$f":"IF(Rapport!F1041=\"non saisi\",\"-\",Rapport!F1041)","v":"-"},20,{"$f":"IF(Rapport!H1041=\"non saisi\",\"-\",Rapport!H1041)","v":"-"},{"$f":"IF(Rapport!H202=\"non saisi\",\"-\",Rapport!H202)","v":"-"}]
[]
["Axes d'amélioration et commentaires"]
[]
[null,null,null,null,null,null,null,null,null,null,null,null,null,null,"◄ avant d'imprimer, veuillez"]
[null,null,null,null,null,null,null,null,null,null,null,null,null,null,"tapez vos axes d'amélioration"]
[null,null,null,null,null,null,null,null,null,null,null,null,null,null,"et commentaires dans le cadre"]
[null,null,null,null,null,null,null,null,null,null,null,null,null,null,"ci-contre."]
[]
[]
[]
[null,null,null,null,null,null,null,null,"La mise en œuvre d'actions d'amélioration avant une nouvelle évaluation contribue au processus d'amélioration de la qualité des soins"]
[null,null,null,null,null,null,null,null,null,null,null,null,null,null,"Autre",{"$f":"Rapport!H1079","v":"non saisi"}]
[null,null,null,null,null,null,null,null,null,null,null,null,null,null,"Etudiant",{"$f":"Rapport!H1078","v":"non saisi"}]
["L'établissement est en retard et doit assurer les meilleures conditions d’hygiène et de protection des patients et des personnels vis-à-vis du risque infectieux. ",null,null,null,null,null,null,null,null,null,null,null,null,null,"Brancardier",{"$f":"Rapport!H1077","v":"non saisi"}]
[null,null,null,null,null,null,null,null,null,null,null,null,null,null,"Ambulancier",{"$f":"Rapport!H1076","v":"non saisi"}]
["l'établissement a mis en place une politique qualité des activités et des prestations relatives aux articles de linge, il doit poursuivre ses actions",null,null,null,null,null,null,null,null,null,null,null,null,null,"Agent hospitalier",{"$f":"Rapport!H1075","v":"non saisi"}]
["L'établissement est fortement engagé dans la qualité des activités relatives aux articles de linge, il doit poursuivre ses actions",null,null,null,null,null,null,null,null,null,null,null,null,null,"Aide-soignante/aux. puériculture",{"$f":"Rapport!H1074","v":"non saisi"}]
[null,null,null,null,null,null,null,null,null,null,null,null,null,null,"Manipulateur radio",{"$f":"Rapport!H1073","v":"non saisi"}]
[null,null,null,null,null,null,null,null,null,null,null,null,null,null,"Kinésithérapeute",{"$f":"Rapport!H1072","v":"non saisi"}]
[null,null,null,null,null,null,null,null,null,null,null,null,null,null,"Sage-femme",{"$f":"Rapport!H1071","v":"non saisi"}]
[null,null,null,null,null,null,null,null,null,null,null,null,null,null,"Infirmière et IDE spécialisée",{"$f":"Rapport!H1070","v":"non saisi"}]

{"sheet":"Fiches_Utilisateurs_Service#10","index":34,"n_rows":47,"n_cols":82,"rows_kept":47,"cut":false,"hidden":false,"merged":[[0,0,0,2],[1,0,1,2]]}
["FICHE N° 2"]
["UTILISATEURS SERVICE #10"]
[null,null,"Utilisateur #1",null,"Utilisateur #2",null,"Utilisateur #3",null,"Utilisateur #4",null,"Utilisateur #5",null,"Utilisateur #6",null,"Utilisateur #7",null,"Utilisateur #8",null,"Utilisateur #9",null,"Utilisateur #10",null,"Utilisateur #11",null,"Utilisateur #12",null,"Utilisateur #13",null,"Utilisateur #14",null,"Utilisateur #15",null,"Utilisateur #16",null,"Utilisateur #17",null,"Utilisateur #18",null,"Utilisateur #19",null,"Utilisateur #20",null,"Utilisateur #21",null,"Utilisateur #22",null,"Utilisateur #23",null,"Utilisateur #24",null,"Utilisateur #25",null,"Utilisateur #26",null,"Utilisateur #27",null,"Utilisateur #28",null,"Utilisateur #29",null,"Utilisateur #30",null,"Utilisateur #31",null,"Utilisateur #32",null,"Utilisateur #33",null,"Utilisateur #34",null,"Utilisateur #35",null,"Utilisateur #36",null,"Utilisateur #37",null,"Utilisateur #38",null,"Utilisateur #39",null,"Utilisateur #40"]
[]
[null,"VERIFICATION DONNEES NON SAISIES/N° DE SAISIE DE FICHE",{"$f":"C45","v":"non saisies"},null,{"$f":"E45","v":"non saisies"},null,{"$f":"G45","v":"non saisies"},null,{"$f":"I45","v":"non saisies"},null,{"$f":"K45","v":"non saisies"},null,{"$f":"M45","v":"non saisies"},null,{"$f":"O45","v":"non saisies"},null,{"$f":"Q45","v":"non saisies"},null,{"$f":"S45","v":"non saisies"},null,{"$f":"U45","v":"non saisies"},null,{"$f":"W45","v":"non saisies"},null,{"$f":"Y45","v":"non saisies"},null,{"$f":"AA45","v":"non saisies"},null,{"$f":"AC45","v":"non saisies"},null,{"$f":"AE45","v":"non saisies"},null,{"$f":"AG45","v":"non saisies"},null,{"$f":"AI45","v":"non saisies"},null,{"$f":"AK45","v":"non saisies"},null,{"$f":"AM45","v":"non saisies"},null,{"$f":"AO45","v":"non saisies"},null,{"$f":"AQ45","v":"non saisies"},null,{"$f":"AS45","v":"non saisies"},null,{"$f":"AU45","v":"non saisies"},null,{"$f":"AW45","v":"non saisies"},null,{"$f":"AY45","v":"non saisies"},null,{"$f":"BA45","v":"non saisies"},null,{"$f":"BC45","v":"non saisies"},null,{"$f":"BE45","v":"non saisies"},null,{"$f":"BG45","v":"non saisies"},null,{"$f":"BI45","v":"non saisies"},null,{"$f":"BK45","v":"non saisies"},null,{"$f":"BM45","v":"non saisies"},null,{"$f":"BO45","v":"non saisies"},null,{"$f":"BQ45","v":"non saisies"},null,{"$f":"BS45","v":"non saisies"},null,{"$f":"BU45","v":"non saisies"},null,{"$f":"BW45","v":"non saisies"},null,{"$f":"BY45","v":"non saisies"},null,{"$f":"CA45","v":"non saisies"},null,{"$f":"CC45","v":"non saisies"}]
[]
[null,"Date"]
[]
[null,"Nom du service",{"$f":"IF(SERVICE10=\"\",\"non saisi\",SERVICE10)","v":"non saisi"},null,{"$f":"IF(SERVICE10=\"\",\"non saisi\",SERVICE10)","v":"non saisi"},null,{"$f":"IF(SERVICE10=\"\",\"non saisi\",SERVICE10)","v":"non saisi"},null,{"$f":"IF(SERVICE10=\"\",\"non saisi\",SERVICE10)","v":"non saisi"},null,{"$f":"IF(SERVICE10=\"\",\"non saisi\",SERVICE10)","v":"non saisi"},null,{"$f":"IF(SERVICE10=\"\",\"non saisi\",SERVICE10)","v":"non saisi"},null,{"$f":"IF(SERVICE10=\"\",\"non saisi\",SERVICE10)","v":"non saisi"},null,{"$f":"IF(SERVICE10=\"\",\"non saisi\",SERVICE10)","v":"non saisi"},null,{"$f":"IF(SERVICE10=\"\",\"non saisi\",SERVICE10)","v":"non saisi"},null,{"$f":"IF(SERVICE10=\"\",\"non saisi\",SERVICE10)","v":"non saisi"},null,{"$f":"IF(SERVICE10=\"\",\"non saisi\",SERVICE10)","v":"non saisi"},null,{"$f":"IF(SERVICE10=\"\",\"non saisi\",SERVICE10)","v":"non saisi"},null,{"$f":"IF(SERVICE10=\"\",\"non saisi\",SERVICE10)","v":"non saisi"},null,{"$f":"IF(SERVICE10=\"\",\"non saisi\",SERVICE10)","v":"non saisi"},null,{"$f":"IF(SERVICE10=\"\",\"non saisi\",SERVICE10)","v":"non saisi"},null,{"$f":"IF(SERVICE10=\"\",\"non saisi\",SERVICE10)","v":"non saisi"},null,{"$f":"IF(SERVICE10=\"\",\"non saisi\",SERVICE10)","v":"non saisi"},null,{"$f":"IF(SERVICE10=\"\",\"non saisi\",SERVICE10)","v":"non saisi"},null,{"$f":"IF(SERVICE10=\"\",\"non saisi\",SERVICE10)","v":"non saisi"},null,{"$f":"IF(SERVICE10=\"\",\"non saisi\",SERVICE10)","v":"non saisi"},null,{"$f":"IF(SERVICE10=\"\",\"non saisi\",SERVICE10)","v":"non saisi"},null,{"$f":"IF(SERVICE10=\"\",\"non saisi\",SERVICE10)","v":"non saisi"},null,{"$f":"IF(SERVICE10=\"\",\"non saisi\",SERVICE10)","v":"non saisi"},null,{"$f":"IF(SERVICE10=\"\",\"non saisi\",SERVICE10)","v":"non saisi"},null,{"$f":"IF(SERVICE10=\"\",\"non saisi\",SERVICE10)","v":"non saisi"},null,{"$f":"IF(SERVICE10=\"\",\"non saisi\",SERVICE10)","v":"non saisi"},null,{"$f":"IF(SERVICE10=\"\",\"non saisi\",SERVICE10)","v":"non saisi"},null,{"$f":"IF(SERVICE10=\"\",\"non saisi\",SERVICE10)","v":"non saisi"},null,{"$f":"IF(SERVICE10=\"\",\"non saisi\",SERVICE10)","v":"non saisi"},null,{"$f":"IF(SERVICE10=\"\",\"non saisi\",SERVICE10)","v":"non saisi"},null,{"$f":"IF(SERVICE10=\"\",\"non saisi\",SERVICE10)","v":"non saisi"},null,{"$f":"IF(SERVICE10=\"\",\"non saisi\",SERVICE10)","v":"non saisi"},null,{"$f":"IF(SERVICE10=\"\",\"non saisi\",SERVICE10)","v":"non saisi"},null,{"$f":"IF(SERVICE10=\"\",\"non saisi\",SERVICE10)","v":"non saisi"},null,{"$f":"IF(SERVICE10=\"\",\"non saisi\",SERVICE10)","v":"non saisi"},null,{"$f":"IF(SERVICE10=\"\",\"non saisi\",SERVICE10)","v":"non saisi"},null,{"$f":"IF(SERVICE10=\"\",\"non saisi\",SERVICE10)","v":"non saisi"},null,{"$f":"IF(SERVICE10=\"\",\"non saisi\",SERVICE10)","v":"non saisi"},null,{"$f":"IF(SERVICE10=\"\",\"non saisi\",SERVICE10)","v":"non saisi"},null,{"$f":"IF(SERVICE10=\"\",\"non saisi\",SERVICE10)","v":"non saisi"}]
[]
[null,"Fonction du personnel",null,null,null,null,null,null,null,null,null,null,null,null,null,null,null,null,null,null,null,null,null,null,null,null,null,null,null,null,null,null,null,null,null,null,null,null,null,null,null,null,null,null,null,null,null,null,null,null,null,null,null,null,null,null,null,null,null,null,null,null,null,null,null,null,null,null,null,null,null,null,null,null,null,null,null,null,null,null,null,"1 Infirmière et IDE spécialisée"]
[null,null,null,null,null,null,null,null,null,null,null,null,null,null,null,null,null,null,null,null,null,null,null,null,null,null,null,null,null,null,null,null,null,null,null,null,null,null,null,null,null,null,null,null,null,null,null,null,null,null,null,null,null,null,null,null,null,null,null,null,null,null,null,null,null,null,null,null,null,null,null,null,null,null,null,null,null,null,null,null,null,"2 Sage Femme"]
["Linge sale",null,"1 Oui - 2 Non",null,"1 Oui - 2 Non",null,"1 Oui - 2 Non",null,"1 Oui - 2 Non",null,"1 Oui - 2 Non",null,"1 Oui - 2 Non",null,"1 Oui - 2 Non",null,"1 Oui - 2 Non",null,"1 Oui - 2 Non",null,"1 Oui - 2 Non",null,"1 Oui - 2 Non",null,"1 Oui - 2 Non",null,"1 Oui - 2 Non",null,"1 Oui - 2 Non",null,"1 Oui - 2 Non",null,"1 Oui - 2 Non",null,"1 Oui - 2 Non",null,"1 Oui - 2 Non",null,"1 Oui - 2 Non",null,"1 Oui - 2 Non",null,"1 Oui - 2 Non",null,"1 Oui - 2 Non",null,"1 Oui - 2 Non",null,"1 Oui - 2 Non",null,"1 Oui - 2 Non",null,"1 Oui - 2 Non",null,"1 Oui - 2 Non",null,"1 Oui - 2 Non",null,"1 Oui - 2 Non",null,"1 Oui - 2 Non",null,"1 Oui - 2 Non",null,"1 Oui - 2 Non",null,"1 Oui - 2 Non",null,"1 Oui - 2 Non",null,"1 Oui - 2 Non",null,"1 Oui - 2 Non",null,"1 Oui - 2 Non",null,"1 Oui - 2 Non",null,"1 Oui - 2 Non",null,"1 Oui - 2 Non","3 Kinésithérapeute"]
[null,null,null,null,null,null,null,null,null,null,null,null,null,null,null,null,null,null,null,null,null,null,null,null,null,null,null,null,null,null,null,null,null,null,null,null,null,null,null,null,null,null,null,null,null,null,null,null,null,null,null,null,null,null,null,null,null,null,null,null,null,null,null,null,null,null,null,null,null,null,null,null,null,null,null,null,null,null,null,null,null,"4 Manipulateur Radio"]
[1,"Le linge sale est évacué à la fin du soin, sans dépose sur le sol",null,null,null,null,null,null,null,null,null,null,null,null,null,null,null,null,null,null,null,null,null,null,null,null,null,null,null,null,null,null,null,null,null,null,null,null,null,null,null,null,null,null,null,null,null,null,null,null,null,null,null,null,null,null,null,null,null,null,null,null,null,null,null,null,null,null,null,null,null,null,null,null,null,null,null,null,null,null,null,"5 Aide soignante/aux. de puériculture"]
[null,null,null,null,null,null,null,null,null,null,null,null,null,null,null,null,null,null,null,null,null,null,null,null,null,null,null,null,null,null,null,null,null,null,null,null,null,null,null,null,null,null,null,null,null,null,null,null,null,null,null,null,null,null,null,null,null,null,null,null,null,null,null,null,null,null,null,null,null,null,null,null,null,null,null,null,null,null,null,null,null,"6 Agent Hospitalier"]
[2,"Le professionnel vérifie l’absence d’objet étranger",null,null,null,null,null,null,null,null,null,null,null,null,null,null,null,null,null,null,null,null,null,null,null,null,null,null,null,null,null,null,null,null,null,null,null,null,null,null,null,null,null,null,null,null,null,null,null,null,null,null,null,null,null,null,null,null,null,null,null,null,null,null,null,null,null,null,null,null,null,null,null,null,null,null,null,null,null,null,null,"7 Ambulancier"]
[null,null,null,null,null,null,null,null,null,null,null,null,null,null,null,null,null,null,null,null,null,null,null,null,null,null,null,null,null,null,null,null,null,null,null,null,null,null,null,null,null,null,null,null,null,null,null,null,null,null,null,null,null,null,null,null,null,null,null,null,null,null,null,null,null,null,null,null,null,null,null,null,null,null,null,null,null,null,null,null,null,"8 Brancardier"]
[3,"Le professionnel porte des gants lors de la manipulation de linge souillé par des liquides biologiques",null,null,null,null,null,null,null,null,null,null,null,null,null,null,null,null,null,null,null,null,null,null,null,null,null,null,null,null,null,null,null,null,null,null,null,null,null,null,null,null,null,null,null,null,null,null,null,null,null,null,null,null,null,null,null,null,null,null,null,null,null,null,null,null,null,null,null,null,null,null,null,null,null,null,null,null,null,null,null,"9 Etudiant"]
[null,null,null,null,null,null,null,null,null,null,null,null,null,null,null,null,null,null,null,null,null,null,null,null,null,null,null,null,null,null,null,null,null,null,null,null,null,null,null,null,null,null,null,null,null,null,null,null,null,null,null,null,null,null,null,null,null,null,null,null,null,null,null,null,null,null,null,null,null,null,null,null,null,null,null,null,null,null,null,null,null,"10 Autre"]
[4,"Le professionnel manipule le linge sale avec des gestes mesurés pour limiter la contamination de l'environnement",null,null,null,null,null,null,null,null,null,null,null,null,null,null,null,null,null,null,null,null,null,null,null,null,null,null,null,null,null,null,null,null,null,null,null,null,null,null,null,null,null,null,null,null,null,null,null,null,null,null,null,null,null,null,null,null,null,null,null,null,null,null,null,null,null,null,null,null,null,null,null,null,null,null,null,null,null,null,null,1]
[null,null,null,null,null,null,null,null,null,null,null,null,null,null,null,null,null,null,null,null,null,null,null,null,null,null,null,null,null,null,null,null,null,null,null,null,null,null,null,null,null,null,null,null,null,null,null,null,null,null,null,null,null,null,null,null,null,null,null,null,null,null,null,null,null,null,null,null,null,null,null,null,null,null,null,null,null,null,null,null,null,2]
[5,"Les articles sont répartis selon la procédure de tri de l'établissement",null,null,null,null,null,null,null,null,null,null,null,null,null,null,null,null,null,null,null,null,null,null,null,null,null,null,null,null,null,null,null,null,null,null,null,null,null,null,null,null,null,null,null,null,null,null,null,null,null,null,null,null,null,null,null,null,null,null,null,null,null,null,null,null,null,null,null,null,null,null,null,null,null,null,null,null,null,null,null,3]
[null,null,null,null,null,null,null,null,null,null,null,null,null,null,null,null,null,null,null,null,null,null,null,null,null,null,null,null,null,null,null,null,null,null,null,null,null,null,null,null,null,null,null,null,null,null,null,null,null,null,null,null,null,null,null,null,null,null,null,null,null,null,null,null,null,null,null,null,null,null,null,null,null,null,null,null,null,null,null,null,null,4]
[6,"Le linge est tenu à distance de la tenue professionnelle",null,null,null,null,null,null,null,null,null,null,null,null,null,null,null,null,null,null,null,null,null,null,null,null,null,null,null,null,null,null,null,null,null,null,null,null,null,null,null,null,null,null,null,null,null,null,null,null,null,null,null,null,null,null,null,null,null,null,null,null,null,null,null,null,null,null,null,null,null,null,null,null,null,null,null,null,null,null,null,5]
[null,null,null,null,null,null,null,null,null,null,null,null,null,null,null,null,null,null,null,null,null,null,null,null,null,null,null,null,null,null,null,null,null,null,null,null,null,null,null,null,null,null,null,null,null,null,null,null,null,null,null,null,null,null,null,null,null,null,null,null,null,null,null,null,null,null,null,null,null,null,null,null,null,null,null,null,null,null,null,null,null,6]
[7,"Le système d'ouverture du chariot des sacs collecteurs de linge sale est manipulé sans les mains",null,null,null,null,null,null,null,null,null,null,null,null,null,null,null,null,null,null,null,null,null,null,null,null,null,null,null,null,null,null,null,null,null,null,null,null,null,null,null,null,null,null,null,null,null,null,null,null,null,null,null,null,null,null,null,null,null,null,null,null,null,null,null,null,null,null,null,null,null,null,null,null,null,null,null,null,null,null,null,7]
[null,null,null,null,null,null,null,null,null,null,null,null,null,null,null,null,null,null,null,null,null,null,null,null,null,null,null,null,null,null,null,null,null,null,null,null,null,null,null,null,null,null,null,null,null,null,null,null,null,null,null,null,null,null,null,null,null,null,null,null,null,null,null,null,null,null,null,null,null,null,null,null,null,null,null,null,null,null,null,null,null,8]
[8,"Le professionnel réalise une hygiène des mains après avoir manipulé le linge sale",null,null,null,null,null,null,null,null,null,null,null,null,null,null,null,null,null,null,null,null,null,null,null,null,null,null,null,null,null,null,null,null,null,null,null,null,null,null,null,null,null,null,null,null,null,null,null,null,null,null,null,null,null,null,null,null,null,null,null,null,null,null,null,null,null,null,null,null,null,null,null,null,null,null,null,null,null,null,null,9]
[null,null,null,null,null,null,null,null,null,null,null,null,null,null,null,null,null,null,null,null,null,null,null,null,null,null,null,null,null,null,null,null,null,null,null,null,null,null,null,null,null,null,null,null,null,null,null,null,null,null,null,null,null,null,null,null,null,null,null,null,null,null,null,null,null,null,null,null,null,null,null,null,null,null,null,null,null,null,null,null,null,10]
[9,"Dès la fin de l'activité, les sacs de linge sale sont évacués vers un local de stockage réservé"]
[null,"Si Non Observé (NO) coder 3"]
[10,"Les sacs de linge sale sont transportés sans être traînés par terre lors de transport"]
[null,"Si Non Observé (NO) coder 3"]
[11,"Le professionnel réalise une hygiène des mains après avoir manipulé les sacs de linge"]
[null,"Si Non Observé (NO) coder 3"]
["Linge propre",null,"1 Oui - 2 Non",null,"1 Oui - 2 Non",null,"1 Oui - 2 Non",null,"1 Oui - 2 Non",null,"1 Oui - 2 Non",null,"1 Oui - 2 Non",null,"1 Oui - 2 Non",null,"1 Oui - 2 Non",null,"1 Oui - 2 Non",null,"1 Oui - 2 Non",null,"1 Oui - 2 Non",null,"1 Oui - 2 Non",null,"1 Oui - 2 Non",null,"1 Oui - 2 Non",null,"1 Oui - 2 Non",null,"1 Oui - 2 Non",null,"1 Oui - 2 Non",null,"1 Oui - 2 Non",null,"1 Oui - 2 Non",null,"1 Oui - 2 Non",null,"1 Oui - 2 Non",null,"1 Oui - 2 Non",null,"1 Oui - 2 Non",null,"1 Oui - 2 Non",null,"1 Oui - 2 Non",null,"1 Oui - 2 Non",null,"1 Oui - 2 Non",null,"1 Oui - 2 Non",null,"1 Oui - 2 Non",null,"1 Oui - 2 Non",null,"1 Oui - 2 Non",null,"1 Oui - 2 Non",null,"1 Oui - 2 Non",null,"1 Oui - 2 Non",null,"1 Oui - 2 Non",null,"1 Oui - 2 Non",null,"1 Oui - 2 Non",null,"1 Oui - 2 Non",null,"1 Oui - 2 Non",null,"1 Oui - 2 Non"]
[]
[12,"Le professionnel réalise une hygiène des mains avant de manipuler le linge propre "]
[]
[13,"Le linge est déconditionné au fur et à mesure des besoins"]
[]
[14,"Le linge entré dans la chambre et non utilisé est évacué (considéré comme sale)"]
[]
[null,"VERIFICATION DONNEES NON SAISIES/N° DE SAISIE DE FICHE",{"$f":"IF(OR(C7=\"\",C9=\"non saisi\",C11=\"\",C15=\"\",C17=\"\",C19=\"\",C21=\"\",C23=\"\",C25=\"\",C27=\"\",C29=\"\",C31=\"\",C33=\"\",C35=\"\",C39=\"\",C41=\"\",C43=\"\"),\"non saisies\",(SERVICES+_OBS1+_OBS2+_OBS3+_OBS4+_OBS5+_OBS6+_OBS7+_OBS8+_OBS9+1))","v":"non saisies"},null,{"$f":"IF(OR(E7=\"\",E9=\"non saisi\",E11=\"\",E15=\"\",E17=\"\",E19=\"\",E21=\"\",E23=\"\",E25=\"\",E27=\"\",E29=\"\",E31=\"\",E33=\"\",E35=\"\",E39=\"\",E41=\"\",E43=\"\"),\"non saisies\",(SERVICES+_OBS1+_OBS2+_OBS3+_OBS4+_OBS5+_OBS6+_OBS7+_OBS8+_OBS9+2))","v":"non saisies"},null,{"$f":"IF(OR(G7=\"\",G9=\"non saisi\",G11=\"\",G15=\"\",G17=\"\",G19=\"\",G21=\"\",G23=\"\",G25=\"\",G27=\"\",G29=\"\",G31=\"\",G33=\"\",G35=\"\",G39=\"\",G41=\"\",G43=\"\"),\"non saisies\",(SERVICES+_OBS1+_OBS2+_OBS3+_OBS4+_OBS5+_OBS6+_OBS7+_OBS8+_OBS9+3))","v":"non saisies"},null,{"$f":"IF(OR(I7=\"\",I9=\"non saisi\",I11=\"\",I15=\"\",I17=\"\",I19=\"\",I21=\"\",I23=\"\",I25=\"\",I27=\"\",I29=\"\",I31=\"\",I33=\"\",I35=\"\",I39=\"\",I41=\"\",I43=\"\"),\"non saisies\",(SERVICES+_OBS1+_OBS2+_OBS3+_OBS4+_OBS5+_OBS6+_OBS7+_OBS8+_OBS9+4))","v":"non saisies"},null,{"$f":"IF(OR(K7=\"\",K9=\"non saisi\",K11=\"\",K15=\"\",K17=\"\",K19=\"\",K21=\"\",K23=\"\",K25=\"\",K27=\"\",K29=\"\",K31=\"\",K33=\"\",K35=\"\",K39=\"\",K41=\"\",K43=\"\"),\"non saisies\",(SERVICES+_OBS1+_OBS2+_OBS3+_OBS4+_OBS5+_OBS6+_OBS7+_OBS8+_OBS9+5))","v":"non saisies"},null,{"$f":"IF(OR(M7=\"\",M9=\"non saisi\",M11=\"\",M15=\"\",M17=\"\",M19=\"\",M21=\"\",M23=\"\",M25=\"\",M27=\"\",M29=\"\",M31=\"\",M33=\"\",M35=\"\",M39=\"\",M41=\"\",M43=\"\"),\"non saisies\",(SERVICES+_OBS1+_OBS2+_OBS3+_OBS4+_OBS5+_OBS6+_OBS7+_OBS8+_OBS9+6))","v":"non saisies"},null,{"$f":"IF(OR(O7=\"\",O9=\"non saisi\",O11=\"\",O15=\"\",O17=\"\",O19=\"\",O21=\"\",O23=\"\",O25=\"\",O27=\"\",O29=\"\",O31=\"\",O33=\"\",O35=\"\",O39=\"\",O41=\"\",O43=\"\"),\"non saisies\",(SERVICES+_OBS1+_OBS2+_OBS3+_OBS4+_OBS5+_OBS6+_OBS7+_OBS8+_OBS9+7))","v":"non saisies"},null,{"$f":"IF(OR(Q7=\"\",Q9=\"non saisi\",Q11=\"\",Q15=\"\",Q17=\"\",Q19=\"\",Q21=\"\",Q23=\"\",Q25=\"\",Q27=\"\",Q29=\"\",Q31=\"\",Q33=\"\",Q35=\"\",Q39=\"\",Q41=\"\",Q43=\"\"),\"non saisies\",(SERVICES+_OBS1+_OBS2+_OBS3+_OBS4+_OBS5+_OBS6+_OBS7+_OBS8+_OBS9+8))","v":"non saisies"},null,{"$f":"IF(OR(S7=\"\",S9=\"non saisi\",S11=\"\",S15=\"\",S17=\"\",S19=\"\",S21=\"\",S23=\"\",S25=\"\",S27=\"\",S29=\"\",S31=\"\",S33=\"\",S35=\"\",S39=\"\",S41=\"\",S43=\"\"),\"non saisies\",(SERVICES+_OBS1+_OBS2+_OBS3+_OBS4+_OBS5+_OBS6+_OBS7+_OBS8+_OBS9+9))","v":"non saisies"},null,{"$f":"IF(OR(U7=\"\",U9=\"non saisi\",U11=\"\",U15=\"\",U17=\"\",U19=\"\",U21=\"\",U23=\"\",U25=\"\",U27=\"\",U29=\"\",U31=\"\",U33=\"\",U35=\"\",U39=\"\",U41=\"\",U43=\"\"),\"non saisies\",(SERVICES+_OBS1+_OBS2+_OBS3+_OBS4+_OBS5+_OBS6+_OBS7+_OBS8+_OBS9+10))","v":"non saisies"},null,{"$f":"IF(OR(W7=\"\",W9=\"non saisi\",W11=\"\",W15=\"\",W17=\"\",W19=\"\",W21=\"\",W23=\"\",W25=\"\",W27=\"\",W29=\"\",W31=\"\",W33=\"\",W35=\"\",W39=\"\",W41=\"\",W43=\"\"),\"non saisies\",(SERVICES+_OBS1+_OBS2+_OBS3+_OBS4+_OBS5+_OBS6+_OBS7+_OBS8+_OBS9+11))","v":"non saisies"},null,{"$f":"IF(OR(Y7=\"\",Y9=\"non saisi\",Y11=\"\",Y15=\"\",Y17=\"\",Y19=\"\",Y21=\"\",Y23=\"\",Y25=\"\",Y27=\"\",Y29=\"\",Y31=\"\",Y33=\"\",Y35=\"\",Y39=\"\",Y41=\"\",Y43=\"\"),\"non saisies\",(SERVICES+_OBS1+_OBS2+_OBS3+_OBS4+_OBS5+_OBS6+_OBS7+_OBS8+_OBS9+12))","v":"non saisies"},null,{"$f":"IF(OR(AA7=\"\",AA9=\"non saisi\",AA11=\"\",AA15=\"\",AA17=\"\",AA19=\"\",AA21=\"\",AA23=\"\",AA25=\"\",AA27=\"\",AA29=\"\",AA31=\"\",AA33=\"\",AA35=\"\",AA39=\"\",AA41=\"\",AA43=\"\"),\"non saisies\",(SERVICES+_OBS1+_OBS2+_OBS3+_OBS4+_OBS5+_OBS6+_OBS7+_OBS8+_OBS9+13))","v":"non saisies"},null,{"$f":"IF(OR(AC7=\"\",AC9=\"non saisi\",AC11=\"\",AC15=\"\",AC17=\"\",AC19=\"\",AC21=\"\",AC23=\"\",AC25=\"\",AC27=\"\",AC29=\"\",AC31=\"\",AC33=\"\",AC35=\"\",AC39=\"\",AC41=\"\",AC43=\"\"),\"non saisies\",(SERVICES+_OBS1+_OBS2+_OBS3+_OBS4+_OBS5+_OBS6+_OBS7+_OBS8+_OBS9+14))","v":"non saisies"},null,{"$f":"IF(OR(AE7=\"\",AE9=\"non saisi\",AE11=\"\",AE15=\"\",AE17=\"\",AE19=\"\",AE21=\"\",AE23=\"\",AE25=\"\",AE27=\"\",AE29=\"\",AE31=\"\",AE33=\"\",AE35=\"\",AE39=\"\",AE41=\"\",AE43=\"\"),\"non saisies\",(SERVICES+_OBS1+_OBS2+_OBS3+_OBS4+_OBS5+_OBS6+_OBS7+_OBS8+_OBS9+15))","v":"non saisies"},null,{"$f":"IF(OR(AG7=\"\",AG9=\"non saisi\",AG11=\"\",AG15=\"\",AG17=\"\",AG19=\"\",AG21=\"\",AG23=\"\",AG25=\"\",AG27=\"\",AG29=\"\",AG31=\"\",AG33=\"\",AG35=\"\",AG39=\"\",AG41=\"\",AG43=\"\"),\"non saisies\",(SERVICES+_OBS1+_OBS2+_OBS3+_OBS4+_OBS5+_OBS6+_OBS7+_OBS8+_OBS9+16))","v":"non saisies"},null,{"$f":"IF(OR(AI7=\"\",AI9=\"non saisi\",AI11=\"\",AI15=\"\",AI17=\"\",AI19=\"\",AI21=\"\",AI23=\"\",AI25=\"\",AI27=\"\",AI29=\"\",AI31=\"\",AI33=\"\",AI35=\"\",AI39=\"\",AI41=\"\",AI43=\"\"),\"non saisies\",(SERVICES+_OBS1+_OBS2+_OBS3+_OBS4+_OBS5+_OBS6+_OBS7+_OBS8+_OBS9+17))","v":"non saisies"},null,{"$f":"IF(OR(AK7=\"\",AK9=\"non saisi\",AK11=\"\",AK15=\"\",AK17=\"\",AK19=\"\",AK21=\"\",AK23=\"\",AK25=\"\",AK27=\"\",AK29=\"\",AK31=\"\",AK33=\"\",AK35=\"\",AK39=\"\",AK41=\"\",AK43=\"\"),\"non saisies\",(SERVICES+_OBS1+_OBS2+_OBS3+_OBS4+_OBS5+_OBS6+_OBS7+_OBS8+_OBS9+18))","v":"non saisies"},null,{"$f":"IF(OR(AM7=\"\",AM9=\"non saisi\",AM11=\"\",AM15=\"\",AM17=\"\",AM19=\"\",AM21=\"\",AM23=\"\",AM25=\"\",AM27=\"\",AM29=\"\",AM31=\"\",AM33=\"\",AM35=\"\",AM39=\"\",AM41=\"\",AM43=\"\"),\"non saisies\",(SERVICES+_OBS1+_OBS2+_OBS3+_OBS4+_OBS5+_OBS6+_OBS7+_OBS8+_OBS9+19))","v":"non saisies"},null,{"$f":"IF(OR(AO7=\"\",AO9=\"non saisi\",AO11=\"\",AO15=\"\",AO17=\"\",AO19=\"\",AO21=\"\",AO23=\"\",AO25=\"\",AO27=\"\",AO29=\"\",AO31=\"\",AO33=\"\",AO35=\"\",AO39=\"\",AO41=\"\",AO43=\"\"),\"non saisies\",(SERVICES+_OBS1+_OBS2+_OBS3+_OBS4+_OBS5+_OBS6+_OBS7+_OBS8+_OBS9+20))","v":"non saisies"},null,{"$f":"IF(OR(AQ7=\"\",AQ9=\"non saisi\",AQ11=\"\",AQ15=\"\",AQ17=\"\",AQ19=\"\",AQ21=\"\",AQ23=\"\",AQ25=\"\",AQ27=\"\",AQ29=\"\",AQ31=\"\",AQ33=\"\",AQ35=\"\",AQ39=\"\",AQ41=\"\",AQ43=\"\"),\"non saisies\",(SERVICES+_OBS1+_OBS2+_OBS3+_OBS4+_OBS5+_OBS6+_OBS7+_OBS8+_OBS9+21))","v":"non saisies"},null,{"$f":"IF(OR(AS7=\"\",AS9=\"non saisi\",AS11=\"\",AS15=\"\",AS17=\"\",AS19=\"\",AS21=\"\",AS23=\"\",AS25=\"\",AS27=\"\",AS29=\"\",AS31=\"\",AS33=\"\",AS35=\"\",AS39=\"\",AS41=\"\",AS43=\"\"),\"non saisies\",(SERVICES+_OBS1+_OBS2+_OBS3+_OBS4+_OBS5+_OBS6+_OBS7+_OBS8+_OBS9+22))","v":"non saisies"},null,{"$f":"IF(OR(AU7=\"\",AU9=\"non saisi\",AU11=\"\",AU15=\"\",AU17=\"\",AU19=\"\",AU21=\"\",AU23=\"\",AU25=\"\",AU27=\"\",AU29=\"\",AU31=\"\",AU33=\"\",AU35=\"\",AU39=\"\",AU41=\"\",AU43=\"\"),\"non saisies\",(SERVICES+_OBS1+_OBS2+_OBS3+_OBS4+_OBS5+_OBS6+_OBS7+_OBS8+_OBS9+23))","v":"non saisies"},null,{"$f":"IF(OR(AW7=\"\",AW9=\"non saisi\",AW11=\"\",AW15=\"\",AW17=\"\",AW19=\"\",AW21=\"\",AW23=\"\",AW25=\"\",AW27=\"\",AW29=\"\",AW31=\"\",AW33=\"\",AW35=\"\",AW39=\"\",AW41=\"\",AW43=\"\"),\"non saisies\",(SERVICES+_OBS1+_OBS2+_OBS3+_OBS4+_OBS5+_OBS6+_OBS7+_OBS8+_OBS9+24))","v":"non saisies"},null,{"$f":"IF(OR(AY7=\"\",AY9=\"non saisi\",AY11=\"\",AY15=\"\",AY17=\"\",AY19=\"\",AY21=\"\",AY23=\"\",AY25=\"\",AY27=\"\",AY29=\"\",AY31=\"\",AY33=\"\",AY35=\"\",AY39=\"\",AY41=\"\",AY43=\"\"),\"non saisies\",(SERVICES+_OBS1+_OBS2+_OBS3+_OBS4+_OBS5+_OBS6+_OBS7+_OBS8+_OBS9+25))","v":"non saisies"},null,{"$f":"IF(OR(BA7=\"\",BA9=\"non saisi\",BA11=\"\",BA15=\"\",BA17=\"\",BA19=\"\",BA21=\"\",BA23=\"\",BA25=\"\",BA27=\"\",BA29=\"\",BA31=\"\",BA33=\"\",BA35=\"\",BA39=\"\",BA41=\"\",BA43=\"\"),\"non saisies\",(SERVICES+_OBS1+_OBS2+_OBS3+_OBS4+_OBS5+_OBS6+_OBS7+_OBS8+_OBS9+26))","v":"non saisies"},null,{"$f":"IF(OR(BC7=\"\",BC9=\"non saisi\",BC11=\"\",BC15=\"\",BC17=\"\",BC19=\"\",BC21=\"\",BC23=\"\",BC25=\"\",BC27=\"\",BC29=\"\",BC31=\"\",BC33=\"\",BC35=\"\",BC39=\"\",BC41=\"\",BC43=\"\"),\"non saisies\",(SERVICES+_OBS1+_OBS2+_OBS3+_OBS4+_OBS5+_OBS6+_OBS7+_OBS8+_OBS9+27))","v":"non saisies"},null,{"$f":"IF(OR(BE7=\"\",BE9=\"non saisi\",BE11=\"\",BE15=\"\",BE17=\"\",BE19=\"\",BE21=\"\",BE23=\"\",BE25=\"\",BE27=\"\",BE29=\"\",BE31=\"\",BE33=\"\",BE35=\"\",BE39=\"\",BE41=\"\",BE43=\"\"),\"non saisies\",(SERVICES+_OBS1+_OBS2+_OBS3+_OBS4+_OBS5+_OBS6+_OBS7+_OBS8+_OBS9+28))","v":"non saisies"},null,{"$f":"IF(OR(BG7=\"\",BG9=\"non saisi\",BG11=\"\",BG15=\"\",BG17=\"\",BG19=\"\",BG21=\"\",BG23=\"\",BG25=\"\",BG27=\"\",BG29=\"\",BG31=\"\",BG33=\"\",BG35=\"\",BG39=\"\",BG41=\"\",BG43=\"\"),\"non saisies\",(SERVICES+_OBS1+_OBS2+_OBS3+_OBS4+_OBS5+_OBS6+_OBS7+_OBS8+_OBS9+29))","v":"non saisies"},null,{"$f":"IF(OR(BI7=\"\",BI9=\"non saisi\",BI11=\"\",BI15=\"\",BI17=\"\",BI19=\"\",BI21=\"\",BI23=\"\",BI25=\"\",BI27=\"\",BI29=\"\",BI31=\"\",BI33=\"\",BI35=\"\",BI39=\"\",BI41=\"\",BI43=\"\"),\"non saisies\",(SERVICES+_OBS1+_OBS2+_OBS3+_OBS4+_OBS5+_OBS6+_OBS7+_OBS8+_OBS9+30))","v":"non saisies"},null,{"$f":"IF(OR(BK7=\"\",BK9=\"non saisi\",BK11=\"\",BK15=\"\",BK17=\"\",BK19=\"\",BK21=\"\",BK23=\"\",BK25=\"\",BK27=\"\",BK29=\"\",BK31=\"\",BK33=\"\",BK35=\"\",BK39=\"\",BK41=\"\",BK43=\"\"),\"non saisies\",(SERVICES+_OBS1+_OBS2+_OBS3+_OBS4+_OBS5+_OBS6+_OBS7+_OBS8+_OBS9+31))","v":"non saisies"},null,{"$f":"IF(OR(BM7=\"\",BM9=\"non saisi\",BM11=\"\",BM15=\"\",BM17=\"\",BM19=\"\",BM21=\"\",BM23=\"\",BM25=\"\",BM27=\"\",BM29=\"\",BM31=\"\",BM33=\"\",BM35=\"\",BM39=\"\",BM41=\"\",BM43=\"\"),\"non saisies\",(SERVICES+_OBS1+_OBS2+_OBS3+_OBS4+_OBS5+_OBS6+_OBS7+_OBS8+_OBS9+32))","v":"non saisies"},null,{"$f":"IF(OR(BO7=\"\",BO9=\"non saisi\",BO11=\"\",BO15=\"\",BO17=\"\",BO19=\"\",BO21=\"\",BO23=\"\",BO25=\"\",BO27=\"\",BO29=\"\",BO31=\"\",BO33=\"\",BO35=\"\",BO39=\"\",BO41=\"\",BO43=\"\"),\"non saisies\",(SERVICES+_OBS1+_OBS2+_OBS3+_OBS4+_OBS5+_OBS6+_OBS7+_OBS8+_OBS9+33))","v":"non saisies"},null,{"$f":"IF(OR(BQ7=\"\",BQ9=\"non saisi\",BQ11=\"\",BQ15=\"\",BQ17=\"\",BQ19=\"\",BQ21=\"\",BQ23=\"\",BQ25=\"\",BQ27=\"\",BQ29=\"\",BQ31=\"\",BQ33=\"\",BQ35=\"\",BQ39=\"\",BQ41=\"\",BQ43=\"\"),\"non saisies\",(SERVICES+_OBS1+_OBS2+_OBS3+_OBS4+_OBS5+_OBS6+_OBS7+_OBS8+_OBS9+34))","v":"non saisies"},null,{"$f":"IF(OR(BS7=\"\",BS9=\"non saisi\",BS11=\"\",BS15=\"\",BS17=\"\",BS19=\"\",BS21=\"\",BS23=\"\",BS25=\"\",BS27=\"\",BS29=\"\",BS31=\"\",BS33=\"\",BS35=\"\",BS39=\"\",BS41=\"\",BS43=\"\"),\"non saisies\",(SERVICES+_OBS1+_OBS2+_OBS3+_OBS4+_OBS5+_OBS6+_OBS7+_OBS8+_OBS9+35))","v":"non saisies"},null,{"$f":"IF(OR(BU7=\"\",BU9=\"non saisi\",BU11=\"\",BU15=\"\",BU17=\"\",BU19=\"\",BU21=\"\",BU23=\"\",BU25=\"\",BU27=\"\",BU29=\"\",BU31=\"\",BU33=\"\",BU35=\"\",BU39=\"\",BU41=\"\",BU43=\"\"),\"non saisies\",(SERVICES+_OBS1+_OBS2+_OBS3+_OBS4+_OBS5+_OBS6+_OBS7+_OBS8+_OBS9+36))","v":"non saisies"},null,{"$f":"IF(OR(BW7=\"\",BW9=\"non saisi\",BW11=\"\",BW15=\"\",BW17=\"\",BW19=\"\",BW21=\"\",BW23=\"\",BW25=\"\",BW27=\"\",BW29=\"\",BW31=\"\",BW33=\"\",BW35=\"\",BW39=\"\",BW41=\"\",BW43=\"\"),\"non saisies\",(SERVICES+_OBS1+_OBS2+_OBS3+_OBS4+_OBS5+_OBS6+_OBS7+_OBS8+_OBS9+37))","v":"non saisies"},null,{"$f":"IF(OR(BY7=\"\",BY9=\"non saisi\",BY11=\"\",BY15=\"\",BY17=\"\",BY19=\"\",BY21=\"\",BY23=\"\",BY25=\"\",BY27=\"\",BY29=\"\",BY31=\"\",BY33=\"\",BY35=\"\",BY39=\"\",BY41=\"\",BY43=\"\"),\"non saisies\",(SERVICES+_OBS1+_OBS2+_OBS3+_OBS4+_OBS5+_OBS6+_OBS7+_OBS8+_OBS9+38))","v":"non saisies"},null,{"$f":"IF(OR(CA7=\"\",CA9=\"non saisi\",CA11=\"\",CA15=\"\",CA17=\"\",CA19=\"\",CA21=\"\",CA23=\"\",CA25=\"\",CA27=\"\",CA29=\"\",CA31=\"\",CA33=\"\",CA35=\"\",CA39=\"\",CA41=\"\",CA43=\"\"),\"non saisies\",(SERVICES+_OBS1+_OBS2+_OBS3+_OBS4+_OBS5+_OBS6+_OBS7+_OBS8+_OBS9+39))","v":"non saisies"},null,{"$f":"IF(OR(CC7=\"\",CC9=\"non saisi\",CC11=\"\",CC15=\"\",CC17=\"\",CC19=\"\",CC21=\"\",CC23=\"\",CC25=\"\",CC27=\"\",CC29=\"\",CC31=\"\",CC33=\"\",CC35=\"\",CC39=\"\",CC41=\"\",CC43=\"\"),\"non saisies\",(SERVICES+_OBS1+_OBS2+_OBS3+_OBS4+_OBS5+_OBS6+_OBS7+_OBS8+_OBS9+40))","v":"non saisies"}]
[]
[null,"MENU"]

{"sheet":"Score10","index":35,"n_rows":82,"n_cols":81,"rows_kept":82,"cut":false,"hidden":true,"merged":[]}
[]
[]
[]
[]
[]
[]
[null,null,{"$f":"IF('Fiches_Utilisateurs_Service#10'!C7=\"\",0,1)","v":0},null,{"$f":"IF('Fiches_Utilisateurs_Service#10'!E7=\"\",0,1)","v":0},null,{"$f":"IF('Fiches_Utilisateurs_Service#10'!G7=\"\",0,1)","v":0},null,{"$f":"IF('Fiches_Utilisateurs_Service#10'!I7=\"\",0,1)","v":0},null,{"$f":"IF('Fiches_Utilisateurs_Service#10'!K7=\"\",0,1)","v":0},null,{"$f":"IF('Fiches_Utilisateurs_Service#10'!M7=\"\",0,1)","v":0},null,{"$f":"IF('Fiches_Utilisateurs_Service#10'!O7=\"\",0,1)","v":0},null,{"$f":"IF('Fiches_Utilisateurs_Service#10'!Q7=\"\",0,1)","v":0},null,{"$f":"IF('Fiches_Utilisateurs_Service#10'!S7=\"\",0,1)","v":0},null,{"$f":"IF('Fiches_Utilisateurs_Service#10'!U7=\"\",0,1)","v":0},null,{"$f":"IF('Fiches_Utilisateurs_Service#10'!W7=\"\",0,1)","v":0},null,{"$f":"IF('Fiches_Utilisateurs_Service#10'!Y7=\"\",0,1)","v":0},null,{"$f":"IF('Fiches_Utilisateurs_Service#10'!AA7=\"\",0,1)","v":0},null,{"$f":"IF('Fiches_Utilisateurs_Service#10'!AC7=\"\",0,1)","v":0},null,{"$f":"IF('Fiches_Utilisateurs_Service#10'!AE7=\"\",0,1)","v":0},null,{"$f":"IF('Fiches_Utilisateurs_Service#10'!AG7=\"\",0,1)","v":0},null,{"$f":"IF('Fiches_Utilisateurs_Service#10'!AI7=\"\",0,1)","v":0},null,{"$f":"IF('Fiches_Utilisateurs_Service#10'!AK7=\"\",0,1)","v":0},null,{"$f":"IF('Fiches_Utilisateurs_Service#10'!AM7=\"\",0,1)","v":0},null,{"$f":"IF('Fiches_Utilisateurs_Service#10'!AO7=\"\",0,1)","v":0},null,{"$f":"IF('Fiches_Utilisateurs_Service#10'!AQ7=\"\",0,1)","v":0},null,{"$f":"IF('Fiches_Utilisateurs_Service#10'!AS7=\"\",0,1)","v":0},null,{"$f":"IF('Fiches_Utilisateurs_Service#10'!AU7=\"\",0,1)","v":0},null,{"$f":"IF('Fiches_Utilisateurs_Service#10'!AW7=\"\",0,1)","v":0},null,{"$f":"IF('Fiches_Utilisateurs_Service#10'!AY7=\"\",0,1)","v":0},null,{"$f":"IF('Fiches_Utilisateurs_Service#10'!BA7=\"\",0,1)","v":0},null,{"$f":"IF('Fiches_Utilisateurs_Service#10'!BC7=\"\",0,1)","v":0},null,{"$f":"IF('Fiches_Utilisateurs_Service#10'!BE7=\"\",0,1)","v":0},null,{"$f":"IF('Fiches_Utilisateurs_Service#10'!BG7=\"\",0,1)","v":0},null,{"$f":"IF('Fiches_Utilisateurs_Service#10'!BI7=\"\",0,1)","v":0},null,{"$f":"IF('Fiches_Utilisateurs_Service#10'!BK7=\"\",0,1)","v":0},null,{"$f":"IF('Fiches_Utilisateurs_Service#10'!BM7=\"\",0,1)","v":0},null,{"$f":"IF('Fiches_Utilisateurs_Service#10'!BO7=\"\",0,1)","v":0},null,{"$f":"IF('Fiches_Utilisateurs_Service#10'!BQ7=\"\",0,1)","v":0},null,{"$f":"IF('Fiches_Utilisateurs_Service#10'!BS7=\"\",0,1)","v":0},null,{"$f":"IF('Fiches_Utilisateurs_Service#10'!BU7=\"\",0,1)","v":0},null,{"$f":"IF('Fiches_Utilisateurs_Service#10'!BW7=\"\",0,1)","v":0},null,{"$f":"IF('Fiches_Utilisateurs_Service#10'!BY7=\"\",0,1)","v":0},null,{"$f":"IF('Fiches_Utilisateurs_Service#10'!CA7=\"\",0,1)","v":0},null,{"$f":"IF('Fiches_Utilisateurs_Service#10'!CC7=\"\",0,1)","v":0}]
[]
[]
[]
[null,null,{"$f":"IF(LEFT('Fiches_Utilisateurs_Service#10'!C11,2)=\"10\",\"10\",(IF('Fiches_Utilisateurs_Service#10'!C11=\"\",\"0\",LEFT('Fiches_Utilisateurs_Service#10'!C11,1))))","v":"0"},null,{"$f":"IF(LEFT('Fiches_Utilisateurs_Service#10'!E11,2)=\"10\",\"10\",(IF('Fiches_Utilisateurs_Service#10'!E11=\"\",\"0\",LEFT('Fiches_Utilisateurs_Service#10'!E11,1))))","v":"0"},null,{"$f":"IF(LEFT('Fiches_Utilisateurs_Service#10'!G11,2)=\"10\",\"10\",(IF('Fiches_Utilisateurs_Service#10'!G11=\"\",\"0\",LEFT('Fiches_Utilisateurs_Service#10'!G11,1))))","v":"0"},null,{"$f":"IF(LEFT('Fiches_Utilisateurs_Service#10'!I11,2)=\"10\",\"10\",(IF('Fiches_Utilisateurs_Service#10'!I11=\"\",\"0\",LEFT('Fiches_Utilisateurs_Service#10'!I11,1))))","v":"0"},null,{"$f":"IF(LEFT('Fiches_Utilisateurs_Service#10'!K11,2)=\"10\",\"10\",(IF('Fiches_Utilisateurs_Service#10'!K11=\"\",\"0\",LEFT('Fiches_Utilisateurs_Service#10'!K11,1))))","v":"0"},null,{"$f":"IF(LEFT('Fiches_Utilisateurs_Service#10'!M11,2)=\"10\",\"10\",(IF('Fiches_Utilisateurs_Service#10'!M11=\"\",\"0\",LEFT('Fiches_Utilisateurs_Service#10'!M11,1))))","v":"0"},null,{"$f":"IF(LEFT('Fiches_Utilisateurs_Service#10'!O11,2)=\"10\",\"10\",(IF('Fiches_Utilisateurs_Service#10'!O11=\"\",\"0\",LEFT('Fiches_Utilisateurs_Service#10'!O11,1))))","v":"0"},null,{"$f":"IF(LEFT('Fiches_Utilisateurs_Service#10'!Q11,2)=\"10\",\"10\",(IF('Fiches_Utilisateurs_Service#10'!Q11=\"\",\"0\",LEFT('Fiches_Utilisateurs_Service#10'!Q11,1))))","v":"0"},null,{"$f":"IF(LEFT('Fiches_Utilisateurs_Service#10'!S11,2)=\"10\",\"10\",(IF('Fiches_Utilisateurs_Service#10'!S11=\"\",\"0\",LEFT('Fiches_Utilisateurs_Service#10'!S11,1))))","v":"0"},null,{"$f":"IF(LEFT('Fiches_Utilisateurs_Service#10'!U11,2)=\"10\",\"10\",(IF('Fiches_Utilisateurs_Service#10'!U11=\"\",\"0\",LEFT('Fiches_Utilisateurs_Service#10'!U11,1))))","v":"0"},null,{"$f":"IF(LEFT('Fiches_Utilisateurs_Service#10'!W11,2)=\"10\",\"10\",(IF('Fiches_Utilisateurs_Service#10'!W11=\"\",\"0\",LEFT('Fiches_Utilisateurs_Service#10'!W11,1))))","v":"0"},null,{"$f":"IF(LEFT('Fiches_Utilisateurs_Service#10'!Y11,2)=\"10\",\"10\",(IF('Fiches_Utilisateurs_Service#10'!Y11=\"\",\"0\",LEFT('Fiches_Utilisateurs_Service#10'!Y11,1))))","v":"0"},null,{"$f":"IF(LEFT('Fiches_Utilisateurs_Service#10'!AA11,2)=\"10\",\"10\",(IF('Fiches_Utilisateurs_Service#10'!AA11=\"\",\"0\",LEFT('Fiches_Utilisateurs_Service#10'!AA11,1))))","v":"0"},null,{"$f":"IF(LEFT('Fiches_Utilisateurs_Service#10'!AC11,2)=\"10\",\"10\",(IF('Fiches_Utilisateurs_Service#10'!AC11=\"\",\"0\",LEFT('Fiches_Utilisateurs_Service#10'!AC11,1))))","v":"0"},null,{"$f":"IF(LEFT('Fiches_Utilisateurs_Service#10'!AE11,2)=\"10\",\"10\",(IF('Fiches_Utilisateurs_Service#10'!AE11=\"\",\"0\",LEFT('Fiches_Utilisateurs_Service#10'!AE11,1))))","v":"0"},null,{"$f":"IF(LEFT('Fiches_Utilisateurs_Service#10'!AG11,2)=\"10\",\"10\",(IF('Fiches_Utilisateurs_Service#10'!AG11=\"\",\"0\",LEFT('Fiches_Utilisateurs_Service#10'!AG11,1))))","v":"0"},null,{"$f":"IF(LEFT('Fiches_Utilisateurs_Service#10'!AI11,2)=\"10\",\"10\",(IF('Fiches_Utilisateurs_Service#10'!AI11=\"\",\"0\",LEFT('Fiches_Utilisateurs_Service#10'!AI11,1))))","v":"0"},null,{"$f":"IF(LEFT('Fiches_Utilisateurs_Service#10'!AK11,2)=\"10\",\"10\",(IF('Fiches_Utilisateurs_Service#10'!AK11=\"\",\"0\",LEFT('Fiches_Utilisateurs_Service#10'!AK11,1))))","v":"0"},null,{"$f":"IF(LEFT('Fiches_Utilisateurs_Service#10'!AM11,2)=\"10\",\"10\",(IF('Fiches_Utilisateurs_Service#10'!AM11=\"\",\"0\",LEFT('Fiches_Utilisateurs_Service#10'!AM11,1))))","v":"0"},null,{"$f":"IF(LEFT('Fiches_Utilisateurs_Service#10'!AO11,2)=\"10\",\"10\",(IF('Fiches_Utilisateurs_Service#10'!AO11=\"\",\"0\",LEFT('Fiches_Utilisateurs_Service#10'!AO11,1))))","v":"0"},null,{"$f":"IF(LEFT('Fiches_Utilisateurs_Service#10'!AQ11,2)=\"10\",\"10\",(IF('Fiches_Utilisateurs_Service#10'!AQ11=\"\",\"0\",LEFT('Fiches_Utilisateurs_Service#10'!AQ11,1))))","v":"0"},null,{"$f":"IF(LEFT('Fiches_Utilisateurs_Service#10'!AS11,2)=\"10\",\"10\",(IF('Fiches_Utilisateurs_Service#10'!AS11=\"\",\"0\",LEFT('Fiches_Utilisateurs_Service#10'!AS11,1))))","v":"0"},null,{"$f":"IF(LEFT('Fiches_Utilisateurs_Service#10'!AU11,2)=\"10\",\"10\",(IF('Fiches_Utilisateurs_Service#10'!AU11=\"\",\"0\",LEFT('Fiches_Utilisateurs_Service#10'!AU11,1))))","v":"0"},null,{"$f":"IF(LEFT('Fiches_Utilisateurs_Service#10'!AW11,2)=\"10\",\"10\",(IF('Fiches_Utilisateurs_Service#10'!AW11=\"\",\"0\",LEFT('Fiches_Utilisateurs_Service#10'!AW11,1))))","v":"0"},null,{"$f":"IF(LEFT('Fiches_Utilisateurs_Service#10'!AY11,2)=\"10\",\"10\",(IF('Fiches_Utilisateurs_Service#10'!AY11=\"\",\"0\",LEFT('Fiches_Utilisateurs_Service#10'!AY11,1))))","v":"0"},null,{"$f":"IF(LEFT('Fiches_Utilisateurs_Service#10'!BA11,2)=\"10\",\"10\",(IF('Fiches_Utilisateurs_Service#10'!BA11=\"\",\"0\",LEFT('Fiches_Utilisateurs_Service#10'!BA11,1))))","v":"0"},null,{"$f":"IF(LEFT('Fiches_Utilisateurs_Service#10'!BC11,2)=\"10\",\"10\",(IF('Fiches_Utilisateurs_Service#10'!BC11=\"\",\"0\",LEFT('Fiches_Utilisateurs_Service#10'!BC11,1))))","v":"0"},null,{"$f":"IF(LEFT('Fiches_Utilisateurs_Service#10'!BE11,2)=\"10\",\"10\",(IF('Fiches_Utilisateurs_Service#10'!BE11=\"\",\"0\",LEFT('Fiches_Utilisateurs_Service#10'!BE11,1))))","v":"0"},null,{"$f":"IF(LEFT('Fiches_Utilisateurs_Service#10'!BG11,2)=\"10\",\"10\",(IF('Fiches_Utilisateurs_Service#10'!BG11=\"\",\"0\",LEFT('Fiches_Utilisateurs_Service#10'!BG11,1))))","v":"0"},null,{"$f":"IF(LEFT('Fiches_Utilisateurs_Service#10'!BI11,2)=\"10\",\"10\",(IF('Fiches_Utilisateurs_Service#10'!BI11=\"\",\"0\",LEFT('Fiches_Utilisateurs_Service#10'!BI11,1))))","v":"0"},null,{"$f":"IF(LEFT('Fiches_Utilisateurs_Service#10'!BK11,2)=\"10\",\"10\",(IF('Fiches_Utilisateurs_Service#10'!BK11=\"\",\"0\",LEFT('Fiches_Utilisateurs_Service#10'!BK11,1))))","v":"0"},null,{"$f":"IF(LEFT('Fiches_Utilisateurs_Service#10'!BM11,2)=\"10\",\"10\",(IF('Fiches_Utilisateurs_Service#10'!BM11=\"\",\"0\",LEFT('Fiches_Utilisateurs_Service#10'!BM11,1))))","v":"0"},null,{"$f":"IF(LEFT('Fiches_Utilisateurs_Service#10'!BO11,2)=\"10\",\"10\",(IF('Fiches_Utilisateurs_Service#10'!BO11=\"\",\"0\",LEFT('Fiches_Utilisateurs_Service#10'!BO11,1))))","v":"0"},null,{"$f":"IF(LEFT('Fiches_Utilisateurs_Service#10'!BQ11,2)=\"10\",\"10\",(IF('Fiches_Utilisateurs_Service#10'!BQ11=\"\",\"0\",LEFT('Fiches_Utilisateurs_Service#10'!BQ11,1))))","v":"0"},null,{"$f":"IF(LEFT('Fiches_Utilisateurs_Service#10'!BS11,2)=\"10\",\"10\",(IF('Fiches_Utilisateurs_Service#10'!BS11=\"\",\"0\",LEFT('Fiches_Utilisateurs_Service#10'!BS11,1))))","v":"0"},null,{"$f":"IF(LEFT('Fiches_Utilisateurs_Service#10'!BU11,2)=\"10\",\"10\",(IF('Fiches_Utilisateurs_Service#10'!BU11=\"\",\"0\",LEFT('Fiches_Utilisateurs_Service#10'!BU11,1))))","v":"0"},null,{"$f":"IF(LEFT('Fiches_Utilisateurs_Service#10'!BW11,2)=\"10\",\"10\",(IF('Fiches_Utilisateurs_Service#10'!BW11=\"\",\"0\",LEFT('Fiches_Utilisateurs_Service#10'!BW11,1))))","v":"0"},null,{"$f":"IF(LEFT('Fiches_Utilisateurs_Service#10'!BY11,2)=\"10\",\"10\",(IF('Fiches_Utilisateurs_Service#10'!BY11=\"\",\"0\",LEFT('Fiches_Utilisateurs_Service#10'!BY11,1))))","v":"0"},null,{"$f":"IF(LEFT('Fiches_Utilisateurs_Service#10'!CA11,2)=\"10\",\"10\",(IF('Fiches_Utilisateurs_Service#10'!CA11=\"\",\"0\",LEFT('Fiches_Utilisateurs_Service#10'!CA11,1))))","v":"0"},null,{"$f":"IF(LEFT('Fiches_Utilisateurs_Service#10'!CC11,2)=\"10\",\"10\",(IF('Fiches_Utilisateurs_Service#10'!CC11=\"\",\"0\",LEFT('Fiches_Utilisateurs_Service#10'!CC11,1))))","v":"0"}]
[]
[]
[null,"glob tots"]
[null,null,{"$f":"IF('Fiches_Utilisateurs_Service#10'!C15=1,1,0)","v":0},null,{"$f":"IF('Fiches_Utilisateurs_Service#10'!E15=1,1,0)","v":0},null,{"$f":"IF('Fiches_Utilisateurs_Service#10'!G15=1,1,0)","v":0},null,{"$f":"IF('Fiches_Utilisateurs_Service#10'!I15=1,1,0)","v":0},null,{"$f":"IF('Fiches_Utilisateurs_Service#10'!K15=1,1,0)","v":0},null,{"$f":"IF('Fiches_Utilisateurs_Service#10'!M15=1,1,0)","v":0},null,{"$f":"IF('Fiches_Utilisateurs_Service#10'!O15=1,1,0)","v":0},null,{"$f":"IF('Fiches_Utilisateurs_Service#10'!Q15=1,1,0)","v":0},null,{"$f":"IF('Fiches_Utilisateurs_Service#10'!S15=1,1,0)","v":0},null,{"$f":"IF('Fiches_Utilisateurs_Service#10'!U15=1,1,0)","v":0},null,{"$f":"IF('Fiches_Utilisateurs_Service#10'!W15=1,1,0)","v":0},null,{"$f":"IF('Fiches_Utilisateurs_Service#10'!Y15=1,1,0)","v":0},null,{"$f":"IF('Fiches_Utilisateurs_Service#10'!AA15=1,1,0)","v":0},null,{"$f":"IF('Fiches_Utilisateurs_Service#10'!AC15=1,1,0)","v":0},null,{"$f":"IF('Fiches_Utilisateurs_Service#10'!AE15=1,1,0)","v":0},null,{"$f":"IF('Fiches_Utilisateurs_Service#10'!AG15=1,1,0)","v":0},null,{"$f":"IF('Fiches_Utilisateurs_Service#10'!AI15=1,1,0)","v":0},null,{"$f":"IF('Fiches_Utilisateurs_Service#10'!AK15=1,1,0)","v":0},null,{"$f":"IF('Fiches_Utilisateurs_Service#10'!AM15=1,1,0)","v":0},null,{"$f":"IF('Fiches_Utilisateurs_Service#10'!AO15=1,1,0)","v":0},null,{"$f":"IF('Fiches_Utilisateurs_Service#10'!AQ15=1,1,0)","v":0},null,{"$f":"IF('Fiches_Utilisateurs_Service#10'!AS15=1,1,0)","v":0},null,{"$f":"IF('Fiches_Utilisateurs_Service#10'!AU15=1,1,0)","v":0},null,{"$f":"IF('Fiches_Utilisateurs_Service#10'!AW15=1,1,0)","v":0},null,{"$f":"IF('Fiches_Utilisateurs_Service#10'!AY15=1,1,0)","v":0},null,{"$f":"IF('Fiches_Utilisateurs_Service#10'!BA15=1,1,0)","v":0},null,{"$f":"IF('Fiches_Utilisateurs_Service#10'!BC15=1,1,0)","v":0},null,{"$f":"IF('Fiches_Utilisateurs_Service#10'!BE15=1,1,0)","v":0},null,{"$f":"IF('Fiches_Utilisateurs_Service#10'!BG15=1,1,0)","v":0},null,{"$f":"IF('Fiches_Utilisateurs_Service#10'!BI15=1,1,0)","v":0},null,{"$f":"IF('Fiches_Utilisateurs_Service#10'!BK15=1,1,0)","v":0},null,{"$f":"IF('Fiches_Utilisateurs_Service#10'!BM15=1,1,0)","v":0},null,{"$f":"IF('Fiches_Utilisateurs_Service#10'!BO15=1,1,0)","v":0},null,{"$f":"IF('Fiches_Utilisateurs_Service#10'!BQ15=1,1,0)","v":0},null,{"$f":"IF('Fiches_Utilisateurs_Service#10'!BS15=1,1,0)","v":0},null,{"$f":"IF('Fiches_Utilisateurs_Service#10'!BU15=1,1,0)","v":0},null,{"$f":"IF('Fiches_Utilisateurs_Service#10'!BW15=1,1,0)","v":0},null,{"$f":"IF('Fiches_Utilisateurs_Service#10'!BY15=1,1,0)","v":0},null,{"$f":"IF('Fiches_Utilisateurs_Service#10'!CA15=1,1,0)","v":0},null,{"$f":"IF('Fiches_Utilisateurs_Service#10'!CC15=1,1,0)","v":0}]
[]
[null,null,{"$f":"IF('Fiches_Utilisateurs_Service#10'!C17=1,1,0)","v":0},null,{"$f":"IF('Fiches_Utilisateurs_Service#10'!E17=1,1,0)","v":0},null,{"$f":"IF('Fiches_Utilisateurs_Service#10'!G17=1,1,0)","v":0},null,{"$f":"IF('Fiches_Utilisateurs_Service#10'!I17=1,1,0)","v":0},null,{"$f":"IF('Fiches_Utilisateurs_Service#10'!K17=1,1,0)","v":0},null,{"$f":"IF('Fiches_Utilisateurs_Service#10'!M17=1,1,0)","v":0},null,{"$f":"IF('Fiches_Utilisateurs_Service#10'!O17=1,1,0)","v":0},null,{"$f":"IF('Fiches_Utilisateurs_Service#10'!Q17=1,1,0)","v":0},null,{"$f":"IF('Fiches_Utilisateurs_Service#10'!S17=1,1,0)","v":0},null,{"$f":"IF('Fiches_Utilisateurs_Service#10'!U17=1,1,0)","v":0},null,{"$f":"IF('Fiches_Utilisateurs_Service#10'!W17=1,1,0)","v":0},null,{"$f":"IF('Fiches_Utilisateurs_Service#10'!Y17=1,1,0)","v":0},null,{"$f":"IF('Fiches_Utilisateurs_Service#10'!AA17=1,1,0)","v":0},null,{"$f":"IF('Fiches_Utilisateurs_Service#10'!AC17=1,1,0)","v":0},null,{"$f":"IF('Fiches_Utilisateurs_Service#10'!AE17=1,1,0)","v":0},null,{"$f":"IF('Fiches_Utilisateurs_Service#10'!AG17=1,1,0)","v":0},null,{"$f":"IF('Fiches_Utilisateurs_Service#10'!AI17=1,1,0)","v":0},null,{"$f":"IF('Fiches_Utilisateurs_Service#10'!AK17=1,1,0)","v":0},null,{"$f":"IF('Fiches_Utilisateurs_Service#10'!AM17=1,1,0)","v":0},null,{"$f":"IF('Fiches_Utilisateurs_Service#10'!AO17=1,1,0)","v":0},null,{"$f":"IF('Fiches_Utilisateurs_Service#10'!AQ17=1,1,0)","v":0},null,{"$f":"IF('Fiches_Utilisateurs_Service#10'!AS17=1,1,0)","v":0},null,{"$f":"IF('Fiches_Utilisateurs_Service#10'!AU17=1,1,0)","v":0},null,{"$f":"IF('Fiches_Utilisateurs_Service#10'!AW17=1,1,0)","v":0},null,{"$f":"IF('Fiches_Utilisateurs_Service#10'!AY17=1,1,0)","v":0},null,{"$f":"IF('Fiches_Utilisateurs_Service#10'!BA17=1,1,0)","v":0},null,{"$f":"IF('Fiches_Utilisateurs_Service#10'!BC17=1,1,0)","v":0},null,{"$f":"IF('Fiches_Utilisateurs_Service#10'!BE17=1,1,0)","v":0},null,{"$f":"IF('Fiches_Utilisateurs_Service#10'!BG17=1,1,0)","v":0},null,{"$f":"IF('Fiches_Utilisateurs_Service#10'!BI17=1,1,0)","v":0},null,{"$f":"IF('Fiches_Utilisateurs_Service#10'!BK17=1,1,0)","v":0},null,{"$f":"IF('Fiches_Utilisateurs_Service#10'!BM17=1,1,0)","v":0},null,{"$f":"IF('Fiches_Utilisateurs_Service#10'!BO17=1,1,0)","v":0},null,{"$f":"IF('Fiches_Utilisateurs_Service#10'!BQ17=1,1,0)","v":0},null,{"$f":"IF('Fiches_Utilisateurs_Service#10'!BS17=1,1,0)","v":0},null,{"$f":"IF('Fiches_Utilisateurs_Service#10'!BU17=1,1,0)","v":0},null,{"$f":"IF('Fiches_Utilisateurs_Service#10'!BW17=1,1,0)","v":0},null,{"$f":"IF('Fiches_Utilisateurs_Service#10'!BY17=1,1,0)","v":0},null,{"$f":"IF('Fiches_Utilisateurs_Service#10'!CA17=1,1,0)","v":0},null,{"$f":"IF('Fiches_Utilisateurs_Service#10'!CC17=1,1,0)","v":0}]
[]
[null,null,{"$f":"IF('Fiches_Utilisateurs_Service#10'!C19=1,1,0)","v":0},null,{"$f":"IF('Fiches_Utilisateurs_Service#10'!E19=1,1,0)","v":0},null,{"$f":"IF('Fiches_Utilisateurs_Service#10'!G19=1,1,0)","v":0},null,{"$f":"IF('Fiches_Utilisateurs_Service#10'!I19=1,1,0)","v":0},null,{"$f":"IF('Fiches_Utilisateurs_Service#10'!K19=1,1,0)","v":0},null,{"$f":"IF('Fiches_Utilisateurs_Service#10'!M19=1,1,0)","v":0},null,{"$f":"IF('Fiches_Utilisateurs_Service#10'!O19=1,1,0)","v":0},null,{"$f":"IF('Fiches_Utilisateurs_Service#10'!Q19=1,1,0)","v":0},null,{"$f":"IF('Fiches_Utilisateurs_Service#10'!S19=1,1,0)","v":0},null,{"$f":"IF('Fiches_Utilisateurs_Service#10'!U19=1,1,0)","v":0},null,{"$f":"IF('Fiches_Utilisateurs_Service#10'!W19=1,1,0)","v":0},null,{"$f":"IF('Fiches_Utilisateurs_Service#10'!Y19=1,1,0)","v":0},null,{"$f":"IF('Fiches_Utilisateurs_Service#10'!AA19=1,1,0)","v":0},null,{"$f":"IF('Fiches_Utilisateurs_Service#10'!AC19=1,1,0)","v":0},null,{"$f":"IF('Fiches_Utilisateurs_Service#10'!AE19=1,1,0)","v":0},null,{"$f":"IF('Fiches_Utilisateurs_Service#10'!AG19=1,1,0)","v":0},null,{"$f":"IF('Fiches_Utilisateurs_Service#10'!AI19=1,1,0)","v":0},null,{"$f":"IF('Fiches_Utilisateurs_Service#10'!AK19=1,1,0)","v":0},null,{"$f":"IF('Fiches_Utilisateurs_Service#10'!AM19=1,1,0)","v":0},null,{"$f":"IF('Fiches_Utilisateurs_Service#10'!AO19=1,1,0)","v":0},null,{"$f":"IF('Fiches_Utilisateurs_Service#10'!AQ19=1,1,0)","v":0},null,{"$f":"IF('Fiches_Utilisateurs_Service#10'!AS19=1,1,0)","v":0},null,{"$f":"IF('Fiches_Utilisateurs_Service#10'!AU19=1,1,0)","v":0},null,{"$f":"IF('Fiches_Utilisateurs_Service#10'!AW19=1,1,0)","v":0},null,{"$f":"IF('Fiches_Utilisateurs_Service#10'!AY19=1,1,0)","v":0},null,{"$f":"IF('Fiches_Utilisateurs_Service#10'!BA19=1,1,0)","v":0},null,{"$f":"IF('Fiches_Utilisateurs_Service#10'!BC19=1,1,0)","v":0},null,{"$f":"IF('Fiches_Utilisateurs_Service#10'!BE19=1,1,0)","v":0},null,{"$f":"IF('Fiches_Utilisateurs_Service#10'!BG19=1,1,0)","v":0},null,{"$f":"IF('Fiches_Utilisateurs_Service#10'!BI19=1,1,0)","v":0},null,{"$f":"IF('Fiches_Utilisateurs_Service#10'!BK19=1,1,0)","v":0},null,{"$f":"IF('Fiches_Utilisateurs_Service#10'!BM19=1,1,0)","v":0},null,{"$f":"IF('Fiches_Utilisateurs_Service#10'!BO19=1,1,0)","v":0},null,{"$f":"IF('Fiches_Utilisateurs_Service#10'!BQ19=1,1,0)","v":0},null,{"$f":"IF('Fiches_Utilisateurs_Service#10'!BS19=1,1,0)","v":0},null,{"$f":"IF('Fiches_Utilisateurs_Service#10'!BU19=1,1,0)","v":0},null,{"$f":"IF('Fiches_Utilisateurs_Service#10'!BW19=1,1,0)","v":0},null,{"$f":"IF('Fiches_Utilisateurs_Service#10'!BY19=1,1,0)","v":0},null,{"$f":"IF('Fiches_Utilisateurs_Service#10'!CA19=1,1,0)","v":0},null,{"$f":"IF('Fiches_Utilisateurs_Service#10'!CC19=1,1,0)","v":0}]
[]
[null,null,{"$f":"IF('Fiches_Utilisateurs_Service#10'!C21=1,1,0)","v":0},null,{"$f":"IF('Fiches_Utilisateurs_Service#10'!E21=1,1,0)","v":0},null,{"$f":"IF('Fiches_Utilisateurs_Service#10'!G21=1,1,0)","v":0},null,{"$f":"IF('Fiches_Utilisateurs_Service#10'!I21=1,1,0)","v":0},null,{"$f":"IF('Fiches_Utilisateurs_Service#10'!K21=1,1,0)","v":0},null,{"$f":"IF('Fiches_Utilisateurs_Service#10'!M21=1,1,0)","v":0},null,{"$f":"IF('Fiches_Utilisateurs_Service#10'!O21=1,1,0)","v":0},null,{"$f":"IF('Fiches_Utilisateurs_Service#10'!Q21=1,1,0)","v":0},null,{"$f":"IF('Fiches_Utilisateurs_Service#10'!S21=1,1,0)","v":0},null,{"$f":"IF('Fiches_Utilisateurs_Service#10'!U21=1,1,0)","v":0},null,{"$f":"IF('Fiches_Utilisateurs_Service#10'!W21=1,1,0)","v":0},null,{"$f":"IF('Fiches_Utilisateurs_Service#10'!Y21=1,1,0)","v":0},null,{"$f":"IF('Fiches_Utilisateurs_Service#10'!AA21=1,1,0)","v":0},null,{"$f":"IF('Fiches_Utilisateurs_Service#10'!AC21=1,1,0)","v":0},null,{"$f":"IF('Fiches_Utilisateurs_Service#10'!AE21=1,1,0)","v":0},null,{"$f":"IF('Fiches_Utilisateurs_Service#10'!AG21=1,1,0)","v":0},null,{"$f":"IF('Fiches_Utilisateurs_Service#10'!AI21=1,1,0)","v":0},null,{"$f":"IF('Fiches_Utilisateurs_Service#10'!AK21=1,1,0)","v":0},null,{"$f":"IF('Fiches_Utilisateurs_Service#10'!AM21=1,1,0)","v":0},null,{"$f":"IF('Fiches_Utilisateurs_Service#10'!AO21=1,1,0)","v":0},null,{"$f":"IF('Fiches_Utilisateurs_Service#10'!AQ21=1,1,0)","v":0},null,{"$f":"IF('Fiches_Utilisateurs_Service#10'!AS21=1,1,0)","v":0},null,{"$f":"IF('Fiches_Utilisateurs_Service#10'!AU21=1,1,0)","v":0},null,{"$f":"IF('Fiches_Utilisateurs_Service#10'!AW21=1,1,0)","v":0},null,{"$f":"IF('Fiches_Utilisateurs_Service#10'!AY21=1,1,0)","v":0},null,{"$f":"IF('Fiches_Utilisateurs_Service#10'!BA21=1,1,0)","v":0},null,{"$f":"IF('Fiches_Utilisateurs_Service#10'!BC21=1,1,0)","v":0},null,{"$f":"IF('Fiches_Utilisateurs_Service#10'!BE21=1,1,0)","v":0},null,{"$f":"IF('Fiches_Utilisateurs_Service#10'!BG21=1,1,0)","v":0},null,{"$f":"IF('Fiches_Utilisateurs_Service#10'!BI21=1,1,0)","v":0},null,{"$f":"IF('Fiches_Utilisateurs_Service#10'!BK21=1,1,0)","v":0},null,{"$f":"IF('Fiches_Utilisateurs_Service#10'!BM21=1,1,0)","v":0},null,{"$f":"IF('Fiches_Utilisateurs_Service#10'!BO21=1,1,0)","v":0},null,{"$f":"IF('Fiches_Utilisateurs_Service#10'!BQ21=1,1,0)","v":0},null,{"$f":"IF('Fiches_Utilisateurs_Service#10'!BS21=1,1,0)","v":0},null,{"$f":"IF('Fiches_Utilisateurs_Service#10'!BU21=1,1,0)","v":0},null,{"$f":"IF('Fiches_Utilisateurs_Service#10'!BW21=1,1,0)","v":0},null,{"$f":"IF('Fiches_Utilisateurs_Service#10'!BY21=1,1,0)","v":0},null,{"$f":"IF('Fiches_Utilisateurs_Service#10'!CA21=1,1,0)","v":0},null,{"$f":"IF('Fiches_Utilisateurs_Service#10'!CC21=1,1,0)","v":0}]
[]
[null,null,{"$f":"IF('Fiches_Utilisateurs_Service#10'!C23=1,1,0)","v":0},null,{"$f":"IF('Fiches_Utilisateurs_Service#10'!E23=1,1,0)","v":0},null,{"$f":"IF('Fiches_Utilisateurs_Service#10'!G23=1,1,0)","v":0},null,{"$f":"IF('Fiches_Utilisateurs_Service#10'!I23=1,1,0)","v":0},null,{"$f":"IF('Fiches_Utilisateurs_Service#10'!K23=1,1,0)","v":0},null,{"$f":"IF('Fiches_Utilisateurs_Service#10'!M23=1,1,0)","v":0},null,{"$f":"IF('Fiches_Utilisateurs_Service#10'!O23=1,1,0)","v":0},null,{"$f":"IF('Fiches_Utilisateurs_Service#10'!Q23=1,1,0)","v":0},null,{"$f":"IF('Fiches_Utilisateurs_Service#10'!S23=1,1,0)","v":0},null,{"$f":"IF('Fiches_Utilisateurs_Service#10'!U23=1,1,0)","v":0},null,{"$f":"IF('Fiches_Utilisateurs_Service#10'!W23=1,1,0)","v":0},null,{"$f":"IF('Fiches_Utilisateurs_Service#10'!Y23=1,1,0)","v":0},null,{"$f":"IF('Fiches_Utilisateurs_Service#10'!AA23=1,1,0)","v":0},null,{"$f":"IF('Fiches_Utilisateurs_Service#10'!AC23=1,1,0)","v":0},null,{"$f":"IF('Fiches_Utilisateurs_Service#10'!AE23=1,1,0)","v":0},null,{"$f":"IF('Fiches_Utilisateurs_Service#10'!AG23=1,1,0)","v":0},null,{"$f":"IF('Fiches_Utilisateurs_Service#10'!AI23=1,1,0)","v":0},null,{"$f":"IF('Fiches_Utilisateurs_Service#10'!AK23=1,1,0)","v":0},null,{"$f":"IF('Fiches_Utilisateurs_Service#10'!AM23=1,1,0)","v":0},null,{"$f":"IF('Fiches_Utilisateurs_Service#10'!AO23=1,1,0)","v":0},null,{"$f":"IF('Fiches_Utilisateurs_Service#10'!AQ23=1,1,0)","v":0},null,{"$f":"IF('Fiches_Utilisateurs_Service#10'!AS23=1,1,0)","v":0},null,{"$f":"IF('Fiches_Utilisateurs_Service#10'!AU23=1,1,0)","v":0},null,{"$f":"IF('Fiches_Utilisateurs_Service#10'!AW23=1,1,0)","v":0},null,{"$f":"IF('Fiches_Utilisateurs_Service#10'!AY23=1,1,0)","v":0},null,{"$f":"IF('Fiches_Utilisateurs_Service#10'!BA23=1,1,0)","v":0},null,{"$f":"IF('Fiches_Utilisateurs_Service#10'!BC23=1,1,0)","v":0},null,{"$f":"IF('Fiches_Utilisateurs_Service#10'!BE23=1,1,0)","v":0},null,{"$f":"IF('Fiches_Utilisateurs_Service#10'!BG23=1,1,0)","v":0},null,{"$f":"IF('Fiches_Utilisateurs_Service#10'!BI23=1,1,0)","v":0},null,{"$f":"IF('Fiches_Utilisateurs_Service#10'!BK23=1,1,0)","v":0},null,{"$f":"IF('Fiches_Utilisateurs_Service#10'!BM23=1,1,0)","v":0},null,{"$f":"IF('Fiches_Utilisateurs_Service#10'!BO23=1,1,0)","v":0},null,{"$f":"IF('Fiches_Utilisateurs_Service#10'!BQ23=1,1,0)","v":0},null,{"$f":"IF('Fiches_Utilisateurs_Service#10'!BS23=1,1,0)","v":0},null,{"$f":"IF('Fiches_Utilisateurs_Service#10'!BU23=1,1,0)","v":0},null,{"$f":"IF('Fiches_Utilisateurs_Service#10'!BW23=1,1,0)","v":0},null,{"$f":"IF('Fiches_Utilisateurs_Service#10'!BY23=1,1,0)","v":0},null,{"$f":"IF('Fiches_Utilisateurs_Service#10'!CA23=1,1,0)","v":0},null,{"$f":"IF('Fiches_Utilisateurs_Service#10'!CC23=1,1,0)","v":0}]
[]
[null,null,{"$f":"IF('Fiches_Utilisateurs_Service#10'!C25=1,1,0)","v":0},null,{"$f":"IF('Fiches_Utilisateurs_Service#10'!E25=1,1,0)","v":0},null,{"$f":"IF('Fiches_Utilisateurs_Service#10'!G25=1,1,0)","v":0},null,{"$f":"IF('Fiches_Utilisateurs_Service#10'!I25=1,1,0)","v":0},null,{"$f":"IF('Fiches_Utilisateurs_Service#10'!K25=1,1,0)","v":0},null,{"$f":"IF('Fiches_Utilisateurs_Service#10'!M25=1,1,0)","v":0},null,{"$f":"IF('Fiches_Utilisateurs_Service#10'!O25=1,1,0)","v":0},null,{"$f":"IF('Fiches_Utilisateurs_Service#10'!Q25=1,1,0)","v":0},null,{"$f":"IF('Fiches_Utilisateurs_Service#10'!S25=1,1,0)","v":0},null,{"$f":"IF('Fiches_Utilisateurs_Service#10'!U25=1,1,0)","v":0},null,{"$f":"IF('Fiches_Utilisateurs_Service#10'!W25=1,1,0)","v":0},null,{"$f":"IF('Fiches_Utilisateurs_Service#10'!Y25=1,1,0)","v":0},null,{"$f":"IF('Fiches_Utilisateurs_Service#10'!AA25=1,1,0)","v":0},null,{"$f":"IF('Fiches_Utilisateurs_Service#10'!AC25=1,1,0)","v":0},null,{"$f":"IF('Fiches_Utilisateurs_Service#10'!AE25=1,1,0)","v":0},null,{"$f":"IF('Fiches_Utilisateurs_Service#10'!AG25=1,1,0)","v":0},null,{"$f":"IF('Fiches_Utilisateurs_Service#10'!AI25=1,1,0)","v":0},null,{"$f":"IF('Fiches_Utilisateurs_Service#10'!AK25=1,1,0)","v":0},null,{"$f":"IF('Fiches_Utilisateurs_Service#10'!AM25=1,1,0)","v":0},null,{"$f":"IF('Fiches_Utilisateurs_Service#10'!AO25=1,1,0)","v":0},null,{"$f":"IF('Fiches_Utilisateurs_Service#10'!AQ25=1,1,0)","v":0},null,{"$f":"IF('Fiches_Utilisateurs_Service#10'!AS25=1,1,0)","v":0},null,{"$f":"IF('Fiches_Utilisateurs_Service#10'!AU25=1,1,0)","v":0},null,{"$f":"IF('Fiches_Utilisateurs_Service#10'!AW25=1,1,0)","v":0},null,{"$f":"IF('Fiches_Utilisateurs_Service#10'!AY25=1,1,0)","v":0},null,{"$f":"IF('Fiches_Utilisateurs_Service#10'!BA25=1,1,0)","v":0},null,{"$f":"IF('Fiches_Utilisateurs_Service#10'!BC25=1,1,0)","v":0},null,{"$f":"IF('Fiches_Utilisateurs_Service#10'!BE25=1,1,0)","v":0},null,{"$f":"IF('Fiches_Utilisateurs_Service#10'!BG25=1,1,0)","v":0},null,{"$f":"IF('Fiches_Utilisateurs_Service#10'!BI25=1,1,0)","v":0},null,{"$f":"IF('Fiches_Utilisateurs_Service#10'!BK25=1,1,0)","v":0},null,{"$f":"IF('Fiches_Utilisateurs_Service#10'!BM25=1,1,0)","v":0},null,{"$f":"IF('Fiches_Utilisateurs_Service#10'!BO25=1,1,0)","v":0},null,{"$f":"IF('Fiches_Utilisateurs_Service#10'!BQ25=1,1,0)","v":0},null,{"$f":"IF('Fiches_Utilisateurs_Service#10'!BS25=1,1,0)","v":0},null,{"$f":"IF('Fiches_Utilisateurs_Service#10'!BU25=1,1,0)","v":0},null,{"$f":"IF('Fiches_Utilisateurs_Service#10'!BW25=1,1,0)","v":0},null,{"$f":"IF('Fiches_Utilisateurs_Service#10'!BY25=1,1,0)","v":0},null,{"$f":"IF('Fiches_Utilisateurs_Service#10'!CA25=1,1,0)","v":0},null,{"$f":"IF('Fiches_Utilisateurs_Service#10'!CC25=1,1,0)","v":0}]
[]
[null,null,{"$f":"IF('Fiches_Utilisateurs_Service#10'!C27=1,1,0)","v":0},null,{"$f":"IF('Fiches_Utilisateurs_Service#10'!E27=1,1,0)","v":0},null,{"$f":"IF('Fiches_Utilisateurs_Service#10'!G27=1,1,0)","v":0},null,{"$f":"IF('Fiches_Utilisateurs_Service#10'!I27=1,1,0)","v":0},null,{"$f":"IF('Fiches_Utilisateurs_Service#10'!K27=1,1,0)","v":0},null,{"$f":"IF('Fiches_Utilisateurs_Service#10'!M27=1,1,0)","v":0},null,{"$f":"IF('Fiches_Utilisateurs_Service#10'!O27=1,1,0)","v":0},null,{"$f":"IF('Fiches_Utilisateurs_Service#10'!Q27=1,1,0)","v":0},null,{"$f":"IF('Fiches_Utilisateurs_Service#10'!S27=1,1,0)","v":0},null,{"$f":"IF('Fiches_Utilisateurs_Service#10'!U27=1,1,0)","v":0},null,{"$f":"IF('Fiches_Utilisateurs_Service#10'!W27=1,1,0)","v":0},null,{"$f":"IF('Fiches_Utilisateurs_Service#10'!Y27=1,1,0)","v":0},null,{"$f":"IF('Fiches_Utilisateurs_Service#10'!AA27=1,1,0)","v":0},null,{"$f":"IF('Fiches_Utilisateurs_Service#10'!AC27=1,1,0)","v":0},null,{"$f":"IF('Fiches_Utilisateurs_Service#10'!AE27=1,1,0)","v":0},null,{"$f":"IF('Fiches_Utilisateurs_Service#10'!AG27=1,1,0)","v":0},null,{"$f":"IF('Fiches_Utilisateurs_Service#10'!AI27=1,1,0)","v":0},null,{"$f":"IF('Fiches_Utilisateurs_Service#10'!AK27=1,1,0)","v":0},null,{"$f":"IF('Fiches_Utilisateurs_Service#10'!AM27=1,1,0)","v":0},null,{"$f":"IF('Fiches_Utilisateurs_Service#10'!AO27=1,1,0)","v":0},null,{"$f":"IF('Fiches_Utilisateurs_Service#10'!AQ27=1,1,0)","v":0},null,{"$f":"IF('Fiches_Utilisateurs_Service#10'!AS27=1,1,0)","v":0},null,{"$f":"IF('Fiches_Utilisateurs_Service#10'!AU27=1,1,0)","v":0},null,{"$f":"IF('Fiches_Utilisateurs_Service#10'!AW27=1,1,0)","v":0},null,{"$f":"IF('Fiches_Utilisateurs_Service#10'!AY27=1,1,0)","v":0},null,{"$f":"IF('Fiches_Utilisateurs_Service#10'!BA27=1,1,0)","v":0},null,{"$f":"IF('Fiches_Utilisateurs_Service#10'!BC27=1,1,0)","v":0},null,{"$f":"IF('Fiches_Utilisateurs_Service#10'!BE27=1,1,0)","v":0},null,{"$f":"IF('Fiches_Utilisateurs_Service#10'!BG27=1,1,0)","v":0},null,{"$f":"IF('Fiches_Utilisateurs_Service#10'!BI27=1,1,0)","v":0},null,{"$f":"IF('Fiches_Utilisateurs_Service#10'!BK27=1,1,0)","v":0},null,{"$f":"IF('Fiches_Utilisateurs_Service#10'!BM27=1,1,0)","v":0},null,{"$f":"IF('Fiches_Utilisateurs_Service#10'!BO27=1,1,0)","v":0},null,{"$f":"IF('Fiches_Utilisateurs_Service#10'!BQ27=1,1,0)","v":0},null,{"$f":"IF('Fiches_Utilisateurs_Service#10'!BS27=1,1,0)","v":0},null,{"$f":"IF('Fiches_Utilisateurs_Service#10'!BU27=1,1,0)","v":0},null,{"$f":"IF('Fiches_Utilisateurs_Service#10'!BW27=1,1,0)","v":0},null,{"$f":"IF('Fiches_Utilisateurs_Service#10'!BY27=1,1,0)","v":0},null,{"$f":"IF('Fiches_Utilisateurs_Service#10'!CA27=1,1,0)","v":0},null,{"$f":"IF('Fiches_Utilisateurs_Service#10'!CC27=1,1,0)","v":0}]
[]
[null,null,{"$f":"IF('Fiches_Utilisateurs_Service#10'!C29=1,1,0)","v":0},null,{"$f":"IF('Fiches_Utilisateurs_Service#10'!E29=1,1,0)","v":0},null,{"$f":"IF('Fiches_Utilisateurs_Service#10'!G29=1,1,0)","v":0},null,{"$f":"IF('Fiches_Utilisateurs_Service#10'!I29=1,1,0)","v":0},null,{"$f":"IF('Fiches_Utilisateurs_Service#10'!K29=1,1,0)","v":0},null,{"$f":"IF('Fiches_Utilisateurs_Service#10'!M29=1,1,0)","v":0},null,{"$f":"IF('Fiches_Utilisateurs_Service#10'!O29=1,1,0)","v":0},null,{"$f":"IF('Fiches_Utilisateurs_Service#10'!Q29=1,1,0)","v":0},null,{"$f":"IF('Fiches_Utilisateurs_Service#10'!S29=1,1,0)","v":0},null,{"$f":"IF('Fiches_Utilisateurs_Service#10'!U29=1,1,0)","v":0},null,{"$f":"IF('Fiches_Utilisateurs_Service#10'!W29=1,1,0)","v":0},null,{"$f":"IF('Fiches_Utilisateurs_Service#10'!Y29=1,1,0)","v":0},null,{"$f":"IF('Fiches_Utilisateurs_Service#10'!AA29=1,1,0)","v":0},null,{"$f":"IF('Fiches_Utilisateurs_Service#10'!AC29=1,1,0)","v":0},null,{"$f":"IF('Fiches_Utilisateurs_Service#10'!AE29=1,1,0)","v":0},null,{"$f":"IF('Fiches_Utilisateurs_Service#10'!AG29=1,1,0)","v":0},null,{"$f":"IF('Fiches_Utilisateurs_Service#10'!AI29=1,1,0)","v":0},null,{"$f":"IF('Fiches_Utilisateurs_Service#10'!AK29=1,1,0)","v":0},null,{"$f":"IF('Fiches_Utilisateurs_Service#10'!AM29=1,1,0)","v":0},null,{"$f":"IF('Fiches_Utilisateurs_Service#10'!AO29=1,1,0)","v":0},null,{"$f":"IF('Fiches_Utilisateurs_Service#10'!AQ29=1,1,0)","v":0},null,{"$f":"IF('Fiches_Utilisateurs_Service#10'!AS29=1,1,0)","v":0},null,{"$f":"IF('Fiches_Utilisateurs_Service#10'!AU29=1,1,0)","v":0},null,{"$f":"IF('Fiches_Utilisateurs_Service#10'!AW29=1,1,0)","v":0},null,{"$f":"IF('Fiches_Utilisateurs_Service#10'!AY29=1,1,0)","v":0},null,{"$f":"IF('Fiches_Utilisateurs_Service#10'!BA29=1,1,0)","v":0},null,{"$f":"IF('Fiches_Utilisateurs_Service#10'!BC29=1,1,0)","v":0},null,{"$f":"IF('Fiches_Utilisateurs_Service#10'!BE29=1,1,0)","v":0},null,{"$f":"IF('Fiches_Utilisateurs_Service#10'!BG29=1,1,0)","v":0},null,{"$f":"IF('Fiches_Utilisateurs_Service#10'!BI29=1,1,0)","v":0},null,{"$f":"IF('Fiches_Utilisateurs_Service#10'!BK29=1,1,0)","v":0},null,{"$f":"IF('Fiches_Utilisateurs_Service#10'!BM29=1,1,0)","v":0},null,{"$f":"IF('Fiches_Utilisateurs_Service#10'!BO29=1,1,0)","v":0},null,{"$f":"IF('Fiches_Utilisateurs_Service#10'!BQ29=1,1,0)","v":0},null,{"$f":"IF('Fiches_Utilisateurs_Service#10'!BS29=1,1,0)","v":0},null,{"$f":"IF('Fiches_Utilisateurs_Service#10'!BU29=1,1,0)","v":0},null,{"$f":"IF('Fiches_Utilisateurs_Service#10'!BW29=1,1,0)","v":0},null,{"$f":"IF('Fiches_Utilisateurs_Service#10'!BY29=1,1,0)","v":0},null,{"$f":"IF('Fiches_Utilisateurs_Service#10'!CA29=1,1,0)","v":0},null,{"$f":"IF('Fiches_Utilisateurs_Service#10'!CC29=1,1,0)","v":0}]
[]
[null,null,{"$f":"IF('Fiches_Utilisateurs_Service#10'!C31=1,1,0)","v":0},null,{"$f":"IF('Fiches_Utilisateurs_Service#10'!E31=1,1,0)","v":0},null,{"$f":"IF('Fiches_Utilisateurs_Service#10'!G31=1,1,0)","v":0},null,{"$f":"IF('Fiches_Utilisateurs_Service#10'!I31=1,1,0)","v":0},null,{"$f":"IF('Fiches_Utilisateurs_Service#10'!K31=1,1,0)","v":0},null,{"$f":"IF('Fiches_Utilisateurs_Service#10'!M31=1,1,0)","v":0},null,{"$f":"IF('Fiches_Utilisateurs_Service#10'!O31=1,1,0)","v":0},null,{"$f":"IF('Fiches_Utilisateurs_Service#10'!Q31=1,1,0)","v":0},null,{"$f":"IF('Fiches_Utilisateurs_Service#10'!S31=1,1,0)","v":0},null,{"$f":"IF('Fiches_Utilisateurs_Service#10'!U31=1,1,0)","v":0},null,{"$f":"IF('Fiches_Utilisateurs_Service#10'!W31=1,1,0)","v":0},null,{"$f":"IF('Fiches_Utilisateurs_Service#10'!Y31=1,1,0)","v":0},null,{"$f":"IF('Fiches_Utilisateurs_Service#10'!AA31=1,1,0)","v":0},null,{"$f":"IF('Fiches_Utilisateurs_Service#10'!AC31=1,1,0)","v":0},null,{"$f":"IF('Fiches_Utilisateurs_Service#10'!AE31=1,1,0)","v":0},null,{"$f":"IF('Fiches_Utilisateurs_Service#10'!AG31=1,1,0)","v":0},null,{"$f":"IF('Fiches_Utilisateurs_Service#10'!AI31=1,1,0)","v":0},null,{"$f":"IF('Fiches_Utilisateurs_Service#10'!AK31=1,1,0)","v":0},null,{"$f":"IF('Fiches_Utilisateurs_Service#10'!AM31=1,1,0)","v":0},null,{"$f":"IF('Fiches_Utilisateurs_Service#10'!AO31=1,1,0)","v":0},null,{"$f":"IF('Fiches_Utilisateurs_Service#10'!AQ31=1,1,0)","v":0},null,{"$f":"IF('Fiches_Utilisateurs_Service#10'!AS31=1,1,0)","v":0},null,{"$f":"IF('Fiches_Utilisateurs_Service#10'!AU31=1,1,0)","v":0},null,{"$f":"IF('Fiches_Utilisateurs_Service#10'!AW31=1,1,0)","v":0},null,{"$f":"IF('Fiches_Utilisateurs_Service#10'!AY31=1,1,0)","v":0},null,{"$f":"IF('Fiches_Utilisateurs_Service#10'!BA31=1,1,0)","v":0},null,{"$f":"IF('Fiches_Utilisateurs_Service#10'!BC31=1,1,0)","v":0},null,{"$f":"IF('Fiches_Utilisateurs_Service#10'!BE31=1,1,0)","v":0},null,{"$f":"IF('Fiches_Utilisateurs_Service#10'!BG31=1,1,0)","v":0},null,{"$f":"IF('Fiches_Utilisateurs_Service#10'!BI31=1,1,0)","v":0},null,{"$f":"IF('Fiches_Utilisateurs_Service#10'!BK31=1,1,0)","v":0},null,{"$f":"IF('Fiches_Utilisateurs_Service#10'!BM31=1,1,0)","v":0},null,{"$f":"IF('Fiches_Utilisateurs_Service#10'!BO31=1,1,0)","v":0},null,{"$f":"IF('Fiches_Utilisateurs_Service#10'!BQ31=1,1,0)","v":0},null,{"$f":"IF('Fiches_Utilisateurs_Service#10'!BS31=1,1,0)","v":0},null,{"$f":"IF('Fiches_Utilisateurs_Service#10'!BU31=1,1,0)","v":0},null,{"$f":"IF('Fiches_Utilisateurs_Service#10'!BW31=1,1,0)","v":0},null,{"$f":"IF('Fiches_Utilisateurs_Service#10'!BY31=1,1,0)","v":0},null,{"$f":"IF('Fiches_Utilisateurs_Service#10'!CA31=1,1,0)","v":0},null,{"$f":"IF('Fiches_Utilisateurs_Service#10'!CC31=1,1,0)","v":0}]
[]
[null,null,{"$f":"IF('Fiches_Utilisateurs_Service#10'!C33=1,1,0)","v":0},null,{"$f":"IF('Fiches_Utilisateurs_Service#10'!E33=1,1,0)","v":0},null,{"$f":"IF('Fiches_Utilisateurs_Service#10'!G33=1,1,0)","v":0},null,{"$f":"IF('Fiches_Utilisateurs_Service#10'!I33=1,1,0)","v":0},null,{"$f":"IF('Fiches_Utilisateurs_Service#10'!K33=1,1,0)","v":0},null,{"$f":"IF('Fiches_Utilisateurs_Service#10'!M33=1,1,0)","v":0},null,{"$f":"IF('Fiches_Utilisateurs_Service#10'!O33=1,1,0)","v":0},null,{"$f":"IF('Fiches_Utilisateurs_Service#10'!Q33=1,1,0)","v":0},null,{"$f":"IF('Fiches_Utilisateurs_Service#10'!S33=1,1,0)","v":0},null,{"$f":"IF('Fiches_Utilisateurs_Service#10'!U33=1,1,0)","v":0},null,{"$f":"IF('Fiches_Utilisateurs_Service#10'!W33=1,1,0)","v":0},null,{"$f":"IF('Fiches_Utilisateurs_Service#10'!Y33=1,1,0)","v":0},null,{"$f":"IF('Fiches_Utilisateurs_Service#10'!AA33=1,1,0)","v":0},null,{"$f":"IF('Fiches_Utilisateurs_Service#10'!AC33=1,1,0)","v":0},null,{"$f":"IF('Fiches_Utilisateurs_Service#10'!AE33=1,1,0)","v":0},null,{"$f":"IF('Fiches_Utilisateurs_Service#10'!AG33=1,1,0)","v":0},null,{"$f":"IF('Fiches_Utilisateurs_Service#10'!AI33=1,1,0)","v":0},null,{"$f":"IF('Fiches_Utilisateurs_Service#10'!AK33=1,1,0)","v":0},null,{"$f":"IF('Fiches_Utilisateurs_Service#10'!AM33=1,1,0)","v":0},null,{"$f":"IF('Fiches_Utilisateurs_Service#10'!AO33=1,1,0)","v":0},null,{"$f":"IF('Fiches_Utilisateurs_Service#10'!AQ33=1,1,0)","v":0},null,{"$f":"IF('Fiches_Utilisateurs_Service#10'!AS33=1,1,0)","v":0},null,{"$f":"IF('Fiches_Utilisateurs_Service#10'!AU33=1,1,0)","v":0},null,{"$f":"IF('Fiches_Utilisateurs_Service#10'!AW33=1,1,0)","v":0},null,{"$f":"IF('Fiches_Utilisateurs_Service#10'!AY33=1,1,0)","v":0},null,{"$f":"IF('Fiches_Utilisateurs_Service#10'!BA33=1,1,0)","v":0},null,{"$f":"IF('Fiches_Utilisateurs_Service#10'!BC33=1,1,0)","v":0},null,{"$f":"IF('Fiches_Utilisateurs_Service#10'!BE33=1,1,0)","v":0},null,{"$f":"IF('Fiches_Utilisateurs_Service#10'!BG33=1,1,0)","v":0},null,{"$f":"IF('Fiches_Utilisateurs_Service#10'!BI33=1,1,0)","v":0},null,{"$f":"IF('Fiches_Utilisateurs_Service#10'!BK33=1,1,0)","v":0},null,{"$f":"IF('Fiches_Utilisateurs_Service#10'!BM33=1,1,0)","v":0},null,{"$f":"IF('Fiches_Utilisateurs_Service#10'!BO33=1,1,0)","v":0},null,{"$f":"IF('Fiches_Utilisateurs_Service#10'!BQ33=1,1,0)","v":0},null,{"$f":"IF('Fiches_Utilisateurs_Service#10'!BS33=1,1,0)","v":0},null,{"$f":"IF('Fiches_Utilisateurs_Service#10'!BU33=1,1,0)","v":0},null,{"$f":"IF('Fiches_Utilisateurs_Service#10'!BW33=1,1,0)","v":0},null,{"$f":"IF('Fiches_Utilisateurs_Service#10'!BY33=1,1,0)","v":0},null,{"$f":"IF('Fiches_Utilisateurs_Service#10'!CA33=1,1,0)","v":0},null,{"$f":"IF('Fiches_Utilisateurs_Service#10'!CC33=1,1,0)","v":0}]
[]
[null,null,{"$f":"IF('Fiches_Utilisateurs_Service#10'!C35=1,1,0)","v":0},null,{"$f":"IF('Fiches_Utilisateurs_Service#10'!E35=1,1,0)","v":0},null,{"$f":"IF('Fiches_Utilisateurs_Service#10'!G35=1,1,0)","v":0},null,{"$f":"IF('Fiches_Utilisateurs_Service#10'!I35=1,1,0)","v":0},null,{"$f":"IF('Fiches_Utilisateurs_Service#10'!K35=1,1,0)","v":0},null,{"$f":"IF('Fiches_Utilisateurs_Service#10'!M35=1,1,0)","v":0},null,{"$f":"IF('Fiches_Utilisateurs_Service#10'!O35=1,1,0)","v":0},null,{"$f":"IF('Fiches_Utilisateurs_Service#10'!Q35=1,1,0)","v":0},null,{"$f":"IF('Fiches_Utilisateurs_Service#10'!S35=1,1,0)","v":0},null,{"$f":"IF('Fiches_Utilisateurs_Service#10'!U35=1,1,0)","v":0},null,{"$f":"IF('Fiches_Utilisateurs_Service#10'!W35=1,1,0)","v":0},null,{"$f":"IF('Fiches_Utilisateurs_Service#10'!Y35=1,1,0)","v":0},null,{"$f":"IF('Fiches_Utilisateurs_Service#10'!AA35=1,1,0)","v":0},null,{"$f":"IF('Fiches_Utilisateurs_Service#10'!AC35=1,1,0)","v":0},null,{"$f":"IF('Fiches_Utilisateurs_Service#10'!AE35=1,1,0)","v":0},null,{"$f":"IF('Fiches_Utilisateurs_Service#10'!AG35=1,1,0)","v":0},null,{"$f":"IF('Fiches_Utilisateurs_Service#10'!AI35=1,1,0)","v":0},null,{"$f":"IF('Fiches_Utilisateurs_Service#10'!AK35=1,1,0)","v":0},null,{"$f":"IF('Fiches_Utilisateurs_Service#10'!AM35=1,1,0)","v":0},null,{"$f":"IF('Fiches_Utilisateurs_Service#10'!AO35=1,1,0)","v":0},null,{"$f":"IF('Fiches_Utilisateurs_Service#10'!AQ35=1,1,0)","v":0},null,{"$f":"IF('Fiches_Utilisateurs_Service#10'!AS35=1,1,0)","v":0},null,{"$f":"IF('Fiches_Utilisateurs_Service#10'!AU35=1,1,0)","v":0},null,{"$f":"IF('Fiches_Utilisateurs_Service#10'!AW35=1,1,0)","v":0},null,{"$f":"IF('Fiches_Utilisateurs_Service#10'!AY35=1,1,0)","v":0},null,{"$f":"IF('Fiches_Utilisateurs_Service#10'!BA35=1,1,0)","v":0},null,{"$f":"IF('Fiches_Utilisateurs_Service#10'!BC35=1,1,0)","v":0},null,{"$f":"IF('Fiches_Utilisateurs_Service#10'!BE35=1,1,0)","v":0},null,{"$f":"IF('Fiches_Utilisateurs_Service#10'!BG35=1,1,0)","v":0},null,{"$f":"IF('Fiches_Utilisateurs_Service#10'!BI35=1,1,0)","v":0},null,{"$f":"IF('Fiches_Utilisateurs_Service#10'!BK35=1,1,0)","v":0},null,{"$f":"IF('Fiches_Utilisateurs_Service#10'!BM35=1,1,0)","v":0},null,{"$f":"IF('Fiches_Utilisateurs_Service#10'!BO35=1,1,0)","v":0},null,{"$f":"IF('Fiches_Utilisateurs_Service#10'!BQ35=1,1,0)","v":0},null,{"$f":"IF('Fiches_Utilisateurs_Service#10'!BS35=1,1,0)","v":0},null,{"$f":"IF('Fiches_Utilisateurs_Service#10'!BU35=1,1,0)","v":0},null,{"$f":"IF('Fiches_Utilisateurs_Service#10'!BW35=1,1,0)","v":0},null,{"$f":"IF('Fiches_Utilisateurs_Service#10'!BY35=1,1,0)","v":0},null,{"$f":"IF('Fiches_Utilisateurs_Service#10'!CA35=1,1,0)","v":0},null,{"$f":"IF('Fiches_Utilisateurs_Service#10'!CC35=1,1,0)","v":0}]
[]
["tot sale",{"$f":"SUM(C37:CC37)","v":0},{"$f":"SUM(C15:C35)","v":0},null,{"$f":"SUM(E15:E35)","v":0},null,{"$f":"SUM(G15:G35)","v":0},null,{"$f":"SUM(I15:I35)","v":0},null,{"$f":"SUM(K15:K35)","v":0},null,{"$f":"SUM(M15:M35)","v":0},null,{"$f":"SUM(O15:O35)","v":0},null,{"$f":"SUM(Q15:Q35)","v":0},null,{"$f":"SUM(S15:S35)","v":0},null,{"$f":"SUM(U15:U35)","v":0},null,{"$f":"SUM(W15:W35)","v":0},null,{"$f":"SUM(Y15:Y35)","v":0},null,{"$f":"SUM(AA15:AA35)","v":0},null,{"$f":"SUM(AC15:AC35)","v":0},null,{"$f":"SUM(AE15:AE35)","v":0},null,{"$f":"SUM(AG15:AG35)","v":0},null,{"$f":"SUM(AI15:AI35)","v":0},null,{"$f":"SUM(AK15:AK35)","v":0},null,{"$f":"SUM(AM15:AM35)","v":0},null,{"$f":"SUM(AO15:AO35)","v":0},null,{"$f":"SUM(AQ15:AQ35)","v":0},null,{"$f":"SUM(AS15:AS35)","v":0},null,{"$f":"SUM(AU15:AU35)","v":0},null,{"$f":"SUM(AW15:AW35)","v":0},null,{"$f":"SUM(AY15:AY35)","v":0},null,{"$f":"SUM(BA15:BA35)","v":0},null,{"$f":"SUM(BC15:BC35)","v":0},null,{"$f":"SUM(BE15:BE35)","v":0},null,{"$f":"SUM(BG15:BG35)","v":0},null,{"$f":"SUM(BI15:BI35)","v":0},null,{"$f":"SUM(BK15:BK35)","v":0},null,{"$f":"SUM(BM15:BM35)","v":0},null,{"$f":"SUM(BO15:BO35)","v":0},null,{"$f":"SUM(BQ15:BQ35)","v":0},null,{"$f":"SUM(BS15:BS35)","v":0},null,{"$f":"SUM(BU15:BU35)","v":0},null,{"$f":"SUM(BW15:BW35)","v":0},null,{"$f":"SUM(BY15:BY35)","v":0},null,{"$f":"SUM(CA15:CA35)","v":0},null,{"$f":"SUM(CC15:CC35)","v":0}]
[]
[null,null,{"$f":"IF('Fiches_Utilisateurs_Service#10'!C39=1,1,0)","v":0},null,{"$f":"IF('Fiches_Utilisateurs_Service#10'!E39=1,1,0)","v":0},null,{"$f":"IF('Fiches_Utilisateurs_Service#10'!G39=1,1,0)","v":0},null,{"$f":"IF('Fiches_Utilisateurs_Service#10'!I39=1,1,0)","v":0},null,{"$f":"IF('Fiches_Utilisateurs_Service#10'!K39=1,1,0)","v":0},null,{"$f":"IF('Fiches_Utilisateurs_Service#10'!M39=1,1,0)","v":0},null,{"$f":"IF('Fiches_Utilisateurs_Service#10'!O39=1,1,0)","v":0},null,{"$f":"IF('Fiches_Utilisateurs_Service#10'!Q39=1,1,0)","v":0},null,{"$f":"IF('Fiches_Utilisateurs_Service#10'!S39=1,1,0)","v":0},null,{"$f":"IF('Fiches_Utilisateurs_Service#10'!U39=1,1,0)","v":0},null,{"$f":"IF('Fiches_Utilisateurs_Service#10'!W39=1,1,0)","v":0},null,{"$f":"IF('Fiches_Utilisateurs_Service#10'!Y39=1,1,0)","v":0},null,{"$f":"IF('Fiches_Utilisateurs_Service#10'!AA39=1,1,0)","v":0},null,{"$f":"IF('Fiches_Utilisateurs_Service#10'!AC39=1,1,0)","v":0},null,{"$f":"IF('Fiches_Utilisateurs_Service#10'!AE39=1,1,0)","v":0},null,{"$f":"IF('Fiches_Utilisateurs_Service#10'!AG39=1,1,0)","v":0},null,{"$f":"IF('Fiches_Utilisateurs_Service#10'!AI39=1,1,0)","v":0},null,{"$f":"IF('Fiches_Utilisateurs_Service#10'!AK39=1,1,0)","v":0},null,{"$f":"IF('Fiches_Utilisateurs_Service#10'!AM39=1,1,0)","v":0},null,{"$f":"IF('Fiches_Utilisateurs_Service#10'!AO39=1,1,0)","v":0},null,{"$f":"IF('Fiches_Utilisateurs_Service#10'!AQ39=1,1,0)","v":0},null,{"$f":"IF('Fiches_Utilisateurs_Service#10'!AS39=1,1,0)","v":0},null,{"$f":"IF('Fiches_Utilisateurs_Service#10'!AU39=1,1,0)","v":0},null,{"$f":"IF('Fiches_Utilisateurs_Service#10'!AW39=1,1,0)","v":0},null,{"$f":"IF('Fiches_Utilisateurs_Service#10'!AY39=1,1,0)","v":0},null,{"$f":"IF('Fiches_Utilisateurs_Service#10'!BA39=1,1,0)","v":0},null,{"$f":"IF('Fiches_Utilisateurs_Service#10'!BC39=1,1,0)","v":0},null,{"$f":"IF('Fiches_Utilisateurs_Service#10'!BE39=1,1,0)","v":0},null,{"$f":"IF('Fiches_Utilisateurs_Service#10'!BG39=1,1,0)","v":0},null,{"$f":"IF('Fiches_Utilisateurs_Service#10'!BI39=1,1,0)","v":0},null,{"$f":"IF('Fiches_Utilisateurs_Service#10'!BK39=1,1,0)","v":0},null,{"$f":"IF('Fiches_Utilisateurs_Service#10'!BM39=1,1,0)","v":0},null,{"$f":"IF('Fiches_Utilisateurs_Service#10'!BO39=1,1,0)","v":0},null,{"$f":"IF('Fiches_Utilisateurs_Service#10'!BQ39=1,1,0)","v":0},null,{"$f":"IF('Fiches_Utilisateurs_Service#10'!BS39=1,1,0)","v":0},null,{"$f":"IF('Fiches_Utilisateurs_Service#10'!BU39=1,1,0)","v":0},null,{"$f":"IF('Fiches_Utilisateurs_Service#10'!BW39=1,1,0)","v":0},null,{"$f":"IF('Fiches_Utilisateurs_Service#10'!BY39=1,1,0)","v":0},null,{"$f":"IF('Fiches_Utilisateurs_Service#10'!CA39=1,1,0)","v":0},null,{"$f":"IF('Fiches_Utilisateurs_Service#10'!CC39=1,1,0)","v":0}]
[]
[null,null,{"$f":"IF('Fiches_Utilisateurs_Service#10'!C41=1,1,0)","v":0},null,{"$f":"IF('Fiches_Utilisateurs_Service#10'!E41=1,1,0)","v":0},null,{"$f":"IF('Fiches_Utilisateurs_Service#10'!G41=1,1,0)","v":0},null,{"$f":"IF('Fiches_Utilisateurs_Service#10'!I41=1,1,0)","v":0},null,{"$f":"IF('Fiches_Utilisateurs_Service#10'!K41=1,1,0)","v":0},null,{"$f":"IF('Fiches_Utilisateurs_Service#10'!M41=1,1,0)","v":0},null,{"$f":"IF('Fiches_Utilisateurs_Service#10'!O41=1,1,0)","v":0},null,{"$f":"IF('Fiches_Utilisateurs_Service#10'!Q41=1,1,0)","v":0},null,{"$f":"IF('Fiches_Utilisateurs_Service#10'!S41=1,1,0)","v":0},null,{"$f":"IF('Fiches_Utilisateurs_Service#10'!U41=1,1,0)","v":0},null,{"$f":"IF('Fiches_Utilisateurs_Service#10'!W41=1,1,0)","v":0},null,{"$f":"IF('Fiches_Utilisateurs_Service#10'!Y41=1,1,0)","v":0},null,{"$f":"IF('Fiches_Utilisateurs_Service#10'!AA41=1,1,0)","v":0},null,{"$f":"IF('Fiches_Utilisateurs_Service#10'!AC41=1,1,0)","v":0},null,{"$f":"IF('Fiches_Utilisateurs_Service#10'!AE41=1,1,0)","v":0},null,{"$f":"IF('Fiches_Utilisateurs_Service#10'!AG41=1,1,0)","v":0},null,{"$f":"IF('Fiches_Utilisateurs_Service#10'!AI41=1,1,0)","v":0},null,{"$f":"IF('Fiches_Utilisateurs_Service#10'!AK41=1,1,0)","v":0},null,{"$f":"IF('Fiches_Utilisateurs_Service#10'!AM41=1,1,0)","v":0},null,{"$f":"IF('Fiches_Utilisateurs_Service#10'!AO41=1,1,0)","v":0},null,{"$f":"IF('Fiches_Utilisateurs_Service#10'!AQ41=1,1,0)","v":0},null,{"$f":"IF('Fiches_Utilisateurs_Service#10'!AS41=1,1,0)","v":0},null,{"$f":"IF('Fiches_Utilisateurs_Service#10'!AU41=1,1,0)","v":0},null,{"$f":"IF('Fiches_Utilisateurs_Service#10'!AW41=1,1,0)","v":0},null,{"$f":"IF('Fiches_Utilisateurs_Service#10'!AY41=1,1,0)","v":0},null,{"$f":"IF('Fiches_Utilisateurs_Service#10'!BA41=1,1,0)","v":0},null,{"$f":"IF('Fiches_Utilisateurs_Service#10'!BC41=1,1,0)","v":0},null,{"$f":"IF('Fiches_Utilisateurs_Service#10'!BE41=1,1,0)","v":0},null,{"$f":"IF('Fiches_Utilisateurs_Service#10'!BG41=1,1,0)","v":0},null,{"$f":"IF('Fiches_Utilisateurs_Service#10'!BI41=1,1,0)","v":0},null,{"$f":"IF('Fiches_Utilisateurs_Service#10'!BK41=1,1,0)","v":0},null,{"$f":"IF('Fiches_Utilisateurs_Service#10'!BM41=1,1,0)","v":0},null,{"$f":"IF('Fiches_Utilisateurs_Service#10'!BO41=1,1,0)","v":0},null,{"$f":"IF('Fiches_Utilisateurs_Service#10'!BQ41=1,1,0)","v":0},null,{"$f":"IF('Fiches_Utilisateurs_Service#10'!BS41=1,1,0)","v":0},null,{"$f":"IF('Fiches_Utilisateurs_Service#10'!BU41=1,1,0)","v":0},null,{"$f":"IF('Fiches_Utilisateurs_Service#10'!BW41=1,1,0)","v":0},null,{"$f":"IF('Fiches_Utilisateurs_Service#10'!BY41=1,1,0)","v":0},null,{"$f":"IF('Fiches_Utilisateurs_Service#10'!CA41=1,1,0)","v":0},null,{"$f":"IF('Fiches_Utilisateurs_Service#10'!CC41=1,1,0)","v":0}]
[]
[null,null,{"$f":"IF('Fiches_Utilisateurs_Service#10'!C43=1,1,0)","v":0},null,{"$f":"IF('Fiches_Utilisateurs_Service#10'!E43=1,1,0)","v":0},null,{"$f":"IF('Fiches_Utilisateurs_Service#10'!G43=1,1,0)","v":0},null,{"$f":"IF('Fiches_Utilisateurs_Service#10'!I43=1,1,0)","v":0},null,{"$f":"IF('Fiches_Utilisateurs_Service#10'!K43=1,1,0)","v":0},null,{"$f":"IF('Fiches_Utilisateurs_Service#10'!M43=1,1,0)","v":0},null,{"$f":"IF('Fiches_Utilisateurs_Service#10'!O43=1,1,0)","v":0},null,{"$f":"IF('Fiches_Utilisateurs_Service#10'!Q43=1,1,0)","v":0},null,{"$f":"IF('Fiches_Utilisateurs_Service#10'!S43=1,1,0)","v":0},null,{"$f":"IF('Fiches_Utilisateurs_Service#10'!U43=1,1,0)","v":0},null,{"$f":"IF('Fiches_Utilisateurs_Service#10'!W43=1,1,0)","v":0},null,{"$f":"IF('Fiches_Utilisateurs_Service#10'!Y43=1,1,0)","v":0},null,{"$f":"IF('Fiches_Utilisateurs_Service#10'!AA43=1,1,0)","v":0},null,{"$f":"IF('Fiches_Utilisateurs_Service#10'!AC43=1,1,0)","v":0},null,{"$f":"IF('Fiches_Utilisateurs_Service#10'!AE43=1,1,0)","v":0},null,{"$f":"IF('Fiches_Utilisateurs_Service#10'!AG43=1,1,0)","v":0},null,{"$f":"IF('Fiches_Utilisateurs_Service#10'!AI43=1,1,0)","v":0},null,{"$f":"IF('Fiches_Utilisateurs_Service#10'!AK43=1,1,0)","v":0},null,{"$f":"IF('Fiches_Utilisateurs_Service#10'!AM43=1,1,0)","v":0},null,{"$f":"IF('Fiches_Utilisateurs_Service#10'!AO43=1,1,0)","v":0},null,{"$f":"IF('Fiches_Utilisateurs_Service#10'!AQ43=1,1,0)","v":0},null,{"$f":"IF('Fiches_Utilisateurs_Service#10'!AS43=1,1,0)","v":0},null,{"$f":"IF('Fiches_Utilisateurs_Service#10'!AU43=1,1,0)","v":0},null,{"$f":"IF('Fiches_Utilisateurs_Service#10'!AW43=1,1,0)","v":0},null,{"$f":"IF('Fiches_Utilisateurs_Service#10'!AY43=1,1,0)","v":0},null,{"$f":"IF('Fiches_Utilisateurs_Service#10'!BA43=1,1,0)","v":0},null,{"$f":"IF('Fiches_Utilisateurs_Service#10'!BC43=1,1,0)","v":0},null,{"$f":"IF('Fiches_Utilisateurs_Service#10'!BE43=1,1,0)","v":0},null,{"$f":"IF('Fiches_Utilisateurs_Service#10'!BG43=1,1,0)","v":0},null,{"$f":"IF('Fiches_Utilisateurs_Service#10'!BI43=1,1,0)","v":0},null,{"$f":"IF('Fiches_Utilisateurs_Service#10'!BK43=1,1,0)","v":0},null,{"$f":"IF('Fiches_Utilisateurs_Service#10'!BM43=1,1,0)","v":0},null,{"$f":"IF('Fiches_Utilisateurs_Service#10'!BO43=1,1,0)","v":0},null,{"$f":"IF('Fiches_Utilisateurs_Service#10'!BQ43=1,1,0)","v":0},null,{"$f":"IF('Fiches_Utilisateurs_Service#10'!BS43=1,1,0)","v":0},null,{"$f":"IF('Fiches_Utilisateurs_Service#10'!BU43=1,1,0)","v":0},null,{"$f":"IF('Fiches_Utilisateurs_Service#10'!BW43=1,1,0)","v":0},null,{"$f":"IF('Fiches_Utilisateurs_Service#10'!BY43=1,1,0)","v":0},null,{"$f":"IF('Fiches_Utilisateurs_Service#10'!CA43=1,1,0)","v":0},null,{"$f":"IF('Fiches_Utilisateurs_Service#10'!CC43=1,1,0)","v":0}]
[]
["tot propre",{"$f":"SUM(C45:CC45)","v":0},{"$f":"SUM(C39:C43)","v":0},null,{"$f":"SUM(E39:E43)","v":0},null,{"$f":"SUM(G39:G43)","v":0},null,{"$f":"SUM(I39:I43)","v":0},null,{"$f":"SUM(K39:K43)","v":0},null,{"$f":"SUM(M39:M43)","v":0},null,{"$f":"SUM(O39:O43)","v":0},null,{"$f":"SUM(Q39:Q43)","v":0},null,{"$f":"SUM(S39:S43)","v":0},null,{"$f":"SUM(U39:U43)","v":0},null,{"$f":"SUM(W39:W43)","v":0},null,{"$f":"SUM(Y39:Y43)","v":0},null,{"$f":"SUM(AA39:AA43)","v":0},null,{"$f":"SUM(AC39:AC43)","v":0},null,{"$f":"SUM(AE39:AE43)","v":0},null,{"$f":"SUM(AG39:AG43)","v":0},null,{"$f":"SUM(AI39:AI43)","v":0},null,{"$f":"SUM(AK39:AK43)","v":0},null,{"$f":"SUM(AM39:AM43)","v":0},null,{"$f":"SUM(AO39:AO43)","v":0},null,{"$f":"SUM(AQ39:AQ43)","v":0},null,{"$f":"SUM(AS39:AS43)","v":0},null,{"$f":"SUM(AU39:AU43)","v":0},null,{"$f":"SUM(AW39:AW43)","v":0},null,{"$f":"SUM(AY39:AY43)","v":0},null,{"$f":"SUM(BA39:BA43)","v":0},null,{"$f":"SUM(BC39:BC43)","v":0},null,{"$f":"SUM(BE39:BE43)","v":0},null,{"$f":"SUM(BG39:BG43)","v":0},null,{"$f":"SUM(BI39:BI43)","v":0},null,{"$f":"SUM(BK39:BK43)","v":0},null,{"$f":"SUM(BM39:BM43)","v":0},null,{"$f":"SUM(BO39:BO43)","v":0},null,{"$f":"SUM(BQ39:BQ43)","v":0},null,{"$f":"SUM(BS39:BS43)","v":0},null,{"$f":"SUM(BU39:BU43)","v":0},null,{"$f":"SUM(BW39:BW43)","v":0},null,{"$f":"SUM(BY39:BY43)","v":0},null,{"$f":"SUM(CA39:CA43)","v":0},null,{"$f":"SUM(CC39:CC43)","v":0}]
[]
["tot tot",{"$f":"SUM(C47:CC47)","v":0},{"$f":"C45+C37","v":0},null,{"$f":"E45+E37","v":0},null,{"$f":"G45+G37","v":0},null,{"$f":"I45+I37","v":0},null,{"$f":"K45+K37","v":0},null,{"$f":"M45+M37","v":0},null,{"$f":"O45+O37","v":0},null,{"$f":"Q45+Q37","v":0},null,{"$f":"S45+S37","v":0},null,{"$f":"U45+U37","v":0},null,{"$f":"W45+W37","v":0},null,{"$f":"Y45+Y37","v":0},null,{"$f":"AA45+AA37","v":0},null,{"$f":"AC45+AC37","v":0},null,{"$f":"AE45+AE37","v":0},null,{"$f":"AG45+AG37","v":0},null,{"$f":"AI45+AI37","v":0},null,{"$f":"AK45+AK37","v":0},null,{"$f":"AM45+AM37","v":0},null,{"$f":"AO45+AO37","v":0},null,{"$f":"AQ45+AQ37","v":0},null,{"$f":"AS45+AS37","v":0},null,{"$f":"AU45+AU37","v":0},null,{"$f":"AW45+AW37","v":0},null,{"$f":"AY45+AY37","v":0},null,{"$f":"BA45+BA37","v":0},null,{"$f":"BC45+BC37","v":0},null,{"$f":"BE45+BE37","v":0},null,{"$f":"BG45+BG37","v":0},null,{"$f":"BI45+BI37","v":0},null,{"$f":"BK45+BK37","v":0},null,{"$f":"BM45+BM37","v":0},null,{"$f":"BO45+BO37","v":0},null,{"$f":"BQ45+BQ37","v":0},null,{"$f":"BS45+BS37","v":0},null,{"$f":"BU45+BU37","v":0},null,{"$f":"BW45+BW37","v":0},null,{"$f":"BY45+BY37","v":0},null,{"$f":"CA45+CA37","v":0},null,{"$f":"CC45+CC37","v":0}]
[]
[]
[]
[]
[1,{"$f":"SUM(C52:CC52)","v":0},{"$f":"IF(C11=\"1\",1,0)","v":0},null,{"$f":"IF(E11=\"1\",1,0)","v":0},null,0,null,0,null,0,null,0,null,0,null,0,null,0,null,0,null,0,null,0,null,0,null,0,null,0,null,0,null,0,null,0,null,0,null,0,null,0,null,0,null,0,null,0,null,0,null,0,null,0,null,0,null,0,null,0,null,0,null,0,null,0,null,{"$f":"IF(BQ11=\"1\",1,0)","v":0},null,0,null,0,null,0,null,0,null,0,null,0]
[null,0,{"$f":"IF(C52=1,(C77+C82),0)","v":0},null,{"$f":"IF(E52=1,(E77+E82),0)","v":0},null,{"$f":"IF(G52=1,(G77+G82),0)","v":0},null,{"$f":"IF(I52=1,(I77+I82),0)","v":0},null,{"$f":"IF(K52=1,(K77+K82),0)","v":0},null,{"$f":"IF(M52=1,(M77+M82),0)","v":0},null,{"$f":"IF(O52=1,(O77+O82),0)","v":0},null,{"$f":"IF(Q52=1,(Q77+Q82),0)","v":0},null,{"$f":"IF(S52=1,(S77+S82),0)","v":0},null,{"$f":"IF(U52=1,(U77+U82),0)","v":0},null,{"$f":"IF(W52=1,(W77+W82),0)","v":0},null,{"$f":"IF(Y52=1,(Y77+Y82),0)","v":0},null,{"$f":"IF(AA52=1,(AA77+AA82),0)","v":0},null,{"$f":"IF(AC52=1,(AC77+AC82),0)","v":0},null,{"$f":"IF(AE52=1,(AE77+AE82),0)","v":0},null,{"$f":"IF(AG52=1,(AG77+AG82),0)","v":0},null,{"$f":"IF(AI52=1,(AI77+AI82),0)","v":0},null,{"$f":"IF(AK52=1,(AK77+AK82),0)","v":0},null,{"$f":"IF(AM52=1,(AM77+AM82),0)","v":0},null,{"$f":"IF(AO52=1,(AO77+AO82),0)","v":0},null,{"$f":"IF(AQ52=1,(AQ77+AQ82),0)","v":0},null,{"$f":"IF(AS52=1,(AS77+AS82),0)","v":0},null,{"$f":"IF(AU52=1,(AU77+AU82),0)","v":0},null,{"$f":"IF(AW52=1,(AW77+AW82),0)","v":0},null,{"$f":"IF(AY52=1,(AY77+AY82),0)","v":0},null,{"$f":"IF(BA52=1,(BA77+BA82),0)","v":0},null,{"$f":"IF(BC52=1,(BC77+BC82),0)","v":0},null,{"$f":"IF(BE52=1,(BE77+BE82),0)","v":0},null,{"$f":"IF(BG52=1,(BG77+BG82),0)","v":0},null,{"$f":"IF(BI52=1,(BI77+BI82),0)","v":0},null,{"$f":"IF(BK52=1,(BK77+BK82),0)","v":0},null,{"$f":"IF(BM52=1,(BM77+BM82),0)","v":0},null,{"$f":"IF(BO52=1,(BO77+BO82),0)","v":0},null,{"$f":"IF(BQ52=1,(BQ77+BQ82),0)","v":0},null,{"$f":"IF(BS52=1,(BS77+BS82),0)","v":0},null,{"$f":"IF(BU52=1,(BU77+BU82),0)","v":0},null,{"$f":"IF(BW52=1,(BW77+BW82),0)","v":0},null,{"$f":"IF(BY52=1,(BY77+BY82),0)","v":0},null,{"$f":"IF(CA52=1,(CA77+CA82),0)","v":0},null,{"$f":"IF(CC52=1,(CC77+CC82),0)","v":0}]
[2,0,{"$f":"IF(C11=\"2\",1,0)","v":0},null,{"$f":"IF(E11=\"2\",1,0)","v":0},null,0,null,0,null,0,null,0,null,0,null,0,null,0,null,0,null,0,null,0,null,0,null,0,null,0,null,0,null,0,null,0,null,0,null,0,null,0,null,0,null,0,null,0,null,0,null,0,null,0,null,0,null,0,null,0,null,0,null,0,null,0,null,{"$f":"IF(BQ11=\"2\",1,0)","v":0},null,0,null,0,null,0,null,0,null,0,null,0]
[null,0,{"$f":"IF(C54=1,(C77+C82),0)","v":0},null,{"$f":"IF(E54=1,(E77+E82),0)","v":0},null,{"$f":"IF(G54=1,(G77+G82),0)","v":0},null,{"$f":"IF(I54=1,(I77+I82),0)","v":0},null,{"$f":"IF(K54=1,(K77+K82),0)","v":0},null,{"$f":"IF(M54=1,(M77+M82),0)","v":0},null,{"$f":"IF(O54=1,(O77+O82),0)","v":0},null,{"$f":"IF(Q54=1,(Q77+Q82),0)","v":0},null,{"$f":"IF(S54=1,(S77+S82),0)","v":0},null,{"$f":"IF(U54=1,(U77+U82),0)","v":0},null,{"$f":"IF(W54=1,(W77+W82),0)","v":0},null,{"$f":"IF(Y54=1,(Y77+Y82),0)","v":0},null,{"$f":"IF(AA54=1,(AA77+AA82),0)","v":0},null,{"$f":"IF(AC54=1,(AC77+AC82),0)","v":0},null,{"$f":"IF(AE54=1,(AE77+AE82),0)","v":0},null,{"$f":"IF(AG54=1,(AG77+AG82),0)","v":0},null,{"$f":"IF(AI54=1,(AI77+AI82),0)","v":0},null,{"$f":"IF(AK54=1,(AK77+AK82),0)","v":0},null,{"$f":"IF(AM54=1,(AM77+AM82),0)","v":0},null,{"$f":"IF(AO54=1,(AO77+AO82),0)","v":0},null,{"$f":"IF(AQ54=1,(AQ77+AQ82),0)","v":0},null,{"$f":"IF(AS54=1,(AS77+AS82),0)","v":0},null,{"$f":"IF(AU54=1,(AU77+AU82),0)","v":0},null,{"$f":"IF(AW54=1,(AW77+AW82),0)","v":0},null,{"$f":"IF(AY54=1,(AY77+AY82),0)","v":0},null,{"$f":"IF(BA54=1,(BA77+BA82),0)","v":0},null,{"$f":"IF(BC54=1,(BC77+BC82),0)","v":0},null,{"$f":"IF(BE54=1,(BE77+BE82),0)","v":0},null,{"$f":"IF(BG54=1,(BG77+BG82),0)","v":0},null,{"$f":"IF(BI54=1,(BI77+BI82),0)","v":0},null,{"$f":"IF(BK54=1,(BK77+BK82),0)","v":0},null,{"$f":"IF(BM54=1,(BM77+BM82),0)","v":0},null,{"$f":"IF(BO54=1,(BO77+BO82),0)","v":0},null,{"$f":"IF(BQ54=1,(BQ77+BQ82),0)","v":0},null,{"$f":"IF(BS54=1,(BS77+BS82),0)","v":0},null,{"$f":"IF(BU54=1,(BU77+BU82),0)","v":0},null,{"$f":"IF(BW54=1,(BW77+BW82),0)","v":0},null,{"$f":"IF(BY54=1,(BY77+BY82),0)","v":0},null,{"$f":"IF(CA54=1,(CA77+CA82),0)","v":0},null,{"$f":"IF(CC54=1,(CC77+CC82),0)","v":0}]
[3,0,{"$f":"IF(C11=\"3\",1,0)","v":0},null,{"$f":"IF(E11=\"3\",1,0)","v":0},null,0,null,0,null,0,null,0,null,0,null,0,null,0,null,0,null,0,null,0,null,0,null,0,null,0,null,0,null,0,null,0,null,0,null,0,null,0,null,0,null,0,null,0,null,0,null,0,null,0,null,0,null,0,null,0,null,0,null,0,null,0,null,{"$f":"IF(BQ11=\"3\",1,0)","v":0},null,0,null,0,null,0,null,0,null,0,null,0]
[null,0,{"$f":"IF(C56=1,(C77+C82),0)","v":0},null,{"$f":"IF(E56=1,(E77+E82),0)","v":0},null,{"$f":"IF(G56=1,(G77+G82),0)","v":0},null,{"$f":"IF(I56=1,(I77+I82),0)","v":0},null,{"$f":"IF(K56=1,(K77+K82),0)","v":0},null,{"$f":"IF(M56=1,(M77+M82),0)","v":0},null,{"$f":"IF(O56=1,(O77+O82),0)","v":0},null,{"$f":"IF(Q56=1,(Q77+Q82),0)","v":0},null,{"$f":"IF(S56=1,(S77+S82),0)","v":0},null,{"$f":"IF(U56=1,(U77+U82),0)","v":0},null,{"$f":"IF(W56=1,(W77+W82),0)","v":0},null,{"$f":"IF(Y56=1,(Y77+Y82),0)","v":0},null,{"$f":"IF(AA56=1,(AA77+AA82),0)","v":0},null,{"$f":"IF(AC56=1,(AC77+AC82),0)","v":0},null,{"$f":"IF(AE56=1,(AE77+AE82),0)","v":0},null,{"$f":"IF(AG56=1,(AG77+AG82),0)","v":0},null,{"$f":"IF(AI56=1,(AI77+AI82),0)","v":0},null,{"$f":"IF(AK56=1,(AK77+AK82),0)","v":0},null,{"$f":"IF(AM56=1,(AM77+AM82),0)","v":0},null,{"$f":"IF(AO56=1,(AO77+AO82),0)","v":0},null,{"$f":"IF(AQ56=1,(AQ77+AQ82),0)","v":0},null,{"$f":"IF(AS56=1,(AS77+AS82),0)","v":0},null,{"$f":"IF(AU56=1,(AU77+AU82),0)","v":0},null,{"$f":"IF(AW56=1,(AW77+AW82),0)","v":0},null,{"$f":"IF(AY56=1,(AY77+AY82),0)","v":0},null,{"$f":"IF(BA56=1,(BA77+BA82),0)","v":0},null,{"$f":"IF(BC56=1,(BC77+BC82),0)","v":0},null,{"$f":"IF(BE56=1,(BE77+BE82),0)","v":0},null,{"$f":"IF(BG56=1,(BG77+BG82),0)","v":0},null,{"$f":"IF(BI56=1,(BI77+BI82),0)","v":0},null,{"$f":"IF(BK56=1,(BK77+BK82),0)","v":0},null,{"$f":"IF(BM56=1,(BM77+BM82),0)","v":0},null,{"$f":"IF(BO56=1,(BO77+BO82),0)","v":0},null,{"$f":"IF(BQ56=1,(BQ77+BQ82),0)","v":0},null,{"$f":"IF(BS56=1,(BS77+BS82),0)","v":0},null,{"$f":"IF(BU56=1,(BU77+BU82),0)","v":0},null,{"$f":"IF(BW56=1,(BW77+BW82),0)","v":0},null,{"$f":"IF(BY56=1,(BY77+BY82),0)","v":0},null,{"$f":"IF(CA56=1,(CA77+CA82),0)","v":0},null,{"$f":"IF(CC56=1,(CC77+CC82),0)","v":0}]
[4,0,{"$f":"IF(C11=\"4\",1,0)","v":0},null,{"$f":"IF(E11=\"4\",1,0)","v":0},null,0,null,0,null,0,null,0,null,0,null,0,null,0,null,0,null,0,null,0,null,0,null,0,null,0,null,0,null,0,null,0,null,0,null,0,null,0,null,0,null,0,null,0,null,0,null,0,null,0,null,0,null,0,null,0,null,0,null,0,null,0,null,{"$f":"IF(BQ11=\"4\",1,0)","v":0},null,0,null,0,null,0,null,0,null,0,null,0]
[null,0,{"$f":"IF(C58=1,(C77+C82),0)","v":0},null,{"$f":"IF(E58=1,(E77+E82),0)","v":0},null,{"$f":"IF(G58=1,(G77+G82),0)","v":0},null,{"$f":"IF(I58=1,(I77+I82),0)","v":0},null,{"$f":"IF(K58=1,(K77+K82),0)","v":0},null,{"$f":"IF(M58=1,(M77+M82),0)","v":0},null,{"$f":"IF(O58=1,(O77+O82),0)","v":0},null,{"$f":"IF(Q58=1,(Q77+Q82),0)","v":0},null,{"$f":"IF(S58=1,(S77+S82),0)","v":0},null,{"$f":"IF(U58=1,(U77+U82),0)","v":0},null,{"$f":"IF(W58=1,(W77+W82),0)","v":0},null,{"$f":"IF(Y58=1,(Y77+Y82),0)","v":0},null,{"$f":"IF(AA58=1,(AA77+AA82),0)","v":0},null,{"$f":"IF(AC58=1,(AC77+AC82),0)","v":0},null,{"$f":"IF(AE58=1,(AE77+AE82),0)","v":0},null,{"$f":"IF(AG58=1,(AG77+AG82),0)","v":0},null,{"$f":"IF(AI58=1,(AI77+AI82),0)","v":0},null,{"$f":"IF(AK58=1,(AK77+AK82),0)","v":0},null,{"$f":"IF(AM58=1,(AM77+AM82),0)","v":0},null,{"$f":"IF(AO58=1,(AO77+AO82),0)","v":0},null,{"$f":"IF(AQ58=1,(AQ77+AQ82),0)","v":0},null,{"$f":"IF(AS58=1,(AS77+AS82),0)","v":0},null,{"$f":"IF(AU58=1,(AU77+AU82),0)","v":0},null,{"$f":"IF(AW58=1,(AW77+AW82),0)","v":0},null,{"$f":"IF(AY58=1,(AY77+AY82),0)","v":0},null,{"$f":"IF(BA58=1,(BA77+BA82),0)","v":0},null,{"$f":"IF(BC58=1,(BC77+BC82),0)","v":0},null,{"$f":"IF(BE58=1,(BE77+BE82),0)","v":0},null,{"$f":"IF(BG58=1,(BG77+BG82),0)","v":0},null,{"$f":"IF(BI58=1,(BI77+BI82),0)","v":0},null,{"$f":"IF(BK58=1,(BK77+BK82),0)","v":0},null,{"$f":"IF(BM58=1,(BM77+BM82),0)","v":0},null,{"$f":"IF(BO58=1,(BO77+BO82),0)","v":0},null,{"$f":"IF(BQ58=1,(BQ77+BQ82),0)","v":0},null,{"$f":"IF(BS58=1,(BS77+BS82),0)","v":0},null,{"$f":"IF(BU58=1,(BU77+BU82),0)","v":0},null,{"$f":"IF(BW58=1,(BW77+BW82),0)","v":0},null,{"$f":"IF(BY58=1,(BY77+BY82),0)","v":0},null,{"$f":"IF(CA58=1,(CA77+CA82),0)","v":0},null,{"$f":"IF(CC58=1,(CC77+CC82),0)","v":0}]
[5,0,{"$f":"IF(C11=\"5\",1,0)","v":0},null,{"$f":"IF(E11=\"5\",1,0)","v":0},null,0,null,0,null,0,null,0,null,0,null,0,null,0,null,0,null,0,null,0,null,0,null,0,null,0,null,0,null,0,null,0,null,0,null,0,null,0,null,0,null,0,null,0,null,0,null,0,null,0,null,0,null,0,null,0,null,0,null,0,null,0,null,{"$f":"IF(BQ11=\"5\",1,0)","v":0},null,0,null,0,null,0,null,0,null,0,null,0]
[null,0,{"$f":"IF(C60=1,(C77+C82),0)","v":0},null,{"$f":"IF(E60=1,(E77+E82),0)","v":0},null,{"$f":"IF(G60=1,(G77+G82),0)","v":0},null,{"$f":"IF(I60=1,(I77+I82),0)","v":0},null,{"$f":"IF(K60=1,(K77+K82),0)","v":0},null,{"$f":"IF(M60=1,(M77+M82),0)","v":0},null,{"$f":"IF(O60=1,(O77+O82),0)","v":0},null,{"$f":"IF(Q60=1,(Q77+Q82),0)","v":0},null,{"$f":"IF(S60=1,(S77+S82),0)","v":0},null,{"$f":"IF(U60=1,(U77+U82),0)","v":0},null,{"$f":"IF(W60=1,(W77+W82),0)","v":0},null,{"$f":"IF(Y60=1,(Y77+Y82),0)","v":0},null,{"$f":"IF(AA60=1,(AA77+AA82),0)","v":0},null,{"$f":"IF(AC60=1,(AC77+AC82),0)","v":0},null,{"$f":"IF(AE60=1,(AE77+AE82),0)","v":0},null,{"$f":"IF(AG60=1,(AG77+AG82),0)","v":0},null,{"$f":"IF(AI60=1,(AI77+AI82),0)","v":0},null,{"$f":"IF(AK60=1,(AK77+AK82),0)","v":0},null,{"$f":"IF(AM60=1,(AM77+AM82),0)","v":0},null,{"$f":"IF(AO60=1,(AO77+AO82),0)","v":0},null,{"$f":"IF(AQ60=1,(AQ77+AQ82),0)","v":0},null,{"$f":"IF(AS60=1,(AS77+AS82),0)","v":0},null,{"$f":"IF(AU60=1,(AU77+AU82),0)","v":0},null,{"$f":"IF(AW60=1,(AW77+AW82),0)","v":0},null,{"$f":"IF(AY60=1,(AY77+AY82),0)","v":0},null,{"$f":"IF(BA60=1,(BA77+BA82),0)","v":0},null,{"$f":"IF(BC60=1,(BC77+BC82),0)","v":0},null,{"$f":"IF(BE60=1,(BE77+BE82),0)","v":0},null,{"$f":"IF(BG60=1,(BG77+BG82),0)","v":0},null,{"$f":"IF(BI60=1,(BI77+BI82),0)","v":0},null,{"$f":"IF(BK60=1,(BK77+BK82),0)","v":0},null,{"$f":"IF(BM60=1,(BM77+BM82),0)","v":0},null,{"$f":"IF(BO60=1,(BO77+BO82),0)","v":0},null,{"$f":"IF(BQ60=1,(BQ77+BQ82),0)","v":0},null,{"$f":"IF(BS60=1,(BS77+BS82),0)","v":0},null,{"$f":"IF(BU60=1,(BU77+BU82),0)","v":0},null,{"$f":"IF(BW60=1,(BW77+BW82),0)","v":0},null,{"$f":"IF(BY60=1,(BY77+BY82),0)","v":0},null,{"$f":"IF(CA60=1,(CA77+CA82),0)","v":0},null,{"$f":"IF(CC60=1,(CC77+CC82),0)","v":0}]
[6,0,{"$f":"IF(C11=\"6\",1,0)","v":0},null,{"$f":"IF(E11=\"6\",1,0)","v":0},null,0,null,0,null,0,null,0,null,0,null,0,null,0,null,0,null,0,null,0,null,0,null,0,null,0,null,0,null,0,null,0,null,0,null,0,null,0,null,0,null,0,null,0,null,0,null,0,null,0,null,0,null,0,null,0,null,0,null,0,null,0,null,{"$f":"IF(BQ11=\"6\",1,0)","v":0},null,0,null,0,null,0,null,0,null,0,null,0]
[null,0,{"$f":"IF(C62=1,(C77+C82),0)","v":0},null,{"$f":"IF(E62=1,(E77+E82),0)","v":0},null,{"$f":"IF(G62=1,(G77+G82),0)","v":0},null,{"$f":"IF(I62=1,(I77+I82),0)","v":0},null,{"$f":"IF(K62=1,(K77+K82),0)","v":0},null,{"$f":"IF(M62=1,(M77+M82),0)","v":0},null,{"$f":"IF(O62=1,(O77+O82),0)","v":0},null,{"$f":"IF(Q62=1,(Q77+Q82),0)","v":0},null,{"$f":"IF(S62=1,(S77+S82),0)","v":0},null,{"$f":"IF(U62=1,(U77+U82),0)","v":0},null,{"$f":"IF(W62=1,(W77+W82),0)","v":0},null,{"$f":"IF(Y62=1,(Y77+Y82),0)","v":0},null,{"$f":"IF(AA62=1,(AA77+AA82),0)","v":0},null,{"$f":"IF(AC62=1,(AC77+AC82),0)","v":0},null,{"$f":"IF(AE62=1,(AE77+AE82),0)","v":0},null,{"$f":"IF(AG62=1,(AG77+AG82),0)","v":0},null,{"$f":"IF(AI62=1,(AI77+AI82),0)","v":0},null,{"$f":"IF(AK62=1,(AK77+AK82),0)","v":0},null,{"$f":"IF(AM62=1,(AM77+AM82),0)","v":0},null,{"$f":"IF(AO62=1,(AO77+AO82),0)","v":0},null,{"$f":"IF(AQ62=1,(AQ77+AQ82),0)","v":0},null,{"$f":"IF(AS62=1,(AS77+AS82),0)","v":0},null,{"$f":"IF(AU62=1,(AU77+AU82),0)","v":0},null,{"$f":"IF(AW62=1,(AW77+AW82),0)","v":0},null,{"$f":"IF(AY62=1,(AY77+AY82),0)","v":0},null,{"$f":"IF(BA62=1,(BA77+BA82),0)","v":0},null,{"$f":"IF(BC62=1,(BC77+BC82),0)","v":0},null,{"$f":"IF(BE62=1,(BE77+BE82),0)","v":0},null,{"$f":"IF(BG62=1,(BG77+BG82),0)","v":0},null,{"$f":"IF(BI62=1,(BI77+BI82),0)","v":0},null,{"$f":"IF(BK62=1,(BK77+BK82),0)","v":0},null,{"$f":"IF(BM62=1,(BM77+BM82),0)","v":0},null,{"$f":"IF(BO62=1,(BO77+BO82),0)","v":0},null,{"$f":"IF(BQ62=1,(BQ77+BQ82),0)","v":0},null,{"$f":"IF(BS62=1,(BS77+BS82),0)","v":0},null,{"$f":"IF(BU62=1,(BU77+BU82),0)","v":0},null,{"$f":"IF(BW62=1,(BW77+BW82),0)","v":0},null,{"$f":"IF(BY62=1,(BY77+BY82),0)","v":0},null,{"$f":"IF(CA62=1,(CA77+CA82),0)","v":0},null,{"$f":"IF(CC62=1,(CC77+CC82),0)","v":0}]
[7,0,{"$f":"IF(C11=\"7\",1,0)","v":0},null,{"$f":"IF(E11=\"7\",1,0)","v":0},null,0,null,0,null,0,null,0,null,0,null,0,null,0,null,0,null,0,null,0,null,0,null,0,null,0,null,0,null,0,null,0,null,0,null,0,null,0,null,0,null,0,null,0,null,0,null,0,null,0,null,0,null,0,null,0,null,0,null,0,null,0,null,{"$f":"IF(BQ11=\"7\",1,0)","v":0},null,0,null,0,null,0,null,0,null,0,null,0]
[null,0,{"$f":"IF(C64=1,(C77+C82),0)","v":0},null,{"$f":"IF(E64=1,(E77+E82),0)","v":0},null,{"$f":"IF(G64=1,(G77+G82),0)","v":0},null,{"$f":"IF(I64=1,(I77+I82),0)","v":0},null,{"$f":"IF(K64=1,(K77+K82),0)","v":0},null,{"$f":"IF(M64=1,(M77+M82),0)","v":0},null,{"$f":"IF(O64=1,(O77+O82),0)","v":0},null,{"$f":"IF(Q64=1,(Q77+Q82),0)","v":0},null,{"$f":"IF(S64=1,(S77+S82),0)","v":0},null,{"$f":"IF(U64=1,(U77+U82),0)","v":0},null,{"$f":"IF(W64=1,(W77+W82),0)","v":0},null,{"$f":"IF(Y64=1,(Y77+Y82),0)","v":0},null,{"$f":"IF(AA64=1,(AA77+AA82),0)","v":0},null,{"$f":"IF(AC64=1,(AC77+AC82),0)","v":0},null,{"$f":"IF(AE64=1,(AE77+AE82),0)","v":0},null,{"$f":"IF(AG64=1,(AG77+AG82),0)","v":0},null,{"$f":"IF(AI64=1,(AI77+AI82),0)","v":0},null,{"$f":"IF(AK64=1,(AK77+AK82),0)","v":0},null,{"$f":"IF(AM64=1,(AM77+AM82),0)","v":0},null,{"$f":"IF(AO64=1,(AO77+AO82),0)","v":0},null,{"$f":"IF(AQ64=1,(AQ77+AQ82),0)","v":0},null,{"$f":"IF(AS64=1,(AS77+AS82),0)","v":0},null,{"$f":"IF(AU64=1,(AU77+AU82),0)","v":0},null,{"$f":"IF(AW64=1,(AW77+AW82),0)","v":0},null,{"$f":"IF(AY64=1,(AY77+AY82),0)","v":0},null,{"$f":"IF(BA64=1,(BA77+BA82),0)","v":0},null,{"$f":"IF(BC64=1,(BC77+BC82),0)","v":0},null,{"$f":"IF(BE64=1,(BE77+BE82),0)","v":0},null,{"$f":"IF(BG64=1,(BG77+BG82),0)","v":0},null,{"$f":"IF(BI64=1,(BI77+BI82),0)","v":0},null,{"$f":"IF(BK64=1,(BK77+BK82),0)","v":0},null,{"$f":"IF(BM64=1,(BM77+BM82),0)","v":0},null,{"$f":"IF(BO64=1,(BO77+BO82),0)","v":0},null,{"$f":"IF(BQ64=1,(BQ77+BQ82),0)","v":0},null,{"$f":"IF(BS64=1,(BS77+BS82),0)","v":0},null,{"$f":"IF(BU64=1,(BU77+BU82),0)","v":0},null,{"$f":"IF(BW64=1,(BW77+BW82),0)","v":0},null,{"$f":"IF(BY64=1,(BY77+BY82),0)","v":0},null,{"$f":"IF(CA64=1,(CA77+CA82),0)","v":0},null,{"$f":"IF(CC64=1,(CC77+CC82),0)","v":0}]
[8,0,{"$f":"IF(C11=\"8\",1,0)","v":0},null,{"$f":"IF(E11=\"8\",1,0)","v":0},null,0,null,0,null,0,null,0,null,0,null,0,null,0,null,0,null,0,null,0,null,0,null,0,null,0,null,0,null,0,null,0,null,0,null,0,null,0,null,0,null,0,null,0,null,0,null,0,null,0,null,0,null,0,null,0,null,0,null,0,null,0,null,{"$f":"IF(BQ11=\"8\",1,0)","v":0},null,0,null,0,null,0,null,0,null,0,null,0]
[null,0,{"$f":"IF(C66=1,(C77+C82),0)","v":0},null,{"$f":"IF(E66=1,(E77+E82),0)","v":0},null,{"$f":"IF(G66=1,(G77+G82),0)","v":0},null,{"$f":"IF(I66=1,(I77+I82),0)","v":0},null,{"$f":"IF(K66=1,(K77+K82),0)","v":0},null,{"$f":"IF(M66=1,(M77+M82),0)","v":0},null,{"$f":"IF(O66=1,(O77+O82),0)","v":0},null,{"$f":"IF(Q66=1,(Q77+Q82),0)","v":0},null,{"$f":"IF(S66=1,(S77+S82),0)","v":0},null,{"$f":"IF(U66=1,(U77+U82),0)","v":0},null,{"$f":"IF(W66=1,(W77+W82),0)","v":0},null,{"$f":"IF(Y66=1,(Y77+Y82),0)","v":0},null,{"$f":"IF(AA66=1,(AA77+AA82),0)","v":0},null,{"$f":"IF(AC66=1,(AC77+AC82),0)","v":0},null,{"$f":"IF(AE66=1,(AE77+AE82),0)","v":0},null,{"$f":"IF(AG66=1,(AG77+AG82),0)","v":0},null,{"$f":"IF(AI66=1,(AI77+AI82),0)","v":0},null,{"$f":"IF(AK66=1,(AK77+AK82),0)","v":0},null,{"$f":"IF(AM66=1,(AM77+AM82),0)","v":0},null,{"$f":"IF(AO66=1,(AO77+AO82),0)","v":0},null,{"$f":"IF(AQ66=1,(AQ77+AQ82),0)","v":0},null,{"$f":"IF(AS66=1,(AS77+AS82),0)","v":0},null,{"$f":"IF(AU66=1,(AU77+AU82),0)","v":0},null,{"$f":"IF(AW66=1,(AW77+AW82),0)","v":0},null,{"$f":"IF(AY66=1,(AY77+AY82),0)","v":0},null,{"$f":"IF(BA66=1,(BA77+BA82),0)","v":0},null,{"$f":"IF(BC66=1,(BC77+BC82),0)","v":0},null,{"$f":"IF(BE66=1,(BE77+BE82),0)","v":0},null,{"$f":"IF(BG66=1,(BG77+BG82),0)","v":0},null,{"$f":"IF(BI66=1,(BI77+BI82),0)","v":0},null,{"$f":"IF(BK66=1,(BK77+BK82),0)","v":0},null,{"$f":"IF(BM66=1,(BM77+BM82),0)","v":0},null,{"$f":"IF(BO66=1,(BO77+BO82),0)","v":0},null,{"$f":"IF(BQ66=1,(BQ77+BQ82),0)","v":0},null,{"$f":"IF(BS66=1,(BS77+BS82),0)","v":0},null,{"$f":"IF(BU66=1,(BU77+BU82),0)","v":0},null,{"$f":"IF(BW66=1,(BW77+BW82),0)","v":0},null,{"$f":"IF(BY66=1,(BY77+BY82),0)","v":0},null,{"$f":"IF(CA66=1,(CA77+CA82),0)","v":0},null,{"$f":"IF(CC66=1,(CC77+CC82),0)","v":0}]
[9,0,{"$f":"IF(C11=\"9\",1,0)","v":0},null,{"$f":"IF(E11=\"9\",1,0)","v":0},null,0,null,0,null,0,null,0,null,0,null,0,null,0,null,0,null,0,null,0,null,0,null,0,null,0,null,0,null,0,null,0,null,0,null,0,null,0,null,0,null,0,null,0,null,0,null,0,null,0,null,0,null,0,null,0,null,0,null,0,null,0,null,{"$f":"IF(BQ11=\"9\",1,0)","v":0},null,0,null,0,null,0,null,0,null,0,null,0]
[null,0,{"$f":"IF(C68=1,(C77+C82),0)","v":0},null,{"$f":"IF(E68=1,(E77+E82),0)","v":0},null,{"$f":"IF(G68=1,(G77+G82),0)","v":0},null,{"$f":"IF(I68=1,(I77+I82),0)","v":0},null,{"$f":"IF(K68=1,(K77+K82),0)","v":0},null,{"$f":"IF(M68=1,(M77+M82),0)","v":0},null,{"$f":"IF(O68=1,(O77+O82),0)","v":0},null,{"$f":"IF(Q68=1,(Q77+Q82),0)","v":0},null,{"$f":"IF(S68=1,(S77+S82),0)","v":0},null,{"$f":"IF(U68=1,(U77+U82),0)","v":0},null,{"$f":"IF(W68=1,(W77+W82),0)","v":0},null,{"$f":"IF(Y68=1,(Y77+Y82),0)","v":0},null,{"$f":"IF(AA68=1,(AA77+AA82),0)","v":0},null,{"$f":"IF(AC68=1,(AC77+AC82),0)","v":0},null,{"$f":"IF(AE68=1,(AE77+AE82),0)","v":0},null,{"$f":"IF(AG68=1,(AG77+AG82),0)","v":0},null,{"$f":"IF(AI68=1,(AI77+AI82),0)","v":0},null,{"$f":"IF(AK68=1,(AK77+AK82),0)","v":0},null,{"$f":"IF(AM68=1,(AM77+AM82),0)","v":0},null,{"$f":"IF(AO68=1,(AO77+AO82),0)","v":0},null,{"$f":"IF(AQ68=1,(AQ77+AQ82),0)","v":0},null,{"$f":"IF(AS68=1,(AS77+AS82),0)","v":0},null,{"$f":"IF(AU68=1,(AU77+AU82),0)","v":0},null,{"$f":"IF(AW68=1,(AW77+AW82),0)","v":0},null,{"$f":"IF(AY68=1,(AY77+AY82),0)","v":0},null,{"$f":"IF(BA68=1,(BA77+BA82),0)","v":0},null,{"$f":"IF(BC68=1,(BC77+BC82),0)","v":0},null,{"$f":"IF(BE68=1,(BE77+BE82),0)","v":0},null,{"$f":"IF(BG68=1,(BG77+BG82),0)","v":0},null,{"$f":"IF(BI68=1,(BI77+BI82),0)","v":0},null,{"$f":"IF(BK68=1,(BK77+BK82),0)","v":0},null,{"$f":"IF(BM68=1,(BM77+BM82),0)","v":0},null,{"$f":"IF(BO68=1,(BO77+BO82),0)","v":0},null,{"$f":"IF(BQ68=1,(BQ77+BQ82),0)","v":0},null,{"$f":"IF(BS68=1,(BS77+BS82),0)","v":0},null,{"$f":"IF(BU68=1,(BU77+BU82),0)","v":0},null,{"$f":"IF(BW68=1,(BW77+BW82),0)","v":0},null,{"$f":"IF(BY68=1,(BY77+BY82),0)","v":0},null,{"$f":"IF(CA68=1,(CA77+CA82),0)","v":0},null,{"$f":"IF(CC68=1,(CC77+CC82),0)","v":0}]
[10,0,{"$f":"IF(C11=\"10\",1,0)","v":0},null,{"$f":"IF(E11=\"10\",1,0)","v":0},null,0,null,0,null,0,null,0,null,0,null,0,null,0,null,0,null,0,null,0,null,0,null,0,null,0,null,0,null,0,null,0,null,0,null,0,null,0,null,0,null,0,null,0,null,0,null,0,null,0,null,0,null,0,null,0,null,0,null,0,null,0,null,{"$f":"IF(BQ11=\"10\",1,0)","v":0},null,0,null,0,null,0,null,0,null,0,null,0]
[null,0,{"$f":"IF(C70=1,(C77+C82),0)","v":0},null,{"$f":"IF(E70=1,(E77+E82),0)","v":0},null,{"$f":"IF(G70=1,(G77+G82),0)","v":0},null,{"$f":"IF(I70=1,(I77+I82),0)","v":0},null,{"$f":"IF(K70=1,(K77+K82),0)","v":0},null,{"$f":"IF(M70=1,(M77+M82),0)","v":0},null,{"$f":"IF(O70=1,(O77+O82),0)","v":0},null,{"$f":"IF(Q70=1,(Q77+Q82),0)","v":0},null,{"$f":"IF(S70=1,(S77+S82),0)","v":0},null,{"$f":"IF(U70=1,(U77+U82),0)","v":0},null,{"$f":"IF(W70=1,(W77+W82),0)","v":0},null,{"$f":"IF(Y70=1,(Y77+Y82),0)","v":0},null,{"$f":"IF(AA70=1,(AA77+AA82),0)","v":0},null,{"$f":"IF(AC70=1,(AC77+AC82),0)","v":0},null,{"$f":"IF(AE70=1,(AE77+AE82),0)","v":0},null,{"$f":"IF(AG70=1,(AG77+AG82),0)","v":0},null,{"$f":"IF(AI70=1,(AI77+AI82),0)","v":0},null,{"$f":"IF(AK70=1,(AK77+AK82),0)","v":0},null,{"$f":"IF(AM70=1,(AM77+AM82),0)","v":0},null,{"$f":"IF(AO70=1,(AO77+AO82),0)","v":0},null,{"$f":"IF(AQ70=1,(AQ77+AQ82),0)","v":0},null,{"$f":"IF(AS70=1,(AS77+AS82),0)","v":0},null,{"$f":"IF(AU70=1,(AU77+AU82),0)","v":0},null,{"$f":"IF(AW70=1,(AW77+AW82),0)","v":0},null,{"$f":"IF(AY70=1,(AY77+AY82),0)","v":0},null,{"$f":"IF(BA70=1,(BA77+BA82),0)","v":0},null,{"$f":"IF(BC70=1,(BC77+BC82),0)","v":0},null,{"$f":"IF(BE70=1,(BE77+BE82),0)","v":0},null,{"$f":"IF(BG70=1,(BG77+BG82),0)","v":0},null,{"$f":"IF(BI70=1,(BI77+BI82),0)","v":0},null,{"$f":"IF(BK70=1,(BK77+BK82),0)","v":0},null,{"$f":"IF(BM70=1,(BM77+BM82),0)","v":0},null,{"$f":"IF(BO70=1,(BO77+BO82),0)","v":0},null,{"$f":"IF(BQ70=1,(BQ77+BQ82),0)","v":0},null,{"$f":"IF(BS70=1,(BS77+BS82),0)","v":0},null,{"$f":"IF(BU70=1,(BU77+BU82),0)","v":0},null,{"$f":"IF(BW70=1,(BW77+BW82),0)","v":0},null,{"$f":"IF(BY70=1,(BY77+BY82),0)","v":0},null,{"$f":"IF(CA70=1,(CA77+CA82),0)","v":0},null,{"$f":"IF(CC70=1,(CC77+CC82),0)","v":0}]
[]
["Linge sale"]
["Evacuation",{"$f":"SUM(C74:CC74)","v":0},{"$f":"(2*C15)+C17+C21+C23","v":0},null,{"$f":"(2*E15)+E17+E21+E23","v":0},null,{"$f":"(2*G15)+G17+G21+G23","v":0},null,{"$f":"(2*I15)+I17+I21+I23","v":0},null,{"$f":"(2*K15)+K17+K21+K23","v":0},null,{"$f":"(2*M15)+M17+M21+M23","v":0},null,{"$f":"(2*O15)+O17+O21+O23","v":0},null,{"$f":"(2*Q15)+Q17+Q21+Q23","v":0},null,{"$f":"(2*S15)+S17+S21+S23","v":0},null,{"$f":"(2*U15)+U17+U21+U23","v":0},null,{"$f":"(2*W15)+W17+W21+W23","v":0},null,{"$f":"(2*Y15)+Y17+Y21+Y23","v":0},null,{"$f":"(2*AA15)+AA17+AA21+AA23","v":0},null,{"$f":"(2*AC15)+AC17+AC21+AC23","v":0},null,{"$f":"(2*AE15)+AE17+AE21+AE23","v":0},null,{"$f":"(2*AG15)+AG17+AG21+AG23","v":0},null,{"$f":"(2*AI15)+AI17+AI21+AI23","v":0},null,{"$f":"(2*AK15)+AK17+AK21+AK23","v":0},null,{"$f":"(2*AM15)+AM17+AM21+AM23","v":0},null,{"$f":"(2*AO15)+AO17+AO21+AO23","v":0},null,{"$f":"(2*AQ15)+AQ17+AQ21+AQ23","v":0},null,{"$f":"(2*AS15)+AS17+AS21+AS23","v":0},null,{"$f":"(2*AU15)+AU17+AU21+AU23","v":0},null,{"$f":"(2*AW15)+AW17+AW21+AW23","v":0},null,{"$f":"(2*AY15)+AY17+AY21+AY23","v":0},null,{"$f":"(2*BA15)+BA17+BA21+BA23","v":0},null,{"$f":"(2*BC15)+BC17+BC21+BC23","v":0},null,{"$f":"(2*BE15)+BE17+BE21+BE23","v":0},null,{"$f":"(2*BG15)+BG17+BG21+BG23","v":0},null,{"$f":"(2*BI15)+BI17+BI21+BI23","v":0},null,{"$f":"(2*BK15)+BK17+BK21+BK23","v":0},null,{"$f":"(2*BM15)+BM17+BM21+BM23","v":0},null,{"$f":"(2*BO15)+BO17+BO21+BO23","v":0},null,{"$f":"(2*BQ15)+BQ17+BQ21+BQ23","v":0},null,{"$f":"(2*BS15)+BS17+BS21+BS23","v":0},null,{"$f":"(2*BU15)+BU17+BU21+BU23","v":0},null,{"$f":"(2*BW15)+BW17+BW21+BW23","v":0},null,{"$f":"(2*BY15)+BY17+BY21+BY23","v":0},null,{"$f":"(2*CA15)+CA17+CA21+CA23","v":0},null,{"$f":"(2*CC15)+CC17+CC21+CC23","v":0}]
["Protection",{"$f":"SUM(C75:CC75)","v":0},{"$f":"C19+(2*C25)+(2*C27)+(2*C29)+(2*C35)","v":0},null,{"$f":"E19+(2*E25)+(2*E27)+(2*E29)+(2*E35)","v":0},null,{"$f":"G19+(2*G25)+(2*G27)+(2*G29)+(2*G35)","v":0},null,{"$f":"I19+(2*I25)+(2*I27)+(2*I29)+(2*I35)","v":0},null,{"$f":"K19+(2*K25)+(2*K27)+(2*K29)+(2*K35)","v":0},null,{"$f":"M19+(2*M25)+(2*M27)+(2*M29)+(2*M35)","v":0},null,{"$f":"O19+(2*O25)+(2*O27)+(2*O29)+(2*O35)","v":0},null,{"$f":"Q19+(2*Q25)+(2*Q27)+(2*Q29)+(2*Q35)","v":0},null,{"$f":"S19+(2*S25)+(2*S27)+(2*S29)+(2*S35)","v":0},null,{"$f":"U19+(2*U25)+(2*U27)+(2*U29)+(2*U35)","v":0},null,{"$f":"W19+(2*W25)+(2*W27)+(2*W29)+(2*W35)","v":0},null,{"$f":"Y19+(2*Y25)+(2*Y27)+(2*Y29)+(2*Y35)","v":0},null,{"$f":"AA19+(2*AA25)+(2*AA27)+(2*AA29)+(2*AA35)","v":0},null,{"$f":"AC19+(2*AC25)+(2*AC27)+(2*AC29)+(2*AC35)","v":0},null,{"$f":"AE19+(2*AE25)+(2*AE27)+(2*AE29)+(2*AE35)","v":0},null,{"$f":"AG19+(2*AG25)+(2*AG27)+(2*AG29)+(2*AG35)","v":0},null,{"$f":"AI19+(2*AI25)+(2*AI27)+(2*AI29)+(2*AI35)","v":0},null,{"$f":"AK19+(2*AK25)+(2*AK27)+(2*AK29)+(2*AK35)","v":0},null,{"$f":"AM19+(2*AM25)+(2*AM27)+(2*AM29)+(2*AM35)","v":0},null,{"$f":"AO19+(2*AO25)+(2*AO27)+(2*AO29)+(2*AO35)","v":0},null,{"$f":"AQ19+(2*AQ25)+(2*AQ27)+(2*AQ29)+(2*AQ35)","v":0},null,{"$f":"AS19+(2*AS25)+(2*AS27)+(2*AS29)+(2*AS35)","v":0},null,{"$f":"AU19+(2*AU25)+(2*AU27)+(2*AU29)+(2*AU35)","v":0},null,{"$f":"AW19+(2*AW25)+(2*AW27)+(2*AW29)+(2*AW35)","v":0},null,{"$f":"AY19+(2*AY25)+(2*AY27)+(2*AY29)+(2*AY35)","v":0},null,{"$f":"BA19+(2*BA25)+(2*BA27)+(2*BA29)+(2*BA35)","v":0},null,{"$f":"BC19+(2*BC25)+(2*BC27)+(2*BC29)+(2*BC35)","v":0},null,{"$f":"BE19+(2*BE25)+(2*BE27)+(2*BE29)+(2*BE35)","v":0},null,{"$f":"BG19+(2*BG25)+(2*BG27)+(2*BG29)+(2*BG35)","v":0},null,{"$f":"BI19+(2*BI25)+(2*BI27)+(2*BI29)+(2*BI35)","v":0},null,{"$f":"BK19+(2*BK25)+(2*BK27)+(2*BK29)+(2*BK35)","v":0},null,{"$f":"BM19+(2*BM25)+(2*BM27)+(2*BM29)+(2*BM35)","v":0},null,{"$f":"BO19+(2*BO25)+(2*BO27)+(2*BO29)+(2*BO35)","v":0},null,{"$f":"BQ19+(2*BQ25)+(2*BQ27)+(2*BQ29)+(2*BQ35)","v":0},null,{"$f":"BS19+(2*BS25)+(2*BS27)+(2*BS29)+(2*BS35)","v":0},null,{"$f":"BU19+(2*BU25)+(2*BU27)+(2*BU29)+(2*BU35)","v":0},null,{"$f":"BW19+(2*BW25)+(2*BW27)+(2*BW29)+(2*BW35)","v":0},null,{"$f":"BY19+(2*BY25)+(2*BY27)+(2*BY29)+(2*BY35)","v":0},null,{"$f":"CA19+(2*CA25)+(2*CA27)+(2*CA29)+(2*CA35)","v":0},null,{"$f":"CC19+(2*CC25)+(2*CC27)+(2*CC29)+(2*CC35)","v":0}]
["Transport",{"$f":"SUM(C76:CC76)","v":0},{"$f":"C31+C33","v":0},null,{"$f":"E31+E33","v":0},null,{"$f":"G31+G33","v":0},null,{"$f":"I31+I33","v":0},null,{"$f":"K31+K33","v":0},null,{"$f":"M31+M33","v":0},null,{"$f":"O31+O33","v":0},null,{"$f":"Q31+Q33","v":0},null,{"$f":"S31+S33","v":0},null,{"$f":"U31+U33","v":0},null,{"$f":"W31+W33","v":0},null,{"$f":"Y31+Y33","v":0},null,{"$f":"AA31+AA33","v":0},null,{"$f":"AC31+AC33","v":0},null,{"$f":"AE31+AE33","v":0},null,{"$f":"AG31+AG33","v":0},null,{"$f":"AI31+AI33","v":0},null,{"$f":"AK31+AK33","v":0},null,{"$f":"AM31+AM33","v":0},null,{"$f":"AO31+AO33","v":0},null,{"$f":"AQ31+AQ33","v":0},null,{"$f":"AS31+AS33","v":0},null,{"$f":"AU31+AU33","v":0},null,{"$f":"AW31+AW33","v":0},null,{"$f":"AY31+AY33","v":0},null,{"$f":"BA31+BA33","v":0},null,{"$f":"BC31+BC33","v":0},null,{"$f":"BE31+BE33","v":0},null,{"$f":"BG31+BG33","v":0},null,{"$f":"BI31+BI33","v":0},null,{"$f":"BK31+BK33","v":0},null,{"$f":"BM31+BM33","v":0},null,{"$f":"BO31+BO33","v":0},null,{"$f":"BQ31+BQ33","v":0},null,{"$f":"BS31+BS33","v":0},null,{"$f":"BU31+BU33","v":0},null,{"$f":"BW31+BW33","v":0},null,{"$f":"BY31+BY33","v":0},null,{"$f":"CA31+CA33","v":0},null,{"$f":"CC31+CC33","v":0}]
["Tot linge sale",{"$f":"SUM(C77:CC77)","v":0},{"$f":"SUM(C74:C76)","v":0},null,{"$f":"SUM(E74:E76)","v":0},null,{"$f":"SUM(G74:G76)","v":0},null,{"$f":"SUM(I74:I76)","v":0},null,{"$f":"SUM(K74:K76)","v":0},null,{"$f":"SUM(M74:M76)","v":0},null,{"$f":"SUM(O74:O76)","v":0},null,{"$f":"SUM(Q74:Q76)","v":0},null,{"$f":"SUM(S74:S76)","v":0},null,{"$f":"SUM(U74:U76)","v":0},null,{"$f":"SUM(W74:W76)","v":0},null,{"$f":"SUM(Y74:Y76)","v":0},null,{"$f":"SUM(AA74:AA76)","v":0},null,{"$f":"SUM(AC74:AC76)","v":0},null,{"$f":"SUM(AE74:AE76)","v":0},null,{"$f":"SUM(AG74:AG76)","v":0},null,{"$f":"SUM(AI74:AI76)","v":0},null,{"$f":"SUM(AK74:AK76)","v":0},null,{"$f":"SUM(AM74:AM76)","v":0},null,{"$f":"SUM(AO74:AO76)","v":0},null,{"$f":"SUM(AQ74:AQ76)","v":0},null,{"$f":"SUM(AS74:AS76)","v":0},null,{"$f":"SUM(AU74:AU76)","v":0},null,{"$f":"SUM(AW74:AW76)","v":0},null,{"$f":"SUM(AY74:AY76)","v":0},null,{"$f":"SUM(BA74:BA76)","v":0},null,{"$f":"SUM(BC74:BC76)","v":0},null,{"$f":"SUM(BE74:BE76)","v":0},null,{"$f":"SUM(BG74:BG76)","v":0},null,{"$f":"SUM(BI74:BI76)","v":0},null,{"$f":"SUM(BK74:BK76)","v":0},null,{"$f":"SUM(BM74:BM76)","v":0},null,{"$f":"SUM(BO74:BO76)","v":0},null,{"$f":"SUM(BQ74:BQ76)","v":0},null,{"$f":"SUM(BS74:BS76)","v":0},null,{"$f":"SUM(BU74:BU76)","v":0},null,{"$f":"SUM(BW74:BW76)","v":0},null,{"$f":"SUM(BY74:BY76)","v":0},null,{"$f":"SUM(CA74:CA76)","v":0},null,{"$f":"SUM(CC74:CC76)","v":0}]
[]
["Linge propre"]
["Hygiène",{"$f":"SUM(C80:CC80)","v":0},{"$f":"(2*C39)","v":0},null,{"$f":"(2*E39)","v":0},null,{"$f":"(2*G39)","v":0},null,{"$f":"(2*I39)","v":0},null,{"$f":"(2*K39)","v":0},null,{"$f":"(2*M39)","v":0},null,{"$f":"(2*O39)","v":0},null,{"$f":"(2*Q39)","v":0},null,{"$f":"(2*S39)","v":0},null,{"$f":"(2*U39)","v":0},null,{"$f":"(2*W39)","v":0},null,{"$f":"(2*Y39)","v":0},null,{"$f":"(2*AA39)","v":0},null,{"$f":"(2*AC39)","v":0},null,{"$f":"(2*AE39)","v":0},null,{"$f":"(2*AG39)","v":0},null,{"$f":"(2*AI39)","v":0},null,{"$f":"(2*AK39)","v":0},null,{"$f":"(2*AM39)","v":0},null,{"$f":"(2*AO39)","v":0},null,{"$f":"(2*AQ39)","v":0},null,{"$f":"(2*AS39)","v":0},null,{"$f":"(2*AU39)","v":0},null,{"$f":"(2*AW39)","v":0},null,{"$f":"(2*AY39)","v":0},null,{"$f":"(2*BA39)","v":0},null,{"$f":"(2*BC39)","v":0},null,{"$f":"(2*BE39)","v":0},null,{"$f":"(2*BG39)","v":0},null,{"$f":"(2*BI39)","v":0},null,{"$f":"(2*BK39)","v":0},null,{"$f":"(2*BM39)","v":0},null,{"$f":"(2*BO39)","v":0},null,{"$f":"(2*BQ39)","v":0},null,{"$f":"(2*BS39)","v":0},null,{"$f":"(2*BU39)","v":0},null,{"$f":"(2*BW39)","v":0},null,{"$f":"(2*BY39)","v":0},null,{"$f":"(2*CA39)","v":0},null,{"$f":"(2*CC39)","v":0}]
["Utilisation",{"$f":"SUM(C81:CC81)","v":0},{"$f":"C41+C43","v":0},null,{"$f":"E41+E43","v":0},null,{"$f":"G41+G43","v":0},null,{"$f":"I41+I43","v":0},null,{"$f":"K41+K43","v":0},null,{"$f":"M41+M43","v":0},null,{"$f":"O41+O43","v":0},null,{"$f":"Q41+Q43","v":0},null,{"$f":"S41+S43","v":0},null,{"$f":"U41+U43","v":0},null,{"$f":"W41+W43","v":0},null,{"$f":"Y41+Y43","v":0},null,{"$f":"AA41+AA43","v":0},null,{"$f":"AC41+AC43","v":0},null,{"$f":"AE41+AE43","v":0},null,{"$f":"AG41+AG43","v":0},null,{"$f":"AI41+AI43","v":0},null,{"$f":"AK41+AK43","v":0},null,{"$f":"AM41+AM43","v":0},null,{"$f":"AO41+AO43","v":0},null,{"$f":"AQ41+AQ43","v":0},null,{"$f":"AS41+AS43","v":0},null,{"$f":"AU41+AU43","v":0},null,{"$f":"AW41+AW43","v":0},null,{"$f":"AY41+AY43","v":0},null,{"$f":"BA41+BA43","v":0},null,{"$f":"BC41+BC43","v":0},null,{"$f":"BE41+BE43","v":0},null,{"$f":"BG41+BG43","v":0},null,{"$f":"BI41+BI43","v":0},null,{"$f":"BK41+BK43","v":0},null,{"$f":"BM41+BM43","v":0},null,{"$f":"BO41+BO43","v":0},null,{"$f":"BQ41+BQ43","v":0},null,{"$f":"BS41+BS43","v":0},null,{"$f":"BU41+BU43","v":0},null,{"$f":"BW41+BW43","v":0},null,{"$f":"BY41+BY43","v":0},null,{"$f":"CA41+CA43","v":0},null,{"$f":"CC41+CC43","v":0}]
["Tot linge prop",{"$f":"SUM(C82:CC82)","v":0},{"$f":"SUM(C80:C81)","v":0},null,{"$f":"SUM(E80:E81)","v":0},null,{"$f":"SUM(G80:G81)","v":0},null,{"$f":"SUM(I80:I81)","v":0},null,{"$f":"SUM(K80:K81)","v":0},null,{"$f":"SUM(M80:M81)","v":0},null,{"$f":"SUM(O80:O81)","v":0},null,{"$f":"SUM(Q80:Q81)","v":0},null,{"$f":"SUM(S80:S81)","v":0},null,{"$f":"SUM(U80:U81)","v":0},null,{"$f":"SUM(W80:W81)","v":0},null,{"$f":"SUM(Y80:Y81)","v":0},null,{"$f":"SUM(AA80:AA81)","v":0},null,{"$f":"SUM(AC80:AC81)","v":0},null,{"$f":"SUM(AE80:AE81)","v":0},null,{"$f":"SUM(AG80:AG81)","v":0},null,{"$f":"SUM(AI80:AI81)","v":0},null,{"$f":"SUM(AK80:AK81)","v":0},null,{"$f":"SUM(AM80:AM81)","v":0},null,{"$f":"SUM(AO80:AO81)","v":0},null,{"$f":"SUM(AQ80:AQ81)","v":0},null,{"$f":"SUM(AS80:AS81)","v":0},null,{"$f":"SUM(AU80:AU81)","v":0},null,{"$f":"SUM(AW80:AW81)","v":0},null,{"$f":"SUM(AY80:AY81)","v":0},null,{"$f":"SUM(BA80:BA81)","v":0},null,{"$f":"SUM(BC80:BC81)","v":0},null,{"$f":"SUM(BE80:BE81)","v":0},null,{"$f":"SUM(BG80:BG81)","v":0},null,{"$f":"SUM(BI80:BI81)","v":0},null,{"$f":"SUM(BK80:BK81)","v":0},null,{"$f":"SUM(BM80:BM81)","v":0},null,{"$f":"SUM(BO80:BO81)","v":0},null,{"$f":"SUM(BQ80:BQ81)","v":0},null,{"$f":"SUM(BS80:BS81)","v":0},null,{"$f":"SUM(BU80:BU81)","v":0},null,{"$f":"SUM(BW80:BW81)","v":0},null,{"$f":"SUM(BY80:BY81)","v":0},null,{"$f":"SUM(CA80:CA81)","v":0},null,{"$f":"SUM(CC80:CC81)","v":0}]

{"sheet":"Poster_Service#10","index":36,"n_rows":46,"n_cols":16,"rows_kept":46,"cut":false,"hidden":true,"merged":[[19,5,19,6],[18,5,18,6],[0,1,0,13],[5,0,5,6],[11,0,11,6],[12,0,12,6],[1,12,1,13],[23,5,23,6],[24,5,24,6],[28,0,33,13],[15,5,15,6],[15,2,15,4],[16,5,16,6],[22,5,22,6],[21,5,21,6],[21,2,21,4],[17,5,17,6]]}
[null,"Audit de la fonction linge en établissement de santé et en EHPAD",null,null,null,null,null,null,null,null,null,null,null,null,"   Pour imprimer le poster:"]
[null,null,null,null,null,null,null,null,"ETABLISSEMENT :",{"$f":"IF(NOM=\"\",\"à préciser\",NOM)","v":"à préciser"},null,null,"Date de réalisation",null,"   Menu \"Fichier\" puis \"Imprimer\""]
[null,null,null,null,null,null,null,null,"SERVICE : ",{"$f":"IF(SERVICE10=\"\",\"à préciser\",SERVICE10)","v":"à préciser"},null,null,"de : ",{"$f":"IF(SERVICE10=\"\",\"à préciser\",(MIN(Fiches_Services!U9,'Fiches_Utilisateurs_Service#10'!C7:CC7)))","v":"à préciser"}]
[null,null,null,null,null,null,null,null,null,null,null,null,"au : ",{"$f":"IF(SERVICE10=\"\",\"à préciser\",(MAX(Fiches_Services!U9,'Fiches_Utilisateurs_Service#10'!C7:CC7)))","v":"à préciser"},"Vous ne pourrez imprimer le poster que"]
["Méthodologie",null,null,null,null,null,null,null,"Score \"utilisateur\" du service par catégories professionnelles",null,null,null,null,null,"si vous avez saisi vos axes d'amélioration"]
["Le recueil des données a été réalisé au niveau:",null,null,null,null,null,null,null,null,null,null,null,null,null,"et commentaires dans l'encadré jaune."]
["         Du service : ",null,null,null,null,null,"le recensement des locaux, du matériel et des procédures   "]
[null,null,null,null,null,null,"disponibles dans les services en lien avec la fonction linge.  "]
["De l'utilisateur : ",null,null,null,null,null,"l'observation des pratiques afin de vérifier l'adéquation avec"]
[null,null,null,null,null,null,"avec les recommandations de bonnes pratiques.                   "]
["Résultats"]
["Les pourcentages d'objectifs atteints sont présentés pour le service."]
["Les résultats détaillés figurent dans le rapport d'analyse finale."]
[null,null,"Services évalués de l'établissement n =",{"$f":"(\" \"&SERVICES&\" services\")","v":" 0 services"}]
[]
["► Score \"service\"",null,"Service",null,null,"Etablissement"]
["Gestion du linge sale",null,{"$f":"IF(Rapport!F1093=\"non saisi\",\"-\",Rapport!F1093)","v":"-"},16,{"$f":"Rapport!H1093","v":"non saisi"},{"$f":"IF(Rapport!H158=\"non saisi\",\"-\",Rapport!H158)","v":"-"}]
["Gestion du linge propre",null,{"$f":"IF(Rapport!F1094=\"non saisi\",\"-\",Rapport!F1094)","v":"-"},12,{"$f":"Rapport!H1094","v":"non saisi"},{"$f":"IF(Rapport!H159=\"non saisi\",\"-\",Rapport!H159)","v":"-"}]
["Bionettoyage et traçabilité ",null,{"$f":"IF(Rapport!F1095=\"non saisi\",\"-\",Rapport!F1095)","v":"-"},12,{"$f":"Rapport!H1095","v":"non saisi"},{"$f":"IF(Rapport!H160=\"non saisi\",\"-\",Rapport!H160)","v":"-"}]
["Score total",null,{"$f":"IF(Rapport!F1096=\"non saisi\",\"-\",Rapport!F1096)","v":"-"},40,{"$f":"Rapport!H1096","v":"non saisi"},{"$f":"IF(Rapport!H161=\"non saisi\",\"-\",Rapport!H161)","v":"-"}]
[]
["► Score \"utilisateur\"",null,"Service",null,null,"Etablissement"]
["Evacuation du linge sale",null,{"$f":"IF(Rapport!F1147=\"non saisi\",\"-\",Rapport!F1147)","v":"-"},16,{"$f":"IF(Rapport!H1147=\"non saisi\",\"-\",Rapport!H1147)","v":"-"},{"$f":"IF(Rapport!H200=\"non saisi\",\"-\",Rapport!H200)","v":"-"}]
["Utilisation du linge propre",null,{"$f":"IF(Rapport!F1148=\"non saisi\",\"-\",Rapport!F1148)","v":"-"},4,{"$f":"IF(Rapport!H1148=\"non saisi\",\"-\",Rapport!H1148)","v":"-"},{"$f":"IF(Rapport!H201=\"non saisi\",\"-\",Rapport!H201)","v":"-"}]
["Score total",null,{"$f":"IF(Rapport!F1149=\"non saisi\",\"-\",Rapport!F1149)","v":"-"},20,{"$f":"IF(Rapport!H1149=\"non saisi\",\"-\",Rapport!H1149)","v":"-"},{"$f":"IF(Rapport!H202=\"non saisi\",\"-\",Rapport!H202)","v":"-"}]
[]
["Axes d'amélioration et commentaires"]
[]
[null,null,null,null,null,null,null,null,null,null,null,null,null,null,"◄ avant d'imprimer, veuillez"]
[null,null,null,null,null,null,null,null,null,null,null,null,null,null,"tapez vos axes d'amélioration"]
[null,null,null,null,null,null,null,null,null,null,null,null,null,null,"et commentaires dans le cadre"]
[null,null,null,null,null,null,null,null,null,null,null,null,null,null,"ci-contre."]
[]
[]
[]
[null,null,null,null,null,null,null,null,"La mise en œuvre d'actions d'amélioration avant une nouvelle évaluation contribue au processus d'amélioration de la qualité des soins"]
[null,null,null,null,null,null,null,null,null,null,null,null,null,null,"Autre",{"$f":"Rapport!H1187","v":"non saisi"}]
[null,null,null,null,null,null,null,null,null,null,null,null,null,null,"Etudiant",{"$f":"Rapport!H1186","v":"non saisi"}]
["L'établissement est en retard et doit assurer les meilleures conditions d’hygiène et de protection des patients et des personnels vis-à-vis du risque infectieux. ",null,null,null,null,null,null,null,null,null,null,null,null,null,"Brancardier",{"$f":"Rapport!H1185","v":"non saisi"}]
[null,null,null,null,null,null,null,null,null,null,null,null,null,null,"Ambulancier",{"$f":"Rapport!H1184","v":"non saisi"}]
["l'établissement a mis en place une politique qualité des activités et des prestations relatives aux articles de linge, il doit poursuivre ses actions",null,null,null,null,null,null,null,null,null,null,null,null,null,"Agent hospitalier",{"$f":"Rapport!H1183","v":"non saisi"}]
["L'établissement est fortement engagé dans la qualité des activités relatives aux articles de linge, il doit poursuivre ses actions",null,null,null,null,null,null,null,null,null,null,null,null,null,"Aide-soignante/aux. puériculture",{"$f":"Rapport!H1182","v":"non saisi"}]
[null,null,null,null,null,null,null,null,null,null,null,null,null,null,"Manipulateur radio",{"$f":"Rapport!H1181","v":"non saisi"}]
[null,null,null,null,null,null,null,null,null,null,null,null,null,null,"Kinésithérapeute",{"$f":"Rapport!H1180","v":"non saisi"}]
[null,null,null,null,null,null,null,null,null,null,null,null,null,null,"Sage-femme",{"$f":"Rapport!H1179","v":"non saisi"}]
[null,null,null,null,null,null,null,null,null,null,null,null,null,null,"Infirmière et IDE spécialisée",{"$f":"Rapport!H1178","v":"non saisi"}]